Workbook

Sheet phụ lục 1
A2: TRƯỜNG ĐẠI HỌC MỎ - ĐỊA CHẤT
A3: TRUNG TÂM THÔNG TIN - THƯ VIỆN
A5: Phụ lục số 01
A6: (Kèm theo Công văn số: /MĐC-TCCB ngày tháng năm 2021)
A7: TT | B7: Họ và tên | C7: Mã số CBVC | D7: Đơn vị | E7: Chức vụ | F7: Nhóm | G7: Tổng điểm | H7: Đề xuất mức xếp loại | M7: Ghi chú
H8: A+ | I8: A | J8: B | K8: C | L8: KĐG
A9: 1 | B9: Nguyễn Hồng Trường | C9: 6617-03 | D9: Trung tâm Thông tin - Thư viện | E9: PGĐ | F9: 3C | G9: 101 | I9: X
A10: 2 | B10: Nguyễn Thị Hải Yến | C10: 6617-06 | D10: Trung tâm Thông tin - Thư viện | E10: PGĐ | F10: 3C | G10: 101 | I10: X
A11: 3 | B11: Đặng Ngọc Cương | C11: 6617-15 | D11: Trung tâm Thông tin - Thư viện | E11: NVHC | F11: 2 | G11: =VLOOKUP(C11,'nhóm 2'!$C$7:$Q$21,15,0) -> 109.25 | H11: X
A12: 4 | B12: Hoàng Thị Thúy | C12: 6617-10 | D12: Trung tâm Thông tin - Thư viện | E12: NVHC | F12: 2 | G12: =VLOOKUP(C12,'nhóm 2'!$C$7:$Q$21,15,0) -> 101 | H12: X
A13: 5 | B13: Nguyễn Hữu Độ | C13: 6617-16 | D13: Trung tâm Thông tin - Thư viện | E13: NVHC | F13: 2 | G13: =VLOOKUP(C13,'nhóm 2'!$C$7:$Q$21,15,0) -> 101 | H13: X
A14: 6 | B14: Đỗ Lệ Chi | C14: 6617-13 | D14: Trung tâm Thông tin - Thư viện | E14: NVHC | F14: 2 | G14: =VLOOKUP(C14,'nhóm 2'!$C$7:$Q$21,15,0) -> 101 | H14: X
A15: 7 | B15: Ngô Thị Hương Liên | C15: 6617-04 | D15: Trung tâm Thông tin - Thư viện | E15: NVHC | F15: 2 | G15: =VLOOKUP(C15,'nhóm 2'!$C$7:$Q$21,15,0) -> 101 | H15: X
A16: 8 | B16: Hoàng Thị Hiền | C16: 6617-11 | D16: Trung tâm Thông tin - Thư viện | E16: NVHC | F16: 2 | G16: =VLOOKUP(C16,'nhóm 2'!$C$7:$Q$21,15,0) -> 101 | H16: X
A17: 9 | B17: Nguyễn Duy Hiếu | C17: 6617-17 | D17: Trung tâm Thông tin - Thư viện | E17: NVHC | F17: 2 | G17: =VLOOKUP(C17,'nhóm 2'!$C$7:$Q$21,15,0) -> 101.79167 | H17: X
A18: 10 | B18: Đỗ Thị Mường | C18: 6617-18 | D18: Trung tâm Thông tin - Thư viện | E18: NVHC | F18: 2 | G18: =VLOOKUP(C18,'nhóm 2'!$C$7:$Q$21,15,0) -> 101 | H18: X
A19: 12 | B19: Nguyễn Thị Thu Thủy | C19: 6617-01 | D19: Trung tâm Thông tin - Thư viện | E19: NVHC | F19: 2 | G19: =VLOOKUP(C19,'nhóm 2'!$C$7:$Q$21,15,0) -> 100.91667 | I19: X
A20: 11 | B20: Vũ Thị Ngọc | C20: 6617-02 | D20: Trung tâm Thông tin - Thư viện | E20: NVHC | F20: 2 | G20: =VLOOKUP(C20,'nhóm 2'!$C$7:$Q$21,15,0) -> 101.875 | I20: X
A21: 13 | B21: Đào Thị Hồng Diệp | C21: 6617-05 | D21: Trung tâm Thông tin - Thư viện | E21: NVHC | F21: 2 | G21: =VLOOKUP(C21,'nhóm 2'!$C$7:$Q$21,15,0) -> 100.95833 | I21: X
A22: 14 | B22: Ngô Thị Thanh Hương | C22: 6617-08 | D22: Trung tâm Thông tin - Thư viện | E22: NVHC | F22: 2 | G22: =VLOOKUP(C22,'nhóm 2'!$C$7:$Q$21,15,0) -> 100.95833 | I22: X
A23: 15 | B23: Phan Thị Phượng | C23: 6617-09 | D23: Trung tâm Thông tin - Thư viện | E23: NVHC | F23: 2 | G23: =VLOOKUP(C23,'nhóm 2'!$C$7:$Q$21,15,0) -> 100.91667 | I23: X
A24: 16 | B24: Hoàng Thị Nga | C24: 6617-12 | D24: Trung tâm Thông tin - Thư viện | E24: NVHC | F24: 2 | G24: =VLOOKUP(C24,'nhóm 2'!$C$7:$Q$21,15,0) -> 100.95833 | I24: X
A25: 17 | B25: Trần Văn Duy | C25: 6617-14 | D25: Trung tâm Thông tin - Thư viện | E25: NVHC | F25: 2 | G25: =VLOOKUP(C25,'nhóm 2'!$C$7:$Q$21,15,0) -> 100.95833 | I25: X
I27: TRƯỞNG ĐƠN VỊ
I32: Lê Văn Hưng

Sheet BM-01a
J1: Biểu mẫu 01a
A2: TRƯỜNG ĐẠI HỌC MỎ - ĐỊA CHẤT | C2: CỘNG HÒA XÃ HỘI CHỦ NGHĨA VIỆT NAM
A3: ĐƠN VỊ …................................ | B3: ĐƠN VỊ: TRUNG TÂM THÔNG TIN - THƯ VIỆN | C3: Độc lập - Tự do - Hạnh phúc
A5: KẾ HOẠCH CÔNG TÁC NĂM HỌC 2021-2022
A6: TT | B6: Nội dung công việc | C6: Mục tiêu, thời hạn hoàn thành (đánh dấu x)
C7: Năm 2021 | H7: Năm 2022
C8: 8 | D8: 9 | E8: 10 | F8: 11 | G8: 12 | H8: 1 | I8: 2 | J8: 3 | K8: 4 | L8: 5 | M8: 6 | N8: 7
A9: 1 | B9: Đề án nâng cấp hạ tầng công nghệ thông tin | N9: x
A10: 2 | B10: Quy chế tổ chức và hoạt động của Ban biên tập cổng thông tin điện tử Nhà trường | J10: x
A11: 3 | B11: Quản trị cổng Thông tin điện tử | C11: x | D11: x | E11: x | F11: x | G11: x | H11: x | I11: x | J11: x | K11: x | L11: x | M11: x | N11: x
A12: 4 | B12: Quản trị hệ thống mạng | C12: x | D12: x | E12: x | F12: x | G12: x | H12: x | I12: x | J12: x | K12: x | L12: x | M12: x | N12: x
A13: 5 | B13: Sửa chữa mạng Nhà trường | C13: x | D13: x | E13: x | F13: x | G13: x | H13: x | I13: x | J13: x | K13: x | L13: x | M13: x | N13: x
A14: 6 | B14: Quản trị hệ thống Server | C14: x | D14: x | E14: x | F14: x | G14: x | H14: x | I14: x | J14: x | K14: x | L14: x | M14: x | N14: x
A15: 7 | B15: Tạo Mail mới cho cán bộ, sinh viên, học viên cao học | C15: x | D15: x | E15: x | F15: x | G15: x | H15: x | I15: x | J15: x | K15: x | L15: x | M15: x | N15: x
A16: 8 | B16: Quản lý các hợp đồng mạng, chứng thư số, win bản quyền, virus | C16: x | D16: x | E16: x | F16: x | G16: x | H16: x | I16: x | J16: x | K16: x | L16: x | M16: x | N16: x
A17: 9 | B17: Setup Phòng họp Thuận Thành và Phổ yên | C17: x | D17: x | E17: x | F17: x | G17: x | H17: x | I17: x | J17: x | K17: x | L17: x | M17: x | N17: x
A18: 10 | B18: Tổng hợp báo cáo Bộ GD&ĐT về CNTT của Nhà trường | C18: x | G18: x | N18: x
A19: 11 | B19: Test máy phục vụ tuyển sinh | D19: x | E19: x
A20: 12 | B20: Sao lưu, backup hệ thống | C20: x | D20: x | E20: x | F20: x | G20: x | H20: x | I20: x | J20: x | K20: x | L20: x | M20: x | N20: x
A21: 13 | B21: Test máy phục vụ thi chuẩn đầu ra Ngoại ngữ - Tin học | C21: THEO KẾ HOẠCH CỦA TTNN-TH
A22: 14 | B22: Trực kỹ thuật chuẩn đầu ra Ngoại ngữ - tin học | C22: THEO KẾ HOẠCH CỦA TTNN-TH
A23: 15 | B23: Xây dựng bộ forms khảo sát người học online | D23: x | G23: x | J23: x | M23: x
A24: 16 | B24: Cấu hình tường lửa và cài đặt phần mềm diệt virus | D24: x | G24: x | J24: x | M24: x
A25: 17 | B25: Rà soát thông tin trên cổng thông tin điện tử | C25: x | D25: x | E25: x | F25: x | G25: x | H25: x | I25: x | J25: x | K25: x | L25: x | M25: x | N25: x
A26: 18 | B26: Cấp lại mật khẩu email cho cán bộ, sinh viên, học viên | C26: x | D26: x | E26: x | F26: x | G26: x | H26: x | I26: x | J26: x | K26: x | L26: x | M26: x | N26: x
A27: 19 | B27: Làm các loại báo cáo có liên quan, trả lời thư, tổng hợp góp ý dự thảo, kế hoạch tài chính, mua sắm, sửa chữa… | C27: x | D27: x | E27: x | F27: x | G27: x | H27: x | I27: x | J27: x | K27: x | L27: x | M27: x | N27: x
A28: 20 | B28: Công việc văn phòng, quản lý eoffice của trung tâm, lưu công văn đi, đến… | C28: x | D28: x | E28: x | F28: x | G28: x | H28: x | I28: x | J28: x | K28: x | L28: x | M28: x | N28: x
A29: 21 | B29: Kiểm tra mạng, điện, điều hoà phòng máy chủ | C29: x | D29: x | E29: x | F29: x | G29: x | H29: x | I29: x | J29: x | K29: x | L29: x | M29: x | N29: x
A30: 22 | B30: Quản lý toàn bộ trang thiết bị hệ thống mạng, đề xuất sửa chữa thay thế các thiết bị hỏng. | C30: x | D30: x | E30: x | F30: x | G30: x | H30: x | I30: x | J30: x | K30: x | L30: x | M30: x | N30: x
A31: 23 | B31: Viết bài hướng dẫn người dùng sử dụng Mail | D31: x | E31: x
A32: 24 | B32: Vệ sinh phòng máy chủ | C32: x | D32: x | E32: x | F32: x | G32: x | H32: x | I32: x | J32: x | K32: x | L32: x | M32: x | N32: x
A33: 25 | B33: Quản trị hệ thống camera của thư viện. | C33: x | D33: x | E33: x | F33: x | G33: x | H33: x | I33: x | J33: x | K33: x | L33: x | M33: x | N33: x
A34: 26 | B34: Bán tài liệu tại Hiệu sách | C34: x | D34: x | E34: x | F34: x | G34: x | H34: x | I34: x | J34: x | K34: x | L34: x | M34: x | N34: x
A35: 27 | B35: Bổ sung tài liệu (từ nguồn mua: báo, tạp chí, sách, cơ sở dữ liệu điện tử) | C35: x | D35: x | E35: x | F35: x | G35: x | H35: x | I35: x | J35: x | K35: x | L35: x | M35: x | N35: x
A36: 28 | B36: Hợp tác và trao đổi với thư viện ngoài nhà trường | C36: x | D36: x | E36: x | F36: x | G36: x | H36: x | I36: x | J36: x | K36: x | L36: x | M36: x | N36: x
A37: 29 | B37: Nhập máy tài liệu (sách, từ điển, luận án, luận văn) | C37: x | D37: x | E37: x | F37: x | G37: x | H37: x | I37: x | J37: x | K37: x | L37: x | M37: x | N37: x
A38: 30 | B38: Nhập tài liệu tại Hiệu sách | C38: x | D38: x | E38: x | F38: x | G38: x | H38: x | I38: x | J38: x | K38: x | L38: x | M38: x | N38: x
A39: 31 | B39: Phục vụ bạn đọc mượn tài liệu tại Thư viện khu A | C39: x | D39: x | E39: x | F39: x | G39: x | H39: x | I39: x | J39: x | K39: x | L39: x | M39: x | N39: x
A40: 32 | B40: Phục vụ bạn đọc mượn tài liệu tại Thư viện khu B | C40: x | D40: x | E40: x | F40: x | G40: x | H40: x | I40: x | J40: x | K40: x | L40: x | M40: x | N40: x
A41: 33 | B41: Phục vụ bạn đọc tại Phòng đọc tài liệu tại chỗ | C41: x | D41: x | E41: x | F41: x | G41: x | H41: x | I41: x | J41: x | K41: x | L41: x | M41: x | N41: x
A42: 34 | B42: Phục vụ bạn đọc tại Phòng tạp chí | C42: x | D42: x | E42: x | F42: x | G42: x | H42: x | I42: x | J42: x | K42: x | L42: x | M42: x | N42: x
A43: 35 | B43: Phục vụ bạn đọc tại Phòng tra cứu luận án, luận văn, đề tài nghiên cứu khoa học | C43: x | D43: x | E43: x | F43: x | G43: x | H43: x | I43: x | J43: x | K43: x | L43: x | M43: x | N43: x
... A62: 54 | B62: Hướng dẫn hỗ trợ tìm kiếm theo nhu cầu bạn đọc tại Phòng mượn | C62: x | D62: x | E62: x | F62: x | G62: x | H62: x | I62: x | J62: x | K62: x | L62: x | M62: x | N62: x
A63: 55 | B63: Khảo sát nhu cầu bạn đọc | G63: x | M63: x
A64: 56 | B64: Kiểm kê vốn tài liệu tại Phòng đọc, báo - tạp chí | C64: x | D64: x | E64: x | F64: x | G64: x | H64: x | I64: x | J64: x | K64: x | L64: x | M64: x | N64: x
A65: 57 | B65: Kiểm kê vốn tài liệu tại Phòng luận án, luận văn, đề tài khoa học | C65: x | D65: x | E65: x | F65: x | G65: x | H65: x | I65: x | J65: x | K65: x | L65: x | M65: x | N65: x
A66: 58 | B66: Kiểm kê vốn tài liệu tại Phòng mượn khu A | C66: x | D66: x | E66: x | F66: x | G66: x | H66: x | I66: x | J66: x | K66: x | L66: x | M66: x | N66: x
A67: 59 | B67: Kiểm kê vốn tài liệu tại Thư viện khu B | C67: x | D67: x | E67: x | F67: x | G67: x | H67: x | I67: x | J67: x | K67: x | L67: x | M67: x | N67: x
A68: 60 | B68: Kiểm tra độ chính xác biên mục tài liệu giấy (sách, từ điển, luận án, luận văn) | C68: x | D68: x | E68: x | F68: x | G68: x | H68: x | I68: x | J68: x | K68: x | L68: x | M68: x | N68: x
A69: 61 | B69: Kiểm tra, đánh giá độ chính xác trong việc biên mục tài liệu số | C69: x | D69: x | E69: x | F69: x | G69: x | H69: x | I69: x | J69: x | K69: x | L69: x | M69: x | N69: x
A70: 62 | B70: Kiểm tra, tiếp nhận bản cứng, file luận án luận văn, đề tài nghiên cứu khoa học | C70: x | D70: x | E70: x | F70: x | G70: x | H70: x | I70: x | J70: x | K70: x | L70: x | M70: x | N70: x
A71: 63 | B71: Kiểm tra, tiếp nhận báo, tạp chí | C71: x | D71: x | E71: x | F71: x | G71: x | H71: x | I71: x | J71: x | K71: x | L71: x | M71: x | N71: x
A72: 64 | B72: Kiểm tra, tiếp nhận tài liệu (sách, từ điển) từ nguồn mua, tặng, phòng xuất bản nhà trường | C72: x | D72: x | E72: x | F72: x | G72: x | H72: x | I72: x | J72: x | K72: x | L72: x | M72: x | N72: x
A73: 65 | B73: Lập báo cáo (tài liệu và tình hình phục vụ) tại Phòng đọc, báo - tạp chí | C73: x | D73: x | E73: x | F73: x | G73: x | H73: x | I73: x | J73: x | K73: x | L73: x | M73: x | N73: x
A74: 66 | B74: Lập báo cáo (tài liệu và tình hình phục vụ) tại Phòng luận án, luận văn, đề tài khoa học | C74: x | D74: x | E74: x | F74: x | G74: x | H74: x | I74: x | J74: x | K74: x | L74: x | M74: x | N74: x
A75: 67 | B75: Lập báo cáo (tài liệu và tình hình phục vụ) tại Phòng mượn khu A | C75: x | D75: x | E75: x | F75: x | G75: x | H75: x | I75: x | J75: x | K75: x | L75: x | M75: x | N75: x
... A86: 78 | B86: Tạo tài khoản và kích hoạt tài khoản cho bạn đọc sử dụng thư viện | C86: x | D86: x | E86: x | F86: x | G86: x | H86: x | I86: x | J86: x | K86: x | L86: x | M86: x | N86: x
A87: 79 | B87: Thanh lý tài liệu | F87: x
A88: 80 | B88: Tiếp nhận sách Quỹ Châu Á, các thủ tục với liên hiệp Thư viện | D88: x | G88: x | J88: x | M88: x
A89: 81 | B89: Tổ chức truyền thông tài liệu | C89: THEO KẾ HOẠCH CỦA PHÒNG CT CTSV
A90: 82 | B90: Tổ chức, bồi dưỡng chuyên môn nghiệp vụ cho cán bộ Thư viện | C90: THEO KẾ HOẠCH CỦA HỘI LIÊN HIỆP THƯ VIỆN
A91: 83 | B91: Tổng hợp báo cáo phục vụ kiểm định | C91: THEO KẾ HOẠCH KIỂM ĐỊNH CỦA NHÀ TRƯỜNG
A92: 84 | B92: Trao đổi công tác thư viện với các Phòng tư liệu khoa trong nhà trường | C92: THEO KẾ HOẠCH KIỂM ĐỊNH CỦA NHÀ TRƯỜNG
A93: 85 | B93: Tu bổ tài liệu | C93: x | D93: x | E93: x | F93: x | G93: x | H93: x | I93: x | J93: x | K93: x | L93: x | M93: x | N93: x
A94: 86 | B94: Tư vấn, giới thiệu giải đáp thắc mắc, yêu cầu tại Phòng đọc | C94: x | D94: x | E94: x | F94: x | G94: x | H94: x | I94: x | J94: x | K94: x | L94: x | M94: x | N94: x
A95: 87 | B95: Xuất tài liệu cho thư viện tại Quảng Ninh, Vũng Tàu | D95: x | G95: x | J95: x | M95: x
A96: 88 | B96: Công tác kho tại Phòng đọc, báo - tạp chí (nhập, sắp xếp tài liệu) | C96: x | D96: x | E96: x | F96: x | G96: x | H96: x | I96: x | J96: x | K96: x | L96: x | M96: x | N96: x
A97: 89 | B97: Công tác kho tại Phòng luận án, luận văn, đề tài khoa học (nhập, phân loại, sắp xếp lên giá) | C97: x | D97: x | E97: x | F97: x | G97: x | H97: x | I97: x | J97: x | K97: x | L97: x | M97: x | N97: x
A98: 90 | B98: Cung cấp thông tin, báo cáo thống kê cho các đơn vị trong và ngoài trường | C98: x | D98: x | E98: x | F98: x | G98: x | H98: x | I98: x | J98: x | K98: x | L98: x | M98: x | N98: x
A99: 91 | B99: Đề xuất, quản lý văn phòng phẩm của đơn vị | C99: x | D99: x | E99: x | F99: x | G99: x | H99: x | I99: x | J99: x | K99: x | L99: x | M99: x | N99: x
A100: 92 | B100: Quản lý kho lưu trữ | C100: x | D100: x | E100: x | F100: x | G100: x | H100: x | I100: x | J100: x | K100: x | L100: x | M100: x | N100: x
A101: 93 | B101: Quản lý tài liệu tại Hiệu sách (sắp xếp, kiểm kê, báo cáo) | C101: x | D101: x | E101: x | F101: x | G101: x | H101: x | I101: x | J101: x | K101: x | L101: x | M101: x | N101: x
A102: 94 | B102: Quản lý tài liệu tại Phòng nghiệp vụ (sắp xếp, kiểm kê, báo cáo) | C102: x | D102: x | E102: x | F102: x | G102: x | H102: x | I102: x | J102: x | K102: x | L102: x | M102: x | N102: x
A103: 95 | B103: Quản lý, xử lý hệ thống máy tính tại Phòng tra cứu | C103: x | D103: x | E103: x | F103: x | G103: x | H103: x | I103: x | J103: x | K103: x | L103: x | M103: x | N103: x
A104: 96 | B104: Sắp xếp tài liệu tại Thư viện khu A, khu B | C104: x | D104: x | E104: x | F104: x | G104: x | H104: x | I104: x | J104: x | K104: x | L104: x | M104: x | N104: x
A105: 97 | B105: Tập hợp danh mục những tài liệu số hoá bị lỗi | C105: x | D105: x | E105: x | F105: x | G105: x | H105: x | I105: x | J105: x | K105: x | L105: x | M105: x | N105: x
A106: 98 | B106: Thông báo tài liệu mới | C106: x | D106: x | E106: x | F106: x | G106: x | H106: x | I106: x | J106: x | K106: x | L106: x | M106: x | N106: x
A107: 99 | B107: Tìm các nguồn tài liệu để bổ sung | C107: x | D107: x | E107: x | F107: x | G107: x | H107: x | I107: x | J107: x | K107: x | L107: x | M107: x | N107: x
A108: 100 | B108: Vệ sinh kho sách Phòng đọc, Phòng tự học, Phòng tra cứu, Phòng luận án, luận văn, Phòng mượn, Thư viện khu B | C108: x | D108: x | E108: x | F108: x | G108: x | H108: x | I108: x | J108: x | K108: x | L108: x | M108: x | N108: x
B111: TRƯỞNG ĐƠN VỊ | C111: PHÒNG HÀNH CHÍNH TỔNG HỢP
B116: Lê Văn Hưng

Sheet mẫu 9c
P1: Biểu mẫu 09c
A2: TRƯỜNG ĐẠI HỌC MỎ - ĐỊA CHẤT | M2: CỘNG HÒA XÃ HỘI CHỦ NGHĨA VIỆT NAM
A3: TRUNG TÂM THÔNG TIN - THƯ VIỆN | M3: Độc lập - Tự do - Hạnh phúc
A6: BẢN TỔNG HỢP KẾT QUẢ THỰC HIỆN MỤC TIÊU KPIs NĂM HỌC 2020-2021
A7: (áp dụng cá nhân thuộc nhóm 2, nhóm 3C)
A9: TT | B9: Họ và tên | C9: Chức vụ | D9: Điểm KPIs đạt được trong tháng | P9: Hạng nhân viên (hướng dẫn tại BM-03b)
D10: 8 | E10: 9 | F10: 10 | G10: 11 | H10: 12 | I10: 1 | J10: 2 | K10: 3 | L10: 4 | M10: 5 | N10: 6 | O10: 7
A11: 1 | B11: Nguyễn Thị Thu Thủy | C11: NVHC | D11: 101 | E11: 101 | F11: 101 | G11: 101 | H11: 101 | I11: 101 | J11: 101 | K11: 101 | L11: 100 | M11: 101 | N11: 101 | O11: 101 | P11: Từ tháng 08/2020 đến tháng 7/2021: 2
A12: 2 | B12: Vũ Thị Ngọc | C12: NVHC | D12: 101 | E12: 101 | F12: 101 | G12: 112 | H12: 101 | I12: 101 | J12: 101 | K12: 101 | L12: 101 | M12: 101 | N12: 101 | O12: 100.5 | P12: Từ tháng 08/2020 đến tháng 7/2021: 2
A13: 3 | B13: Ngô Thị Hương Liên | C13: NVHC | D13: 101 | E13: 101 | F13: 101 | G13: 101 | H13: 101 | I13: 101 | J13: 101 | K13: 101 | L13: 101 | M13: 101 | N13: 101 | O13: 101 | P13: Từ tháng 08/2020 đến tháng 7/2021: 2
A14: 4 | B14: Đào Thị Hồng Diệp | C14: NVHC | D14: 101 | E14: 101 | F14: 101 | G14: 101 | H14: 101 | I14: 101 | J14: 101 | K14: 101 | L14: 101 | M14: 100.5 | N14: 101 | O14: 101 | P14: Từ tháng 08/2020 đến tháng 7/2021: 2
A15: 5 | B15: Ngô Thị Thanh Hương | C15: NVHC | D15: 101 | E15: 101 | F15: 101 | G15: 101 | H15: 101 | I15: 101 | J15: 101 | K15: 101 | L15: 100.5 | M15: 101 | N15: 101 | O15: 101 | P15: Từ tháng 08/2020 đến tháng 7/2021: 2
A16: 6 | B16: Phan Thị Phượng | C16: NVHC | D16: 101 | E16: 101 | F16: 100.5 | G16: 101 | H16: 101 | I16: 101 | J16: 101 | K16: 101 | L16: 101 | M16: 101 | N16: 101 | O16: 100.5 | P16: Từ tháng 08/2020 đến tháng 7/2021: 2
A17: 7 | B17: Hoàng Thị Thúy | C17: NVHC | D17: 101 | E17: 101 | F17: 101 | G17: 101 | H17: 101 | I17: 101 | J17: 101 | K17: 101 | L17: 101 | M17: 101 | N17: 101 | O17: 101 | P17: Từ tháng 08/2020 đến tháng 7/2021: 2
A18: 8 | B18: Hoàng Thị Hiền | C18: NVHC | D18: 101 | E18: 101 | F18: 101 | G18: 101 | H18: 101 | I18: 101 | J18: 101 | K18: 101 | L18: 101 | M18: 101 | N18: 101 | O18: 101 | P18: Từ tháng 08/2020 đến tháng 7/2021: 2
A19: 9 | B19: Hoàng Thị Nga | C19: NVHC | D19: 101 | E19: 101 | F19: 101 | G19: 101 | H19: 101 | I19: 101 | J19: 100.5 | K19: 101 | L19: 101 | M19: 101 | N19: 101 | O19: 101 | P19: Từ tháng 08/2020 đến tháng 7/2021: 2
A20: 10 | B20: Đỗ Lệ Chi | C20: NVHC | D20: 101 | E20: 101 | F20: 101 | G20: 101 | H20: 101 | I20: 101 | J20: 101 | K20: 101 | L20: 101 | M20: 101 | N20: 101 | O20: 101 | P20: Từ tháng 08/2020 đến tháng 7/2021: 2
A21: 11 | B21: Trần Văn Duy | C21: NVHC | D21: 101 | E21: 101 | F21: 101 | G21: 101 | H21: 101 | I21: 101 | J21: 101 | K21: 101 | L21: 100.5 | M21: 101 | N21: 101 | O21: 101 | P21: Từ tháng 08/2020 đến tháng 7/2021: 2
A22: 12 | B22: Đặng Ngọc Cương | C22: NVHC | D22: 101 | E22: 101 | F22: 101 | G22: 112 | H22: 112 | I22: 112 | J22: 112 | K22: 112 | L22: 112 | M22: 112 | N22: 112 | O22: 112 | P22: Từ tháng 08/2020 đến tháng 7/2021: 1
... A25: 15 | B25: Đỗ Thị Mường | C25: NVHC | D25: 101 | E25: 101 | F25: 101 | G25: 101 | H25: 101 | I25: 101 | J25: 101 | K25: 101 | L25: 101 | M25: 101 | N25: 101 | O25: 101 | P25: Từ tháng 08/2020 đến tháng 7/2021: 2
A26: 16 | B26: Nguyễn Hồng Trường | C26: PGD | D26: 101 | E26: 101 | F26: 101 | G26: 101 | H26: 101 | I26: 101 | J26: 101 | K26: 101 | L26: 101 | M26: 101 | N26: 101 | O26: 101
A27: 17 | B27: Nguyễn Thị Hải Yến | C27: PGD | D27: 101 | E27: 101 | F27: 101 | G27: 101 | H27: 101 | I27: 101 | J27: 101 | K27: 101 | L27: 101 | M27: 101 | N27: 101 | O27: 101
A29: Bao gồm: | P29: TRƯỞNG ĐƠN VỊ
B30: - Nhóm 2: chuyên viên, kỹ sư và người lao động
B31: + Nhóm 2A: chuyên viên và người lao động tại các Phòng, Ban, Trung tâm, Văn phòng ... thuộc Trường.
A32: ` | B32: + Nhóm 2B: chuyên viên tại các Khoa.
B33: + Nhóm 2C: kỹ sư tại các đơn vị thuộc Khoa.
B34: - Nhóm 3C: Trưởng, Phó trưởng các đơn vị thuộc Trường không phải là viên chức giảng dạy. | P34: Lê Văn Hưng

Sheet BM-10
G1: Biểu mẫu 10
A2: CỘNG HÒA XÃ HỘI CHỦ NGHĨA VIỆT NAM
A3: Độc lập - Tự do - Hạnh phúc
A6: BIÊN BẢN HỌP XẾP LOẠI CHẤT LƯỢNG TẬP THỂ VÀ CÁ NHÂN
A7: Trung tâm Thông tin - Thư viện
A9: I. Thời gian, địa điểm:
A10: 1. Thời gian: 14h ngày 10 tháng 5 năm 2021
A11: 2. Địa điểm: Tầng 3 - Trung tâm Thông tin - Thư viện
A12: II. Thành phần cuộc họp
A13: 1. Thành phần: Viên chức Trung tâm Thông tin - Thư viện
A14: 2. Tổng số: 18 người; Có mặt 18; Vắng 0
A15: 3. Chủ trì cuộc họp: | C15: Lê Văn Hưng - Giám đốc Trung tâm
A16: 4. Thư ký: | B16: Nguyễn Hữu Độ - Tổ trưởng công đoàn Trung tâm
A17: III. Diễn biến cuộc họp
A18: - Chủ trì cuộc họp công bố lý do cuộc họp.
A19: - Trưởng đơn vị công bố bản tự đánh giá, xếp loại chất lượng của từng cá nhân.
A20: - Đơn vị nhất trí với bản tự nhận xét của từng cá nhân.
A21: - Trưởng đơn vị đánh giá, xếp loại chất lượng từng cá nhân dựa trên kết quả thực hiện công việc được giao và kết luận cuộc họp, cụ thể như sau:
A22: + Cá nhân đánh giá, xếp loại chất lượng mức (A+): 8 người (chiếm tỷ lệ 53,3 %)
A23: + Cá nhân đánh giá, xếp loại chất lượng mức (A): 7 người (chiếm tỷ lệ 46,7 %)
A24: + Cá nhân đánh giá, xếp loại chất lượng mức (B): 0 người (chiếm tỷ lệ 0 %)
A25: + Cá nhân đánh giá, xếp loại chất lượng mức (C): 0 người (chiếm tỷ lệ 0 %)
A27: Cuộc họp kết thúc : 17h00 cùng ngày
A28: Biên bản được thông qua trước cuộc họp
A30: THƯ KÝ | F30: CHỦ TRÌ
A35: Nguyễn Hữu Độ | F35: Lê Văn Hưng

Sheet nhóm 2
A1: KẾT QUẢ XẾP LOẠI NĂM HỌC 2020-2021
A2: NHÓM 2
A3: TT | B3: Họ và tên | C3: Mã CBVC | D3: Đơn vị | E3: Tổng hợp KPI hàng tháng có xét đến các hình thức vi phạm (nếu có) tại BM-07b | R3: Vi phạm công việc khác (ghi số lần vi phạm nếu có vào từng cột); xem BM-07b
R4: Quý I năm học 2020 - 2021 | AA4: Quý II năm học 2020 - 2021 | AJ4: Quý III năm học 2020 - 2021 | AS4: Quý IV năm học 2020 - 2021
E5: 8 | F5: 9 | G5: 10 | H5: 11 | I5: 12 | J5: 1 | K5: 2 | L5: 3 | M5: 4 | N5: 5 | O5: 6 | P5: 7 | Q5: Điểm TB | R5: Tháng 8/2020 | U5: Tháng 9/2020 | X5: Tháng 10/2020 | AA5: Tháng 11/2020 | AD5: Tháng 12/2020 | AG5: Tháng 1/2021 | AJ5: Tháng 2/2021 | AM5: Tháng 3/2021 | AP5: Tháng 4/2021 | AS5: Tháng 5/2021 | AV5: Tháng 6/2021 | AY5: Tháng 7/2021
R6: 1.1 và 1.7 | S6: 1.5; 1.8; 2.1; 3 và 4 | T6: Khác | U6: 1.1 và 1.7 | V6: 1.5; 1.8; 2.1; 3 và 4 | W6: Khác | X6: 1.1 và 1.7 | Y6: 1.5; 1.8; 2.1; 3 và 4 | Z6: Khác | AA6: 1.1 và 1.7 | AB6: 1.5; 1.8; 2.1; 3 và 4 | AC6: Khác | AD6: 1.1 và 1.7 | AE6: 1.5; 1.8; 2.1; 3 và 4 | AF6: Khác | AG6: 1.1 và 1.7 | AH6: 1.5; 1.8; 2.1; 3 và 4 | AI6: Khác | AJ6: 1.1 và 1.7 | AK6: 1.5; 1.8; 2.1; 3 và 4 | AL6: Khác | AM6: 1.1 và 1.7 | AN6: 1.5; 1.8; 2.1; 3 và 4 | AO6: Khác | AP6: 1.1 và 1.7 | AQ6: 1.5; 1.8; 2.1; 3 và 4 | AR6: Khác | AS6: 1.1 và 1.7 | AT6: 1.5; 1.8; 2.1; 3 và 4 | AU6: Khác | AV6: 1.1 và 1.7 | AW6: 1.5; 1.8; 2.1; 3 và 4 | AX6: Khác | AY6: 1.1 và 1.7 | AZ6: 1.5; 1.8; 2.1; 3 và 4 | BA6: Khác
A7: 1 | B7: Nguyễn Thị Thu Thủy | C7: 6617-01 | D7: Trung tâm Thông tin - Thư viện | E7: 101 | F7: 101 | G7: 101 | H7: 101 | I7: 101 | J7: 101 | K7: 101 | L7: 101 | M7: 100 | N7: 101 | O7: 101 | P7: 101 | Q7: =SUM(E7:P7)/12 -> 100.91667 | AR7: 2
A8: 2 | B8: Vũ Thị Ngọc | C8: 6617-02 | D8: Trung tâm Thông tin - Thư viện | E8: 101 | F8: 101 | G8: 101 | H8: 112 | I8: 101 | J8: 101 | K8: 101 | L8: 101 | M8: 101 | N8: 101 | O8: 101 | P8: 100.5 | Q8: =SUM(E8:P8)/12 -> 101.875 | BA8: 1
A9: 3 | B9: Ngô Thị Hương Liên | C9: 6617-04 | D9: Trung tâm Thông tin - Thư viện | E9: 101 | F9: 101 | G9: 101 | H9: 101 | I9: 101 | J9: 101 | K9: 101 | L9: 101 | M9: 101 | N9: 101 | O9: 101 | P9: 101 | Q9: =SUM(E9:P9)/12 -> 101
A10: 4 | B10: Đào Thị Hồng Diệp | C10: 6617-05 | D10: Trung tâm Thông tin - Thư viện | E10: 101 | F10: 101 | G10: 101 | H10: 101 | I10: 101 | J10: 101 | K10: 101 | L10: 101 | M10: 101 | N10: 100.5 | O10: 101 | P10: 101 | Q10: =SUM(E10:P10)/12 -> 100.95833 | AU10: 1
A11: 5 | B11: Ngô Thị Thanh Hương | C11: 6617-08 | D11: Trung tâm Thông tin - Thư viện | E11: 101 | F11: 101 | G11: 101 | H11: 101 | I11: 101 | J11: 101 | K11: 101 | L11: 101 | M11: 100.5 | N11: 101 | O11: 101 | P11: 101 | Q11: =SUM(E11:P11)/12 -> 100.95833 | AR11: 1
A12: 6 | B12: Phan Thị Phượng | C12: 6617-09 | D12: Trung tâm Thông tin - Thư viện | E12: 101 | F12: 101 | G12: 100.5 | H12: 101 | I12: 101 | J12: 101 | K12: 101 | L12: 101 | M12: 101 | N12: 101 | O12: 101 | P12: 100.5 | Q12: =SUM(E12:P12)/12 -> 100.91667 | Z12: 1 | BA12: 1
A13: 7 | B13: Hoàng Thị Thúy | C13: 6617-10 | D13: Trung tâm Thông tin - Thư viện | E13: 101 | F13: 101 | G13: 101 | H13: 101 | I13: 101 | J13: 101 | K13: 101 | L13: 101 | M13: 101 | N13: 101 | O13: 101 | P13: 101 | Q13: =SUM(E13:P13)/12 -> 101
A14: 8 | B14: Hoàng Thị Hiền | C14: 6617-11 | D14: Trung tâm Thông tin - Thư viện | E14: 101 | F14: 101 | G14: 101 | H14: 101 | I14: 101 | J14: 101 | K14: 101 | L14: 101 | M14: 101 | N14: 101 | O14: 101 | P14: 101 | Q14: =SUM(E14:P14)/12 -> 101
A15: 9 | B15: Hoàng Thị Nga | C15: 6617-12 | D15: Trung tâm Thông tin - Thư viện | E15: 101 | F15: 101 | G15: 101 | H15: 101 | I15: 101 | J15: 101 | K15: 100.5 | L15: 101 | M15: 101 | N15: 101 | O15: 101 | P15: 101 | Q15: =SUM(E15:P15)/12 -> 100.95833 | AL15: 1
A16: 10 | B16: Đỗ Lệ Chi | C16: 6617-13 | D16: Trung tâm Thông tin - Thư viện | E16: 101 | F16: 101 | G16: 101 | H16: 101 | I16: 101 | J16: 101 | K16: 101 | L16: 101 | M16: 101 | N16: 101 | O16: 101 | P16: 101 | Q16: =SUM(E16:P16)/12 -> 101
A17: 11 | B17: Trần Văn Duy | C17: 6617-14 | D17: Trung tâm Thông tin - Thư viện | E17: 101 | F17: 101 | G17: 101 | H17: 101 | I17: 101 | J17: 101 | K17: 101 | L17: 101 | M17: 100.5 | N17: 101 | O17: 101 | P17: 101 | Q17: =SUM(E17:P17)/12 -> 100.95833 | AR17: 1
A18: 12 | B18: Đặng Ngọc Cương | C18: 6617-15 | D18: Trung tâm Thông tin - Thư viện | E18: 101 | F18: 101 | G18: 101 | H18: 112 | I18: 112 | J18: 112 | K18: 112 | L18: 112 | M18: 112 | N18: 112 | O18: 112 | P18: 112 | Q18: =SUM(E18:P18)/12 -> 109.25
A19: 13 | B19: Nguyễn Hữu Độ | C19: 6617-16 | D19: Trung tâm Thông tin - Thư viện | E19: 101 | F19: 101 | G19: 101 | H19: 101 | I19: 101 | J19: 101 | K19: 101 | L19: 101 | M19: 101 | N19: 101 | O19: 101 | P19: 101 | Q19: =SUM(E19:P19)/12 -> 101
A20: 14 | B20: Nguyễn Duy Hiếu | C20: 6617-17 | D20: Trung tâm Thông tin - Thư viện | E20: 101 | F20: 101 | G20: 101 | H20: 112 | I20: 101 | J20: 101 | K20: 101 | L20: 101 | M20: 101 | N20: 100.5 | O20: 101 | P20: 100 | Q20: =SUM(E20:P20)/12 -> 101.79167 | AU20: 1 | BA20: 2
A21: 15 | B21: Đỗ Thị Mường | C21: 6617-18 | D21: Trung tâm Thông tin - Thư viện | E21: 101 | F21: 101 | G21: 101 | H21: 101 | I21: 101 | J21: 101 | K21: 101 | L21: 101 | M21: 101 | N21: 101 | O21: 101 | P21: 101 | Q21: =SUM(E21:P21)/12 -> 101
AF36: -23

Sheet nhóm 3
A1: KẾT QUẢ XẾP LOẠI NĂM HỌC 2020-2021
A2: NHÓM 3
A4: TT | B4: Họ và tên | C4: Mã CBVC | D4: Khoa | E4: Chức danh | F4: Chức vụ | G4: Nhóm | H4: Điểm bình quân KPIs QL | J4: Trọng số KPIs QL | K4: Điểm KPIs QL có trọng số | L4: Điểm KPIs-CVK | M4: Điểm KPIS - KK | N4: Tổng điểm | O4: Vi phạm công việc khác (ghi số lần vi phạm nếu có vào từng cột); xem BM-07a; đối với Nhóm 3C xem BM-07b | AI4: Khuyến khích, ghi số 100 hoặc 110 vào hình thức khuyến khích đạt được trong năm, xem BM-08a
H5: Tự đánh giá | I5: Cấp có thẩm quyền đánh giá | O5: 1.1 | P5: 1.2 | Q5: 1.3 | R5: 1.4 | S5: 1.5 | T5: 1.6 | U5: 1.7 | V5: 1.8 | W5: 1.9 | X5: 1.10 | Y5: 1.11 | Z5: 1.12 | AA5: 1.13 | AB5: 1.14 | AC5: 2.1 | AD5: 2.2 | AE5: 2.3 | AF5: 2.4 | AG5: 3 | AH5: 4 | AI5: 1 | AJ5: 2 | AK5: 3 | AL5: 4 | AM5: 5 | AN5: 6 | AO5: 7 | AP5: 8
A6: 1 | B6: Nguyễn Hồng Trường | C6: 6617-03 | D6: Trung tâm Thông tin - Thư viện | F6: PGĐ | G6: 3C | H6: 110 | I6: 100 | J6: 0.9 | K6: 90 | L6: 11 | M6: 0 | N6: 101
A7: 2 | B7: Nguyễn Thị Hải Yến | C7: 6617-06 | D7: Trung tâm Thông tin - Thư viện | F7: PGĐ | G7: 3C | H7: 110 | I7: 100 | J7: 0.9 | K7: 90 | L7: 11 | M7: 0 | N7: 101

Sheet Đi học nn và nghỉ k l
A1: Nhóm giảng viên đi học nước ngoài
A3: TT | B3: Họ và tên | C3: Bộ môn | D3: Khoa | E3: KPIs-ĐT | F3: KPIS-KHCN | G3: KPISKK | J3: Điểm trừ | L3: Giờ NCKH | M3: Điểm tổng | N3: Tỷ lệ
G4: 1 | H4: 2 | I4: 3 | J4: 1 | K4: 2
A5: 1 | B5: Đỗ Đức Thành | C5: Bộ môn Điện khí hóa | D5: Khoa Cơ - Điện | E5: 0 | J5: 100 | L5: =VLOOKUP(B5,'[1]GV đi học nước ngoài'!B$4:I$77,8,0) -> 0 | M5: KĐG | N5: =L5/150*100 -> 0
A6: 2 | B6: Bùi Ngọc Hùng | C6: Bộ môn Kỹ thuật Điện - Điện tử | D6: Khoa Cơ - Điện | E6: 90 | K6: =VLOOKUP(B6,'[2]nhóm đi học nước ngoài'!B$14:H$70,7,0) -> 100 | L6: =VLOOKUP(B6,'[1]GV đi học nước ngoài'!B$4:I$77,8,0) -> 0 | M6: =E6+F6+G6*0.05+H6*0.05+I6*0.05-J6*0.1-K6*0.1 -> 80 | N6: =L6/150*100 -> 0
A7: 3 | B7: Vũ Đỗ Dũng | C7: Bộ môn Kỹ thuật Điện - Điện tử | D7: Khoa Cơ - Điện | E7: 0 | G7: =VLOOKUP(B7,[3]Sheet2!A$7:B$132,2,0) -> 100 | J7: 100 | L7: =VLOOKUP(B7,'[1]GV đi học nước ngoài'!B$4:I$77,8,0) -> 0 | M7: KĐG | N7: =L7/150*100 -> 0
A8: 4 | B8: Đặng Vũ Đinh | C8: Bộ môn Máy và Thiết bị Công nghiệp | D8: Khoa Cơ - Điện | E8: 90 | K8: =VLOOKUP(B8,'[2]nhóm đi học nước ngoài'!B$14:H$70,7,0) -> 100 | L8: =VLOOKUP(B8,'[1]GV đi học nước ngoài'!B$4:I$77,8,0) -> 0 | M8: =E8+F8+G8*0.05+H8*0.05+I8*0.05-J8*0.1-K8*0.1 -> 80 | N8: =L8/150*100 -> 0
A9: 5 | B9: Trần Bá Trung | C9: Bộ môn Máy và Thiết bị Công nghiệp | D9: Khoa Cơ - Điện | E9: 90 | K9: =VLOOKUP(B9,'[2]nhóm đi học nước ngoài'!B$14:H$70,7,0) -> 100 | L9: =VLOOKUP(B9,'[1]GV đi học nước ngoài'!B$4:I$77,8,0) -> 0 | M9: =E9+F9+G9*0.05+H9*0.05+I9*0.05-J9*0.1-K9*0.1 -> 80 | N9: =L9/150*100 -> 0
A10: 6 | B10: Đoàn Công Luận | C10: Bộ môn Máy và Thiết bị Công nghiệp | D10: Khoa Cơ - Điện | E10: 0 | J10: 100 | L10: =VLOOKUP(B10,'[1]GV đi học nước ngoài'!B$4:I$77,8,0) -> 0 | M10: KĐG | N10: =L10/150*100 -> 0
A11: 7 | B11: Nguyễn ánh Dương | C11: Bộ môn Tự động hóa XN Mỏ và Dầu khí | D11: Khoa Cơ - Điện | E11: 0 | J11: 100 | L11: =VLOOKUP(B11,'[1]GV đi học nước ngoài'!B$4:I$77,8,0) -> 0 | M11: KĐG | N11: =L11/150*100 -> 0
A12: 8 | B12: Bùi Thế Vinh | C12: Bộ môn Công nghệ phần mềm | D12: Khoa Công nghệ thông tin | E12: 0 | J12: 100 | L12: =VLOOKUP(B12,'[1]GV đi học nước ngoài'!B$4:I$77,8,0) -> 0 | M12: KĐG | N12: =L12/150*100 -> 0
A13: 9 | B13: Võ Thị Thu Trang | C13: Bộ môn Tin học Kinh tế | D13: Khoa Công nghệ thông tin | E13: 0 | J13: 100 | L13: =VLOOKUP(B13,'[1]GV đi học nước ngoài'!B$4:I$77,8,0) -> 0 | M13: KĐG | N13: =L13/150*100 -> 0
A14: 10 | B14: Đoàn Khánh Hoàng | C14: Bộ môn Tin học Trắc địa | D14: Khoa Công nghệ thông tin | E14: 0 | J14: 100 | L14: =VLOOKUP(B14,'[1]GV đi học nước ngoài'!B$4:I$77,8,0) -> 0 | M14: KĐG | N14: =L14/150*100 -> 0
A15: 11 | B15: Trần Trường Giang | C15: Bộ môn Tin học Trắc địa | D15: Khoa Công nghệ thông tin | E15: 0 | J15: 100 | L15: =VLOOKUP(B15,'[1]GV đi học nước ngoài'!B$4:I$77,8,0) -> 0 | M15: KĐG | N15: =L15/150*100 -> 0
A16: 12 | B16: Trần Thị Hòa | C16: Bộ môn Tin học Trắc địa | D16: Khoa Công nghệ thông tin | E16: 0 | J16: 100 | L16: =VLOOKUP(B16,'[1]GV đi học nước ngoài'!B$4:I$77,8,0) -> 154.25 | M16: KĐG | N16: =L16/150*100 -> 102.83333
A17: 13 | B17: Nguyễn Trường Linh | C17: Bộ môn Tin học Trắc địa | D17: Khoa Công nghệ thông tin | E17: 0 | J17: 100 | L17: 0 | M17: KĐG | N17: =L17/150*100 -> 0
A18: 14 | B18: Phan Thị Hồng | C18: Bộ môn Địa vật lý | D18: Khoa Dầu khí | E18: 90 | K18: =VLOOKUP(B18,'[2]nhóm đi học nước ngoài'!B$14:H$70,7,0) -> 100 | L18: =VLOOKUP(B18,'[1]GV đi học nước ngoài'!B$4:I$77,8,0) -> 341.67 | M18: =E18+F18+G18*0.05+H18*0.05+I18*0.05-J18*0.1-K18*0.1 -> 80 | N18: =L18/150*100 -> 227.78
A19: 15 | B19: Trương Thị Chinh | C19: Bộ môn Địa vật lý | D19: Khoa Dầu khí | E19: 0 | J19: 100 | L19: =VLOOKUP(B19,'[1]GV đi học nước ngoài'!B$4:I$77,8,0) -> 0 | M19: KĐG | N19: =L19/150*100 -> 0
A20: 16 | B20: Phạm Ngọc Kiên | C20: Bộ môn Địa vật lý | D20: Khoa Dầu khí | E20: 90 | K20: =VLOOKUP(B20,'[2]nhóm đi học nước ngoài'!B$14:H$70,7,0) -> 100 | L20: =VLOOKUP(B20,'[1]GV đi học nước ngoài'!B$4:I$77,8,0) -> 21 | M20: =E20+F20+G20*0.05+H20*0.05+I20*0.05-J20*0.1-K20*0.1 -> 80 | N20: =L20/150*100 -> 14
A21: 17 | B21: Đỗ Thành Sỹ | C21: Bộ môn Khoan - Khai thác | D21: Khoa Dầu khí | E21: 0 | J21: 100 | L21: =VLOOKUP(B21,'[1]GV đi học nước ngoài'!B$4:I$77,8,0) -> 0 | M21: KĐG | N21: =L21/150*100 -> 0
A22: 18 | B22: Tô Hữu Toàn | C22: Bộ môn Khoan - Khai thác | D22: Khoa Dầu khí | E22: 0 | J22: 100 | L22: =VLOOKUP(B22,'[1]GV đi học nước ngoài'!B$4:I$77,8,0) -> 0 | M22: KĐG | N22: =L22/150*100 -> 0
A23: 19 | B23: Tống Trần Anh | C23: Bộ môn Khoan - Khai thác | D23: Khoa Dầu khí | E23: 90 | K23: =VLOOKUP(B23,'[2]nhóm đi học nước ngoài'!B$14:H$70,7,0) -> 100 | L23: =VLOOKUP(B23,'[1]GV đi học nước ngoài'!B$4:I$77,8,0) -> 0 | M23: =E23+F23+G23*0.05+H23*0.05+I23*0.05-J23*0.1-K23*0.1 -> 80 | N23: =L23/150*100 -> 0
A24: 20 | B24: Trần Hữu Kiên | C24: Bộ môn Khoan - Khai thác | D24: Khoa Dầu khí | E24: 90 | K24: =VLOOKUP(B24,'[2]nhóm đi học nước ngoài'!B$14:H$70,7,0) -> 100 | L24: =VLOOKUP(B24,'[1]GV đi học nước ngoài'!B$4:I$77,8,0) -> 0 | M24: =E24+F24+G24*0.05+H24*0.05+I24*0.05-J24*0.1-K24*0.1 -> 80 | N24: =L24/150*100 -> 0
A25: 21 | B25: Đoàn Văn Huấn | C25: Bộ môn Lọc hóa dầu | D25: Khoa Dầu khí | E25: 0 | F25: 10 | G25: =VLOOKUP(B25,[3]Sheet2!A$7:B$132,2,0) -> 100 | J25: 100 | L25: =VLOOKUP(B25,'[1]GV đi học nước ngoài'!B$4:I$77,8,0) -> 152.875 | M25: KĐG | N25: =L25/150*100 -> 101.91667
A26: 22 | B26: Hồ Văn Sơn | C26: Bộ môn Lọc hóa dầu | D26: Khoa Dầu khí | E26: 0 | F26: 9 | G26: =VLOOKUP(B26,[3]Sheet2!A$7:B$132,2,0) -> 100 | J26: 100 | L26: =VLOOKUP(B26,'[1]GV đi học nước ngoài'!B$4:I$77,8,0) -> 93.422 | M26: KĐG | N26: =L26/150*100 -> 62.281333
A27: 23 | B27: Đào Thị Uyên | C27: Bộ môn Thiết bị dầu khí và công trình | D27: Khoa Dầu khí | E27: 90 | K27: =VLOOKUP(B27,'[2]nhóm đi học nước ngoài'!B$14:H$70,7,0) -> 100 | L27: =VLOOKUP(B27,'[1]GV đi học nước ngoài'!B$4:I$77,8,0) -> 0 | M27: 80 | N27: =L27/150*100 -> 0
A28: 24 | B28: Nguyễn Thị Hải Yến | C28: Bộ môn Thiết bị dầu khí và CT | D28: Khoa Dầu khí | E28: 0 | F28: 9 | G28: =VLOOKUP(B28,[3]Sheet2!A$7:B$132,2,0) -> 100 | J28: 100 | L28: =VLOOKUP(B28,'[1]GV đi học nước ngoài'!B$4:I$77,8,0) -> 146 | M28: KĐG | N28: =L28/150*100 -> 97.333333
A29: 25 | B29: Dương Viết Cường | C29: Bộ môn Lọc hóa dầu | D29: Khoa Dầu khí | E29: 0 | J29: 100 | L29: =VLOOKUP(B29,'[1]GV đi học nước ngoài'!B$4:I$77,8,0) -> 0 | M29: KĐG | N29: =L29/150*100 -> 0
A30: 26 | B30: Bùi Hữu Nguyên | C30: Bộ môn Vật lý | D30: Khoa Khoa học cơ bản | E30: 0 | F30: 10 | G30: =VLOOKUP(B30,[3]Sheet2!A$7:B$132,2,0) -> 100 | J30: 100 | L30: =VLOOKUP(B30,'[1]GV đi học nước ngoài'!B$4:I$77,8,0) -> 332 | M30: KĐG | N30: =L30/150*100 -> 221.33333
A31: 27 | B31: Vũ Anh Thư | C31: Bộ môn Khoáng sản | D31: Khoa Khoa học và KTĐC | E31: 0 | J31: 100 | L31: =VLOOKUP(B31,'[1]GV đi học nước ngoài'!B$4:I$77,8,0) -> 0 | M31: KĐG | N31: =L31/150*100 -> 0
A32: 28 | B32: Đào Văn Nghiêm | C32: Bộ môn Địa chất | D32: Khoa Khoa học và KTĐC | E32: 0 | G32: =VLOOKUP(B32,[3]Sheet2!A$7:B$132,2,0) -> 100 | J32: 100 | L32: =VLOOKUP(B32,'[1]GV đi học nước ngoài'!B$4:I$77,8,0) -> 0 | M32: KĐG | N32: =L32/150*100 -> 0
A33: 29 | B33: Nguyễn Trường Tài | C33: Bộ môn Địa chất | D33: Khoa Khoa học và KTĐC | E33: 0 | J33: 100 | L33: =VLOOKUP(B33,'[1]GV đi học nước ngoài'!B$4:I$77,8,0) -> 28 | M33: KĐG | N33: =L33/150*100 -> 18.666667
A34: 30 | B34: Vũ Anh Đạo | C34: Bộ môn Địa chất | D34: Khoa Khoa học và KTĐC | E34: 100 | L34: =VLOOKUP(B34,'[1]GV đi học nước ngoài'!B$4:I$77,8,0) -> 191 | M34: =E34+F34+G34*0.05+H34*0.05+I34*0.05-J34*0.1-K34*0.1 -> 100 | N34: =L34/150*100 -> 127.33333
A35: 31 | B35: Bùi Văn Bình | C35: Bộ môn Địa chất công trình | D35: Khoa Khoa học và KTĐC | E35: 100 | L35: =VLOOKUP(B35,'[1]GV đi học nước ngoài'!B$4:I$77,8,0) -> 0 | M35: =E35+F35+G35*0.05+H35*0.05+I35*0.05-J35*0.1-K35*0.1 -> 100 | N35: =L35/150*100 -> 0
A36: 32 | B36: Dương Văn Bình | C36: Bộ môn Địa chất công trình | D36: Khoa Khoa học và KTĐC | E36: 100 | L36: =VLOOKUP(B36,'[1]GV đi học nước ngoài'!B$4:I$77,8,0) -> 0 | M36: =E36+F36+G36*0.05+H36*0.05+I36*0.05-J36*0.1-K36*0.1 -> 100 | N36: =L36/150*100 -> 0
A37: 33 | B37: Nguyễn Ngọc Dũng | C37: Bộ môn Địa chất công trình | D37: Khoa Khoa học và KTĐC | E37: 100 | L37: =VLOOKUP(B37,'[1]GV đi học nước ngoài'!B$4:I$77,8,0) -> 0 | M37: =E37+F37+G37*0.05+H37*0.05+I37*0.05-J37*0.1-K37*0.1 -> 100 | N37: =L37/150*100 -> 0
A38: 34 | B38: Vũ Văn Hưng | C38: Bộ môn Địa chất Thủy văn | D38: Khoa Khoa học và KTĐC | E38: 0 | G38: =VLOOKUP(B38,[3]Sheet2!A$7:B$132,2,0) -> 100 | J38: 100 | L38: =VLOOKUP(B38,'[1]GV đi học nước ngoài'!B$4:I$77,8,0) -> 0 | M38: KĐG | N38: =L38/150*100 -> 0
A39: 35 | B39: Trần Quang Tuấn | C39: Bộ môn Địa chất Thủy văn | D39: Khoa Khoa học và KTĐC | E39: 90 | K39: =VLOOKUP(B39,'[2]nhóm đi học nước ngoài'!B$14:H$70,7,0) -> 100 | L39: =VLOOKUP(B39,'[1]GV đi học nước ngoài'!B$4:I$77,8,0) -> 0 | M39: =E39+F39+G39*0.05+H39*0.05+I39*0.05-J39*0.1-K39*0.1 -> 80 | N39: =L39/150*100 -> 0
A40: 36 | B40: Nguyễn Hữu Mạnh | C40: Bộ môn Địa chất Thủy văn | D40: Khoa Khoa học và KTĐC | E40: 100 | L40: =VLOOKUP(B40,'[1]GV đi học nước ngoài'!B$4:I$77,8,0) -> 0 | M40: =E40+F40+G40*0.05+H40*0.05+I40*0.05-J40*0.1-K40*0.1 -> 100 | N40: =L40/150*100 -> 0
A41: 37 | B41: Lê Xuân Trường | C41: Bộ môn Tìm kiếm thăm dò | D41: Khoa Khoa học và KTĐC | E41: 0 | J41: 100 | L41: =VLOOKUP(B41,'[1]GV đi học nước ngoài'!B$4:I$77,8,0) -> 0 | M41: KĐG | N41: =L41/150*100 -> 0
A42: 38 | B42: Phạm Như Sang | C42: Bộ môn Tìm kiếm thăm dò | D42: Khoa Khoa học và KTĐC | E42: 0 | F42: 10 | G42: =VLOOKUP(B42,[3]Sheet2!A$7:B$132,2,0) -> 100 | J42: 100 | L42: =VLOOKUP(B42,'[1]GV đi học nước ngoài'!B$4:I$77,8,0) -> 850 | M42: KĐG | N42: =L42/150*100 -> 566.66667
A43: 39 | B43: Nguyễn Duy Hưng | C43: Bộ môn Tìm kiếm thăm dò | D43: Khoa Khoa học và KTĐC | E43: 0 | J43: 100 | L43: =VLOOKUP(B43,'[1]GV đi học nước ngoài'!B$4:I$77,8,0) -> 95 | M43: KĐG | N43: =L43/150*100 -> 63.333333
A44: 40 | B44: Nguyễn Đình Luyện | C44: Bộ môn Tìm kiếm thăm dò | D44: Khoa Khoa học và KTĐC | E44: 0 | F44: 10 | G44: =VLOOKUP(B44,[3]Sheet2!A$7:B$132,2,0) -> 100 | J44: 100 | L44: =VLOOKUP(B44,'[1]GV đi học nước ngoài'!B$4:I$77,8,0) -> 318 | M44: KĐG | N44: =L44/150*100 -> 212
A45: 41 | B45: Ngô Xuân Đắc | C45: Bô môn Khoáng sản | D45: Khoa Khoa học và KTĐC | E45: 0 | J45: 100 | L45: 0 | M45: KĐG | N45: =L45/150*100 -> 0
A46: 42 | B46: Nguyễn Xuân Phú | C46: Bộ môn Nguyên liệu khoáng | D46: Khoa Khoa học và KTĐC | E46: 0 | J46: 100 | L46: =VLOOKUP(B46,'[1]GV đi học nước ngoài'!B$4:I$77,8,0) -> 0 | M46: KĐG | N46: =L46/150*100 -> 0
A47: 43 | B47: Vũ Ngọc Thịnh | C47: Bộ môn Kế toán doanh nghiệp | D47: Khoa Kinh tế - QTKD | E47: 100 | L47: =VLOOKUP(B47,'[1]GV đi học nước ngoài'!B$4:I$77,8,0) -> 35 | M47: =E47+F47+G47*0.05+H47*0.05+I47*0.05-J47*0.1-K47*0.1 -> 100 | N47: =L47/150*100 -> 23.333333
A48: 44 | B48: Trần Văn Hiệp | C48: Bộ môn QTKD Địa chất - Dầu khí | D48: Khoa Kinh tế - QTKD | E48: 100 | F48: 9 | G48: =VLOOKUP(B48,[3]Sheet2!A$7:B$132,2,0) -> 100 | L48: =VLOOKUP(B48,'[1]GV đi học nước ngoài'!B$4:I$77,8,0) -> 143 | M48: =E48+F48+G48*0.05+H48*0.05+I48*0.05-J48*0.1-K48*0.1 -> 114 | N48: =L48/150*100 -> 95.333333
A49: 45 | B49: Lê Quang Phục | C49: Bộ môn Khai thác hầm lò | D49: Khoa Mỏ | E49: 100 | F49: 10 | G49: =VLOOKUP(B49,[3]Sheet2!A$7:B$132,2,0) -> 100 | L49: =VLOOKUP(B49,'[1]GV đi học nước ngoài'!B$4:I$77,8,0) -> 217.285 | M49: =E49+F49+G49*0.05+H49*0.05+I49*0.05-J49*0.1-K49*0.1 -> 115 | N49: =L49/150*100 -> 144.85667
A50: 46 | B50: Lê Thị Minh Hạnh | C50: Bộ môn Khai thác lộ thiên | D50: Khoa Mỏ | E50: 90 | K50: =VLOOKUP(B50,'[2]nhóm đi học nước ngoài'!B$14:H$70,7,0) -> 100 | L50: =VLOOKUP(B50,'[1]GV đi học nước ngoài'!B$4:I$77,8,0) -> 30 | M50: =E50+F50+G50*0.05+H50*0.05+I50*0.05-J50*0.1-K50*0.1 -> 80 | N50: =L50/150*100 -> 20
A51: 47 | B51: Đỗ Ngọc Hoàn | C51: Bộ môn Khai thác lộ thiên | D51: Khoa Mỏ | E51: 100 | L51: =VLOOKUP(B51,'[1]GV đi học nước ngoài'!B$4:I$77,8,0) -> 0 | M51: =E51+F51+G51*0.05+H51*0.05+I51*0.05-J51*0.1-K51*0.1 -> 100 | N51: =L51/150*100 -> 0
A52: 48 | B52: Bùi Thị Thuyết | C52: Bộ môn Sức bền vật liệu | D52: Khoa Mỏ | E52: 90 | K52: =VLOOKUP(B52,'[2]nhóm đi học nước ngoài'!B$14:H$70,7,0) -> 100 | L52: =VLOOKUP(B52,'[1]GV đi học nước ngoài'!B$4:I$77,8,0) -> 0 | M52: =E52+F52+G52*0.05+H52*0.05+I52*0.05-J52*0.1-K52*0.1 -> 80 | N52: =L52/150*100 -> 0
A53: 49 | B53: Hoàng Hữu Đường | C53: Bộ môn Tuyển khoáng | D53: Khoa Mỏ | E53: 0 | J53: 100 | L53: =VLOOKUP(B53,'[1]GV đi học nước ngoài'!B$4:I$77,8,0) -> 111.444 | M53: KĐG | N53: =L53/150*100 -> 74.296
A54: 50 | B54: Phạm Thanh Hải | C54: Bộ môn Tuyển khoáng | D54: Khoa Mỏ | E54: 0 | J54: 100 | L54: =VLOOKUP(B54,'[1]GV đi học nước ngoài'!B$4:I$77,8,0) -> 195 | M54: KĐG | N54: =L54/150*100 -> 130
A55: 51 | B55: Nguyễn Như Hùng | C55: Bộ môn Sức bền vật liệu | D55: Khoa Mỏ | E55: 0 | J55: 100 | L55: 0 | M55: KĐG | N55: =L55/150*100 -> 0
A56: 52 | B56: Đặng Quang Hưng | C56: Bộ môn Khai thác hầm lò | D56: Khoa Mỏ | E56: 0 | J56: 100 | L56: =VLOOKUP(B56,'[1]GV đi học nước ngoài'!B$4:I$77,8,0) -> 27.819 | M56: KĐG | N56: =L56/150*100 -> 18.546
A57: 53 | B57: Trần Hồng Hà | C57: Bộ môn Địa sinh thái và Công nghệ môi trường | D57: Khoa Môi trường | E57: 100 | L57: =VLOOKUP(B57,'[1]GV đi học nước ngoài'!B$4:I$77,8,0) -> 0 | M57: =E57+F57+G57*0.05+H57*0.05+I57*0.05-J57*0.1-K57*0.1 -> 100 | N57: =L57/150*100 -> 0
A58: 54 | B58: Hạ Quang Hưng | C58: Bộ môn Môi trường cơ sở | D58: Khoa Môi trường | E58: 100 | L58: =VLOOKUP(B58,'[1]GV đi học nước ngoài'!B$4:I$77,8,0) -> 0 | M58: =E58+F58+G58*0.05+H58*0.05+I58*0.05-J58*0.1-K58*0.1 -> 100 | N58: =L58/150*100 -> 0
A59: 55 | B59: Nguyễn Văn Bình | C59: Bộ môn Môi trường cơ sở | D59: Khoa Môi trường | E59: 100 | L59: 0 | M59: =E59+F59+G59*0.05+H59*0.05+I59*0.05-J59*0.1-K59*0.1 -> 100 | N59: =L59/150*100 -> 0
A60: 56 | B60: Trần Thị Hương Giang | C60: Bộ môn Bản đồ | D60: Khoa Trắc địa - BĐ và QLĐĐ | E60: 0 | J60: 100 | L60: =VLOOKUP(B60,'[1]GV đi học nước ngoài'!B$4:I$77,8,0) -> 35 | M60: KĐG | N60: =L60/150*100 -> 23.333333
A61: 57 | B61: Phạm Hà Thái | C61: Bộ môn Đo ảnh và Viễn thám | D61: Khoa Trắc địa - BĐ và QLĐĐ | E61: 0 | J61: 100 | L61: =VLOOKUP(B61,'[1]GV đi học nước ngoài'!B$4:I$77,8,0) -> 1 | M61: KĐG | N61: =L61/150*100 -> 0.66666667
A62: 58 | B62: Lê Thu Trang | C62: Bộ môn Đo ảnh và Viễn thám | D62: Khoa Trắc địa - BĐ và QLĐĐ | E62: 0 | J62: 100 | L62: =VLOOKUP(B62,'[1]GV đi học nước ngoài'!B$4:I$77,8,0) -> 1 | M62: KĐG | N62: =L62/150*100 -> 0.66666667
A63: 59 | B63: Nguyễn Bá Duy | C63: Bộ môn Đo ảnh và Viễn thám | D63: Khoa Trắc địa - BĐ và QLĐĐ | E63: 0 | J63: 100 | L63: =VLOOKUP(B63,'[1]GV đi học nước ngoài'!B$4:I$77,8,0) -> 35 | M63: KĐG | N63: =L63/150*100 -> 23.333333
A64: 60 | B64: Nguyễn Minh Hải | C64: Bộ môn Đo ảnh và Viễn thám | D64: Khoa Trắc địa - BĐ và QLĐĐ | E64: 90 | K64: =VLOOKUP(B64,'[2]nhóm đi học nước ngoài'!B$14:H$70,7,0) -> 100 | L64: =VLOOKUP(B64,'[1]GV đi học nước ngoài'!B$4:I$77,8,0) -> 1 | M64: =E64+F64+G64*0.05+H64*0.05+I64*0.05-J64*0.1-K64*0.1 -> 80 | N64: =L64/150*100 -> 0.66666667
A65: 61 | B65: Bùi Khắc Luyên | C65: Bộ môn Trắc địa Cao cấp | D65: Khoa Trắc địa - BĐ và QLĐĐ | E65: 0 | F65: 10 | G65: =VLOOKUP(B65,[3]Sheet2!A$7:B$132,2,0) -> 100 | J65: 100 | L65: =VLOOKUP(B65,'[1]GV đi học nước ngoài'!B$4:I$77,8,0) -> 352 | M65: KĐG | N65: =L65/150*100 -> 234.66667
A66: 62 | B66: Nguyễn Thái Chinh | C66: Bộ môn Trắc địa Cao cấp | D66: Khoa Trắc địa - BĐ và QLĐĐ | E66: 0 | J66: 100 | L66: =VLOOKUP(B66,'[1]GV đi học nước ngoài'!B$4:I$77,8,0) -> 0 | M66: KĐG | N66: =L66/150*100 -> 0
A67: 63 | B67: Vũ Đình Toàn | C67: Bộ môn Trắc địa Cao cấp | D67: Khoa Trắc địa - BĐ và QLĐĐ | E67: 0 | F67: 10 | G67: =VLOOKUP(B67,[3]Sheet2!A$7:B$132,2,0) -> 100 | J67: 100 | L67: =VLOOKUP(B67,'[1]GV đi học nước ngoài'!B$4:I$77,8,0) -> 595 | M67: KĐG | N67: =L67/150*100 -> 396.66667
A68: 64 | B68: Kim Thị Thu Hương | C68: Bộ môn Trắc địa Cao cấp | D68: Khoa Trắc địa - BĐ và QLĐĐ | E68: 90 | K68: =VLOOKUP(B68,'[2]nhóm đi học nước ngoài'!B$14:H$70,7,0) -> 100 | L68: =VLOOKUP(B68,'[1]GV đi học nước ngoài'!B$4:I$77,8,0) -> 0 | M68: =E68+F68+G68*0.05+H68*0.05+I68*0.05-J68*0.1-K68*0.1 -> 80 | N68: =L68/150*100 -> 0
A69: 65 | B69: Nguyễn Văn Lâm | C69: Bộ môn Trắc địa cao cấp | D69: Khoa Trắc địa - BĐ và QLĐĐ | E69: 90 | F69: 0 | K69: =VLOOKUP(B69,'[2]nhóm đi học nước ngoài'!B$14:H$70,7,0) -> 100 | L69: =VLOOKUP(B69,'[1]GV đi học nước ngoài'!B$4:I$77,8,0) -> 0 | M69: =E69+F69+G69*0.05+H69*0.05+I69*0.05-J69*0.1-K69*0.1 -> 80 | N69: =L69/150*100 -> 0
A70: 66 | B70: Đinh Hải Nam | C70: Bộ môn Kỹ thuật Xây dựng | D70: Khoa Xây dựng | E70: 0 | J70: 100 | L70: =VLOOKUP(B70,'[1]GV đi học nước ngoài'!B$4:I$77,8,0) -> 0 | M70: KĐG | N70: =L70/150*100 -> 0
A71: 67 | B71: Đặng Văn Phi | C71: Bộ môn Kỹ thuật Xây dựng | D71: Khoa Xây dựng | E71: 90 | K71: =VLOOKUP(B71,'[2]nhóm đi học nước ngoài'!B$14:H$70,7,0) -> 100 | L71: =VLOOKUP(B71,'[1]GV đi học nước ngoài'!B$4:I$77,8,0) -> 0 | M71: =E71+F71+G71*0.05+H71*0.05+I71*0.05-J71*0.1-K71*0.1 -> 80 | N71: =L71/150*100 -> 0
A72: 68 | B72: Ngô Xuân Hùng | C72: Bộ môn Kỹ thuật Xây dựng | D72: Khoa Xây dựng | E72: 90 | K72: =VLOOKUP(B72,'[2]nhóm đi học nước ngoài'!B$14:H$70,7,0) -> 100 | L72: =VLOOKUP(B72,'[1]GV đi học nước ngoài'!B$4:I$77,8,0) -> 81 | M72: =E72+F72+G72*0.05+H72*0.05+I72*0.05-J72*0.1-K72*0.1 -> 80 | N72: =L72/150*100 -> 54
A73: 69 | B73: Nguyễn Văn Trí | C73: Bộ môn Xây dựng Công trình ngầm và Mỏ | D73: Khoa Xây dựng | E73: 0 | J73: 100 | L73: =VLOOKUP(B73,'[1]GV đi học nước ngoài'!B$4:I$77,8,0) -> 0 | M73: KĐG | N73: =L73/150*100 -> 0
A74: 70 | B74: Nguyễn Tài Tiến | C74: Bộ môn Xây dựng Công trình ngầm và Mỏ | D74: Khoa Xây dựng | E74: 90 | F74: 9 | G74: =VLOOKUP(B74,[3]Sheet2!A$7:B$132,2,0) -> 100 | K74: =VLOOKUP(B74,'[2]nhóm đi học nước ngoài'!B$14:H$70,7,0) -> 100 | L74: =VLOOKUP(B74,'[1]GV đi học nước ngoài'!B$4:I$77,8,0) -> 148 | M74: =E74+F74+G74*0.05+H74*0.05+I74*0.05-J74*0.1-K74*0.1 -> 94 | N74: =L74/150*100 -> 98.666667
A75: 71 | B75: Đỗ Mạnh Tấn | C75: Bộ môn Xây dựng Công trình ngầm và Mỏ | D75: Khoa Xây dựng | E75: 0 | J75: 100 | L75: =VLOOKUP(B75,'[1]GV đi học nước ngoài'!B$4:I$77,8,0) -> 0 | M75: KĐG | N75: =L75/150*100 -> 0
A76: 72 | B76: Phan Tuấn Anh | C76: Bộ môn Xây dựng Công trình ngầm và Mỏ | D76: Khoa Xây dựng | E76: 0 | J76: 100 | L76: =VLOOKUP(B76,'[1]GV đi học nước ngoài'!B$4:I$77,8,0) -> 0 | M76: KĐG | N76: =L76/150*100 -> 0
A77: 73 | B77: Trần Mạnh Hùng | C77: Bộ môn Xây dựng Hạ tầng Cơ sở | D77: Khoa Xây dựng | E77: 0 | J77: 100 | L77: =VLOOKUP(B77,'[1]GV đi học nước ngoài'!B$4:I$77,8,0) -> 0 | M77: KĐG | N77: =L77/150*100 -> 0
A78: 74 | B78: Phạm Ngọc Anh | C78: Bộ môn Kỹ thuật xây dựng | D78: Khoa Xây dựng | E78: 0 | J78: 100 | L78: =VLOOKUP(B78,'[1]GV đi học nước ngoài'!B$4:I$77,8,0) -> 0 | M78: KĐG | N78: =L78/150*100 -> 0
A79: 75 | B79: Trần Thị Thu Hiền | C79: Trung tâm Ngoại ngữ - Tin học | D79: Trung tâm Ngoại ngữ - Tin học | E79: 100 | M79: =E79+F79+G79*0.05+H79*0.05+I79*0.05-J79*0.1-K79*0.1 -> 100 | N79: =L79/150*100 -> 0
K83: C | L83: =COUNTIF(#REF!,"C") -> #REF!
K84: B | L84: =COUNTIF(#REF!,"B") -> #REF!
K85: A | L85: =COUNTIF(#REF!,"") -> #REF!
K86: A+ | L86: =COUNTIF(#REF!,"A+") -> #REF!
K87: KĐG | L87: =COUNTIF(#REF!,"KĐG") -> #REF!
