Workbook

Sheet foxz

Sheet Tong hop 2016-2024
C2: Khoa | D2: Hội nghị, hội thảo QT | E2: ISI | F2: Scopus | G2: QT khác | H2: Tổng
C3: Cơ Điện | D3: ='Co dien 2016-nay'!G119 -> 59 | E3: ='Co dien 2016-nay'!G120 -> 20 | F3: ='Co dien 2016-nay'!G122 -> 22 | G3: ='Co dien 2016-nay'!G121 -> 16 | H3: ='Co dien 2016-nay'!G123 -> 117
C4: Công nghệ thông tin | D4: ='CNTT 2016-nay'!G114 -> 54 | E4: ='CNTT 2016-nay'!G115 -> 27 | F4: ='CNTT 2016-nay'!G117 -> 4 | G4: ='CNTT 2016-nay'!G116 -> 27 | H4: ='CNTT 2016-nay'!G118 -> 112
C5: Dầu khí | D5: ='DK 2016-nay'!G214 -> 85 | E5: ='DK 2016-nay'!G215 -> 104 | F5: ='DK 2016-nay'!G217 -> 5 | G5: ='DK 2016-nay'!G216 -> 18 | H5: ='DK 2016-nay'!G218 -> 212
C6: KHKT Địa chất | D6: ='KHKTĐC 2016-nay'!G206 -> 100 | E6: ='KHKTĐC 2016-nay'!G207 -> 81 | F6: ='KHKTĐC 2016-nay'!G209 -> 14 | G6: ='KHKTĐC 2016-nay'!G208 -> 9 | H6: ='KHKTĐC 2016-nay'!G210 -> 204
C7: Khoa học cơ bản | D7: ='KHCB 2016-nay'!G192 -> 46 | E7: ='KHCB 2016-nay'!G193 -> 117 | F7: ='KHCB 2016-nay'!G195 -> 4 | G7: ='KHCB 2016-nay'!G194 -> 23 | H7: ='KHCB 2016-nay'!G196 -> 190
C8: Lý luận chính trị | D8: ='LLCT 2016-nay'!G8 -> 4 | E8: ='LLCT 2016-nay'!G9 -> 1 | F8: ='LLCT 2016-nay'!G11 -> 0 | G8: ='LLCT 2016-nay'!G10 -> 1 | H8: ='LLCT 2016-nay'!G12 -> 6
C9: Kinh tế và QTKD | D9: ='KT 2016-nay'!G158 -> 136 | E9: ='KT 2016-nay'!G159 -> 14 | F9: ='KT 2016-nay'!G161 -> 4 | G9: ='KT 2016-nay'!G160 -> 2 | H9: ='KT 2016-nay'!G162 -> 156
C10: Môi trường | D10: ='MT 2016-nay'!G111 -> 77 | E10: ='MT 2016-nay'!G112 -> 20 | F10: ='MT 2016-nay'!G114 -> 6 | G10: ='MT 2016-nay'!G113 -> 6 | H10: ='MT 2016-nay'!G115 -> 109
C11: Mỏ | D11: ='Mỏ 2016-nay'!G245 -> 62 | E11: ='Mỏ 2016-nay'!G246 -> 128 | F11: ='Mỏ 2016-nay'!G248 -> 41 | G11: ='Mỏ 2016-nay'!G247 -> 12 | H11: ='Mỏ 2016-nay'!G249 -> 243
C12: TĐ, BĐ và QLĐĐ | D12: ='TĐ 2016-nay'!G184 -> 79 | E12: ='TĐ 2016-nay'!G185 -> 63 | F12: ='TĐ 2016-nay'!G187 -> 24 | G12: ='TĐ 2016-nay'!G186 -> 16 | H12: ='TĐ 2016-nay'!G188 -> 182
C13: Xây dựng | D13: ='XD 2016-nay'!G354 -> 125 | E13: ='XD 2016-nay'!G355 -> 143 | F13: ='XD 2016-nay'!G357 -> 29 | G13: ='XD 2016-nay'!G356 -> 55 | H13: ='XD 2016-nay'!G358 -> 352
C14: Tổng cộng | D14: =SUM(D3:D13) -> 827 | E14: =SUM(E3:E13) -> 718 | F14: =SUM(F3:F13) -> 153 | G14: =SUM(G3:G13) -> 185 | H14: =SUM(H3:H13) -> 1883

Sheet Co dien 2016-nay
A1: TT | B1: Tên bài báo/báo cáo | C1: Tên tác giả | D1: Tên tạp chí/hội nghị, hội thảo | E1: Thời gian xuất bản | F1: Khoa | G1: Thể loại
A2: 1 | B2: "Speed sensorless DTC-FSVM scheme for induction motor drivers," | C2: Nguyen Thac Khanh, Nguyen Truong Giang, Cung Quang Khang | D2: Conf. ESASGD/AEM 2016, Ha Noi | E2: 2016 | F2: CĐ | G2: Hội nghị, Hội thảo QT
A3: 2 | B3: “A Proposal method for establishing primary AC-DC power transfer standards applying for Vietnam measurement standard of AC power and energy” | C3: Khong Cao Phong, Nguyễn Anh Sơn | D3: Conf. ESASGD/AEM 2016, Ha Noi | E3: 2016 | F3: CĐ | G3: Hội nghị, Hội thảo QT
A4: 3 | B4: “A suggestion for renovating main drive system of electric shovel excavators - EKG in Vietnam mining industry” | C4: Khong Cao Phong, Luu Hong Quan | D4: Conf. ESASGD/AEM 2016, Ha Noi | E4: 2016 | F4: CĐ | G4: Hội nghị, Hội thảo QT
A5: 4 | B5: “Design, modeling and simulation of switching DC-DC converter for applications in renewable energy systems” | C5: Thanh Lich Nguyen, Cao Phong Khong | D5: Conf. ESASGD/AEM 2016, Ha Noi | E5: 2016 | F5: CĐ | G5: Hội nghị, Hội thảo QT
A6: 5 | B6: A New Approach to Minimize Electrical Losses of Induction Motors | C6: Nguyen Chi Dung | D6: Conf. ESASGD/AEM 2016, Ha Noi | E6: 2016 | F6: CĐ | G6: Hội nghị, Hội thảo QT
A7: 6 | B7: A new method to determine the parameters of the double layer at the contact surface of the electrode with the biological medium of a planar interdigital microsensor | C7: Ngo Thanh Tuan | D7: Conf. ESASGD/AEM 2016, Ha Noi | E7: 2016 | F7: CĐ | G7: Hội nghị, Hội thảo QT
A8: 7 | B8: An effective solution for reducing the overvoltage level when there is an one phase earthing on 6kV grids of cement manufacturing enterprises | C8: Hồ Việt Bun, Lê Xuân Thành | D8: Conf. ESASGD/AEM 2016, Ha Noi | E8: 2016 | F8: CĐ | G8: Hội nghị, Hội thảo QT
A9: 8 | B9: Binning - Definitions, problems and solutions | C9: Pham Thi Thanh Loan, Trinh Quang Vinh | D9: Conf. ESASGD/AEM 2016, Ha Noi | E9: 2016 | F9: CĐ | G9: Hội nghị, Hội thảo QT
A10: 9 | B10: Color spectral Identification –Investigations and Consequences | C10: Pham Minh Hai, Trinh Quang Vinh | D10: Conf. ESASGD/AEM 2016, Ha Noi | E10: 2016 | F10: CĐ | G10: Hội nghị, Hội thảo QT
A11: 10 | B11: Conjugated Pro/Engineer and Ansys Softwares to Analyze the Vibration of Two-Mass GZS Feeder | C11: Nguyen van xo | D11: Conf. ESASGD/AEM 2016, Ha Noi | E11: 2016 | F11: CĐ | G11: Hội nghị, Hội thảo QT
A12: 11 | B12: DC power line communication | C12: Dao Hieu, Uong Quang Tuyen, Nguyen Thi Thuy | D12: Conf. ESASGD/AEM 2016, Ha Noi | E12: 2016 | F12: CĐ | G12: Hội nghị, Hội thảo QT
A13: 12 | B13: Detection of bearing faults in repetitive mechanical systems by Identification of the Load Torque | C13: Van Trang Phung, Mario Pacas | D13: 2016 IEEE 8th International Power Electronics and Motion control conference (IPEMC-ECCE Asia) | E13: 2016 | F13: CĐ | G13: Hội nghị, Hội thảo QT
... A66: 3 | B66: Effects of friction models on simulation of pneumatic cylinder | C66: Xuan Bo Tran, Nguyễn Văn Lại (đồng tác giả), and Khanh Duong Tran | D66: Mechanical Sciences | E66: 43768 | F66: CĐ | G66: Tạp chí ISI
B67: Improving the Operation of Earth Fault Relays by Auto Earthing-Connection at Earth Fault Situations in 6kV Mining Grid of Quang Ninh | C67: Journal of the Polish Mineral Engineering Society | D67: Hồ Việt Bun, Lê Xuân Thành | E67: 43800 | F67: CĐ | G67: Tạp chí Scopus
A68: 1 | B68: Nghiên cứu các tác động ảnh hưởng của hệ thống điện mặt trời tới ô nhiễm môi trường trong tương lai | C68: NGHIÊN CỨU CƠ BẢN TRONG LĨNH VỰC KHOA HỌC TRÁI ĐẤT VÀ MÔI TRƯỜNG (CAREES 2019) | D68: Phạm Trung Sơn | E68: 43798 | F68: CĐ | G68: Hội nghị, Hội thảo QT
A69: 28 | B69: Grid-Connected Photovoltaic Systems with Single-Axis Sun Tracker: Case Study for Central Vietnam | C69: Xuan Cuong Ngo, Thi Hong Nguyen, Nhu Y Do, Duc Minh Nguyen, Dai-Viet N. Vo, Su Shiung Lam, Doyeon Heo, Mohammadreza Shokouhimehr, Van-Huy Nguyen, Rajender S. Varma, Soo Young Kim and Quyet Van Le | D69: Energies | E69: 2020 | F69: CĐ | G69: Tạp chí ISI
A70: 49 | B70: Simulation Study on Static and Dynamic Characteristics of Electromagnet for Electro-Hydraulic Proportional Valve Used in Shock Absorber | C70: Fangwei Xie, Rui Zhou, Dengshuai Wang, Jun Ke, Xinjian Guo, Van Xo Nguyen | D70: IEEE Access | E70: 2020 | F70: CĐ | G70: Tạp chí ISI
A71: 50 | B71: Experimental Study on Transmission Efficiency of Hydro-viscous Clutch | C71: Qi Sun, Fangwei Xie, Kuaidi Wan, Xinjian Guo, Jie Zhu, VanXo Nguyen, Yun Wang | D71: Industrial Lubrication and Tribology | E71: 2020 | F71: CĐ | G71: Tạp chí ISI
A72: 68 | B72: The influence of voltage quality on the performance of EKG excavators in open pit mines | C72: Ngo Xuan Cuong, Do Nhu Y, Tran Quang Hieu | D72: Inżynieria Mineralna -Journal of the Polish Mineral Engineering Society | E72: 2020 | F72: CĐ | G72: Tạp chí ISI
A73: 70 | B73: Research on Apparent Friction Factor in Perforated and Slotted Horizontal Filters to Dewater Opencast Mines Using Numerical Analysis | C73: Tran Duc Huan, Pham Duc Thien | D73: Inżynieria Mineralna -Journal of the Polish Mineral Engineering Society | E73: 2020 | F73: CĐ | G73: Tạp chí ISI
A74: 72 | B74: Dynamic Simulation of a Hydraulic Excavator to Determine the Joint Reaction Forces of Boom, Stick, Bucket, and Driving Forces of Hydraulic Cylinders | C74: Nguyễn Đăng Tấn | D74: Inżynieria Mineralna -Journal of the Polish Mineral Engineering Society | E74: 2020 | F74: CĐ | G74: Tạp chí ISI
A75: 110 | B75: An improved approach for estimating social POI boundaries with textual attributes on social media | C75: Cong Tran; Dung D. Vu; Won-Yong Shin | D75: Knowledge-Based Systems | E75: 2020 | F75: CĐ | G75: Tạp chí ISI
A76: 1 | B76: Влияние угла подъема винта шнекового исполнительного органа комбайна на эффективности погрузки угля на забойный конвейер | C76: Đinh Văn Chiến, Nguyễn Khắc Lĩnh, Nguyễn Văn Xô, Lê Thanh Bình | D76: Уголь (Ugol) | E76: 2020 | F76: CĐ | G76: Tạp chí Scopus
A77: 2 | B77: Research Method for Calculating Additional Power Losses, Considering the Asymmetric Loads in the Low-Voltage Power Supply System Vietnam | C77: Phạm Trung Sơn | D77: International Conference on Industrial Networks and Intelligent Systems | E77: 2020 | F77: CĐ | G77: Tạp chí Scopus
A78: 3 | B78: Design and evaluation of the grid-connected solar power system at the stage of DC BUS with optimization of modulation frequency for performance improvement | C78: Nguyen Duc Minh, Quach Duc-Cuong, Nguyen Quang Ninh,Đỗ Như Ý, Trinh Trong Chuong | D78: International Conference on Industrial Networks and Intelligent Systems | E78: 2020 | F78: CĐ | G78: Tạp chí Scopus
A79: 4 | B79: Performance ratio analysis using experimental combining historical weather data for grid-connected PV systems | C79: Ngo Xuan Cuong, Đỗ Như Ý, Nguyen Thi Hong, Do Anh Tuan | D79: International Conference on Industrial Networks and Intelligent Systems | E79: 2020 | F79: CĐ | G79: Tạp chí Scopus
... A118: 2 | B118: Impact of voltage unbalance and harmonics on induction motor in operation mode | C118: Đỗ Như ý, Ngô Xuân Cường | D118: International Conference on Engineering Research and Applications | E118: 2022 | F118: CĐ | G118: Hội nghị, Hội thảo QT
D119: Hội thảo, hội nghị QT | G119: =COUNTIF(G2:G118,"Hội nghị, hội thảo QT") -> 59
D120: Tạp chí ISI | G120: =COUNTIF(G2:G118,"Tạp chí ISI") -> 20
D121: Tạp chí QT khác | G121: =COUNTIF(G2:G118,"Tạp chí QT khác") -> 16
D122: Tạp chí Scopus | G122: =COUNTIF(G2:G118,"Tạp chí Scopus") -> 22
D123: Tổng | G123: =SUM(G119:G122) -> 117
G124: =IF(COUNTIF($B$2:B120,B121)>0,"ĐÃ NHẬP","")
G125: =IF(COUNTIF($B$2:B121,B122)>0,"ĐÃ NHẬP","")
G126: =IF(COUNTIF($B$2:B122,B123)>0,"ĐÃ NHẬP","")
G127: =IF(COUNTIF($B$2:B123,B124)>0,"ĐÃ NHẬP","")
G128: =IF(COUNTIF($B$2:B124,B125)>0,"ĐÃ NHẬP","")
G129: =IF(COUNTIF($B$2:B125,B126)>0,"ĐÃ NHẬP","")
G130: =IF(COUNTIF($B$2:B126,B127)>0,"ĐÃ NHẬP","")
...

Sheet CNTT 2016-nay
A1: TT | B1: Tên bài báo/báo cáo | C1: Tên tác giả | D1: Tên tạp chí/hội nghị, hội thảo | E1: Thời gian xuất bản | F1: Khoa | G1: Thể loại
A2: 1 | B2: A dynamic rate adaptation algorithm using WB E-model for voice traffic over LTE network. | C2: Duy-Huy Nguyen, Hang Nguyen | D2: Wireless Days 2016 | E2: 2016 | F2: CNTT | G2: Hội nghị, Hội thảo QT
A3: 2 | B3: A New Non-intrusive Assessment Method for VoLTE Quality Based on Extended E-Model | C3: Duy-Huy Nguyen, Hang Nguyen, Eric Renault | D3: MSPN 2016 | E3: 2016 | F3: CNTT | G3: Hội nghị, Hội thảo QT
A4: 3 | B4: A Comparison of Textual Modeling Languages: OCL, Alloy, FOML | C4: Mira Balaban, Phillipa Bennett, Doan Khanh Hoang, Geri Georg, Martin Gogolla, Igal Khitron, Michael, Kifer | D4: Conf. ESASGD/AEM 2016, Ha Noi | E4: 2016 | F4: CNTT | G4: Hội nghị, Hội thảo QT
A5: 4 | B5: A New Method to Analyze Graphical User Interfaces of Android Applications | C5: Hong Anh Le, Shin Nakajima, Ninh Thuan Truong | D5: ICCASA 2016, LNICST, Springer | E5: 2016 | F5: CNTT | G5: Hội nghị, Hội thảo QT
A6: 5 | B6: A New Non-intrusive Model for Measuring VoLTE Quality based on Wideband E-model | C6: Nguyễn Duy Huy, Nguyễn Hằng, Eric renault | D6: Communications on Applied Electronics | E6: 2016 | F6: CNTT | G6: Hội nghị, Hội thảo QT
A7: 6 | B7: A WebGIS System To Support Sustainable Development In Tay Nguyen | C7: PGS.TS Nguyen Truong Xuan, TS. Nguyen Thi Mai Dung, KS. Dinh Bao Ngoc, Tran Thi Hai Van, Nguyen Dinh Ky, Le Thi Kim Thoa | D7: ESASGD 2016 – GISIDEAS 2016 | E7: 2016 | F7: CNTT | G7: Hội nghị, Hội thảo QT
A8: 7 | B8: A Webgis Tool for Managing and Visualizing Spatial Data of the Sin-Quyen Mine (Northern Vietnam) | C8: Truong Xuan Quang, Truong Xuan Luan, Nguyen Dinh Tuan, Nguyen Chi Cong | D8: Conf. ESASGD/AEM 2016, Ha Noi | E8: 2016 | F8: CNTT | G8: Hội nghị, Hội thảo QT
A9: 8 | B9: Adaptive physical resource block design for enhancing voice capacity over LTE network in PMR context | C9: Manh-Cuong Nguyen, Hang Nguyen, Duy-Huy Nguyen, Eric Georgeaux, Philippe Mege, Laurent Martinod | D9: PIMRC 2016 | E9: 2016 | F9: CNTT | G9: Hội nghị, Hội thảo QT
A10: 9 | B10: Adaptive physical resource block design for enhancing voice capacity over LTE network in PMR context | C10: Nguyễn Mạnh Cường, Nguyễn Hằng, Nguyễn Duy Huy | D10: Personal, Indoor, and Mobile Radio Communications | E10: 2016 | F10: CNTT | G10: Hội nghị, Hội thảo QT
A11: 10 | B11: An approach to analyzing execution preservation in Java program refactoring | C11: Huong T. Dao, Hong Anh Le, Ninh Thuan Truong | D11: ICCASA 2016, LNICST, Springer | E11: 2016 | F11: CNTT | G11: Hội nghị, Hội thảo QT
A12: 11 | B12: Combining pixel-based and object-based Fuzzy classification for LULC mapping using spectral indices of RapidEye imagery and FOSS4G | C12: Thi Hang DO, Go YONEZAWA, Truong Xuan Luan | D12: GeoInformatics for Spatial- Infrastructure Development in Earth & Allied Sciences (GIS-IDEAS) | E12: 2016 | F12: CNTT | G12: Hội nghị, Hội thảo QT
A13: 12 | B13: Construction Geostatistical Model Evaluation Copper ore: a Case Study sin Quyen Deposit, lao Cai Province (Northern Vietnam) | C13: Truong Xuan Luan, Truong Xuan Quang, Nguyen Tuan Anh, Dang Van Nam | D13: Conf. ESASGD/AEM 2016, Ha Noi | E13: 2016 | F13: CNTT | G13: Hội nghị, Hội thảo QT
... A113: 50 | B113: Automatic Recognition and Assessment of Physical Exercises from RGB Images | C113: Quang-Tien Pham, Viet-Anh Nguyen, Tien-Thanh Nguyen, Duc-Anh Nguyen, Duc-Giang Nguyen, Hai Vu, Thi-Lan Le, Phạm Đình Tân | D113: International Conference on Communications and Electronics (ICCE 2022) | E113: 2022 | F113: CNTT | G113: Hội nghị, Hội thảo QT
D114: Hội thảo, hội nghị QT | G114: =COUNTIF(G1:G113,"Hội nghị, hội thảo QT") -> 54
D115: Tạp chí ISI | G115: =COUNTIF(G1:G113,"Tạp chí ISI") -> 27
D116: Tạp chí QT khác | G116: =COUNTIF(G1:G113,"Tạp chí QT khác") -> 27
D117: Tạp chí Scopus | G117: =COUNTIF(G2:G113,"Tạp chí Scopus") -> 4
D118: Tổng | G118: =SUM(G114:G117) -> 112
G119: =IF(COUNTIF($B$2:B115,B116)>0,"ĐÃ NHẬP","")
G120: =IF(COUNTIF($B$2:B116,B117)>0,"ĐÃ NHẬP","")
G121: =IF(COUNTIF($B$2:B117,B118)>0,"ĐÃ NHẬP","")
G122: =IF(COUNTIF($B$2:B118,B119)>0,"ĐÃ NHẬP","")
G123: =IF(COUNTIF($B$2:B119,B120)>0,"ĐÃ NHẬP","")
G124: =IF(COUNTIF($B$2:B120,B121)>0,"ĐÃ NHẬP","")
G125: =IF(COUNTIF($B$2:B121,B122)>0,"ĐÃ NHẬP","")
G126: =IF(COUNTIF($B$2:B122,B123)>0,"ĐÃ NHẬP","")
G127: =IF(COUNTIF($B$2:B123,B124)>0,"ĐÃ NHẬP","")
G128: =IF(COUNTIF($B$2:B124,B125)>0,"ĐÃ NHẬP","")
G129: =IF(COUNTIF($B$2:B125,B126)>0,"ĐÃ NHẬP","")
G130: =IF(COUNTIF($B$2:B126,B127)>0,"ĐÃ NHẬP","")
... G494: =IF(COUNTIF($B$2:B490,B491)>0,"ĐÃ NHẬP","")
G495: =IF(COUNTIF(A$1:$B491,A492)>0,"ĐÃ NHẬP","")
G496: =IF(COUNTIF(A$1:$B492,A493)>0,"ĐÃ NHẬP","")
G497: =IF(COUNTIF(A$1:$B493,A494)>0,"ĐÃ NHẬP","")
G498: =IF(COUNTIF(A$1:$B494,A495)>0,"ĐÃ NHẬP","")
G499: =IF(COUNTIF(A$1:$B495,A496)>0,"ĐÃ NHẬP","")
G500: =IF(COUNTIF(A$1:$B496,A497)>0,"ĐÃ NHẬP","")
G501: =IF(COUNTIF(A$1:$B497,A498)>0,"ĐÃ NHẬP","")
G502: =IF(COUNTIF(A$1:$B498,A499)>0,"ĐÃ NHẬP","")
...

Sheet DK 2016-nay
A1: TT | B1: Tên bài báo/báo cáo | C1: Tên tác giả | D1: Tên tạp chí/hội nghị, hội thảo | E1: Thời gian xuất bản | F1: Khoa | G1: Thể loại
A2: 1 | B2: A methodology for representing the effect of vertical axis turbine on the flow | C2: Nguyen Van Thinh., Guillou S., Thiébot J., Santa Cruz A. | D2: 2nd International Conference on Offshore Renewable Energy, Glasgow, United Kingdom, 09/2016, pp 285-293. | E2: 2016 | F2: DK | G2: Hội nghị, hội thảo QT
A3: 2 | B3: An advanced dual-porosity model for history matching- improvement of production data from the canguvang granitic basement | C3: An. H. Nguyen, Vinh, T. Nguyen | D3: Third EAGE Integrated Reservoir Modelling Conference | E3: 2016 | F3: DK | G3: Hội nghị, hội thảo QT
A4: 3 | B4: Application of seismic attribute analysis to study fractured basement | C4: Nguyen Thanh Tung, Phan Thien Huong | D4: International Conferences on Earth Sciences and Sustainable Geo- Resources Development (ESASGD) | E4: 2016 | F4: DK | G4: Hội nghị, hội thảo QT
A5: 4 | B5: Assessing the performance of tidal turbines arrays using analytical method: Application to the Alderney Race (France) | C5: Nguyen Van Thinh and others | D5: 2nd International Conference on Offshore Renewable Energy | E5: 2016 | F5: DK | G5: Hội nghị, hội thảo QT
A6: 5 | B6: Behavior of cyclopentane hydarates formation and dissociation in pure water and in the presence of sodium chloride | C6: Son Ho-Van, Jérome Douzet, Duyen Le-Quang, Baptiste Bouillot, Jean-Michel Herri | D6: International Conferences on Earth Sciences and Sustainable Geo- Resources Development (ESASGD) | E6: 2016 | F6: DK | G6: Hội nghị, hội thảo QT
A7: 6 | B7: Cyclopentane hydrate in the presence of KCl and equal -mass mixture of KCl and NaCl following a quick dissociation procedure | C7: S.Ho-Van, J. Douzet, B.Bouillot, J. M.Herri | D7: Journée scientifique du CODEGEPRA | E7: 2016 | F7: DK | G7: Tạp chí QT khác
A8: 7 | B8: Ditermination of mixed organic content in petrol by refractive index measurement with an etched fiber bragg grating sensor | C8: Pham Thanh Binh, Nguyen The Anh, Pham Van Dai, Le Huu Thang, Nguyen Van Thinh, Duong Minh Hai, Bui Huy, Pham Van Hoi | D8: Proceeding of advances in applied and engineering physics IV, ISBN 978-604-913-232-2 | E8: 2016 | F8: DK | G8: Hội nghị, hội thảo QT
A9: 8 | B9: Estimation of Heat Flow Using a Bottom Simulating Reflection Based on 3D Seismic, Kribi-Campo Basin, West Africa, | C9: Anh Ngoc Le, Hiep Quoc Le | D9: International Conferences on Earth Sciences and Sustainable Geo- Resources Development (ESASGD) | E9: 2016 | F9: DK | G9: Hội nghị, hội thảo QT
A10: 9 | B10: Experimental flowloop study on methane hydrate formation and agglomeration in high water cut emulsion systems | C10: Trung - Kien Pham, Ana Cameirao, Jean-Michel Herri | D10: International Conferences on Earth Sciences and Sustainable Geo- Resources Development (ESASGD) | E10: 2016 | F10: DK | G10: Hội nghị, hội thảo QT
A11: 10 | B11: Geomechanical Analysis of The SDSV Basement Reservoir Using Earth Loads | C11: Nguyen Hai An, Nguyen The Vinh | D11: International Conferences on Earth Sciences and Sustainable Geo- Resources Development (ESASGD) | E11: 2016 | F11: DK | G11: Hội nghị, hội thảo QT
A12: 11 | B12: High sensitivity etched-fiber bragg grating sensor for determination of organic content mixtured in gasoline | C12: Nguyen Van Thinh và nnk | D12: International Conferences on Earth Sciences and Sustainable Geo- Resources Development (ESASGD) | E12: 2016 | F12: DK | G12: Hội nghị, hội thảo QT
A13: 12 | B13: Influence parameters on liquid phase reaction preparing terephthalic acid from p-xylene over metal complexes-MCM-41 catalysts | C13: Pham Xuan Nui et al. | D13: Physical Chemistry | E13: 2016 | F13: DK | G13: Tạp chí ISI
... A213: 39 | B213: Production flow rates prediction by using an artificial neural network | C213: Nguyễn Tiến Hùng, Vũ Hồng Dương | D213: Международной научной конференции молодых ученых «Молодые - Наукам о Земле» | E213: 2022 | F213: DK | G213: Hội nghị, Hội thảo QT
D214: Hội thảo, hội nghị QT | G214: =COUNTIF(G2:G213,"Hội nghị, hội thảo QT") -> 85
D215: Tạp chí ISI | G215: =COUNTIF(G2:G213,"Tạp chí ISI") -> 104
D216: Tạp chí QT khác | G216: =COUNTIF(G2:G213,"Tạp chí QT khác") -> 18
D217: Tạp chí Scopus | G217: =COUNTIF(G2:G213,"Tạp chí Scopus") -> 5
D218: Tổng | G218: =SUM(G214:G217) -> 212
G219: =IF(COUNTIF($B$2:B215,B216)>0,"ĐÃ NHẬP","")
G220: =IF(COUNTIF($B$2:B216,B217)>0,"ĐÃ NHẬP","")
G221: =IF(COUNTIF($B$2:B217,B218)>0,"ĐÃ NHẬP","")
G222: =IF(COUNTIF($B$2:B218,B219)>0,"ĐÃ NHẬP","")
G223: =IF(COUNTIF($B$2:B219,B220)>0,"ĐÃ NHẬP","")
G224: =IF(COUNTIF($B$2:B220,B221)>0,"ĐÃ NHẬP","")
G225: =IF(COUNTIF($B$2:B221,B222)>0,"ĐÃ NHẬP","")
G226: =IF(COUNTIF($B$2:B222,B223)>0,"ĐÃ NHẬP","")
G227: =IF(COUNTIF($B$2:B223,B224)>0,"ĐÃ NHẬP","")
G228: =IF(COUNTIF($B$2:B224,B225)>0,"ĐÃ NHẬP","")
G229: =IF(COUNTIF($B$2:B225,B226)>0,"ĐÃ NHẬP","")
G230: =IF(COUNTIF($B$2:B226,B227)>0,"ĐÃ NHẬP","")
... G708: =IF(COUNTIF($B$2:B704,B705)>0,"ĐÃ NHẬP","")
G709: =IF(COUNTIF(A$1:$B705,A706)>0,"ĐÃ NHẬP","")
G710: =IF(COUNTIF(A$1:$B706,A707)>0,"ĐÃ NHẬP","")
G711: =IF(COUNTIF(A$1:$B707,A708)>0,"ĐÃ NHẬP","")
G712: =IF(COUNTIF(A$1:$B708,A709)>0,"ĐÃ NHẬP","")
G713: =IF(COUNTIF(A$1:$B709,A710)>0,"ĐÃ NHẬP","")
G714: =IF(COUNTIF(A$1:$B710,A711)>0,"ĐÃ NHẬP","")
G715: =IF(COUNTIF(A$1:$B711,A712)>0,"ĐÃ NHẬP","")
G716: =IF(COUNTIF(A$1:$B712,A713)>0,"ĐÃ NHẬP","")
...

Sheet KT 2016-nay
A1: TT | B1: Tên bài báo/báo cáo | C1: Tên tác giả | D1: Tên tạp chí/hội nghị, hội thảo | E1: Thời gian xuất bản | F1: Khoa | G1: Thể loại
A2: 1 | B2: Challenges of an effective international knowledge transfer from the perspective of Southeast Asian Mining Schools | C2: J. Kretschmann, Nga Nguyen, Pinyo Meechumna | D2: ESASGD-EMMA | E2: 2016 | F2: KT | G2: Hội nghị, hội thảo QT
A3: 2 | B3: Opportunities, challenges and solutions for labor in the mining sector in the context of international labor movement | C3: Nguyen Lan Hoang Thao, Doan Van Son | D3: ESASGD-EMMA | E3: 2016 | F3: KT | G3: Hội nghị, hội thảo QT
A4: 3 | B4: Solution to develop human rerource for the implementation of the master plan on development of the Vietnamese Coal Industry to 2020, VTạp chí ISIon to 2030 | C4: Nguyen Ngoc Khanh | D4: ESASGD-EMMA | E4: 2016 | F4: KT | G4: Hội nghị, hội thảo QT
A5: 4 | B5: Strengthening State Management on Human resource development of Viet Nam’s coal industry | C5: Phuong Huu Tung | D5: ESASGD-EMMA | E5: 2016 | F5: KT | G5: Hội nghị, hội thảo QT
A6: 5 | B6: Apply JDI model to estimate job satisfaction of workers working on Vietnam’s oilrigs | C6: Nguyen Thanh Thuy | D6: ESASGD-EMMA | E6: 2016 | F6: KT | G6: Hội nghị, hội thảo QT
A7: 6 | B7: The situation of the quality of official staff in mid-central geological divTạp chí ISIon at present | C7: Nguyen Thi Mo, Phan Thi Thai | D7: ESASGD-EMMA | E7: 2016 | F7: KT | G7: Hội nghị, hội thảo QT
A8: 7 | B8: Solutions to improve financial situation and business efficiency of Vietnam National Coal - Mineral Industries Holding Corporation Limited (Vinacomin) | C8: Luu Thi Thu Ha, Le Thi Thu Hong | D8: ESASGD-EMMA | E8: 2016 | F8: KT | G8: Hội nghị, hội thảo QT
A9: 8 | B9: Research on application of Miller - Orr model to manage cash capital in Nui Beo Coal Joint Stock Company | C9: Nguyen Thi Kim Oanh, Vu Ngoc Thinh | D9: ESASGD-EMMA | E9: 2016 | F9: KT | G9: Hội nghị, hội thảo QT
A10: 9 | B10: Several determinants of stock price of a mining enterprise under Vinacomin, a case study of Vang Danh Joint Stock Company | C10: Nguyen Thuc Anh | D10: ESASGD-EMMA | E10: 2016 | F10: KT | G10: Hội nghị, hội thảo QT
A11: 10 | B11: Completion of some contents in cost accounting and stages product cost in Vinacomin – Cao Son coal joint stock company | C11: Nguyen Thi Bich Phuong, Vu Ngoc Thinh | D11: ESASGD-EMMA | E11: 2016 | F11: KT | G11: Hội nghị, hội thảo QT
A12: 11 | B12: Unconventional gas development in Vietnam: Opportunities and Challenges | C12: Nguyen Thi Bich Phuong, Vu Ngoc Thinh | D12: ESASGD-EMMA | E12: 2016 | F12: KT | G12: Hội nghị, hội thảo QT
A13: 12 | B13: Completing royalties policy in the direction encourage or oblige to explore fully the coal resources | C13: Dong Thi Bich | D13: ESASGD-EMMA | E13: 2016 | F13: KT | G13: Hội nghị, hội thảo QT
... A157: 28 | B157: Challenges from forest restoration of mining waste sites in the world and lessons for the vietnamese mining industry | C157: Trần Văn Hiệp, Lê Minh Thống, La Thị Thắm, Nguyễn Thị Kim Ngân, Nguyễn Thanh Thủy | D157: The 6th international scientific conference on economic management in mineral activities – EMMA6 2022 | E157: 2022 | F157: KT | G157: Hội nghị, Hội thảo QT
D158: Hội thảo, hội nghị QT | G158: =COUNTIF(G2:G157,"Hội nghị, hội thảo QT") -> 136
D159: Tạp chí ISI | G159: =COUNTIF(G2:G157,"Tạp chí ISI") -> 14
D160: Tạp chí QT khác | G160: =COUNTIF(G2:G157,"Tạp chí QT khác") -> 2
D161: Tạp chí Scopus | G161: =COUNTIF(G2:G157,"Tạp chí Scopus") -> 4
D162: Tổng | G162: =SUM(G158:G161) -> 156
G163: =IF(COUNTIF($B$2:B159,B160)>0,"ĐÃ NHẬP","")
G164: =IF(COUNTIF($B$2:B160,B161)>0,"ĐÃ NHẬP","")
G165: =IF(COUNTIF($B$2:B161,B162)>0,"ĐÃ NHẬP","")
G166: =IF(COUNTIF($B$2:B162,B163)>0,"ĐÃ NHẬP","")
G167: =IF(COUNTIF($B$2:B163,B164)>0,"ĐÃ NHẬP","")
G168: =IF(COUNTIF($B$2:B164,B165)>0,"ĐÃ NHẬP","")
G169: =IF(COUNTIF($B$2:B165,B166)>0,"ĐÃ NHẬP","")
G170: =IF(COUNTIF($B$2:B166,B167)>0,"ĐÃ NHẬP","")
G171: =IF(COUNTIF($B$2:B167,B168)>0,"ĐÃ NHẬP","")
G172: =IF(COUNTIF($B$2:B168,B169)>0,"ĐÃ NHẬP","")
G173: =IF(COUNTIF($B$2:B169,B170)>0,"ĐÃ NHẬP","")
G174: =IF(COUNTIF($B$2:B170,B171)>0,"ĐÃ NHẬP","")
... G197: =IF(COUNTIF($B$2:B193,B194)>0,"ĐÃ NHẬP","")
G198: =IF(COUNTIF(A$1:$B194,A195)>0,"ĐÃ NHẬP","")
G199: =IF(COUNTIF(A$1:$B195,A196)>0,"ĐÃ NHẬP","")
G200: =IF(COUNTIF(A$1:$B196,A197)>0,"ĐÃ NHẬP","")
G201: =IF(COUNTIF(A$1:$B197,A198)>0,"ĐÃ NHẬP","")
G202: =IF(COUNTIF(A$1:$B198,A199)>0,"ĐÃ NHẬP","")
G203: =IF(COUNTIF(A$1:$B199,A200)>0,"ĐÃ NHẬP","")
G204: =IF(COUNTIF(A$1:$B200,A201)>0,"ĐÃ NHẬP","")
G205: =IF(COUNTIF(A$1:$B201,A202)>0,"ĐÃ NHẬP","")
...

Sheet KHCB 2016-nay
A1: TT | B1: Tên bài báo/báo cáo | C1: Tên tác giả | D1: Tên tạp chí/hội nghị, hội thảo | E1: Thời gian xuất bản | F1: Khoa | G1: Thể loại
A2: 1 | B2: Controlled fabrication of the strong emission YVO4; EU3+ nanoparticles and nanowires by microwave assisted chemical synthesis | C2: Tran Thu Huong, Le Thi Vinh, Ha Thi Phuong, Hoang Thi Khuyen, Tran Kim Anh, Vu Duc Tu, Le Quoc Minh | D2: Journal of Luminescence | E2: 2016 | F2: KHKTĐC | G2: Tạp chí ISI
A3: 2 | B3: Ảnh hưởng của natrinitrat tới quá trình tổng hợp màng natri hydroxyapatit trên nền thép không gỉ bằng phương pháp điện hóa | C3: Võ Thị Hạnh, Phạm Thị Năm, Lê Thị Duyên, Nguyễn Thị Thu Hà, Đinh Thị Mai Thanh | D3: ESASGD 2016 | E3: 2016 | F3: KHCB | G3: Hội nghị, hội thảo QT
A4: 3 | B4: Cavity induced perfect absorption in metamaterial | C4: H. L. Dang, H. T. Nguyen, V. D. Nguyen, S. T. Bui, D. T. Le, Q. M. Ngo, and D. L. Vu | D4: Adv. Nat. Sci.: Nanosci. Nanotechnol | E4: 2016 | F4: KHCB | G4: Tạp chí QT khác
A5: 4 | B5: Dynamic Simulation of Backward Diffusion Based on Random Walk Theory | C5: Vu Ba Dung, Bui Huu Nguyen | D5: Journal of Physics: Conference Series | E5: 2016 | F5: KHCB | G5: Tạp chí QT khác
A6: 5 | B6: Đồ thị đầy đủ mở rộng và ứng dụng | C6: Nguyễn Văn Ngọc | D6: ESASGD 2016 | E6: 2016 | F6: KHCB | G6: Hội nghị, hội thảo QT
A7: 6 | B7: Effects of Ultraviolet illumination on NO2 gas-sensing characteristics of SnO2 nanowires sensor | C7: Nguyen Manh Hung, Chu Manh Hung, Hoang Sy Hong, Nguyen Duc Khoang, Nguyen Van Toan, Phung Thi Hong Van, Bui Thi Binh, Dinh Van Thien, Nguyen Van Hieu | D7: The third International Conference on Advanced Materials and Nanotechnology (ICAMN- 2016), Hanoi, 2-5/10/2016 | E7: 2016 | F7: KHCB | G7: Hội nghị, hội thảo QT
A8: 7 | B8: Effects of phonons in the extonic insulator in the 2D extended Falicov-Kimball model | C8: Do Thi Hong Hai, Phan Van Nham | D8: Hội nghị Vật lý lý thuyết toàn quốc lần thứ 41 | E8: 2016 | F8: KHCB | G8: Hội nghị, hội thảo QT
A9: 8 | B9: Fabrication of titania inverse opals by multi-cycle dip-infiltrationfor optical sensing | C9: Chun-Chen Chianga, Le Dac Tuyen, Ching-Rung Rena, Lai-Kwan Chaua,Cheng Yi Wub, Ping-Ji Huang, Chia Chen Hsu | D9: Photonics and Nanostructures – Fundamentals and Applications | E9: 2016 | F9: KHCB | G9: Tạp chí ISI
A10: 9 | B10: Formation of crystal structure of zirconium titanate ZrTiO4 powders prepared by sol–gel method | C10: Le Thi Mai Oanh, Do Danh Bich, Nguyen Manh Hung, Dao Viet Thang, Doan Thi Thuy Phương, Dang Thu Ha, Nguyen Van Minh | D10: J. Electron. Mater | E10: 2016 | F10: KHCB | G10: Tạp chí QT khác
A11: 10 | B11: Functionalized YVO4:Eu3+ nanophosphors with desirable properties | C11: Tran Thu Huong, Ha Thi Phuong, Le Thi Vinh, Hoang Thi Khuyen, Tran Kim Anh, Le Quoc Minh | D11: Journal of Science: Advanced Materials and Devices | E11: 2016 | F11: KHCB | G11: Tạp chí QT khác
A12: 11 | B12: Lattice distortion inducing electron-hole pair condensation in two dimensional systems | C12: Do Thi Hong Hai, Nguyen Thi Giang, Nguyen Huu Nha, Phan Van Nham | D12: Journal of Physics: Conference Series | E12: 2016 | F12: KHCB | G12: Tạp chí QT khác
A13: 12 | B13: Magnetics Properties and impedence Spectrocopic Studies of Multifferoic Bi1-xNdxFeO3 Materials | C13: Dao Viet Thang, Du Thi Xuan Thao, Nguyen Van Minh | D13: Journal of Magnetics | E13: 2016 | F13: KHCB | G13: Tạp chí ISI
... A191: 8 | B191: THE STUDY OF METHODOLOGIES TO IMPROVE THE EFFECTIVENESS EDUCATION CAN COMPOUND OF STUDENTS AND THE APPLICATION IN UNIVERSITY OF MINING AND GEOLOGY | C191: Nguyễn Huy Thông | D191: СПОРТИВНЫЕ ИГРЫ В ФИЗИЧЕСКОМ ВОСПИТАНИИ, РЕКРЕАЦИИ И СПОРТЕ | E191: 2021 | F191: KHCB | G191: Hội nghị, Hội thảo QT
D192: Hội thảo, hội nghị QT | G192: =COUNTIF(G2:G191,"Hội nghị, hội thảo QT") -> 46
D193: Tạp chí ISI | G193: =COUNTIF(G2:G191,"Tạp chí ISI") -> 117
D194: Tạp chí QT khác | G194: =COUNTIF(G2:G191,"Tạp chí QT khác") -> 23
D195: Tạp chí Scopus | G195: =COUNTIF(G2:G191,"Tạp chí Scopus") -> 4
D196: Tổng | G196: =SUM(G192:G195) -> 190
G197: =IF(COUNTIF($B$3:B193,B194)>0,"ĐÃ NHẬP","")
G198: =IF(COUNTIF($B$3:B194,B195)>0,"ĐÃ NHẬP","")
G199: =IF(COUNTIF($B$3:B195,B196)>0,"ĐÃ NHẬP","")
G200: =IF(COUNTIF($B$3:B196,B197)>0,"ĐÃ NHẬP","")
G201: =IF(COUNTIF($B$3:B197,B198)>0,"ĐÃ NHẬP","")
G202: =IF(COUNTIF($B$3:B198,B199)>0,"ĐÃ NHẬP","")
G203: =IF(COUNTIF($B$3:B199,B200)>0,"ĐÃ NHẬP","")
G204: =IF(COUNTIF($B$3:B200,B201)>0,"ĐÃ NHẬP","")
G205: =IF(COUNTIF($B$3:B201,B202)>0,"ĐÃ NHẬP","")
G206: =IF(COUNTIF($B$3:B202,B203)>0,"ĐÃ NHẬP","")
G207: =IF(COUNTIF($B$3:B203,B204)>0,"ĐÃ NHẬP","")
G208: =IF(COUNTIF($B$3:B204,B205)>0,"ĐÃ NHẬP","")
... G751: =IF(COUNTIF($B$3:B747,B748)>0,"ĐÃ NHẬP","")
G752: =IF(COUNTIF(A$1:$B748,A749)>0,"ĐÃ NHẬP","")
G753: =IF(COUNTIF(A$1:$B749,A750)>0,"ĐÃ NHẬP","")
G754: =IF(COUNTIF(A$1:$B750,A751)>0,"ĐÃ NHẬP","")
G755: =IF(COUNTIF(A$1:$B751,A752)>0,"ĐÃ NHẬP","")
G756: =IF(COUNTIF(A$1:$B752,A753)>0,"ĐÃ NHẬP","")
G757: =IF(COUNTIF(A$1:$B753,A754)>0,"ĐÃ NHẬP","")
G758: =IF(COUNTIF(A$1:$B754,A755)>0,"ĐÃ NHẬP","")
G759: =IF(COUNTIF(A$1:$B755,A756)>0,"ĐÃ NHẬP","")
...

Sheet KHKTĐC 2016-nay
A1: TT | B1: Tên bài báo/báo cáo | C1: Tên tác giả | D1: Tên tạp chí/hội nghị, hội thảo | E1: Thời gian xuất bản | F1: Khoa | G1: Thể loại
A2: 1 | B2: Application of ultrasonic tomography methode for study destruction of material under uniaxial compression | C2: Bui Truong Son, Chu Tuan Vu | D2: VIETGEO 2016 | E2: 2016 | F2: KHKTĐC | G2: Hội nghị, hội thảo QT
A3: 2 | B3: Assessment the effects of sea level rise due to climate change to geodynamic engineering in the Northern coastal area of Vietnam | C3: Do Minh Toan, Nguyen Thi Nu | D3: Proceedings of the ESASGD 2016 | E3: 2016 | F3: KHKTĐC | G3: Hội nghị, hội thảo QT
A4: 3 | B4: Calculation of Potential Evaporation and Actual Evapotranspiration in Hanoi City, Vietnam | C4: Vu V. Hung, and Broder J. Merkel | D4: ESASGD 2016 | E4: 2016 | F4: KHKTĐC | G4: Hội nghị, hội thảo QT
A5: 4 | B5: Cation Exchange Capacity Heterogeneity in a Carbonate-Bearing Redbed Sandstone: High and low permeability correlated with high cation exchange capacity | C5: Tô Xuân Bản | D5: Bryan Lovell Meeting 2016: Water, hazards and risk: Managing uncertainty in a changing world. Hội Địa chất London, London, UK ngày 24-25 tháng 11 năm 2016 | E5: 2016 | F5: KHKTĐC | G5: Hội nghị, hội thảo QT
A6: 5 | B6: Controls on Erosion Patterns and Sediment Transport in a Monsoonal, Tectonically Quiescent Drainage, Song Gianh, Central Vietnam. Basin Research | C6: Tara N. Jonell, Hoàng Văn Long và nnk | D6: Basin research | E6: 2016 | F6: KHKTĐC | G6: Tạp chí ISI
A7: 6 | B7: Correlation between English Permo-Triassic Sandstone Lithofacies and Permeability and Its Importance for Contaminant Transport in Groundwater | C7: Tô Xuân Bản (Tác giả chính) | D7: Groundwater: Managing our Hidden Asset. Conference held in Birmingham, UK, 13-14/9/2016 | E7: 2016 | F7: KHKTĐC | G7: Hội nghị, hội thảo QT
A8: 7 | B8: Couple geology evolution and groundwater modeling to simulation of paleo salt intrusion in Red River Delta | C8: Long Tran Vu, Flemming Larsen, Hoan Hoang Van, Luu Tran Thi, Nhan Pham Quy | D8: ESASGD 2016 | E8: 2016 | F8: KHKTĐC | G8: Hội nghị, hội thảo QT
A9: 8 | B9: Coupling geophysical and isotopic approaches to better simulate saltwater intrusion into coastal aquifers: A case study in Crau (France) | C9: Nguyen Bach Thao, Olivier Banton, Adriano Mayer | D9: ESASGD 2016 | E9: 2016 | F9: KHKTĐC | G9: Hội nghị, hội thảo QT
A10: 9 | B10: Characteristics of groundsoil foundation construction ability in Hai Phong coastal areas | C10: To Xuan Vu, Ta Duc Thinh, Nguyen Van Hung | D10: VietGEO 2016 | E10: 2016 | F10: KHKTĐC | G10: Hội nghị, hội thảo QT
A11: 10 | B11: Dip Direction Of A-A Fault In The Eastern Part Of Cam Pha Coal Mine, Quang Ninh Province: A New Hypothesis | C11: Nguyen Hoang Huan, Nguyen Tien Dung, Tran Van Mien | D11: Proceedings of the ESASGD 2016 Hanoi, November 14, 2016. Section: Geology and Geo-resources (GAG) | E11: 2016 | F11: KHKTĐC | G11: Hội nghị, hội thảo QT
A12: 11 | B12: Effect of frequency, confining pressure on quefaction potential of aluvial sand, Thai Binh formation (aQ23tb1) by using cyclic triaxial test | C12: Bui, B. V., Nguyen, N. D., Nguyen, T. D., Phung, H. H., Nguyen, V. H | D12: Scientific – Technical Journal of Mining and Geology (English version), 02. HUMG | E12: 2016 | F12: KHKTĐC | G12: Hội nghị, hội thảo QT
A13: 12 | B13: Effects of the degree of water saturation on the stability of the slopes: modelling and numerical simulation | C13: Long Nguyen Tuan, Thang Le Trong | D13: ESASGD 2016 | E13: 2016 | F13: KHKTĐC | G13: Hội nghị, hội thảo QT
... A205: 41 | B205: Оценка оползневой восприимчивости в районе Батсат провинции Лаокай с применением метода соотношения частотностей | C205: Dương Văn Bình, Fomenko Igor Konstantinovich, Vũ Hồng Đăng, Sirotkina Olga Nikolaevna | D205: X Международная научная конференция молодых ученых «Молодые - Наукам о Земле» | E205: 2022 | F205: KHKTĐC | G205: Hội nghị, Hội thảo QT
D206: Hội thảo, hội nghị QT | G206: =COUNTIF(G2:G205,"Hội nghị, hội thảo QT") -> 100
D207: Tạp chí ISI | G207: =COUNTIF(G2:G205,"Tạp chí ISI") -> 81
D208: Tạp chí QT khác | G208: =COUNTIF(G2:G205,"Tạp chí QT khác") -> 9
D209: Tạp chí Scopus | G209: =COUNTIF(G2:G205,"Tạp chí Scopus") -> 14
D210: Tổng | G210: =SUM(G206:G209) -> 204
G211: =IF(COUNTIF($B$2:B207,B208)>0,"ĐÃ NHẬP","")
G212: =IF(COUNTIF($B$2:B208,B209)>0,"ĐÃ NHẬP","")
G213: =IF(COUNTIF($B$2:B209,B210)>0,"ĐÃ NHẬP","")
G214: =IF(COUNTIF($B$2:B210,B211)>0,"ĐÃ NHẬP","")
G215: =IF(COUNTIF($B$2:B211,B212)>0,"ĐÃ NHẬP","")
G216: =IF(COUNTIF($B$2:B212,B213)>0,"ĐÃ NHẬP","")
G217: =IF(COUNTIF($B$2:B213,B214)>0,"ĐÃ NHẬP","")
G218: =IF(COUNTIF($B$2:B214,B215)>0,"ĐÃ NHẬP","")
G219: =IF(COUNTIF($B$2:B215,B216)>0,"ĐÃ NHẬP","")
G220: =IF(COUNTIF($B$2:B216,B217)>0,"ĐÃ NHẬP","")
G221: =IF(COUNTIF($B$2:B217,B218)>0,"ĐÃ NHẬP","")
G222: =IF(COUNTIF($B$2:B218,B219)>0,"ĐÃ NHẬP","")
... G700: =IF(COUNTIF($B$2:B696,B697)>0,"ĐÃ NHẬP","")
G701: =IF(COUNTIF(A$1:$B697,A698)>0,"ĐÃ NHẬP","")
G702: =IF(COUNTIF(A$1:$B698,A699)>0,"ĐÃ NHẬP","")
G703: =IF(COUNTIF(A$1:$B699,A700)>0,"ĐÃ NHẬP","")
G704: =IF(COUNTIF(A$1:$B700,A701)>0,"ĐÃ NHẬP","")
G705: =IF(COUNTIF(A$1:$B701,A702)>0,"ĐÃ NHẬP","")
G706: =IF(COUNTIF(A$1:$B702,A703)>0,"ĐÃ NHẬP","")
G707: =IF(COUNTIF(A$1:$B703,A704)>0,"ĐÃ NHẬP","")
G708: =IF(COUNTIF(A$1:$B704,A705)>0,"ĐÃ NHẬP","")
...

Sheet LLCT 2016-nay
A1: TT | B1: Tên bài báo/báo cáo | C1: Tên tác giả | D1: Tên tạp chí/hội nghị, hội thảo | E1: Thời gian xuất bản | F1: Khoa | G1: Thể loại
A2: 1 | B2: Productive activities of the older people in Vietnam | C2: Giang Thanh Long, Phạm Thị Hồng Thắm, Phí Mạnh Phong | D2: Social science and Medicine | E2: 2018 | F2: LLCT | G2: Tạp chí ISI
A3: 2 | B3: Ảnh hưởng của cách mạng Pháp đối với hành trình cứu nước của Hồ Chí Minh | C3: Trần Thị Phúc An | D3: Hội thảo khoa học quốc tế giao lưu văn hóa Việt Pháp - Thành tựu và triển vọng | E3: 2018 | F3: LLCT | G3: Hội nghị, Hội thảo QT
A4: 44 | B4: Nguồn nhân lực qua đào tạo nghề ở Vĩnh Phúc trước tác động của cách mạng công nghiệp lần thứ tư | C4: Đổi mới và sáng tạo trong đào tạo nguồn nhân lực toàn cầu | D4: Nguyễn Đức Khiêm, Trần Thị Phúc An | E4: 43766 | F4: LLCT | G4: Hội nghị, Hội thảo QT
A5: 3 | B5: Nguồn nhân lực qua đào tạo nghề ở Vĩnh Phúc trước tác động của cách mạng công nghiệp lần thứ tư”, | C5: Nguyễn Đức Khiêm, Trần Thị Phúc An | D5: Kỷ yếu Hội thảo khoa học quốc tế: Đổi mới và sáng tạo trong đào tạo nguồn nhân lực toàn cầu | E5: 2019 | F5: LLCT | G5: Hội nghị, Hội thảo QT
A6: 15 | B6: Developing Culture to Develop People andCountry of Vietnam In The Renovation andInternational Integration period | C6: Trương Thị Thanh Quý, Đỗ Thị Vân Hà, Hoàng Thị Giang, Hoàng Thu Trang | D6: American Research Journal of Humanities and Social Science | E6: 43977 | F6: LLCT | G6: Tạp chí QT khác
A7: 83 | B7: Một số nguyên tắc phương pháp luận trong việc giải quyết mối quan hệ giữa tăng trưởng kinh tế với tiến bộ, công bằng xã hội ở Việt Nam. | C7: Trần Thị Lan Hương | D7: Kỷ yếu Hội nghị khoa học Khoa học xã hội với sự phát triển bền vững | E7: 2020 | F7: LLCT | G7: Hội nghị, Hội thảo QT
D8: Hội thảo, hội nghị QT | G8: =COUNTIF(G2:G7,"Hội nghị, Hội thảo QT") -> 4
D9: Tạp chí ISI | G9: =COUNTIF(G2:G7,"Tạp chí ISI") -> 1
D10: Tạp chí QT khác | G10: =COUNTIF(G2:G7,"Tạp chí QT khác") -> 1
D11: Tạp chí Scopus | G11: =COUNTIF(G2:G7,"Tạp chí Scopus") -> 0
D12: Tổng | G12: =SUM(G8:G11) -> 6
G13: =IF(COUNTIF($B$2:B9,B10)>0,"ĐÃ NHẬP","")
G14: =IF(COUNTIF($B$2:B10,B11)>0,"ĐÃ NHẬP","")
G15: =IF(COUNTIF($B$2:B11,B12)>0,"ĐÃ NHẬP","")
G16: =IF(COUNTIF($B$2:B12,B13)>0,"ĐÃ NHẬP","")
G17: =IF(COUNTIF($B$2:B13,B14)>0,"ĐÃ NHẬP","")
G18: =IF(COUNTIF($B$2:B14,B15)>0,"ĐÃ NHẬP","")
G19: =IF(COUNTIF($B$2:B15,B16)>0,"ĐÃ NHẬP","")
G20: =IF(COUNTIF($B$2:B16,B17)>0,"ĐÃ NHẬP","")
G21: =IF(COUNTIF($B$2:B17,B18)>0,"ĐÃ NHẬP","")
G22: =IF(COUNTIF($B$2:B18,B19)>0,"ĐÃ NHẬP","")
G23: =IF(COUNTIF($B$2:B19,B20)>0,"ĐÃ NHẬP","")
G24: =IF(COUNTIF($B$2:B20,B21)>0,"ĐÃ NHẬP","")
... G30: =IF(COUNTIF($B$2:B26,B27)>0,"ĐÃ NHẬP","")
G31: =IF(COUNTIF(A$1:$B27,A28)>0,"ĐÃ NHẬP","")
G32: =IF(COUNTIF(A$1:$B28,A29)>0,"ĐÃ NHẬP","")
G33: =IF(COUNTIF(A$1:$B29,A30)>0,"ĐÃ NHẬP","")
G34: =IF(COUNTIF(A$1:$B30,A31)>0,"ĐÃ NHẬP","")
G35: =IF(COUNTIF(A$1:$B31,A32)>0,"ĐÃ NHẬP","")
G36: =IF(COUNTIF(A$1:$B32,A33)>0,"ĐÃ NHẬP","")
G37: =IF(COUNTIF(A$1:$B33,A34)>0,"ĐÃ NHẬP","")
G38: =IF(COUNTIF(A$1:$B34,A35)>0,"ĐÃ NHẬP","")
G39: =IF(COUNTIF(A$1:$B35,A36)>0,"ĐÃ NHẬP","")
G40: =IF(COUNTIF(A$1:$B36,A37)>0,"ĐÃ NHẬP","")
G41: =IF(COUNTIF(A$1:$B37,A38)>0,"ĐÃ NHẬP","")
G42: =IF(COUNTIF(A$1:$B38,A39)>0,"ĐÃ NHẬP","")
... G133: =IF(COUNTIF(A$1:$B129,A130)>0,"ĐÃ NHẬP","")

Sheet Mỏ 2016-nay
A1: TT | B1: Tên bài báo/báo cáo | C1: Tên tác giả | D1: Tên tạp chí/hội nghị, hội thảo | E1: Thời gian xuất bản | F1: Khoa | G1: Thể loại
A2: 1 | B2: Appication of geostatistical tools to assess geological uncertainy for Sin Quyen copper mine, Vietnam | C2: Mai Ngoc Luan, Bui Xuan Nam | D2: Journal of Mining Science | E2: 2016 | F2: Mỏ | G2: Tạp chí QT khác
A3: 2 | B3: Grouping discontinuities in representative sets: influence on the stability analysis of slope cuts | C3: A. T. Nguyen, V. Merrien-Soukatchoff, M. Vinches, V. Gasc-Barbier | D3: Bulletin of Engineering Geology and the Environment | E3: 2016 | F3: Mỏ | G3: Tạp chí ISI
A4: 3 | B4: Grouping discontinuities in representative sets: influence on the stability analysis of slope cuts. | C4: A. T. Nguyen, V. Merrien-Soukatchoff, M. Vinches, V. Gasc-Barbier | D4: Bulletin of Engineering Geology and Environment | E4: 2016 | F4: Mỏ | G4: Tạp chí ISI
A5: 4 | B5: Status of development orientations for mining titanium placers in Vietnam | C5: Bui Xuan Nam, Ho Si Giao | D5: Gornye nauki i tehnologii, MTạp chí ISIS | E5: 2016 | F5: Mỏ | G5: Tạp chí QT khác
A6: 5 | B6: Study on application of geographic information system (GIS) for management of minerals exploration and extraction | C6: Dao Van Chi, Le Tien Dung, Nguyen Cao Khai | D6: ESASGD | E6: 2016 | F6: Mỏ | G6: Hội nghị, hội thảo QT
A7: 6 | B7: Application of UDEC - 2D software for simulation of the behavior of the rock strata above a long wall coal mining | C7: Pham Duc Hung, Nguyen Van Quang | D7: ESASGD | E7: 2016 | F7: Mỏ | G7: Hội nghị, hội thảo QT
A8: 7 | B8: Study on selection of caving span length in fully-mechanized longwall top coal caving with high mining height for ultra-thick coal seams | C8: Bui Manh Tung, Nguyen Van Quang, Nguyen Phi Hung, Liu Changyou, Nguyen Viet Hung | D8: ESASGD | E8: 2016 | F8: Mỏ | G8: Hội nghị, hội thảo QT
A9: 8 | B9: Aplication of Phase 2 software for defined collapsed area when work coal under pit bottom be underground mining method | C9: Le Quang Phuc, Bui Manh Tung, Tran Van Thanh, Nguyen Van Quang | D9: ESASGD | E9: 2016 | F9: Mỏ | G9: Hội nghị, hội thảo QT
A10: 9 | B10: Beneficiation of feldspar ore from Phutho province by flotogravitation in laboratory teetered-bed separator | C10: Nguyen Hoang Son, Pham Thi Nhung, Nguyen Thi Huyen Trang | D10: ESASGD | E10: 2016 | F10: Mỏ | G10: Hội nghị, hội thảo QT
A11: 10 | B11: Study on coupling relationship between mining field geometry structure and resource exploitation in deep open pit mine based on abaqus software | C11: Zhang Ning, Liu Shu-jin, Zhong Tao, Bui Manh Tung | D11: ESASGD | E11: 2016 | F11: Mỏ | G11: Hội nghị, hội thảo QT
A12: 11 | B12: Overview on surface coal mining technology and higher education in China | C12: Qing Xiang Cai, Wei Zhou, Shu Zhao Chen, Bui Manh Tung | D12: ESASGD | E12: 2016 | F12: Mỏ | G12: Hội nghị, hội thảo QT
A13: 12 | B13: Improving exploitation technology by efficient solutions with conditions of thick and steep seams at MaoKhe coal mine | C13: Nguyen Van Thinh, Nguyen Phi Hung, Nguyen Van Quang, Nguyen Van Dung, Tran Bao Ngoc | D13: ESASGD | E13: 2016 | F13: Mỏ | G13: Hội nghị, hội thảo QT
... A244: 43 | B244: Combination between kinematic analysis and distinct element modelling in pit slope stability for dimension stone quarries: Case study at dimension stone quarry Nui Trai, Binh Dinh Province, Vietnam | C244: Phạm Văn Việt, Nguyễn Anh Tuấn, Phạm Văn Hòa, Trần Đình Bão, Vu Van Doanh, Phan Hong Viet | D244: International Conference on Energy, Resources, Environment and Sustainable Development | E244: 2022 | F244: Mỏ | G244: Hội nghị, Hội thảo QT
D245: Hội thảo, hội nghị QT | G245: =COUNTIF(G2:G244,"Hội nghị, hội thảo QT") -> 62
D246: Tạp chí ISI | G246: =COUNTIF(G2:G244,"Tạp chí ISI") -> 128
D247: Tạp chí QT khác | G247: =COUNTIF(G2:G244,"Tạp chí QT khác") -> 12
D248: Tạp chí Scopus | G248: =COUNTIF(G2:G244,"Tạp chí Scopus") -> 41
D249: Tổng | G249: =SUM(G245:G248) -> 243
G250: =IF(COUNTIF($B$2:B246,B247)>0,"ĐÃ NHẬP","")
G251: =IF(COUNTIF($B$2:B247,B248)>0,"ĐÃ NHẬP","")
G252: =IF(COUNTIF($B$2:B248,B249)>0,"ĐÃ NHẬP","")
G253: =IF(COUNTIF($B$2:B249,B250)>0,"ĐÃ NHẬP","")
G254: =IF(COUNTIF($B$2:B250,B251)>0,"ĐÃ NHẬP","")
G255: =IF(COUNTIF($B$2:B251,B252)>0,"ĐÃ NHẬP","")
G256: =IF(COUNTIF($B$2:B252,B253)>0,"ĐÃ NHẬP","")
G257: =IF(COUNTIF($B$2:B253,B254)>0,"ĐÃ NHẬP","")
G258: =IF(COUNTIF($B$2:B254,B255)>0,"ĐÃ NHẬP","")
G259: =IF(COUNTIF($B$2:B255,B256)>0,"ĐÃ NHẬP","")
G260: =IF(COUNTIF($B$2:B256,B257)>0,"ĐÃ NHẬP","")
G261: =IF(COUNTIF($B$2:B257,B258)>0,"ĐÃ NHẬP","")
... G464: =IF(COUNTIF($B$2:B460,B461)>0,"ĐÃ NHẬP","")
G465: =IF(COUNTIF(A$1:$B461,A462)>0,"ĐÃ NHẬP","")
G466: =IF(COUNTIF(A$1:$B462,A463)>0,"ĐÃ NHẬP","")
G467: =IF(COUNTIF(A$1:$B463,A464)>0,"ĐÃ NHẬP","")
G468: =IF(COUNTIF(A$1:$B464,A465)>0,"ĐÃ NHẬP","")
G469: =IF(COUNTIF(A$1:$B465,A466)>0,"ĐÃ NHẬP","")
G470: =IF(COUNTIF(A$1:$B466,A467)>0,"ĐÃ NHẬP","")
G471: =IF(COUNTIF(A$1:$B467,A468)>0,"ĐÃ NHẬP","")
G472: =IF(COUNTIF(A$1:$B468,A469)>0,"ĐÃ NHẬP","")
...

Sheet MT 2016-nay
A1: TT | B1: Tên bài báo/báo cáo | C1: Tên tác giả | D1: Tên tạp chí/hội nghị, hội thảo | E1: Thời gian xuất bản | F1: Khoa | G1: Thể loại
A2: 1 | B2: A Hybrid Artificial Intelligence Approach Using GIS-Based Neural-Fuzzy Inference System and Particle Swarm Optimization for Forest Fire Susceptibility Modeling at A Tropical Area | C2: Dieu Tien Bui, Quang Thanh Bui, Quoc Phi Nguyen, Biswajeet Pradhan, Haleh Nampak, Phan Trong Trinh | D2: Agricultural and Forest Meteorology | E2: 2016 | F2: MT | G2: Tạp chí ISI
A3: 2 | B3: A novel fuzzy K-nearest neighbor inference model with differentential evolution for spartial prediction of rainfall-induced shallow landslides in a tropical hilly area using GIS | C3: Dieu Tien Bui, Quoc Phi Nguyen, Nhat Duc Hoang, Harald Klempe | D3: Landslides | E3: 2016 | F3: MT | G3: Tạp chí ISI
A4: 3 | B4: Spatial prediction of rainfall-induced shallow landslides using hybrid intergration approach of Least-Squares support vector machines and differential evolution optimization: a case study in central Vietnam | C4: Dieu Tien Bui, Binh Thai Pham, Quoc Phi Nguyen, Nhat Duc Hoang | D4: International Journal of Digital Earth | E4: 2016 | F4: MT | G4: Tạp chí ISI
A5: 4 | B5: Influence of heating degree on concentration variable of mineral compositions and heavy metals in the extracted solutions on ceramic bricks made of red mud | C5: Bui Thi Hue, Nguyen Manh Khai, Nguyen Van Dung, Vu Thi Lan Anh | D5: Proceedings of the 2016 international conferences on earth sciences and sustainable geo – resources deverlopment (ESASGD 2016) | E5: 2016 | F5: MT | G5: Hội nghị, hội thảo QT
A6: 5 | B6: Assessment of air ollution using air quality index (aqi) in Yenbai city. | C6: Cuc Nguyen Thi, Hoa Phan Thi, Phuong Nguyen | D6: International Conference on Environmental Issues in Mining and Natural Resources Development, 2016. | E6: 2016 | F6: MT | G6: Hội nghị, hội thảo QT
A7: 6 | B7: The metasomatism related lithium mineralization in Duc Pho - Sa Huynh. | C7: Dương Ngọc Tình, Đỗ Văn Nhuận | D7: International Conference on Environmental Issues in Mining and Natural Resources Development, 2016. | E7: 2016 | F7: MT | G7: Hội nghị, hội thảo QT
A8: 7 | B8: Landslide hazard assessment on major routes from Bao Thang to Lao Cai city using analytic hierarchy process (AHP) method. | C8: Nguyễn Quốc Phi, Trần Hồng Hà, Nguyễn Quang Minh | D8: Environmental Issues in Mining and Natural Resources Development (EMNR 2016), Hanoi | E8: 2016 | F8: MT | G8: Hội nghị, hội thảo QT
A9: 8 | B9: Stability analysis of rock slopes along national highway No.6 in Mai Chau, Hoa Binh using Block Theory simulation and limit equilibrium approach | C9: Quoc Phi Nguyen, Manh Hung Duong, Thi Kim Ngan Duong, Nguyen Dinh Tuan | D9: International Conference on Environmental Issues in Mining and Natural Resources Development (EMNR), Hanoi, p. 228-235 | E9: 2016 | F9: MT | G9: Hội nghị, hội thảo QT
A10: 9 | B10: Assessing slope failures in mountainous terrain by geology, weathering characteristics and human-induced geomorphology | C10: Quoc Phi Nguyen, Van Nhuan Do, Minh Duc Do, Dieu Tien Bui | D10: International Conference on Environmental Issues in Mining and Natural Resources Development (EMNR), Hanoi, p. 122-128 | E10: 2016 | F10: MT | G10: Hội nghị, hội thảo QT
A11: 10 | B11: A new discovery of an age (145 ma) of rhyolite formations in the north area of muong lat complex and geological implications | C11: Trần Văn Thành, Đỗ Văn Nhuận, Phạm Minh, Phạm Trung Hiếu | D11: GAG ESASGD 2016 | E11: 2016 | F11: MT | G11: Hội nghị, hội thảo QT
A12: 11 | B12: Impact assessment of the in vironmental change due to expoitation and processing minerals containing radioactive substances | C12: Nguyen Van Dung | D12: Proceedings of the 2016 international conferences on earth sciences and sustainable geo – resources deverlopment (ESASGD 2016) | E12: 2016 | F12: MT | G12: Hội nghị, hội thảo QT
A13: 12 | B13: The potential of clean energy use from the hot spring sources in Vietnam. | C13: Đỗ Văn Bình, Hồ Văn Thủy, Đỗ Thị Hải, Trần Thị Kim Hà, Trần Hồng Hà | D13: Environmental Issues in Mining and Natural Resources Development (EMNR 2016), Hanoi | E13: 2016 | F13: MT | G13: Hội nghị, hội thảo QT
... A110: 44 | B110: Evaluating air quality and solution to improve air environment management of hai duong province | C110: phan đình tuyến, Nguyễn Phương Đông | D110: Материалы XXIX международной научно-практической конференции "Академическая наука - проблемы и достижения" | E110: 2022 | F110: MT | G110: Hội nghị, Hội thảo QT
D111: Hội thảo, hội nghị QT | G111: =COUNTIF(G2:G110,"Hội nghị, hội thảo QT") -> 77
D112: Tạp chí ISI | G112: =COUNTIF(G2:G110,"Tạp chí ISI") -> 20
D113: Tạp chí QT khác | G113: =COUNTIF(G2:G110,"Tạp chí QT khác") -> 6
D114: Tạp chí Scopus | G114: =COUNTIF(G2:G110,"Tạp chí Scopus") -> 6
D115: Tổng | G115: =SUM(G111:G114) -> 109
G116: =IF(COUNTIF($B$2:B112,B113)>0,"ĐÃ NHẬP","")
G117: =IF(COUNTIF($B$2:B113,B114)>0,"ĐÃ NHẬP","")
G118: =IF(COUNTIF($B$2:B114,B115)>0,"ĐÃ NHẬP","")
G119: =IF(COUNTIF($B$2:B115,B116)>0,"ĐÃ NHẬP","")
G120: =IF(COUNTIF($B$2:B116,B117)>0,"ĐÃ NHẬP","")
G121: =IF(COUNTIF($B$2:B117,B118)>0,"ĐÃ NHẬP","")
G122: =IF(COUNTIF($B$2:B118,B119)>0,"ĐÃ NHẬP","")
G123: =IF(COUNTIF($B$2:B119,B120)>0,"ĐÃ NHẬP","")
G124: =IF(COUNTIF($B$2:B120,B121)>0,"ĐÃ NHẬP","")
G125: =IF(COUNTIF($B$2:B121,B122)>0,"ĐÃ NHẬP","")
G126: =IF(COUNTIF($B$2:B122,B123)>0,"ĐÃ NHẬP","")
G127: =IF(COUNTIF($B$2:B123,B124)>0,"ĐÃ NHẬP","")
... G631: =IF(COUNTIF($B$2:B627,B628)>0,"ĐÃ NHẬP","")
G632: =IF(COUNTIF(A$1:$B628,A629)>0,"ĐÃ NHẬP","")
G633: =IF(COUNTIF(A$1:$B629,A630)>0,"ĐÃ NHẬP","")
G634: =IF(COUNTIF(A$1:$B630,A631)>0,"ĐÃ NHẬP","")
G635: =IF(COUNTIF(A$1:$B631,A632)>0,"ĐÃ NHẬP","")
G636: =IF(COUNTIF(A$1:$B632,A633)>0,"ĐÃ NHẬP","")
G637: =IF(COUNTIF(A$1:$B633,A634)>0,"ĐÃ NHẬP","")
G638: =IF(COUNTIF(A$1:$B634,A635)>0,"ĐÃ NHẬP","")
G639: =IF(COUNTIF(A$1:$B635,A636)>0,"ĐÃ NHẬP","")
...

Sheet TĐ 2016-nay
A1: TT | B1: Tên bài báo/báo cáo | C1: Tên tác giả | D1: Tên tạp chí/hội nghị, hội thảo | E1: Thời gian xuất bản | F1: Khoa | G1: Thể loại
A2: 1 | B2: Determination the relationship between population growth and land use change in Balat estuary based on remote sensing and GIS data | C2: Le Thi Thu Ha, Pham Thi Lan, Nguyen Van Trung, luong bich ngoc | D2: Conference International The Relation Between population and Development | E2: 2016 | F2: TĐ | G2: Hội nghị, hội thảo QT
A3: 2 | B3: Divegency verification of predicted values and monitored deformation indicators in specific condition of Thong Nhat underground coal mine (Vietnam) | C3: Nguyen Quoc Long, Vo Chi My, Bui Khac Luyen | D3: The Journal of Polish Academy of Arts and Sciences (Geoinformatica Plonica) | E3: 2016 | F3: TĐ | G3: Tạp chí QT khác
A4: 3 | B4: Geoinformation support of ecological and reclamation monitoring of agricultural lands | C4: V.V.Oznamets, D.V.Khan(Dao Van Khanh) | D4: Результаты поиска - Поиск в электронном каталоге | E4: 2016 | F4: TĐ | G4: Hội nghị, hội thảo QT
A5: 4 | B5: High spatial resolution satellite image simulation based on 3D data and existing Images | C5: La Phu Hien Jeon Min Cheol Eo Yang Dam Nguyen Quang Minh Lee Mi Hee Pyeon Mu Wook | D5: Journal of the Korean Society of Surveying, Geodesy, Photogrammetry and Cartography Vol 34 No 2, ISSN 1598-4850 | E5: 2016 | F5: TĐ | G5: Tạp chí ISI
A6: 5 | B6: Hybrid artificial intelligence approach based on neural fuzzy inference model and metaheuristic optimization for flood susceptibilitgy modeling in a high-frequency tropical cyclone area using GIS | C6: Dieu Tien Bui, Biswajeet Pradhan, Haleh Nampak, Quang Thanh Bui, Quynh An Tran, Quoc Phi Nguyen | D6: Journal of Hydrology | E6: 2016 | F6: TĐ | G6: Tạp chí ISI
A7: 6 | B7: Integration multi-temporal satellite imagery and GIS data to determine the relationship between population growth and land use change in Balat estuary river, Vietnam | C7: Le Thi Thu Ha, Pham Thi Lan, Nguyen Van Trung | D7: The Second International Conference on Scientific research Cooperation Between VietNam and Poland in Earth Sciences | E7: 2016 | F7: TĐ | G7: Hội nghị, hội thảo QT
A8: 7 | B8: Sectional diagram of dynamic subsidence trough at the Mong Duong coal mine: Evaluation and prediction | C8: Nguyen Quoc Long | D8: Journal of Mining and Earth Sciences | E8: 2016 | F8: TĐ | G8: Tạp chí QT khác
A9: 8 | B9: Spatial prediction of landslide susceptibility using integrated frequency ratio with entropy and support vector machines by different kernel functions | C9: Xinrui Li Wei Chen, Jiale Wang, Xiaoshen Xie, Haoyuan Hong, Nguyen Van Trung, Dieu Tien Bui, Gang Wang | D9: Environmental Earth Sciences | E9: 2016 | F9: TĐ | G9: Tạp chí ISI
A10: 9 | B10: The impact of land-use and climate change in the centre region of France on the physico-chemical status of aquatic systems | C10: Rachid Nedjai, Van-Tuan Nghiem, Thi-Phuong-Thao Do, Messaoud Nacer Nasredine | D10: Int. J. Spatial, Temporal and Multimedia Information Systems. | E10: 2016 | F10: TĐ | G10: Tạp chí QT khác
A11: 10 | B11: Tropical Forest Fire Susceptibility Mapping at the Cat Ba National Park Area, Hai Phong City, Vietnam, Using GIS-Based Kernel Logistic Regression | C11: Dieu Tien Bui, Kim-Thoa Thi Le, Van Cam Nguyen, Hoang Duc Le, Inge Revhaug | D11: Remote Sensing | E11: 2016 | F11: TĐ | G11: Tạp chí ISI
A12: 11 | B12: Wavelet Operators and Multiplicative Observation Models—Application to SAR Image Time-Series Analysis | C12: Le Thu Trang | D12: IEEE Geoscience and Remote Sensing Society | E12: 2016 | F12: TĐ | G12: Tạp chí ISI
A13: 12 | B13: A Comparison of tearrain indices toward their ability in assisting suface water mapping from sentinel-1 data | C13: Chang huang, Ba Duy Nguyen, Shiqiang Zhang, Senmao cao and wolfgang wagner | D13: International Journal of Geo-Information | E13: 2017 | F13: TĐ | G13: Tạp chí QT khác
... A183: 39 | B183: Application comparison of 3D terrestrial laser scanning between terrain and non - terrain objects | C183: Trần Hồng Hạnh, Sy Cuong Ngo, Trần Vân Anh | D183: The 38th Asian Conference on Remote Sensing (ACRS 2021) | E183: 2021 | F183: TĐ | G183: Hội nghị, Hội thảo QT
D184: Hội thảo, hội nghị QT | G184: =COUNTIF(G2:G183,"Hội nghị, hội thảo QT") -> 79
D185: Tạp chí ISI | G185: =COUNTIF(G2:G183,"Tạp chí ISI") -> 63
D186: Tạp chí QT khác | G186: =COUNTIF(G2:G183,"Tạp chí QT khác") -> 16
D187: Tạp chí Scopus | G187: =COUNTIF(G2:G183,"Tạp chí Scopus") -> 24
D188: Tổng | G188: =SUM(G184:G187) -> 182
G189: =IF(COUNTIF($B$2:B185,B186)>0,"ĐÃ NHẬP","")
G190: =IF(COUNTIF($B$2:B186,B187)>0,"ĐÃ NHẬP","")
G191: =IF(COUNTIF($B$2:B187,B188)>0,"ĐÃ NHẬP","")
G192: =IF(COUNTIF($B$2:B188,B189)>0,"ĐÃ NHẬP","")
G193: =IF(COUNTIF($B$2:B189,B190)>0,"ĐÃ NHẬP","")
G194: =IF(COUNTIF($B$2:B190,B191)>0,"ĐÃ NHẬP","")
G195: =IF(COUNTIF($B$2:B191,B192)>0,"ĐÃ NHẬP","")
G196: =IF(COUNTIF($B$2:B192,B193)>0,"ĐÃ NHẬP","")
G197: =IF(COUNTIF($B$2:B193,B194)>0,"ĐÃ NHẬP","")
G198: =IF(COUNTIF($B$2:B194,B195)>0,"ĐÃ NHẬP","")
G199: =IF(COUNTIF($B$2:B195,B196)>0,"ĐÃ NHẬP","")
G200: =IF(COUNTIF($B$2:B196,B197)>0,"ĐÃ NHẬP","")
... G707: =IF(COUNTIF($B$2:B703,B704)>0,"ĐÃ NHẬP","")
G708: =IF(COUNTIF(A$1:$B704,A705)>0,"ĐÃ NHẬP","")
G709: =IF(COUNTIF(A$1:$B705,A706)>0,"ĐÃ NHẬP","")
G710: =IF(COUNTIF(A$1:$B706,A707)>0,"ĐÃ NHẬP","")
G711: =IF(COUNTIF(A$1:$B707,A708)>0,"ĐÃ NHẬP","")
G712: =IF(COUNTIF(A$1:$B708,A709)>0,"ĐÃ NHẬP","")
G713: =IF(COUNTIF(A$1:$B709,A710)>0,"ĐÃ NHẬP","")
G714: =IF(COUNTIF(A$1:$B710,A711)>0,"ĐÃ NHẬP","")
G715: =IF(COUNTIF(A$1:$B711,A712)>0,"ĐÃ NHẬP","")
...

Sheet XD 2016-nay
A1: TT | B1: Tên bài báo/báo cáo | C1: Tên tác giả | D1: Tên tạp chí/hội nghị, hội thảo | E1: Thời gian xuất bản | F1: Khoa | G1: Thể loại
A2: 1 | B2: 3D Numerical Investigation of Mechanized Twin Tunnels in Soft Ground - Influence of Lagging Distance between Two Tunnel Faces | C2: Do Ngoc Anh, Dias Daniel, Oreste Pierpaolo, Djeran-Maigre Irini | D2: Engineering Structures | E2: 2016 | F2: XD | G2: Tạp chí QT khác
A3: 2 | B3: A case study on the determination of the excavated trench depth in unsaturated soil constructed by open trench method | C3: M. N. Xuan., H. N. Ngoc., T. N. Xuan., A. T. Le., D. Bui Van | D3: Proceedings of the ESASGD 2016 Session Advances in Mining and Tunneling | E3: 2016 | F3: XD | G3: Hội nghị, hội thảo QT
A4: 3 | B4: A method for computing unsupported roof distance in roadway advancement and its in-situ application | C4: Chen Yong, Bai Jianbiao, Yan Shuai, Hao Shengpeng , Dao Viet Doan | D4: International Journal of Mining Science and Technology | E4: 2016 | F4: XD | G4: Tạp chí ISI
A5: 4 | B5: A study on the failure of riverbank protection structure and remedial techniques | C5: A. Udomchai.,S. Horpibulsuk.,A. Chinkulkijwat., D. Bui Van | D5: Proceeding of the 21st national convention on civil engineering,Civil Engineering for future challenges and new frontiers, Songkhla, Thailand | E5: 2016 | F5: XD | G5: Hội nghị, hội thảo QT
A6: 5 | B6: Application of homogenisation method of discrete periodic media into the dynamic analysis of multi-storey buildings | C6: DINH Hai Nam, Stéphane HANS, Claude BOUTIN | D6: Proceedings of the ESASGD 2016 Session Advances in Mining and Tunneling | E6: 2016 | F6: XD | G6: Hội nghị, hội thảo QT
A7: 6 | B7: Application of transformation theory of geological properties of soils to determine the distribution characteristics of Vinh Phuc formation in the Hanoi are | C7: Ta Duc Thinh | D7: Proceedings of the international conference VIETGEO 2016 “Geological and geotechnical engineering in response to climate change and sustainable development of infrastructure”. | E7: 2016 | F7: XD | G7: Hội nghị, hội thảo QT
A8: 7 | B8: Assessment of soft soil deformation of a rock berm foundation using various creep models | C8: T. R. Bhattarai.,G. Grimstad.,D. Bui Van.,R. Goodary | D8: Proceedings of the ESASGD 2016 Session Advances in Mining and Tunneling | E8: 2016 | F8: XD | G8: Hội nghị, hội thảo QT
A9: 8 | B9: Basis of methodology for quantitive assessment of engineering geological conditions. | C9: Ta Duc Thinh | D9: Proceedings of the international conferences on Earth sciences and sustainable Geo-resources development (ESASGD). | E9: 2016 | F9: XD | G9: Hội nghị, hội thảo QT
A10: 9 | B10: Compressive strength characteristics of sand stabilized by ground bottom ash as a binder | C10: Young-sang Kim, My Quoc Dang, Tan Manh Do | D10: KGS Spring National Conference 2016 (Korea) | E10: 2016 | F10: XD | G10: Hội nghị, hội thảo QT
A11: 10 | B11: Characteristics of ground structure and construction ability in Hai Phong coastal areas | C11: To Xuan Vu, Ta Duc Thinh, Nguyen Van Hung | D11: Proceedings of the international conference VIETGEO 2016 “Geological and geotechnical engineering in response to climate change and sustainable development of infrastructure”. | E11: 2016 | F11: XD | G11: Hội nghị, hội thảo QT
A12: 11 | B12: Determining the width of nature coal pillar at the side of entry drifts in Khe Cham coal mine . | C12: Dao Viet Doan. | D12: International conference on advances in Mining and Tunneling (ICAMT 2016) | E12: 2016 | F12: XD | G12: Hội nghị, hội thảo QT
A13: 12 | B13: Development of controlled low-strength materials derived from coal ash and excavated soil without using Portland cement | C13: Tan Manh Do, Young-sang Kim, My Quoc Dang, Chi- bok Jeoung | D13: Geotec Hanoi 2016 (Vietnam) | E13: 2016 | F13: XD | G13: Hội nghị, hội thảo QT
