Workbook
Name _ftn1: 'B12. Doi sanh SVTN'!$A$15
Name _ftn2: 'B12. Doi sanh SVTN'!$A$16
Name _ftn3: 'B12. Doi sanh SVTN'!$A$17
Name _ftn4: 'B12. Doi sanh SVTN'!$A$18
Name _ftn5: 'B12. Doi sanh SVTN'!$A$19
Name _ftn6: 'B12. Doi sanh SVTN'!$A$20
Name _ftnref1: 'B12. Doi sanh SVTN'!$E$5
Name _ftnref2: 'B12. Doi sanh SVTN'!$F$5
Name _ftnref3: 'B12. Doi sanh SVTN'!$I$5
Name _ftnref4: 'B12. Doi sanh SVTN'!$J$5
Name _ftnref5: 'B12. Doi sanh SVTN'!$M$5
Name _ftnref6: 'B12. Doi sanh SVTN'!$N$5
Name _Hlk9244919: 'B17. Thong ke bai bao'!#REF!
Name baut0010: 'B17. Thong ke bai bao'!#REF!
Name OLE_LINK2: 'B17. Thong ke bai bao'!$B$124

Sheet B1. Trichngang GV
A1: CƠ QUAN CHỦ QUẢN
A2: TRƯỜNG ………..
A4: DANH SÁCH TRÍCH NGANG ĐỘI NGŨ GIẢNG VIÊN THAM GIA THỰC HIỆN CHƯƠNG TRÌNH ĐÀO TẠO ………
A6: TT | B6: Họ và tên | C6: Ngày tháng năm sinh | E6: Trình độ chuyên môn | I6: Trình độ nghiệp vụ | N6: Chức vụ (từ Phó trưởng BM trở lên) | O6: Đơn vị công tác | P6: Phân loại giảng viên* | U6: Thời gian tham gia CTĐT | V6: Học phần giảng dạy trong CTĐT | W6: Số giờ thực tế/năm học | X6: Nhiệm vụ khác được phân công/kiêm nhiệm* | Y6: Số đề tài NCKH/bài báo KH/ấn phẩm KH ... trong 5 năm qua** | Z6: Các khóa BD về NVSP đã tham dự trong giai đoạn đánh giá** | AA6: Ghi chú
C7: Nam | D7: Nữ | E7: Học hàm/ học vị | F7: Chuyên ngành TN | G7: Năm TN | H7: Nơi TN | I7: NVSP | J7: QLNN | K7: LLCT | L7: Tin học | M7: Ngoại ngữ | P7: Biên chế | Q7: HĐ dài hạn | R7: Kiêm nhiệm | S7: Thỉnh giảng | T7: Quốc tế
A8: 1 | B8: 2 | C8: 3 | D8: 4 | E8: 5 | F8: 6 | G8: 7 | H8: 8 | I8: 9 | J8: 10 | K8: 11 | L8: 12 | M8: 13 | N8: 14 | O8: 15 | P8: 16 | Q8: 17 | R8: 18 | S8: 19 | T8: 20 | U8: 21 | V8: 22 | Z8: 29 | AA8: 30
A9: 1
A10: 2
A11: 3
A12: 4
A13: 5
A14: 6
A15: 7
A16: 8
A17: 9
A18: 10
A19: 11
A20: 12
... A23: 15
A25: Ghi chú:
B26: *Phân loại giảng viên bao gồm: Giảng viên biên chế trực tiếp giảng dạy, Giảng viên hợp đồng dài hạn trực tiếp giảng dạy, Giảng viên kiêm nhiệm là cán bộ quản lý, Giảng viên thỉnh giảng, Giảng viên quốc tế
B27: ** Các khóa BD về NVSP đã tham dự trong giai đoạn đánh gi:Nhà trường xác định đánh giá CTĐT trong giai đoạn nào thì báo cáo số liệu theo giai đoạn đó (ví dụ 2013-2017; 2014-2018, v.v.)

Sheet B2. Thong ke GV
A2: Bảng 2. Thống kê đội ngũ giảng viên
A4: Phân loại | B4: Nam | C4: Nữ | D4: Tổng cộng | F4: Tỉ lệ % trên tổng số Tiến sĩ
D5: Số lượng | E5: FTE
A6: Giáo sư
A7: Phó Giáo sư
A8: Giảng viên toàn thời gian
A9: Giảng viên bán thời gian
A10: Giảng viên thỉnh giảng
A11: Tổng cộng

Sheet B3. Trinh do GV
A2: Bảng 3. Thống kê trình độ của đội ngũ giảng viên theo năm học
A4: Năm học | B4: Tổng cộng | C4: Giáo sư | D4: Phó Giáo sư | E4: Tiến sĩ | F4: Thạc sĩ | G4: Đại học
A5: 2013-2014
A6: 2014-2015
A7: 2015-2016
A8: 2016-2017
A9: 2017-2018

Sheet B4. Thong ke FTE
A2: Bảng 4. Thống kê FTE (quy đổi thời gian làm việc toàn phần) của Giảng viên và sinh viên
A4: Năm học | B4: Tổng số FTE Giảng viên | C4: Tổng số FTE Sinh viên | D4: Tỷ lệ FTE SV/GV | E4: Tỷ lệ FTE GV/SV
A5: 2013-2014 | D5: =C5/B5 -> #DIV/0! | E5: =B5/C5 -> #DIV/0!
A6: 2014-2015 | D6: =C6/B6 -> #DIV/0! | E6: =B6/C6 -> #DIV/0!
A7: 2015-2016 | D7: =C7/B7 -> #DIV/0! | E7: =B7/C7 -> #DIV/0!
A8: 2016-2017 | D8: =C8/B8 -> #DIV/0! | E8: =B8/C8 -> #DIV/0!
A9: 2017-2018 | D9: =C9/B9 -> #DIV/0! | E9: =B9/C9 -> #DIV/0!

Sheet B4.1 FTE GV
D1: Bảng này không cần tính, số liệu cập nhật tự động từ bảng 4.2
A2: Bảng 4.1. Tổng số FTE của Giảng viên
A4: Năm học | B4: Tổng số FTE Giảng viên
A5: 2013-2014 | B5: Môn chung + Cơ sở khối ngành | C5: ='B4.2. FTE SV'!F12 -> 2598.8
B6: Môn Cơ sở ngành | C6: ='B4.2. FTE SV'!F23 -> 3003.8
B7: Môn Chuyên ngành | C7: ='B4.2. FTE SV'!F34 -> 3375
B8: Tổng FTE GV | C8: =SUM(C5:C7) -> 8977.6
A9: 2014-2015 | B9: Môn chung + Cơ sở khối ngành | C9: ='B4.2. FTE SV'!J12 -> 1676.3
B10: Môn Cơ sở ngành | C10: ='B4.2. FTE SV'!J23 -> 2205
B11: Môn Chuyên ngành | C11: ='B4.2. FTE SV'!J34 -> 4252.5
B12: Tổng FTE GV | C12: =SUM(C9:C11) -> 8133.8
A13: 2015-2016 | B13: Môn chung + Cơ sở khối ngành | C13: ='B4.2. FTE SV'!N12 -> 902.5
B14: Môn Cơ sở ngành | C14: ='B4.2. FTE SV'!N23 -> 1612.5
B15: Môn Chuyên ngành | C15: ='B4.2. FTE SV'!N34 -> 5782.5
B16: Tổng FTE GV | C16: =SUM(C13:C15) -> 8297.5
A17: 2016-2017 | B17: Môn chung + Cơ sở khối ngành | C17: ='B4.2. FTE SV'!R12 -> 910
B18: Môn Cơ sở ngành | C18: ='B4.2. FTE SV'!R23 -> 1550
B19: Môn Chuyên ngành | C19: ='B4.2. FTE SV'!R34 -> 4792.5
B20: Tổng FTE GV | C20: =SUM(C17:C19) -> 7252.5
A21: 2017-2018 | B21: Môn chung + Cơ sở khối ngành | C21: ='B4.2. FTE SV'!V12 -> 900
B22: Môn Cơ sở ngành | C22: ='B4.2. FTE SV'!V23 -> 1387.5
B23: Môn Chuyên ngành | C23: ='B4.2. FTE SV'!V34 -> 4363.8
B24: Tổng FTE GV | C24: =SUM(C21:C23) -> 6651.3

Sheet B4.2. FTE SV
A1: Bảng 4.2
A3: MÔN CHUNG + CƠ SỞ KHỐI NGÀNH
A5: Năm | C5: 2013-2014 | G5: 2014-2015 | K5: 2015-2016 | O5: 2016-2017 | S5: 2017-2018
A6: Lớp | B6: LT | C6: TH | D6: Số nhóm | E6: Tổng | F6: LT | G6: TH | H6: Số nhóm | I6: Tổng | J6: LT | K6: TH | L6: Số nhóm | M6: Tổng | N6: LT | O6: TH | P6: Số nhóm | Q6: Tổng | R6: LT | S6: TH | T6: Số nhóm | U6: Tổng
A7: D1 | B7: 30 | C7: 9 | D7: 4 | E7: 68850 | F7: 30 | G7: 9 | H7: 4 | I7: 68850 | J7: 15 | K7: 4 | L7: 4 | M7: 35250 | N7: 18 | O7: 4 | P7: 4 | Q7: 37500 | R7: 13 | S7: 5 | T7: 4 | U7: 39750
A8: D2 | B8: 10 | C8: 11 | D8: 5 | E8: 81000 | F8: 18 | G8: 2 | H8: 5 | I8: 25650 | J8: 18 | K8: 1 | L8: 4 | M8: 17550 | N8: 11 | O8: 1 | P8: 5 | Q8: 15750 | R8: 11 | S8: 1 | T8: 4 | U8: 14250
A9: D3 | B9: 7 | C9: 0 | D9: 4 | E9: 4725 | F9: 7 | G9: 0 | H9: 5 | I9: 4725 | J9: 0 | K9: 0 | L9: 6 | M9: 0 | N9: 0 | O9: 0 | P9: 4 | Q9: 0 | R9: 0 | S9: 0 | T9: 6 | U9: 0
A10: D4 | B10: 0 | C10: 0 | D10: 3 | E10: 0 | F10: 0 | G10: 0 | H10: 4 | I10: 0 | J10: 0 | K10: 0 | L10: 5 | M10: 0 | N10: 0 | O10: 0 | P10: 5 | Q10: 0 | R10: 0 | S10: 0 | T10: 4 | U10: 0
A11: D5 | B11: 2 | C11: 0 | D11: 2 | E11: 1350 | F11: 2 | G11: 0 | H11: 3 | I11: 1350 | J11: 2 | K11: 0 | L11: 4 | M11: 1350 | N11: 2 | O11: 0 | P11: 4 | Q11: 1350 | R11: 0 | S11: 0 | T11: 4 | U11: 0
E12: =SUM(E7:E11) -> 155925 | F12: 2598.8 | I12: =SUM(I7:I11) -> 100575 | J12: 1676.3 | M12: =SUM(M7:M11) -> 54150 | N12: 902.5 | Q12: =SUM(Q7:Q11) -> 54600 | R12: 910 | U12: =SUM(U7:U11) -> 54000 | V12: 900
A14: MÔN CƠ SỞ NGÀNH
A16: Năm | C16: 2013-2014 | G16: 2014-2015 | K16: 2015-2016 | O16: 2016-2017 | S16: 2017-2018
A17: Lớp | B17: LT | C17: TH | D17: Số nhóm | E17: Tổng | F17: LT | G17: TH | H17: Số nhóm | I17: Tổng | J17: LT | K17: TH | L17: Số nhóm | M17: Tổng | N17: LT | O17: TH | P17: Số nhóm | Q17: Tổng | R17: LT | S17: TH | T17: Số nhóm | U17: Tổng
A18: D1 | B18: 8 | C18: 3 | D18: 4 | E18: 21600 | F18: 8 | G18: 3 | H18: 4 | I18: 21600 | J18: 6 | K18: 3 | L18: 4 | M18: 22500 | N18: 6 | O18: 3 | P18: 4 | Q18: 22500 | R18: 6 | S18: 3 | T18: 4 | U18: 22500
A19: D2 | B19: 29 | C19: 15 | D19: 5 | E19: 120825 | F19: 28 | G19: 7 | H19: 5 | I19: 66150 | J19: 28 | K19: 7 | L19: 4 | M19: 56700 | N19: 14 | O19: 8 | P19: 5 | Q19: 70500 | R19: 14 | S19: 8 | T19: 4 | U19: 58500
A20: D3 | B20: 14 | C20: 3 | D20: 4 | E20: 25650 | F20: 14 | G20: 3 | H20: 5 | I20: 29700 | J20: 0 | K20: 0 | L20: 6 | M20: 0 | N20: 0 | O20: 0 | P20: 4 | Q20: 0 | R20: 3 | S20: 0 | T20: 6 | U20: 2250
A21: D4 | B21: 6 | C21: 2 | D21: 3 | E21: 12150 | F21: 6 | G21: 2 | H21: 4 | I21: 14850 | J21: 6 | K21: 2 | L21: 5 | M21: 17550 | N21: 0 | O21: 0 | P21: 5 | Q21: 0 | R21: 0 | S21: 0 | T21: 4 | U21: 0
A22: D5 | B22: 0 | C22: 0 | D22: 2 | E22: 0 | F22: 0 | G22: 0 | H22: 3 | I22: 0 | J22: 0 | K22: 0 | L22: 4 | M22: 0 | N22: 0 | O22: 0 | P22: 4 | Q22: 0 | R22: 0 | S22: 0 | T22: 4 | U22: 0
E23: =SUM(E18:E22) -> 180225 | F23: 3003.8 | I23: =SUM(I18:I22) -> 132300 | J23: 2205 | M23: =SUM(M18:M22) -> 96750 | N23: 1612.5 | Q23: =SUM(Q18:Q22) -> 93000 | R23: 1550 | U23: =SUM(U18:U22) -> 83250 | V23: 1387.5
A25: MÔN CHUYÊN NGÀNH
A27: Năm | C27: 2013-2014 | G27: 2014-2015 | K27: 2015-2016 | O27: 2016-2017 | S27: 2017-2018
A28: Lớp | B28: LT | C28: TH | D28: Số nhóm | E28: Tổng | F28: LT | G28: TH | H28: Số nhóm | I28: Tổng | J28: LT | K28: TH | L28: Số nhóm | M28: Tổng | N28: LT | O28: TH | P28: Số nhóm | Q28: Tổng | R28: LT | S28: TH | T28: Số nhóm | U28: Tổng
A29: D1 | B29: 0 | C29: 0 | D29: 4 | E29: 0 | F29: 0 | G29: 0 | H29: 4 | I29: 0 | J29: 0 | K29: 0 | L29: 4 | M29: 0 | N29: 0 | O29: 0 | P29: 4 | Q29: 0 | R29: 0 | S29: 0 | T29: 4 | U29: 0
A30: D2 | B30: 0 | C30: 0 | D30: 5 | E30: 0 | F30: 0 | G30: 0 | H30: 5 | I30: 0 | J30: 0 | K30: 0 | L30: 4 | M30: 0 | N30: 0 | O30: 0 | P30: 5 | Q30: 0 | R30: 0 | S30: 0 | T30: 4 | U30: 0
A31: D3 | B31: 23 | C31: 9 | D31: 4 | E31: 64125 | F31: 23 | G31: 9 | H31: 5 | I31: 76275 | J31: 36 | K31: 14 | L31: 6 | M31: 137700 | N31: 36 | O31: 14 | P31: 4 | Q31: 99900 | R31: 23 | S31: 10 | T31: 6 | U31: 107250
A32: D4 | B32: 26 | C32: 18 | D32: 3 | E32: 90450 | F32: 26 | G32: 18 | H32: 4 | I32: 114750 | J32: 26 | K32: 18 | L32: 5 | M32: 139050 | N32: 34 | O32: 14 | P32: 5 | Q32: 117450 | R32: 34 | S32: 14 | T32: 4 | U32: 98550
A33: D5 | B33: 23 | C33: 12 | D33: 2 | E33: 47925 | F33: 23 | G33: 12 | H33: 3 | I33: 64125 | J33: 8 | K33: 12 | L33: 4 | M33: 70200 | N33: 8 | O33: 12 | P33: 4 | Q33: 70200 | R33: 11 | S33: 9 | T33: 4 | U33: 56025
E34: =SUM(E29:E33) -> 202500 | F34: 3375 | I34: =SUM(I29:I33) -> 255150 | J34: 4252.5 | M34: =SUM(M29:M33) -> 346950 | N34: 5782.5 | Q34: =SUM(Q29:Q33) -> 287550 | R34: 4792.5 | U34: =SUM(U29:U33) -> 261825 | V34: 4363.8
E35: Tổng phút | F35: Tổng giờ (60p) | I35: Tổng phút | J35: Tổng giờ (60p) | M35: Tổng phút | N35: Tổng giờ (60p) | Q35: Tổng phút | R35: Tổng giờ (60p) | U35: Tổng phút | V35: Tổng giờ (60p)
A36: TỔNG | E36: =E12+E23+E34 -> 538650 | F36: 8977.6 | I36: =I12+I23+I34 -> 488025 | J36: 8133.8 | M36: =M12+M23+M34 -> 497850 | N36: 8297.5 | Q36: =Q12+Q23+Q34 -> 435150 | R36: 7252.5 | U36: =U12+U23+U34 -> 399075 | V36: 6651.3

Sheet B5. Trinh do cua CBHT
A2: Bảng 5. Thống kê trình độ của cán bộ hỗ trợ CTĐT
A4: Cán bộ hỗ trợ | B4: Bằng cấp cao nhất | F4: Tổng số
B5: THPT | C5: Đại học | D5: Thạc sĩ | E5: Tiến sĩ
A6: Cán bộ thư viện | F6: =SUM(B6:E6) -> 0
A7: Cán bộ phòng thí nghiệm | F7: =SUM(B7:E7) -> 0
A8: Cán bộ mảng công nghệ thông tin | F8: =SUM(B8:E8) -> 0
A9: Cán bộ tại các đơn vị hỗ trợ SV khác (liệt kê theo loại hình hỗ trợ, dịch vụ) | F9: =SUM(B9:E9) -> 0
A10: Tổng số | B10: =SUM(B6:B9) -> 0 | C10: =SUM(C6:C9) -> 0 | D10: =SUM(D6:D9) -> 0 | E10: =SUM(E6:E9) -> 0 | F10: =SUM(B10:E10) -> 0

Sheet B6. CBHT CTDT
A1: Bảng 6. Thống kê trình độ của cán bộ hỗ trợ
A3: Cán bộ hỗ trợ thuộc các đơn vị trong Trường có tham gia CTĐT | B3: T12/2016 | E3: T12/2017 | H3: T12/2018
B4: Đại học | C4: SĐH | D4: Tổng | E4: Đại học | F4: SĐH | G4: Tổng | H4: Đại học | I4: SĐH | J4: Tổng
A5: Cán bộ hỗ trợ thuộc các Phòng, Ban, Trung tâm, Khoa khác có tham gia CTĐT
A6: Cán bộ thư viện
A7: Cán bộ phòng thí nghiệm
A8: Cán bộ công nghệ thông tin
A9: Cán bộ tại các đơn vị khác có hỗ trợ cho sinh viên
A10: Tổng cộng
A11: Cán bộ hỗ trợ của Khoa có tham gia hỗ trợ CTĐT
A12: Giảng viên chủ nhiệm/Cố vấn học tập
A13: Thư ký, Giáo vụ
A14: Cán bộ phòng thí nghiệm
A15: ...
A16: Tổng cộng

Sheet B7. So SV theo ky
A1: Bảng 7. Thống kê số lượng sinh viên theo học kỳ
A3: Năm học | B3: Số lượng sinh viên
B4: Năm 1 | D4: Năm 2 | F4: Năm 3 | H4: Năm 4 | J4: Năm 5
B5: HK1 | C5: HK2 | D5: HK1 | E5: HK2 | F5: HK1 | G5: HK2 | H5: HK1 | I5: HK2 | J5: HK1 | K5: HK2
A6: 2013-2014
A7: 2014-2015
A8: 2015-2016
A9: 2016-2017
A10: 2017-2018
A11: 2013-2014

Sheet B8. ĐTB theo hoc ky
A1: Bảng 8. Thống kê điểm trung bình của người học theo học kỳ
A2: (nếu có đào tạo theo tín chỉ và theo niên chế thì chia thành 2 bảng: Bảng 8.1 và Bảng 8.2)
A4: Bảng 8.1. Thống kê điểm trung bình của người học theo tín chỉ
A6: Năm học | B6: Học kỳ | C6: Số sinh viên đạt điểm trung bình (GPA) | I6: Tổng số sinh viên trong học kỳ | J6: Tỷ lệ số tín chỉ trong học kỳ/tổng số SV
C7: theo thang điểm tín chỉ
C8: GPA<1 | D8: 1≤GPA<2 | E8: 2≤GPA<2.5 | F8: 2.5≤GPA<3.5 | G8: .... | H8: ....
A9: 2013-2014 | B9: HK 1 | C9: 24 (2%) | D9: 45 (X%)
B10: HK 2
A11: 2014-2015 | B11: HK 1
B12: HK 2
A13: 2015-2016 | B13: HK 1
B14: HK 2
A15: 2016-2017 | B15: HK 1
B16: HK 2
A17: 2017-2018 | B17: HK 1
B18: HK 2
A19: ...
A21: Bảng 8.2. Thống kê điểm trung bình của người học theo niên chế (nếu có)
A23: Năm học | B23: Học kỳ | C23: Số sinh viên đạt điểm trung bình (GPA) | I23: Tổng số sinh viên trong học kỳ
C24: theo thang điểm niên chế
C25: <... | G25: .... | H25: ....
A26: 2013-2014 | B26: HK 1 | C26: 24 (2%) | D26: 45 (X%)
B27: HK 2
A28: 2014-2015 | B28: HK 1
B29: HK 2
A30: 2015-2016 | B30: HK 1
B31: HK 2
A32: 2016-2017 | B32: HK 1
B33: HK 2
A34: 2017-2018 | B34: HK 1
B35: HK 2
A36: ....

Sheet B9. SV Tot nghiep
A1: Bảng 9. Thống kê tỉ lệ sinh viên tốt nghiệp, thôi học của CTĐT
A2: (cho chương trình đào tạo 04 năm)
A4: Khóa | B4: Tổng số sinh viên | C4: Tỷ lệ (%) sinh viên tốt nghiệp trong | F4: Tỷ lệ (%) sinh viên thôi học sau
C5: 3 năm (trước hạn) | D5: 4 năm (đúng hạn) | E5: > 4 năm (quá hạn) | F5: Năm 1 | G5: Năm 2 | H5: Năm 3 | I5: Năm 4 | J5: Tổng
A6: 2010-2011 | B6: 200 | C6: 10 | D6: 170 | E6: 10 | F6: 2 | G6: 3 | H6: 4 | I6: 1 | J6: 10
C7: =C6/$B$6 -> 0.05 | D7: =D6/$B$6 -> 0.85 | E7: =E6/$B$6 -> 0.05 | F7: =F6/$B$6 -> 0.01 | G7: =G6/$B$6 -> 0.015 | H7: =H6/$B$6 -> 0.02 | I7: =I6/$B$6 -> 0.005 | J7: =J6/$B$6 -> 0.05
A8: 2011-2012
A10: 2012-2013
A12: 2013-2014
A14: 2014-2015
A16: 2015-2016
A18: 2016-2017
A20: ...
A22: ...

Sheet B10. Tinh trang VL
A1: Bảng 10. Thống kê tỉ lệ về việc làm của sinh viên tốt nghiệp
A3: Tỷ lệ có việc làm sau | B3: Năm học
B4: 2009-2010 | C4: 2010-2011 | D4: 2011-2012 | E4: 2012-2013 | F4: 2013-2014
A5: 3 tháng
A6: 6 tháng
A7: 1 năm
A8: 2 năm
A9: Tỷ lệ có việc làm sau | B9: Năm học
B10: 2014-2015 | C10: 2015-2016 | D10: 2016-2017 | E10: 2017-2018 | F10: 2018-2019
A11: 3 tháng
A12: 6 tháng
A13: 1 năm
A14: 2 năm
A16: Bảng 10.1*. Thống kê số lượng sinh viên khảo sát việc làm
A18: Năm tốt nghiệp | C18: 2015 | D18: 2016 | E18: 2017
A19: Tổng số SV đầu vào
A20: Tổng số SV tốt nghiệp
A21: Tổng số SV tham gia khảo sát
A22: Tổng số phản hồi
A23: Tổng SV có việc làm
A24: Tổng SV có việc làm < 6 tháng
A25: Tổng SV có việc làm > 6 tháng -1 năm
A26: Tổng SV có việc làm > 1năm
A28: Bảng 10.2. Thống kê số lượng sinh viên tốt nghiệp có việc làm
A30: Tình trạng việc làm Năm | B30: Có việc làm | C30: Chưa có việc làm nhưng đang học nâng cao | D30: Chưa có việc làm | E30: Tỷ lệ SVTN có việc làm theo quy định của Bộ GD&ĐT (1+2)
B31: (1) | C31: (2)
A32: Năm 2015
A33: Năm 2016
A34: Năm 2017

Sheet B11. VL va thu nhap
A1: Bảng 11. Thống kê về việc làm và thu nhập của sinh viên tốt nghiệp
A3: Tỷ lệ có việc làm sau | B3: Năm học
B4: 2009-2010 | C4: 2010-2011 | D4: 2011-2012 | E4: 2012-2013 | F4: 2013-2014 | G4: 2014-2015 | H4: 2015-2016 | I4: 2016-2017 | J4: 2017-2018 | K4: 2018-2019
A5: Công ty/tổ chức Nhà nước | B5: 32 | C5: 42 | D5: 11 | E5: 30 | F5: 46
B6: (11,1%) | C6: (17,7%) | D6: (3,7%) | E6: (10,9%) | F6: (16,4%)
A7: Công ty/tổ chức tư nhân
A9: Công ty/tổ chức nước ngoài
A11: Tự tạo việc làm
A13: Thu nhập trung bình (triệu đồng)

Sheet B12. Doi sanh SVTN
A1: Bảng 12. Đối sánh tỷ lệ SV tốt nghiệp, tỷ lệ SV thôi học, thời gian tốt nghiệp trung bình
A3: Khóa tốt nghiệp | B3: Tổng số sinh viên | C3: Tỷ lệ (%) sinh viên tốt nghiệp | G3: Tỷ lệ (%) sinh viên thôi học | K3: Thời gian tốt ngiệp trung bình*
C4: CTĐT được đánh giá | D4: CTĐT của Trường | E4: CTĐT của Trường trong nước | F4: CTĐT của Trường ngoài nước | G4: CTĐT được đánh giá | H4: CTĐT của Trường | I4: CTĐT của Trường trong nước | J4: CTĐT của Trường ngoài nước | K4: CTĐT được đánh giá | L4: CTĐT của Trường | M4: CTĐT của Trường trong nước | N4: CTĐT của Trường ngoài nước
A5: 2010-2014 | B5: 280 | C5: 80,3 | D5: 55,7 | E5: 68,6[1] | F5: 68,9[2] | G5: 2,3 | H5: 4,2 | I5: 1,8[3] | J5: 3,5[4] | K5: 4,15 | L5: 4,25 | M5: 4,14[5] | N5: 4,23[6]
A6: 2011-2015
A7: 2012-2016
A8: 2013-2017
A9: 2014-2018
A10: 2015-2019
A11: 2016-2020
A12: ...
A13: ...
A15: [1] Ví dụ: CTĐT SP Toán của Trường ĐH A
A16: [2] CTĐT SP Toán của Trường ĐH B
A17: [3] CTĐT SP Toán của Trường ĐH C
A18: [4] CTĐT SP Toán của Trường ĐH D
... A23: Bảng 12.1. Thống kê số lượng sinh viên tốt nghiệp đúng hạn, quá hạn; thời gian tốt nghiệp
A25: Khóa học | B25: Tổng số SV tốt nghiệp | C25: Số lượng sinh viên tốt nghiệp trong
C26: 3 năm (trước hạn) | D26: 4 năm (đúng hạn) | E26: > 4 năm
E27: (quá hạn)
D28: Lần 1 | E28: Lần 2 | F28: Lần 3 | G28: Lần 4 | H28: Lần
A29: 2000-2014
A30: 2011-2015
A31: 2012-2016
A32: 2013-2017
A33: 2014-2018

Sheet B13. Doi sanh SVTN NCKH
A1: Bảng 13. Đối sánh tỷ lệ SV tốt nghiệp có việc làm, tham gia hoạt động NCKH, số lượng các loại hình hoạt động NCKH
A2: Cần ghi chú ghi rõ các loại hình hoạt động NCKH mà Nhà trường phân chia
A4: Khóa tốt nghiệp | B4: Tổng số sinh viên | C4: Tỷ lệ (%) SV tốt nghiệp có việc làm | G4: Tỷ lệ (%) SV tham gia hoạt động NCKH | K4: Số lượng các loại hình hoạt động NCKH của SV
C5: CTĐT được đánh giá | D5: CTĐT của Trường | E5: CTĐT của Trường trong nước | F5: CTĐT của Trường ngoài nước | G5: CTĐT được đánh giá | H5: CTĐT của Trường | I5: CTĐT của Trường trong nước | J5: CTĐT của Trường ngoài nước | K5: CTĐT được đánh giá | L5: CTĐT của Trường | M5: CTĐT của Trường trong nước | N5: CTĐT của Trường ngoài nước
A6: 2010-2014 | B6: 280 | C6: 90 | D6: 80 | E6: 85,6[1] | F6: 92,3[2] | G6: 2,3 | H6: 4,2 | I6: 1,8[3] | J6: 3,5[4] | K6: 3 | L6: 4 | M6: 3[5] | N6: 5[6]
A7: 2011-2015
A8: 2012-2016
A9: 2013-2017
A10: 2014-2018
A11: 2015-2019
A12: 2016-2020
A13: ...
A14: ...
A16: [1] Ví dụ: CTĐT SP Toán của Trường ĐH A
A17: [2] CTĐT SP Toán của Trường ĐH B
A18: [3] CTĐT SP Toán của Trường ĐH C
A19: [4] CTĐT SP Toán của Trường ĐH D
... A21: [6] CTĐT SP Toán của Trường ĐH F

Sheet B14. Doi sanh muc do hai long
A1: Bảng 14.Đối sánh mức độ hài lòng của các bên liên quan
A2: Cần ghi chú ghi rõ các phương pháp khảo sát các bên liên quan cụ thể
A4: Bảng 14.1. Đối sánh mức độ hài lòng của sinh viên tốt nghiệp
A6: Khóa tốt nghiệp | B6: Tổng số sinh viên | C6: Tỷ lệ (%) hài lòng của các bên liên quan | G6: Tỷ lệ (%) không hài lòng của các bên liên quan | K6: Tỷ lệ (%) phản hồi của các bên liên quan
C7: CTĐT được đánh giá | D7: CTĐT của Trường | E7: CTĐT của Trường trong nước | F7: CTĐT của Trường ngoài nước | G7: CTĐT được đánh giá | H7: CTĐT của Trường | I7: CTĐT của Trường trong nước | J7: CTĐT của Trường ngoài nước | K7: CTĐT được đánh giá | L7: CTĐT của Trường | M7: CTĐT của Trường trong nước | N7: CTĐT của Trường ngoài nước
A8: 2010-2014 | B8: 280 | C8: 86 | D8: 80 | E8: 85,6[1] | F8: 68[2] | G8: 5 | H8: 6,8 | I8: 7[3] | J8: 9[4] | K8: 70 | L8: 75 | M8: 83[5] | N8: 70[6]
A9: 2011-2015
A10: 2012-2016
A11: 2013-2017
A12: 2014-2018
A13: 2015-2019
A14: 2016-2020
A15: ...
A16: ...
A18: [1] CTĐT SP Toán của Trường ĐH A
A19: [2] CTĐT SP Toán của Trường ĐH B
A20: [3] CTĐT SP Toán của Trường ĐH C
A21: [4] CTĐT SP Toán của Trường ĐH D
... A25: Bảng 14.2. Đối sánh mức độ hài lòng của cựu người học
A27: Khóa tốt nghiệp | B27: Tổng số sinh viên | C27: Tỷ lệ (%) hài lòng của các bên liên quan | G27: Tỷ lệ (%) không hài lòng của các bên liên quan | K27: Tỷ lệ (%) phản hồi của các bên liên quan
C28: CTĐT được đánh giá | D28: CTĐT của Trường | E28: CTĐT của Trường trong nước | F28: CTĐT của Trường ngoài nước | G28: CTĐT được đánh giá | H28: CTĐT của Trường | I28: CTĐT của Trường trong nước | J28: CTĐT của Trường ngoài nước | K28: CTĐT được đánh giá | L28: CTĐT của Trường | M28: CTĐT của Trường trong nước | N28: CTĐT của Trường ngoài nước
A29: 2010-2014 | B29: 280 | C29: 86 | D29: 80 | E29: 85,6 | F29: 68 | G29: 5 | H29: 6,8 | I29: 7 | J29: 9 | K29: 70 | L29: 75 | M29: 83 | N29: 70
A30: 2011-2015
A31: 2012-2016
A32: 2013-2017
A33: 2014-2018
A34: 2015-2019
A35: 2016-2020
A36: ...
A39: Bảng 14.3. Đối sánh mức độ hài lòng của các nhà tuyển dụng
A41: Khóa tốt nghiệp | B41: Tổng số sinh viên | C41: Tỷ lệ (%) hài lòng của các bên liên quan | G41: Tỷ lệ (%) không hài lòng của các bên liên quan | K41: Tỷ lệ (%) phản hồi của các bên liên quan
C42: CTĐT được đánh giá | D42: CTĐT của Trường | E42: CTĐT của Trường trong nước | F42: CTĐT của Trường ngoài nước | G42: CTĐT được đánh giá | H42: CTĐT của Trường | I42: CTĐT của Trường trong nước | J42: CTĐT của Trường ngoài nước | K42: CTĐT được đánh giá | L42: CTĐT của Trường | M42: CTĐT của Trường trong nước | N42: CTĐT của Trường ngoài nước
A43: 2010-2014 | B43: 280 | C43: 86 | D43: 80 | E43: 85,6 | F43: 68 | G43: 5 | H43: 6,8 | I43: 7 | J43: 9 | K43: 70 | L43: 75 | M43: 83 | N43: 70
A44: 2011-2015
A45: 2012-2016
A46: 2013-2017
A47: 2014-2018
A48: 2015-2019
A49: 2016-2020
A50: ...

Sheet B15. Hinh thuc day hoc, KTDG
A1: Bảng 15. Thống kê các hình thức tổ chức dạy học và kiểm tra đánh giá của CTĐT
A3: STT | B3: Tên học phần | C3: Số TC | D3: Mã học phần | E3: Hình thức tổ chức dạy học | J3: Hình thức KTĐG
E4: Lý thuyết | F4: TH,TT, thực tế | G4: TL nhóm | H4: Tự học | I4: Khác | J4: Vấn đáp | K4: Viết luận | L4: Bài tập lớn | M4: Trắc nghiệm khách quan | N4: Thuyết trình nhóm | O4: Khác
A5: 1. | B5: Tin học nhóm ngành 4 | C5: 3 | D5: TI11004 | E5: 30 | G5: 15 | H5: 90 | M5: X
A6: 2. | B6: …
B7: Tổng | C7: 132 | E7: …. | F7: …. | G7: …. | H7: …. | K7: …. | L7: …. | M7: …. | N7: ….
E8: (..%) | F8: (..%) | G8: (..%) | H8: (..%) | K8: (..%) | L8: (..%) | M8: (..%) | N8: (..%)
B9: Các học phần tự chọn:
A10: 1.
A11: 2.

Sheet B16. TK NCKH
B1: THỐNG KÊ NHIỆM VỤ NGHIÊN CỨU KHOA HỌC (2015 - 2019)
A3: STT | B3: STT | C3: Tên nhiệm vụ/ Mã số | D3: Loại hình* | E3: Quyết định giao nhiệm vụ | F3: Chủ trì | G3: Cơ quan quản lý | H3: Thời gian bắt đầu, kết thúc | J3: Tình trạng nhiệm vụ**
B4: 1 | C4: BĐKH42 Nghiên cứu, đánh giá kiến tạo hiện đại khu vực ven biển miền Trung Việt Nam và vai trò của nó đối với các tai biến thiên nhiên phục vụ dự báo và phòng tránh thiên tai trong điều kiện biến đổi khí hậu | D4: Đề tài thuộc chương trình trọng điểm Quốc gia | E4: 42/2014/HĐ-KHCN-BĐKH/11-15 28/12/2014 | F4: Trần Thanh Hải | G4: Bộ KHCN | H4: 2014 | I4: 2015 | J4: Nghiệm thu cấp Quốc gia
B5: 2 | C5: KC.08.06/11-15. Nghiên cứu đề xuất các tiêu chí và phân vùng khai thác bền vững, bảo vệ tài nguyên nước dưới đất vùng đồng bằng Bắc Bộ và đồng bằng Nam Bộ | D5: Đề tài thuộc chương trình trọng điểm Quốc gia | E5: 3860/QĐ-BKHCN 15/12/2011 | F5: Đoàn Văn Cánh | G5: Bộ KHCN | H5: 2011 | I5: 2015 | J5: Nghiệm thu cấp Quốc gia
B6: 3 | C6: 14/2011/HĐ.NĐT. Nghiên cứu phát triển và ứng dụng phương pháp laser Lidar trong môi trường XON khí mỏ than (Việt – Pháp) | D6: Đề tài HTNC theo nghị định thư | E6: 2643/QĐ-BKHCN 30/11/2010 | F6: Bùi Thị Thanh Lan | G6: Bộ KHCN | H6: 2011 | I6: 2014 | J6: Nghiệm thu cấp Quốc gia
B7: 4 | C7: NCCB-ĐHƯD.2011-G/13. Nghiên cứu ứng dụng và phát triển mô hình phân tích, dự báo tai biến địa chất – kỹ thuật đối với công trình ngầm, công trình khai thác mỏ ở Việt Nam | D7: Đề tài NCCB ĐHƯD | E7: 1043/QĐ-BKHCN 18/4/2011 | F7: Nguyễn Quang Phích | G7: Bộ KHCN | H7: 2011 | I7: 2014 | J7: Nghiệm thu cấp Quốc gia
B8: 5 | C8: NCCB-ĐHƯD.2012-G/01. Nghiên cứu xây dựng mô hình địa thống kê đánh giá tài nguyên khoáng mỏ khai thác lộ thiên | D8: Đề tài NCCB ĐHƯD | E8: 01/HĐ-NCCB ĐHƯD | F8: Trương Xuân Luận | G8: Bộ KHCN | H8: 2012 | I8: 2017 | J8: Nghiệm thu cấp Quốc gia
B9: 6 | C9: NĐT.02.GER/15. Hợp tác nghiên cứu thành phần vật chất, đề xuất quy trình công nghệ chế biến, định hướng phương pháp khai thác và bảo vệ môi trường mỏ đất hiếm Nậm Xe, tỉnh Lai Châu, Việt Nam (Việt - Đức) | D9: Đề tài HTNC theo nghị định thư | E9: 02/2015/HĐ-NĐT, 16/12/2015 | F9: Phan Quang Văn | G9: Bộ KHCN | H9: 2015 | I9: 2019 | J9: Nghiệm thu cấp Quốc gia
B10: 7 | C10: VT-UD.07/18-20. Nghiên cứu ứng dụng viễn thám và GIS trong quản lý, giám sát đường biển và trợ giúp quy hoạch phát triển kinh tế - xã hội kết hợp với đảm bảo quốc phòng – an ninh khu vực biên giới phía Bắc, ứng dụng cho tỉnh Cao Bằng | D10: Đề tài thuộc chương trình trọng điểm Quốc gia | E10: 370/QĐ-VHL, 16/3/2018 | F10: Nguyễn Trường Xuân | G10: Bộ KHCN | H10: 2018 | I10: 2020 | J10: Đang thực hiện
B11: 8 | C11: KC.09.30/16-20.Nghiên cứu địa tầng – trầm tích và địa mạo Plicen – Đệ Tứ khu vực Tây Nam trũng sâu Biển Đông và kế cận | D11: Đề tài thuộc chương trình trọng điểm Quốc gia | E11: 1853/QĐ-BKHCN, 29/6/2018 | F11: Đặng Văn Bát | G11: Bộ KHCN | H11: 2018 | I11: 2020 | J11: Đang thực hiện
B12: 9 | C12: 03.HĐ-KHCN-NTM. Nghiên cứu xây dựng bản đồ phân vùng và cảnh báo lũ quét độ phân giải cao cho một số tỉnh vùng Tây Bắc nhằm tăng cường khả năng ứng phó với thiên tai của cộng đồng phục vụ xây dựng nông thôn mới | D12: Đề tài thuộc chương trình trọng điểm Quốc gia | E12: 1916/QĐ-BNN-VPĐP 28/5/2018 | F12: Nguyễn Viết Nghĩa | G12: Bộ Nông nghiệp | H12: 2018 | I12: 2020 | J12: Đang thực hiện
B13: 10 | C13: KC.05.24/16-20. Nghiên cứu thiết kế, chế tạo thiết bị bảo vệ dòng điện rò trong các mạng điện mỏ hầm lò có cấp điện áp 660/1140V | D13: Đề tài thuộc chương trình trọng điểm Quốc gia | E13: 873/QĐ-BKHCN 16/4/2019 | F13: Nguyễn Thạc Khánh | G13: Bộ KHCN | H13: 2019 | I13: 2020 | J13: Đang thực hiện
B14: 11 | C14: CNKK.003/19. Nghiên cứu ứng dụng công nghệ thông tin trong quản lý điều hành công tác xúc bốc – vận tải nhằm nâng cao hiệu quả khai thác ở các mỏ than lộ thiên vùng Quảng Ninh | D14: Đề tài thuộc chương trình trọng điểm Quốc gia | E14: 2870/QĐ-BCT 14/8/2018 | F14: Phạm Văn Hòa | G14: Bộ Công thương | H14: 2019 | I14: 2020 | J14: Đang thực hiện
B15: 12 | C15: BĐKH.13/16-20. Nghiên cứu tác động của hoạt động tân kiến tạo đối với sự biến đổi dòng chính các lưu vực sông khu vực Miền Trung phục vụ bảo vệ các dòng sông, thử nghiệm cho lưu vực sông Vu Gia - Thu Bồn | D15: Đề tài thuộc chương trình trọng điểm Quốc gia | E15: 3061/QĐ-BTNMT, 29/12/2016 | F15: Trần Thanh Hải | G15: Bộ Công thương | H15: 2018 | I15: 2020 | J15: Đang tổng kết
... B38: 35 | C38: 105.08-2019.315. Nghiên cứu sức kháng cắt dư của đất ở mái dốc nhạy cảm với trượt và ảnh hưởng của tốc độ cắt | D38: đề tài Nafosted | E38: 01/QĐ-HĐQL-Nafosted 09/01/2020 | F38: Nguyễn Thành Dương | G38: Bộ KHCN | H38: 2020 | I38: 2022 | J38: Đang thực hiện
C39: ĐỀ TÀI, NHIỆM VỤ KHCN CẤP BỘ
B40: 36 | C40: CTB-2012-02. Nghiên cứu, đánh giá tổng hợp điều kiện địa chất công trình vùng ven biển Bắc Bộ phục vụ quy hoạch phát triển kinh tế - xã hội, an ninh - quốc phòng, ứng phó với biến đổi khí hậu và mực nước biển dâng | D40: Chương trình KHCN cấp Bộ | E40: 6334/QĐ-BGDĐT 14/12/2011 | F40: Trần Đình Kiên | G40: Bộ Giáo dục và Đào tạo | H40: 2012 | I40: 2016 | J40: Đã nghiệm thu cấp bộ
B41: 37 | C41: CTB-2012-02-01. Nghiên cứu đặc điểm địa chất Đệ tứ, địa mạo, tân kiến tạo vùng ven biển Bắc Bộ và đánh giá tác động của biến đổi khí hậu và nước biển dâng. | D41: Đề tài KHCN cấp Bộ | E41: 6334/QĐ-BGDĐT 14/12/2011 | F41: Lê Tiến Dũng | G41: Bộ Giáo dục và Đào tạo | H41: 2012 | I41: 2015 | J41: Đã nghiệm thu cấp bộ
B42: 38 | C42: CTB-2012-02-02. Nghiên cứu điều kiện địa chất công trình các khu vực phát triển kinh tế vùng ven biển Bắc Bộ và đánh giá ảnh hưởng của biến đổi khí hậu và nước biển dâng. | D42: Đề tài KHCN cấp Bộ | E42: 6334/QĐ-BGDĐT 14/12/2011 | F42: Tô Xuân Vu | G42: Bộ Giáo dục và Đào tạo | H42: 2012 | I42: 2015 | J42: Đã nghiệm thu cấp bộ
B43: 39 | C43: CTB-2012-02-03. Nghiên cứu các đặc tính xây dựng của đất yếu và đặc điểm cấu trúc nền đất yếu vùng ven biển Bắc Bộ, đề xuất các giải pháp gia cố, xử lý nền đất yếu thích hợp phục vụ xây dựng các công trình ven biển trong điều kiện biến đổi khí hậu và nước biển dâng | D43: Đề tài KHCN cấp Bộ | E43: 6334/QĐ-BGDĐT 14/12/2011 | F43: Nguyễn Văn Phóng | G43: Bộ Giáo dục và Đào tạo | H43: 2012 | I43: 2015 | J43: Đã nghiệm thu cấp bộ
B44: 40 | C44: CTB-2012-02-04. Nghiên cứu đặc điểm địa chất thủy văn và đánh giá ảnh hưởng của biến đổi khí hậu và nước biển dâng đến nước dưới đất vùng ven biển Bắc Bộ | D44: Đề tài KHCN cấp Bộ | E44: 6334/QĐ-BGDĐT 14/12/2011 | F44: Nguyễn Văn Lâm | G44: Bộ Giáo dục và Đào tạo | H44: 2012 | I44: 2015 | J44: Đã nghiệm thu cấp bộ
B45: 41 | C45: CTB-2012-02-05. Nghiên cứu hiện tượng xói lở và bồi tụ vùng ven biển Bắc bộ và đánh giá tác động của biến đổi khí hậu và nước biển dâng đến các hoạt động xói lở và bồi tụ. | D45: Đề tài KHCN cấp Bộ | E45: 6334/QĐ-BGDĐT 14/12/2011 | F45: Trần Hữu Tuyên | G45: Bộ Giáo dục và Đào tạo | H45: 2012 | I45: 2015 | J45: Đã nghiệm thu cấp bộ
B46: 42 | C46: CTB-2012-02-06. Nghiên cứu vật liệu xây dựng khoáng tự nhiên vùng ven biển Bắc Bộ phục vụ xây dựng công trình phòng chống biến đổi khí hậu và nước biển dâng | D46: Đề tài KHCN cấp Bộ | E46: 6334/QĐ-BGDĐT 14/12/2011 | F46: Trần Bỉnh Chư | G46: Bộ Giáo dục và Đào tạo | H46: 2012 | I46: 2015 | J46: Đã nghiệm thu cấp bộ
B47: 43 | C47: CTB-2012-02-07. Nghiên cứu lựa chọn phương pháp và thành lập bản đồ địa chất công trình, bản đồ phân vùng địa chất công trình vùng ven biển Bắc Bộ phục vụ công tác quy hoạch và xây dựng công trình ven biển, ứng phó với biến đổi khí hậu và nước biển dâng | D47: Đề tài KHCN cấp Bộ | E47: 6334/QĐ-BGDĐT 14/12/2011 | F47: Đỗ Minh Toàn | G47: Bộ Giáo dục và Đào tạo | H47: 2012 | I47: 2015 | J47: Đã nghiệm thu cấp bộ
B48: 44 | C48: B2012-02-01SP.Nghiên cứu ảnh hưởng của môi trường phóng xạ đối với con người do hoạt động thăm dò, khai thác, chế biến khoáng sản chứa phóng xạ vùng Tây Bắc Việt Nam và đề xuất giải pháp phòng ngừa (Việt Nam – Ba Lan) | D48: Nhiệm vụ HTQT song phương cấp Bộ | E48: 441/QĐ-BGDĐT 06/02/2012 | F48: Lê Khánh Phồn | G48: Bộ Giáo dục và Đào tạo | H48: 2012 | I48: 2016 | J48: Đã nghiệm thu cấp bộ
B49: 45 | C49: B2012-02-02SP.Phát triển năng lực nghiên cứu đánh giá một số biến động môi trường điển hình phục vụ định hướng phát triển bền vững lưu vực sông Hồng, phần lãnh thổ Việt Nam (Việt – Nhật) | D49: Nhiệm vụ HTQT song phương cấp Bộ | E49: 441/QĐ-BGDĐT 06/02/2012 | F49: Lê Văn Hưng/ (Trương Xuân Luận) | G49: Bộ Giáo dục và Đào tạo | H49: 2012 | I49: 2017 | J49: Đã nghiệm thu cấp bộ
B50: 46 | C50: B2013-02-11.Nghiên cứu xây dựng phần mềm đồ họa độc lập để làm cơ sở phát triển hệ thống thông tin địa lý | D50: Đề tài KHCN cấp Bộ | E50: 611/QĐ-BGDĐT 19/02/2013 | F50: Trần Thùy Dương | G50: Bộ Giáo dục và Đào tạo | H50: 2013 | I50: 2015 | J50: Đã nghiệm thu cấp bộ
B51: 47 | C51: B2013-02-12.Nghiên cứu biến đổi biên độ sóng địa chấn theo khoảng cách thu phát (AVO) nhằm xác định dấu hiệu tồn tại khí hydrat ở vùng biển nước sâu (Tư Chính Vũng Mây) | D51: Đề tài KHCN cấp Bộ | E51: 611/QĐ-BGDĐT 19/02/2013 | F51: Phan Thiên Hương | G51: Bộ Giáo dục và Đào tạo | H51: 2013 | I51: 2015 | J51: Đã nghiệm thu cấp bộ
... B116: 112 | C116: B2018-MDA-03SP. Nghiên cứu xây dựng hệ thống kiểm soát chất lượng không khí nhằm đảm bảo an toàn lao động trong các mỏ khai thác than lộ thiên sâu khu vực Quảng Ninh | D116: Nhiệm vụ HTQT song phương cấp Bộ | E116: số 215/QĐ-BGDĐT ngày 17/01/2017 | F116: Bùi Xuân Nam/ Changwoo Lee | G116: Bộ Giáo dục và Đào tạo | H116: 2018 | I116: 2021 | J116: Đang thực hiện
B117: 113 | C117: CT.2020.04.MDA.02.Nghiên cứu đánh giá các dạng cấu trúc nền đất yếu vùng ven biển khu vực Bắc Trung Bộ làm cơ sở khoa học đề xuất công nghệ xử lý nền phù hợp phục vụ xây dựng công trình | D117: Đề tài thuộc chương trình KHCN cấp Bộ | E117: số 4651/QĐ-BGDĐT ngày 03/12/2019 | F117: Nguyễn Thị Nụ | G117: Bộ Giáo dục và Đào tạo | H117: 2020 | I117: 2021 | J117: Đang thực hiện
B118: 114 | C118: CT.2020.04.MDA.03.Nghiên cứu phát triển gia cố nền đất yếu bằng cọc cát biển - xi măng phục vụ xây dựng công trình hạ tầng vùng ven biển Bắc Trung Bộ | D118: Đề tài thuộc chương trình KHCN cấp Bộ | E118: số 4651/QĐ-BGDĐT ngày 03/12/2019 | F118: Tạ Đức Thịnh | G118: Bộ Giáo dục và Đào tạo | H118: 2020 | I118: 2021 | J118: Đang thực hiện
B119: 115 | C119: Nghiên cứu thành phần hóa học và đánh giá tác dụng hạ đường huyết của loài Địa hoàng (Rehmannia glutinosa Libosch.) ở Việt Nam. | D119: Đề tài KHCN cấp Bộ | E119: số 103/QĐ-BGDĐT ngày 13/01/2020 | F119: Vũ Kim Thư | G119: Bộ Giáo dục và Đào tạo | H119: 2020 | I119: 2021 | J119: Đang thực hiện
B120: 116 | C120: Nghiên cứu và chế tạo vật liệu biến hóa hấp thụ sóng điện từ dựa trên cấu trúc plasmonic kim loại. | D120: Đề tài KHCN cấp Bộ | E120: số 103/QĐ-BGDĐT ngày 13/01/2020 | F120: Lê Đắc Tuyên | G120: Bộ Giáo dục và Đào tạo | H120: 2020 | I120: 2021 | J120: Đang thực hiện
B121: 117 | C121: Chế tạo vật liệu quang xúc tác thu hồi được trên cơ sở photphat bạc (Ag3O4) kết họp vật liệu từ tính. | D121: Đề tài KHCN cấp Bộ | E121: số 103/QĐ-BGDĐT ngày 13/01/2020 | F121: Nguyễn Mạnh Hùng | G121: Bộ Giáo dục và Đào tạo | H121: 2020 | I121: 2021 | J121: Đang thực hiện
B122: 118 | C122: Nghiên cứu xây dựng mô hình cơ học môi trường rỗng có xét đến đặc tính phá hủy phục vụ công tác đánh giá, dự báo độ bền và thời hạn sử dụng của kết cấu bê tông cốt thép công trình biển. | D122: Đề tài KHCN cấp Bộ | E122: số 103/QĐ-BGDĐT ngày 13/01/2020 | F122: Bùi Trường Sơn | G122: Bộ Giáo dục và Đào tạo | H122: 2020 | I122: 2021 | J122: Đang thực hiện
B123: 119 | C123: Nghiên cứu ứng xử cơ học của khối đắp trên nền đất yếu gia cố bằng cọc cứng khi chịu tác dụng của tải trọng chu kỳ theo phưong thẳng đứng. | D123: Đề tài KHCN cấp Bộ | E123: số 103/QĐ-BGDĐT ngày 13/01/2020 | F123: Phạm Văn Hùng | G123: Bộ Giáo dục và Đào tạo | H123: 2020 | I123: 2021 | J123: Đang thực hiện
B124: 120 | C124: Nghiên cứu đề xuất quy trình thành lập bản đồ địa hình tỷ lệ lớn 1:2000, 1:1000 và 1:500 cho địa hình khu vực mỏ lộ thiên tại Việt Nam trên cơ sơ ứng dụng UAV giá thành thấp và máy ảnh thông thường. | D124: Đề tài KHCN cấp Bộ | E124: số 103/QĐ-BGDĐT ngày 13/01/2020 | F124: Nguyễn Quốc Long | G124: Bộ Giáo dục và Đào tạo | H124: 2020 | I124: 2021 | J124: Đang thực hiện
B125: 121 | C125: Nghiên cứu đề xuất phương pháp tính vỏ hầm lắp ghép của đường hầm metro tiết diện ngang hình chữ nhật cong. | D125: Đề tài KHCN cấp Bộ | E125: số 103/QĐ-BGDĐT ngày 13/01/2020 | F125: Đặng Văn Kiên | G125: Bộ Giáo dục và Đào tạo | H125: 2020 | I125: 2021 | J125: Đang thực hiện
B126: 122 | C126: Nghiên cứu phát triển mô hình dự báo sóng chấn động nổ mìn cho các mỏ than lộ thiên sử dụng trí tuệ nhân tạo và các thuật toán máy học | D126: Đề tài KHCN cấp Bộ | E126: số 103/QĐ-BGDĐT ngày 13/01/2020 | F126: Nguyễn Hoàng | G126: Bộ Giáo dục và Đào tạo | H126: 2020 | I126: 2021 | J126: Đang thực hiện
B127: 123 | C127: T15-01. Nghiên cứu và đề xuất phương pháp mô hình hóa và kiểm chứng các hệ thống phần mềm nhúng | D127: Cấp cơ sở | E127: Số 469/QĐ-MĐC ngày 17/4/2015 | F127: Lê Hồng Anh | G127: Trường ĐH Mỏ - Địa chất | H127: 42005 | I127: 42339 | J127: Đã nghiệm thu
...

Sheet B17. Thong ke bai bao
A1: STT | B1: Tên Công bố | C1: Tên tạp chí | D1: Số Xuất bản (Vol/Issue) | E1: ISSN | F1: Thời gian | G1: Tác giả | H1: Thể loại | I1: Chỉ số DOI | J1: Đường Link bài báo | K1: IF (tra tháng 8-2019)
A2: 1 | B2: 2D Seismic Numerical Analysis of Segmental Tunnel Lining Behaviour | C2: Bulletin of the New Zealand Society for Earthquake Engineering | D2: Vol 47, issue 3 | E2: 2005-307X | F2: 2014 | G2: Đỗ Ngọc Anh, Daniel Dias, Pierpaolo Oreste | H2: ESCI | I2: https://doi.org/10.5459/bnzsee.47.3.206-216 | J2: https://www.researchgate.net/publication/287751273_2D_seismic_numerical_analysis_of_segmental_tunnel_lining_behaviour | K2: SJR=1,295
A3: 2 | B3: 3D numerical investigation on the interaction between mechanized twin tunnels in soft ground | C3: Environmental Earth Sciences | D3: Vol 73 | E3: ISSN: 1866-6280 | F3: 2014 | G3: Do Ngoc Anh, Dias Daniel, Oreste Pierpaolo | H3: SCIE | I3: https://doi.org/10.1007/s12665-014-3561-6 | J3: https://link.springer.com/article/10.1007/s12665-014-3561-6 | K3: 1.569
A4: 3 | B4: 3D numerical simulation of mechanized twin stacked tunnels in soft ground | C4: Journal of Zhejiang University SCIENCE A | D4: Vol 15, issue 11 | E4: 1862-1775 | F4: 2014 | G4: Đỗ Ngọc Anh, Daniel Dias, Pierpaolo Oreste | H4: SCIE | I4: https://doi.org/10.1631/jzus.A1400117 | J4: https://www.researchgate.net/publication/272742295_Three-dimensional_numerical_simulation_of_mechanized_twin_stacked_tunnels_in_soft_ground | K4: 1.214
A5: 4 | B5: A New Numerical Approach to the Hyperstatic Reaction Method for Segmental Tunnel Linings | C5: International Journal for Numerical and Analytical Methods in Geomechanics | D5: Vol 38, issue 15 | E5: ISSN: 0363-9061 | F5: 2014 | G5: Do Ngoc Anh, Dias Daniel, Oreste Pierpaolo, Djeran-Maigre Irini | H5: SCIE | I5: https://doi.org/10.1002/nag.2277 | J5: https://onlinelibrary.wiley.com/doi/abs/10.1002/nag.2277 | K5: 2.342
A6: 5 | B6: Adaptive multitemporal Sar image filtering based on the change detection matrix | C6: IEEE Geoscience and Remote Sensing Letters | D6: Vol 11, issue 10 | E6: 1545-598X | F6: 2014 | G6: Thu Trang Le, Abdourrahmane M.Atto, Emmanuel Trouvé | H6: SCIE | I6: https://doi.org/10.1109/LGRS.2014.2311663 | J6: https://ieeexplore.ieee.org/document/6784380 | K6: 2.761
A7: 6 | B7: Backarc mafic–ultramafic magmatism in Northeastern Vietnam and its regional tectonic significance | C7: Journal of Asian Earth Sciences | D7: Vol 90 | E7: ISSN: 1367-9120 | F7: 2014 | G7: Ngo Xuan Thanh, Tran Thanh Hai, Nguyen Hoang, Vu Quang Lan, Sanghoon Kwon, Tetsumaru Itaya, M. Santosh | H7: SCIE | I7: https://doi.org/10.1016/j.jseaes.2014.04.001 | J7: https://www.sciencedirect.com/science/article/abs/pii/S1367912014001618 | K7: 2.335
A8: 7 | B8: Cenozoic high-K alkaline magmatism and associated Cu-Mo-Au mineralization in the Jinping-Fan Si Pan region, southeastern Ailao Shan-Red River shear zone, southern China | C8: Journal of Asian Earth Sciences | D8: Vol 79 | E8: ISSN: 1367-9120 | F8: 2014 | G8: Tran M.D, Liu J.L., Nguyen Q.L., Chen Y., Tang Y., Song Z.J., Zhang Z.C., Zhao Z.D | H8: SCIE | I8: https://ui.adsabs.harvard.edu/link_gateway/2014JAESc..79..858T/doi:10.1016/j.jseaes.2013.03.027 | J8: https://ui.adsabs.harvard.edu/abs/2014JAESc..79..858T/abstract | K8: 2.335
A9: 8 | B9: Crystal and Molecular Structures of Selected Oxidative Nitration Products of Aminopyrazine and 2-Amino-3-Hydroxypyridine | C9: Crystallography Reports | D9: Vol 59, issue 1 | E9: 1063-7745 | F9: 2014 | G9: O. V. Kovalchukova, Nguyen Dinh Do, A. I. Stash, S. B. Strashnova, and B. E. Zaitsev | H9: SCIE | I9: https://doi.org/10.1134/S1063774513060163 | J9: https://link.springer.com/article/10.1134/S1063774513060163 | K9: 0.563
A10: 9 | B10: Decentralized stability for switched nonlinear large-scale systems with interval time-varying delays in interconnections | C10: Nonlinear Analysis: Hybrid Systems | D10: Vol 11 | F10: 2014 | G10: Nguyen T. Thanh, Vu N. Phat | H10: SCIE | I10: https://doi.org/10.1016/j.nahs.2013.04.002 | J10: https://www.sciencedirect.com/science/article/abs/pii/S1751570X13000289 | K10: 3.963
A11: 10 | B11: ent-Kaurane Diterpenes from Annona glabra and Their Cytotoxic Activities | C11: Natural Product Communication | D11: Vl 9, issue 12 | E11: 1681-1682 | F11: 2014 | G11: Hoang Le Tuan Anh, Nguyen Thi thu Hien, Dan Thi Thuy Hang, Tran Minh Ha, Nguyen Xuan Nhiem, Truong Thi Thu Hien, Vu Kim Thu, Do Thi Thao, Chau Van Minh and Phan Van Kiem | H11: SCIE | I11: https://doi.org/10.1177%2F1934578X1400901204 | J11: https://www.researchgate.net/publication/271596170_ent-Kaurane_Diterpenes_from_Annona_glabra_and_Their_Cytotoxic_Activities | K11: 0.884
A12: 11 | B12: Fabrication and optical characterization of multimorphological nanostructured materials containing Eu(III) in phosphate matrices for biomedical applications | C12: New Journal of Chemistry | D12: Vol 38 | E12: 2114-2119 | F12: 2014 | G12: T. T. Huong, L .T Vinh, T. K. Anh, H. T. Khuyen, H. T. Phuong and L. Q. Minh | H12: SCIE | I12: https://doi.org/10.1039/C3NJ01206A | J12: https://www.researchgate.net/publication/262067495_Fabrication_and_optical_characterization_of_multimorphological_nanostructured_materials_containing_EuIII_in_phosphate_matrices_for_biomedical_applications | K12: 2.76
A13: 12 | B13: Full-Order observer design for nonlinear complex large-scale systems with unknown time-varying delayed interactions | C13: Complexity | D13: Vol 21, issue 2 | E13: ISSN: 1099-0526 | F13: 2014 | G13: V. N. Phat, N. T. Thanh, Hieu Trinh | H13: SCIE | I13: https://doi.org/10.1002/cplx.21584 | J13: https://onlinelibrary.wiley.com/doi/abs/10.1002/cplx.21584 | K13: 4.621
A14: 13 | B14: iGeoTrans –a novel iOS application for GPS positioning in geosciences | C14: Geocarto International | D14: Vol 30, issue 2 | E14: ISSN: 1010-6049 | F14: 2014 | G14: Dieu Tien Bui, Chuyen Trung Tran, Biswajeet Pradhan, Inge Revhaug & Razak Seidu | H14: SCIE | I14: https://doi.org/10.1080/10106049.2014.902114 | J14: https://www.tandfonline.com/doi/abs/10.1080/10106049.2014.902114 | K14: 1.646
A15: 14 | B15: Internal Forces in Segmental Tunnel Lining - A comparison between current Design Methods | C15: Journal of Mining Science | D15: Vol 50 | E15: 1573-8736 | F15: 2014 | G15: Đỗ Ngọc Anh, Daniel Dias, Pierpaolo Oreste | H15: SCIE | I15: https://doi.org/10.1134/S1062739114020161 | J15: https://link.springer.com/article/10.1134/S1062739114020161 | K15: 0.353
A16: 15 | B16: New ent-kauranes from the fruits of Annona glabra and their inhibitory nitric oxide production in LPS-stimulated RAW264.7 macrophages | C16: Bioorganic and Medicinal Chemistry Letters | D16: Vol 25, issue 2 | E16: ISSN: 0960-894X | F16: 2014 | G16: Nguyen Xuan Nhiem, Nguyen Thi Thu Hien, Bui Huu Tai, Hoang Le Tuan Anh, Dan Thi Thuy Hang, Tran Hong Quang, Phan Van Kiem, Chau Van Minh, Wonmin Ko, Seungjun Lee, Hyuncheol Oh, Seung Hyun Kim, and Young Ho Kim | H16: SCIE | I16: https://doi.org/10.1016/j.bmcl.2014.11.059 | J16: https://www.sciencedirect.com/science/article/pii/S0960894X14012542 | K16: 2.454
A17: 16 | B17: New methodology to characterize shear behavior of joints by combination of direct shear box testing and numerical simulations | C17: Geotechnical and geological engineering journal | D17: V0l 32 | E17: 0960-3182 | F17: 2014 | G17: Van-Manh Nguyen, Heinz Konietzky, Thomas Frühwirt | H17: ESCI | I17: https://doi.org/10.1007/s10706-014-9761-8 | J17: https://link.springer.com/article/10.1007/s10706-014-9761-8 | K17: 0.94
A18: 17 | B18: Nitrogen-doped carbon nanotubes decorated silicon carbide as a metal-free catalyst for partial oxidation of H2S | C18: Applied Catalysis A: General | D18: Vol 482 | E18: 0253-9837 | F18: 2014 | G18: Cuong Duong-Viet, Housseinou Ba, Yuefeng Liua, Lai Truong-Phuoc, Jean-Mario Nhut, Cuong Pham-Huu | H18: SCIE | I18: https://doi.org/10.1016/j.apcata.2014.06.010 | J18: https://www.sciencedirect.com/science/article/abs/pii/S0926860X14003962 | K18: 2.67
A19: 18 | B19: Paleozoic tectonics of the southwestern Gyeonggi massif, South Korea: Insights from geochemistry, chromian-spinel chemistry and SHRIMP U–Pb geochronology | C19: Gondwana Research | D19: Vol 26, issue 2 | E19: ISSN: 1342-937X | F19: 2014 | G19: Seung-Ik Park, Sung Won Kim, Sanghoon Kwon, Ngo Xuan Thanh, Keewook Yi, M. Santosh | H19: SCIE | I19: https://doi.org/10.1016/j.gr.2013.07.015 | J19: https://www.sciencedirect.com/science/article/abs/pii/S1342937X13002426 | K19: 6.959
A20: 19 | B20: Perfect absorber metamaterias: Peak, multi-peak and broadband absorption | C20: Optics Communications | D20: Vol 322 | E20: 0030-4018 | F20: 2014 | G20: D. T. Viet, N. T. Hien, P. V. Tuong, N. Q. Minh, P. T. Trang, L. N. Le, Y. P. Lee, V. D. Lam | H20: SCIE | I20: https://doi.org/10.1016/j.optcom.2014.02.037 | J20: https://www.sciencedirect.com/science/article/abs/pii/S0030401814001849 | K20: 1.588
A21: 20 | B21: Peterogenesis and zircon U-Pb ages of the Thien Ke granitic pluton in the Tam Dao region: Implications for the Paleozoic tectonic evolution in NE Vietnam | C21: Journal of Mineralogical and Petrological Sciences | D21: Vol 109, issue 5 | E21: ISSN: 1345 - 6296 (print); 1349 - 3825 (online) | F21: 2014 | G21: Thuy Thi Bich Nguyen, Tran Thanh Hai et al. | H21: SCIE | I21: https://doi.org/10.2465/jmps.131203 | J21: https://www.jstage.jst.go.jp/article/jmps/109/5/109_131203/_article/-char/en | K21: 0.5
A22: 21 | B22: Pliocene–Quaternary evolution of the continental shelf of central Vietnam based on high resolution seismic data | C22: Journal of Asian Earth Sciences | D22: Vol 79, part A | E22: ISSN: 1367-9120 | F22: 2014 | G22: Mai Thanh Tan, Le Van Dung, Le Duy Bach, Nguyen Bieu, Tran Nghi, Hoang Van Long, Phan Thien Huong | H22: SCIE | I22: https://doi.org/10.1016/j.jseaes.2013.08.001 | J22: https://www.sciencedirect.com/science/article/abs/pii/S1367912013004082 | K22: 2.335
... A26: 25 | B26: The Behaviour of the Segmental Tunnel Lining Studied by the Hyperstatic Reaction Method | C26: European Journal of Environmental and Civil Engineering | D26: Vol 18 | E26: ISSN: 1964-8189 | F26: 2014 | G26: Do Ngoc Anh, Dias Daniel, Oreste Pierpaolo, Djeran-Maigre Irini | H26: SCIE | I26: https://doi.org/10.1080/19648189.2013.872583 | J26: https://www.tandfonline.com/doi/abs/10.1080/19648189.2013.872583 | K26: 2.801
A27: 26 | B27: The Tam Ky - Phuoc Son Shear Zone in Central Vietnam: Tectonic and metallogenic implications | C27: Gondwana Research | D27: Vol 26, issue 1 | F27: 2014 | G27: Trần Thanh Hải và nnk | H27: SCIE | I27: https://doi.org/10.1016/j.gr.2013.04.008 | J27: https://www.sciencedirect.com/science/article/abs/pii/S1342937X1300155X | K27: 6.959
A28: 27 | B28: Three-Dimensional Numerical Simulation for Mechanized Tunnelling in Soft Ground - The Influence of the Joint pattern | C28: Acta Geotechnica | D28: Vol 9, issue 4 | E28: ISSN: 1861-1125 | F28: 2014 | G28: Do Ngoc Anh, Dias Daniel, Oreste Pierpaolo, Djeran-Maigre Irini | H28: SCIE | I28: https://doi.org/10.1007/s11440-013-0279-7 | J28: https://link.springer.com/article/10.1007/s11440-013-0279-7 | K28: 2.426
A29: 28 | B29: Three-dimensional Numerical Simulation of a Mechanized Twin Tunnels in Soft Ground | C29: Tunnelling and Underground Space Technology | D29: Vol 42 | E29: ISSN: 0886-7798 | F29: 2014 | G29: Do Ngoc Anh, Dias Daniel, Oreste Pierpaolo, Djeran-Maigre Irini | H29: SCIE | I29: https://doi.org/10.1016/j.tust.2014.02.001 | J29: https://www.sciencedirect.com/science/article/abs/pii/S088677981400011X | K29: 1.214
A30: 29 | B30: Using quadrupole mass spectrometry for on-line gas analysis - Gasification of biomass and refuse derived fuel | C30: Fuel | D30: Vol 139 | E30: ISSN: 0016-2361 | F30: 2014 | G30: C.D.Le, S.T. Kolaczkowski, D.W.J. McClymont | H30: SCIE | I30: https://doi.org/10.1016/j.fuel.2014.09.010 | J30: https://researchportal.bath.ac.uk/en/publications/using-quadrupole-mass-spectrometry-for-on-line-gas-analysis-gasif | K30: 4.601
A31: 30 | B31: 3D Numerical Investigation of Mechanized Twin Tunnels in Soft Ground - Influence of Lagging Distance between Two Tunnel Faces | C31: Engineering Structures | D31: Vol 109 | E31: ISSN: 0141-0296 | F31: 2015 | G31: Do Ngoc Anh, Dias Daniel, Oreste Pierpaolo, Djeran-Maigre Irini | H31: SCIE | I31: 10.1016/j.engstruct.2015.11.053 | J31: https://www.researchgate.net/publication/287202273_3D_numerical_investigation_of_mechanized_twin_tunnels_in_soft_ground_-_Influence_of_lagging_distance_between_two_tunnel_faces | K31: 2.258
A32: 31 | B32: Taming electromagnetic metamaterials for isotropic perfect absorbers | C32: AIP Advances | D32: Vol 5, issue 7 | E32: ISSN: 2158-3226 | F32: 2015 | G32: Doan Tung Anh, Do Thanh Viet, Pham Thi Trang, Nguyen Manh Thang, Ho Quang Quy, Nguyen Van Hieu, Vu Dinh Lam and Nguyen Thanh Tung | H32: SCIE | I32: https://doi.org/10.1063/1.4926656 | J32: https://aip.scitation.org/doi/10.1063/1.4926656 | K32: 1.568
A33: 32 | B33: Multi-method monitoring of Glacier d’Argentière dynamics | C33: Annals of Glaciology | D33: Vol 56, issue 70 | E33: ISSN: 0260-3055 | F33: 2015 | G33: Lionel Benoit, Amaury Dehecq, Ha Thai PHAM, Haixing He, Flavien Vernier, Emmanuel Trouve | H33: SCIE | I33: https://doi.org/10.3189/2015AoG70A985 | J33: https://www.cambridge.org/core/journals/annals-of-glaciology/article/multimethod-monitoring-of-glacier-dargentiere-dynamics/91AE0F37974A2A1FCC53B79A0DDA0E43 | K33: 2.36
A34: 33 | B34: Nonlocal problem for differential complementarity systems | C34: Applied Mathematics and Computation | D34: Vol 265 | E34: ISSN: 0096-3003 | F34: 2015 | G34: Nguyen Van Loi, Mai Quoc Vu, Pham Tuan Cuong | H34: SCIE | I34: https://doi.org/10.1016/j.amc.2015.05.143 | J34: https://www.sciencedirect.com/science/article/abs/pii/S0096300315007742 | K34: 1.738
A35: 34 | B35: Thermal radiation analysis for small satellite with single-node model using technique of equivalent linearization | C35: Applied thermal engineering | D35: Vol 94 | E35: ISSN: 1359-4311 | F35: 2015 | G35: Nguyen Dong Anh, Nguyen Nhu Hieu, Pham Ngoc Chung, Nguyen Tay Anh | H35: SCIE | I35: https://doi.org/10.1016/j.applthermaleng.2015.10.139 | J35: https://www.sciencedirect.com/science/article/abs/pii/S1359431115011989 | K35: 3.356
A36: 35 | B36: Characterizations of a thermo-tunable broadband fishnet metamaterial at THz frequencies | C36: Computation Materials Science | D36: Vol 103 | E36: ISSN: 0927-0256 | F36: 2015 | G36: Nguyen Thi Hien, Ly Nguyen Le, Pham Thi Trang, Bui Son Tung, Ngo Duc Viet, Phan Thi Duyen, Nguyen Manh Thang, Do Thanh Viet, YoungPak Lee, Vu Dinh Lam, Nguyen Thanh Tung | H36: SCIE | I36: https://doi.org/10.1016/j.commatsci.2015.02.038 | J36: https://www.researchgate.net/publication/275059813_Characterizations_of_a_thermo-tunable_broadband_fishnet_metamaterial_at_THz_frequencies | K36: 2.292
A37: 36 | B37: Steam gasification of a refuse derived char: Reactivity and kinetics | C37: Chemical Engineering Research and Design | D37: Vol 102 | E37: ISSN: 0263-8762 | F37: 2015 | G37: Le, C.D. and Kolaczkowski, S | H37: SCIE | I37: https://doi.org/10.1016/j.cherd.2015.07.004 | J37: https://www.researchgate.net/publication/282634803_Steam_gasification_of_a_refuse_derived_char_Reactivity_and_kinetics | K37: 2.538
A38: 37 | B38: Removal of CO2 from a submersible atmosphere by scrubbing with water - Experiments with a single column | C38: Chemical Engineering Research and Design | D38: Vol 100 | E38: ISSN: 0263-8762 | F38: 2015 | G38: Kolaczkowski, S.T., Awdry, S., Le, C.D., Nuckols, M.L., Smith, T., Thomas, D. | H38: SCIE | I38: https://doi.org/10.1016/j.cherd.2015.04.035 | J38: https://www.sciencedirect.com/science/article/abs/pii/S0263876215001537 | K38: 2.538
A39: 38 | B39: Steam gasification of a refuse derived char: \Reactivity and kinetics | C39: Chemical Engineering Research and Design | D39: Vol 102 | E39: ISSN: 0263-8762 | F39: 2015 | G39: Le, C.D. and Kolaczkowski, S | H39: SCIE | I39: https://doi.org/10.1016/j.cherd.2015.07.004 | J39: https://www.sciencedirect.com/science/article/abs/pii/S026387621500249X | K39: 2.538
A40: 39 | B40: Removal of CO2 from a submersible atmosphere by scrubbing with water - Experiments with a single column | C40: Chemical Engineering Research and Design | D40: Vol 100 | E40: ISSN: 0263-8762 | F40: 2015 | G40: Kolaczkowski, S.T., Awdry, S., Le, C.D., Nuckols, M.L., Smith, T., Thomas, D. | H40: SCIE | I40: https://doi.org/10.1016/j.cherd.2015.04.035 | J40: https://www.sciencedirect.com/science/article/abs/pii/S0263876215001537 | K40: 2.538
A41: 40 | B41: Roadway Sides Rock Deformation in Deep Mining | C41: Electronic Journal of Geotechnical Engineering | D41: Vol 20 | E41: 1089-3032 | F41: 2015 | G41: Wu Hai, Wang Weijun, Wang Jin, Zhang Nong, Dao Viet Doan | H41: ESCI | J41: http://www.ejge.com/2015/Ppr2015.0038ma.pdf | K41: 0.18
A42: 41 | B42: Experimental procedure and results to measure the composition of gas hydrate, during crystallization and at equilibrium, from N2–CO2–CH4–C2H6–C3H8–C4H10 gas mixtures | C42: Fluid Phase Equilibria | D42: Vol 413 | E42: ISSN: 0378-3812 | F42: 2015 | G42: Duyen Le Quang, Du Le Quang, Baptiste Bouillot, Jean-Micheal Henri, Philippe Glenat, Pierre Duchet-Suchaux | H42: SCIE | I42: https://doi.org/10.1016/j.fluid.2015.10.022 | J42: https://www.sciencedirect.com/science/article/abs/pii/S0378381215301813 | K42: 2.473
A43: 42 | B43: Assessment of wooded area reduction by airbone laser scanning | C43: Forests | D43: Vol 6, issue 5 | E43: ISSN: 1999-4907 | F43: 2015 | G43: Thi Huong Giang Tran Markus Hollaus Ba Duy Nguyen Norbert Pfeifer | H43: SCIE | I43: https://doi.org/10.3390/f6051613 | J43: https://www.researchgate.net/publication/276432807_Assessment_of_Wooded_Area_Reduction_by_Airborne_Laser_Scanning | K43: 1.951
...
