Workbook
Name _Hlk9244919: 'Danh sach gui Tai chinh'!#REF!
Name _Hlk9244919: 'DS theo Quyet dinh khen thuong'!#REF!
Name _Hlk9244919: Sheet1!$B$116
Name OLE_LINK10: 'Danh sach gui Tai chinh'!#REF!
Name OLE_LINK10: 'DS theo Quyet dinh khen thuong'!#REF!
Name OLE_LINK10: Sheet1!$B$85
Name OLE_LINK2: 'Danh sach gui Tai chinh'!#REF!
Name OLE_LINK2: 'DS theo Quyet dinh khen thuong'!#REF!
Name OLE_LINK2: Sheet1!$B$84
Name OLE_LINK4: 'Danh sach gui Tai chinh'!#REF!
Name OLE_LINK4: 'DS theo Quyet dinh khen thuong'!#REF!
Name OLE_LINK8: 'Danh sach gui Tai chinh'!#REF!
Name OLE_LINK8: 'DS theo Quyet dinh khen thuong'!#REF!

Sheet Sheet1
A1: DANH MỤC THƯỞNG BÀI BÁO CÔNG BỐ TRÊN CÁC TẠP CHÍ UY TÍN TRONG DANH MỤC ISI, SCI, SCIE NĂM 2019
A2: (kèm theo Quyết định số , ngày tháng năm 2020)
A3: STT | B3: Tên bài báo | C3: Tác giả | D3: Tác giả thuộc biên chế HUMG | E3: Đơn vị công tác | F3: Loại tạp chí | G3: =MucHoTro!C3 -> Nếu tác giả thứ nhất là cán bộ thuộc biên chế của Nhà trường | H3: =MucHoTro!D3 -> Nếu tác giả liên hệ mà không là tác giả thứ nhất là cán bộ thuộc biên chế của Nhà trường | I3: Đồng tác giả | J3: Hệ số bài báo | K3: Hệ số tác giả | L3: Hệ số tính | M3: Thành tiền (VNĐ) | N3: Loại tạp chí
A4: (1) | B4: (2) | C4: (3) | F4: (4) | G4: (5) | H4: (6) | I4: (7) | J4: (8) | K4: (9) | L4: (10=8x9) | M4: (11)
A5: 1 | B5: Research on transmission efficiency of high power hydro-iscous clutch | C5: Qi Sun, Fangwei Xie, Kuaidi Wan, Xinjian Gu, Jie Zhu, Nguyễn Văn Xô (đồng tác giả), Yun Wang | F5: Q2 | G5: x | J5: =IF(F5="Q1a",MucHoTro!$H$5,IF(F5="Q1b",MucHoTro!$H$6,IF(F5="Q2",MucHoTro!$H$7,IF(F5="Q3",MucHoTro!$H$8,IF(F5="Q4",MucHoTro!$H$9))))) -> 1.1 | K5: =IF(G5="x",MucHoTro!$C$5,IF(H5="x",MucHoTro!$D$5,IF(I5="x",MucHoTro!$E$5))) -> 1.5 | L5: =J5*K5 -> 1.65 | M5: =L5*2000000 -> 3300000 | N5: =IF(F5<>"",INDEX(MucHoTro!$B$5:$B$10,MATCH(Sheet1!F5,MucHoTro!$G$5:$G$10,0),1),"") -> Tạp chí trong nhóm Q2 thuộc lĩnh vực nghiên cứu gần nhất của bài báo (Q2)
A6: 2 | B6: Effects of friction models on simulation of pneumatic cylinder | C6: Xuan Bo Tran, Nguyễn Văn Lại (đồng tác giả), and Khanh Duong Tran | F6: Q2 | G6: x | J6: =IF(F6="Q1a",MucHoTro!$H$5,IF(F6="Q1b",MucHoTro!$H$6,IF(F6="Q2",MucHoTro!$H$7,IF(F6="Q3",MucHoTro!$H$8,IF(F6="Q4",MucHoTro!$H$9))))) -> 1.1 | K6: =IF(G6="x",MucHoTro!$C$5,IF(H6="x",MucHoTro!$D$5,IF(I6="x",MucHoTro!$E$5))) -> 1.5 | L6: =J6*K6 -> 1.65 | M6: =L6*2000000 -> 3300000 | N6: =IF(F6<>"",INDEX(MucHoTro!$B$5:$B$10,MATCH(Sheet1!F6,MucHoTro!$G$5:$G$10,0),1),"") -> Tạp chí trong nhóm Q2 thuộc lĩnh vực nghiên cứu gần nhất của bài báo (Q2)
A7: 3 | B7: The deformation of AZ31 magnesium alloy during warm constrained groove pressing | C7: Hue Thi Hong Dang, Phạm Thị Thủy (đồng tác giả), Dao Minh Ngung, Pham Quang | F7: Q3 | G7: x | J7: =IF(F7="Q1a",MucHoTro!$H$5,IF(F7="Q1b",MucHoTro!$H$6,IF(F7="Q2",MucHoTro!$H$7,IF(F7="Q3",MucHoTro!$H$8,IF(F7="Q4",MucHoTro!$H$9))))) -> 0.9 | K7: =IF(G7="x",MucHoTro!$C$5,IF(H7="x",MucHoTro!$D$5,IF(I7="x",MucHoTro!$E$5))) -> 1.5 | L7: =J7*K7 -> 1.35 | M7: =L7*2000000 -> 2700000 | N7: =IF(F7<>"",INDEX(MucHoTro!$B$5:$B$10,MATCH(Sheet1!F7,MucHoTro!$G$5:$G$10,0),1),"") -> Tạp chí trong nhóm Q3 thuộc lĩnh vực nghiên cứu gần nhất của bài báo (Q3)
A8: 4 | B8: Effects of the Current Direction on the Energy Production of a Tidal Farm: The Case of Raz Blanchard (France) | C8: Nguyễn Văn Thịnh (tác giả chính), Alina Santa Cruz, Sylvain S. Guillou, Mohamad N. Shiekh Elsouk and Jérôme Thiébot | F8: Q2 | G8: x | J8: =IF(F8="Q1a",MucHoTro!$H$5,IF(F8="Q1b",MucHoTro!$H$6,IF(F8="Q2",MucHoTro!$H$7,IF(F8="Q3",MucHoTro!$H$8,IF(F8="Q4",MucHoTro!$H$9))))) -> 1.1 | K8: =IF(G8="x",MucHoTro!$C$5,IF(H8="x",MucHoTro!$D$5,IF(I8="x",MucHoTro!$E$5))) -> 1.5 | L8: =J8*K8 -> 1.65 | M8: =L8*2000000 -> 3300000 | N8: =IF(F8<>"",INDEX(MucHoTro!$B$5:$B$10,MATCH(Sheet1!F8,MucHoTro!$G$5:$G$10,0),1),"") -> Tạp chí trong nhóm Q2 thuộc lĩnh vực nghiên cứu gần nhất của bài báo (Q2)
A9: 5 | B9: Effects of Failure of the Ocean‐Bottom Seismograph Leveling System on Receiver Function Analysis | C9: Trần Danh Hùng (tác giả chính); Ting Yang; Ba Manh Le; Youqiang Yu | F9: Q1 | G9: x | J9: =IF(F9="Q1a",MucHoTro!$H$5,IF(F9="Q1b",MucHoTro!$H$6,IF(F9="Q2",MucHoTro!$H$7,IF(F9="Q3",MucHoTro!$H$8,IF(F9="Q4",MucHoTro!$H$9))))) -> FALSE | K9: =IF(G9="x",MucHoTro!$C$5,IF(H9="x",MucHoTro!$D$5,IF(I9="x",MucHoTro!$E$5))) -> 1.5 | L9: =J9*K9 -> 0 | M9: =L9*2000000 -> 0 | N9: =IF(F9<>"",INDEX(MucHoTro!$B$5:$B$10,MATCH(Sheet1!F9,MucHoTro!$G$5:$G$10,0),1),"") -> #N/A
A10: 6 | B10: Seismic‐impedance inversion with fuzzy clustering constraints: an example from the Carlin Gold District, Nevada, USA | C10: Kiều Duy Thông (tác giả chính) and Anton Kepic | F10: Q2 | G10: x | J10: =IF(F10="Q1a",MucHoTro!$H$5,IF(F10="Q1b",MucHoTro!$H$6,IF(F10="Q2",MucHoTro!$H$7,IF(F10="Q3",MucHoTro!$H$8,IF(F10="Q4",MucHoTro!$H$9))))) -> 1.1 | K10: =IF(G10="x",MucHoTro!$C$5,IF(H10="x",MucHoTro!$D$5,IF(I10="x",MucHoTro!$E$5))) -> 1.5 | L10: =J10*K10 -> 1.65 | M10: =L10*2000000 -> 3300000 | N10: =IF(F10<>"",INDEX(MucHoTro!$B$5:$B$10,MATCH(Sheet1!F10,MucHoTro!$G$5:$G$10,0),1),"") -> Tạp chí trong nhóm Q2 thuộc lĩnh vực nghiên cứu gần nhất của bài báo (Q2)
A11: 7 | B11: Recent tectonics, geodynamics and seismotectonics in the Ninh Thuan Nuclear Power plants and surrounding regions, South Vietnam | C11: Huong Nguyen Vana, Tran Van Phong, Phan Trong Trinh, nnk, Dương Văn Hào (đồng tác giả) | F11: Q1 | I11: x | J11: =IF(F11="Q1a",MucHoTro!$H$5,IF(F11="Q1b",MucHoTro!$H$6,IF(F11="Q2",MucHoTro!$H$7,IF(F11="Q3",MucHoTro!$H$8,IF(F11="Q4",MucHoTro!$H$9))))) -> FALSE | K11: =IF(G11="x",MucHoTro!$C$5,IF(H11="x",MucHoTro!$D$5,IF(I11="x",MucHoTro!$E$5))) -> 1 | L11: =J11*K11 -> 0 | M11: =L11*2000000 -> 0 | N11: =IF(F11<>"",INDEX(MucHoTro!$B$5:$B$10,MATCH(Sheet1!F11,MucHoTro!$G$5:$G$10,0),1),"") -> #N/A
A12: 8 | B12: Effect of tortuosity on diffusion of polystyrenes through chromatographic columns filled with fully porous and porous –shell particles and monoliths | C12: Nguyễn Khắc Long (tác giả chính), Véronique Wernert, André Morgado Lopes, Loïc Sorbier, Renaud Denoyel | F12: Q1 | I12: x | J12: =IF(F12="Q1a",MucHoTro!$H$5,IF(F12="Q1b",MucHoTro!$H$6,IF(F12="Q2",MucHoTro!$H$7,IF(F12="Q3",MucHoTro!$H$8,IF(F12="Q4",MucHoTro!$H$9))))) -> FALSE | K12: =IF(G12="x",MucHoTro!$C$5,IF(H12="x",MucHoTro!$D$5,IF(I12="x",MucHoTro!$E$5))) -> 1 | L12: =J12*K12 -> 0 | M12: =L12*2000000 -> 0 | N12: =IF(F12<>"",INDEX(MucHoTro!$B$5:$B$10,MATCH(Sheet1!F12,MucHoTro!$G$5:$G$10,0),1),"") -> #N/A
A13: 9 | B13: Study on the HPA immobilisation on Al-SBA-15 support over Brønsted groups | C13: T. H. Truong, V. Cuong Do, N. Mai Do, T. Q. Hung, Đoàn Văn Huấn (đồng tác giả), T. N. Nguyen, T. H. Doan, T. H. N. Le, T. Van Nguyen, L. G. Bach and Q. V. Tran | F13: Q2 | I13: x | J13: =IF(F13="Q1a",MucHoTro!$H$5,IF(F13="Q1b",MucHoTro!$H$6,IF(F13="Q2",MucHoTro!$H$7,IF(F13="Q3",MucHoTro!$H$8,IF(F13="Q4",MucHoTro!$H$9))))) -> 1.1 | K13: =IF(G13="x",MucHoTro!$C$5,IF(H13="x",MucHoTro!$D$5,IF(I13="x",MucHoTro!$E$5))) -> 1 | L13: =J13*K13 -> 1.1 | M13: =L13*2000000 -> 2200000 | N13: =IF(F13<>"",INDEX(MucHoTro!$B$5:$B$10,MATCH(Sheet1!F13,MucHoTro!$G$5:$G$10,0),1),"") -> Tạp chí trong nhóm Q2 thuộc lĩnh vực nghiên cứu gần nhất của bài báo (Q2)
A14: 10 | B14: Defective hierarchical porous copper-based metal-organic frameworks synthesised via facile acid etching strategy | C14: Đoàn Văn Huấn (tác giả chính), A. Sartbaeva, J.-C. Eloi, S. Davis and V. P. Ting | F14: Q1 | G14: x | J14: =IF(F14="Q1a",MucHoTro!$H$5,IF(F14="Q1b",MucHoTro!$H$6,IF(F14="Q2",MucHoTro!$H$7,IF(F14="Q3",MucHoTro!$H$8,IF(F14="Q4",MucHoTro!$H$9))))) -> FALSE | K14: =IF(G14="x",MucHoTro!$C$5,IF(H14="x",MucHoTro!$D$5,IF(I14="x",MucHoTro!$E$5))) -> 1.5 | L14: =J14*K14 -> 0 | M14: =L14*2000000 -> 0 | N14: =IF(F14<>"",INDEX(MucHoTro!$B$5:$B$10,MATCH(Sheet1!F14,MucHoTro!$G$5:$G$10,0),1),"") -> #N/A
A15: 11 | B15: Hierarchical Metal–Organic Frameworks with Macroporosity: Synthesis, Achievements, and Challenges | C15: Đoàn Văn Huấn, Karikkethu Prabhakaran, C. Petrillo and V. P. Ting | F15: Q1 | I15: x | J15: =IF(F15="Q1a",MucHoTro!$H$5,IF(F15="Q1b",MucHoTro!$H$6,IF(F15="Q2",MucHoTro!$H$7,IF(F15="Q3",MucHoTro!$H$8,IF(F15="Q4",MucHoTro!$H$9))))) -> FALSE | K15: =IF(G15="x",MucHoTro!$C$5,IF(H15="x",MucHoTro!$D$5,IF(I15="x",MucHoTro!$E$5))) -> 1 | L15: =J15*K15 -> 0 | M15: =L15*2000000 -> 0 | N15: =IF(F15<>"",INDEX(MucHoTro!$B$5:$B$10,MATCH(Sheet1!F15,MucHoTro!$G$5:$G$10,0),1),"") -> #N/A
A16: 12 | B16: Crystallization Mechanisms and Rates of Cyclopentane Hydrates Formation in Brine | C16: Hồ Văn Sơn (tác giả chính, tác giả liên hệ), Baptiste Bouillot, Daniel Garcia, Jérome Douzet, Ana Cameirao, Saheb Maghsoodloo-Babakhani, Jean-Michel Herri | F16: Q2 | I16: x | J16: =IF(F16="Q1a",MucHoTro!$H$5,IF(F16="Q1b",MucHoTro!$H$6,IF(F16="Q2",MucHoTro!$H$7,IF(F16="Q3",MucHoTro!$H$8,IF(F16="Q4",MucHoTro!$H$9))))) -> 1.1 | K16: =IF(G16="x",MucHoTro!$C$5,IF(H16="x",MucHoTro!$D$5,IF(I16="x",MucHoTro!$E$5))) -> 1 | L16: =J16*K16 -> 1.1 | M16: =L16*2000000 -> 2200000 | N16: =IF(F16<>"",INDEX(MucHoTro!$B$5:$B$10,MATCH(Sheet1!F16,MucHoTro!$G$5:$G$10,0),1),"") -> Tạp chí trong nhóm Q2 thuộc lĩnh vực nghiên cứu gần nhất của bài báo (Q2)
A17: 13 | B17: Cyclopentane hydrates – A candidate for desalination? | C17: Hồ Văn Sơn (tác giả chính, tác giả liên hệ), Baptiste Bouillot, Jérome Douzet, Saheb Maghsoodloo-Babakhani, Jean-Michel Herri | F17: Q1 | I17: x | J17: =IF(F17="Q1a",MucHoTro!$H$5,IF(F17="Q1b",MucHoTro!$H$6,IF(F17="Q2",MucHoTro!$H$7,IF(F17="Q3",MucHoTro!$H$8,IF(F17="Q4",MucHoTro!$H$9))))) -> FALSE | K17: =IF(G17="x",MucHoTro!$C$5,IF(H17="x",MucHoTro!$D$5,IF(I17="x",MucHoTro!$E$5))) -> 1 | L17: =J17*K17 -> 0 | M17: =L17*2000000 -> 0 | N17: =IF(F17<>"",INDEX(MucHoTro!$B$5:$B$10,MATCH(Sheet1!F17,MucHoTro!$G$5:$G$10,0),1),"") -> #N/A
A18: 14 | B18: Phase equilibrium measurements and modelling of mixed cyclopentane and carbon dioxide hydrates in presence of salts | C18: Saheb Maghsoodloo-Babakhani, Hồ Văn Sơn (đồng tác giả), Baptiste Bouillot, Jérome Douzet, Jean-Michel Herri | F18: Q1 | G18: x | J18: =IF(F18="Q1a",MucHoTro!$H$5,IF(F18="Q1b",MucHoTro!$H$6,IF(F18="Q2",MucHoTro!$H$7,IF(F18="Q3",MucHoTro!$H$8,IF(F18="Q4",MucHoTro!$H$9))))) -> FALSE | K18: =IF(G18="x",MucHoTro!$C$5,IF(H18="x",MucHoTro!$D$5,IF(I18="x",MucHoTro!$E$5))) -> 1.5 | L18: =J18*K18 -> 0 | M18: =L18*2000000 -> 0 | N18: =IF(F18<>"",INDEX(MucHoTro!$B$5:$B$10,MATCH(Sheet1!F18,MucHoTro!$G$5:$G$10,0),1),"") -> #N/A
A19: 15 | B19: The role of organic and inorganic UV-absorbents on photopolymerization and mechanical properties of acrylate-urethane coating | C19: Thien VuongNguyen, PhuongNguyen Tri, SohrabAzizi, Tran Chien Dang, Duc MinhHoang, Thu HaHoang, Nguyễn Thị Linh (Đồng tác giả), Thuy Thi LeBui, Viet HungDang, Ngọc LinhNguyen, The TamLe, Thi Ngoc LinhNguyen, Quoc TrungVu, Dai LamTran, Thi My LinhDang, Le TrongLu | F19: Q2 | G19: x | J19: =IF(F19="Q1a",MucHoTro!$H$5,IF(F19="Q1b",MucHoTro!$H$6,IF(F19="Q2",MucHoTro!$H$7,IF(F19="Q3",MucHoTro!$H$8,IF(F19="Q4",MucHoTro!$H$9))))) -> 1.1 | K19: =IF(G19="x",MucHoTro!$C$5,IF(H19="x",MucHoTro!$D$5,IF(I19="x",MucHoTro!$E$5))) -> 1.5 | L19: =J19*K19 -> 1.65 | M19: =L19*2000000 -> 3300000 | N19: =IF(F19<>"",INDEX(MucHoTro!$B$5:$B$10,MATCH(Sheet1!F19,MucHoTro!$G$5:$G$10,0),1),"") -> Tạp chí trong nhóm Q2 thuộc lĩnh vực nghiên cứu gần nhất của bài báo (Q2)
A20: 16 | B20: Prediction of Blast-induced Air Over-pressure: Assessment of Different Artificial Intelligence Techniques | C20: Bùi Xuân Nam (tác giả liên hệ), Nguyễn Hoàng, Hai-An Le, Bùi Hoàng Bắc, Đỗ Ngọc Hoàn | F20: Q1 | G20: x | J20: =IF(F20="Q1a",MucHoTro!$H$5,IF(F20="Q1b",MucHoTro!$H$6,IF(F20="Q2",MucHoTro!$H$7,IF(F20="Q3",MucHoTro!$H$8,IF(F20="Q4",MucHoTro!$H$9))))) -> FALSE | K20: =IF(G20="x",MucHoTro!$C$5,IF(H20="x",MucHoTro!$D$5,IF(I20="x",MucHoTro!$E$5))) -> 1.5 | L20: =J20*K20 -> 0 | M20: =L20*2000000 -> 0 | N20: =IF(F20<>"",INDEX(MucHoTro!$B$5:$B$10,MATCH(Sheet1!F20,MucHoTro!$G$5:$G$10,0),1),"") -> #N/A
A21: 17 | B21: A New Soft Computing Model for Estimating and Controlling Blast-Produced Ground Vibration Based on Hierarchical K-Means Clustering and Cubist Algorithms | C21: Nguyễn Hoàng (tác giả liên hệ), Bùi Xuân Nam, Trần Quang Hiếu, Ngoc-Luan Mai | F21: Q1 | G21: x | J21: =IF(F21="Q1a",MucHoTro!$H$5,IF(F21="Q1b",MucHoTro!$H$6,IF(F21="Q2",MucHoTro!$H$7,IF(F21="Q3",MucHoTro!$H$8,IF(F21="Q4",MucHoTro!$H$9))))) -> FALSE | K21: =IF(G21="x",MucHoTro!$C$5,IF(H21="x",MucHoTro!$D$5,IF(I21="x",MucHoTro!$E$5))) -> 1.5 | L21: =J21*K21 -> 0 | M21: =L21*2000000 -> 0 | N21: =IF(F21<>"",INDEX(MucHoTro!$B$5:$B$10,MATCH(Sheet1!F21,MucHoTro!$G$5:$G$10,0),1),"") -> #N/A
A22: 18 | B22: Developing an XGBoost model to predict blast-induced peak particle velocity in an open-pit mine: a case study | C22: Nguyễn Hoàng (tác giả liên hệ), Bùi Xuân Nam, Bùi Hoàng Bắc, Dao Trong Cuong | F22: Q3 | I22: x | J22: =IF(F22="Q1a",MucHoTro!$H$5,IF(F22="Q1b",MucHoTro!$H$6,IF(F22="Q2",MucHoTro!$H$7,IF(F22="Q3",MucHoTro!$H$8,IF(F22="Q4",MucHoTro!$H$9))))) -> 0.9 | K22: =IF(G22="x",MucHoTro!$C$5,IF(H22="x",MucHoTro!$D$5,IF(I22="x",MucHoTro!$E$5))) -> 1 | L22: =J22*K22 -> 0.9 | M22: =L22*2000000 -> 1800000 | N22: =IF(F22<>"",INDEX(MucHoTro!$B$5:$B$10,MATCH(Sheet1!F22,MucHoTro!$G$5:$G$10,0),1),"") -> Tạp chí trong nhóm Q3 thuộc lĩnh vực nghiên cứu gần nhất của bài báo (Q3)
A23: 19 | B23: Prediction of Blast-Induced Ground Vibration in an Open-Pit Mine by a Novel Hybrid Model Based on Clustering and Artificial Neural Network | C23: Nguyễn Hoàng (tác giả liên hệ), Carsten Drebenstedt, Bùi Xuân Nam, Dieu Tien Bui | F23: Q1 | G23: x | J23: =IF(F23="Q1a",MucHoTro!$H$5,IF(F23="Q1b",MucHoTro!$H$6,IF(F23="Q2",MucHoTro!$H$7,IF(F23="Q3",MucHoTro!$H$8,IF(F23="Q4",MucHoTro!$H$9))))) -> FALSE | K23: =IF(G23="x",MucHoTro!$C$5,IF(H23="x",MucHoTro!$D$5,IF(I23="x",MucHoTro!$E$5))) -> 1.5 | L23: =J23*K23 -> 0 | M23: =L23*2000000 -> 0 | N23: =IF(F23<>"",INDEX(MucHoTro!$B$5:$B$10,MATCH(Sheet1!F23,MucHoTro!$G$5:$G$10,0),1),"") -> #N/A
A24: 20 | B24: Prediction of ultimate bearing capacity through various novel evolutionary and neural network models | C24: Hossein Moayedi, Arash Moatamediyan, Nguyễn Hoàng, Bùi Xuân Nam (đồng tác giả), Dieu Tien Bui, Ahmad Safuan A. Rashid | F24: Q2 | G24: x | J24: =IF(F24="Q1a",MucHoTro!$H$5,IF(F24="Q1b",MucHoTro!$H$6,IF(F24="Q2",MucHoTro!$H$7,IF(F24="Q3",MucHoTro!$H$8,IF(F24="Q4",MucHoTro!$H$9))))) -> 1.1 | K24: =IF(G24="x",MucHoTro!$C$5,IF(H24="x",MucHoTro!$D$5,IF(I24="x",MucHoTro!$E$5))) -> 1.5 | L24: =J24*K24 -> 1.65 | M24: =L24*2000000 -> 3300000 | N24: =IF(F24<>"",INDEX(MucHoTro!$B$5:$B$10,MATCH(Sheet1!F24,MucHoTro!$G$5:$G$10,0),1),"") -> Tạp chí trong nhóm Q2 thuộc lĩnh vực nghiên cứu gần nhất của bài báo (Q2)
A25: 21 | B25: Optimizing Levenberg–Marquardt backpropagation technique in predicting factor of safety of slopes after two-dimensional OptumG2 analysis | C25: Bùi Xuân Nam, Mohammed Abdullahi Muazu, Hoang Nguyen | F25: Q2 | I25: x | J25: =IF(F25="Q1a",MucHoTro!$H$5,IF(F25="Q1b",MucHoTro!$H$6,IF(F25="Q2",MucHoTro!$H$7,IF(F25="Q3",MucHoTro!$H$8,IF(F25="Q4",MucHoTro!$H$9))))) -> 1.1 | K25: =IF(G25="x",MucHoTro!$C$5,IF(H25="x",MucHoTro!$D$5,IF(I25="x",MucHoTro!$E$5))) -> 1 | L25: =J25*K25 -> 1.1 | M25: =L25*2000000 -> 2200000 | N25: =IF(F25<>"",INDEX(MucHoTro!$B$5:$B$10,MATCH(Sheet1!F25,MucHoTro!$G$5:$G$10,0),1),"") -> Tạp chí trong nhóm Q2 thuộc lĩnh vực nghiên cứu gần nhất của bài báo (Q2)
A26: 22 | B26: Neuro-genetic, neuro-imperialism and genetic programing models in predicting ultimate bearing capacity of pile | C26: Wusi Chen, Payam Sarir, Bùi Xuân Nam, Nguyễn Hoàng, M. M. Tahir, Danial Jahed Armaghani | F26: Q2 | I26: x | J26: =IF(F26="Q1a",MucHoTro!$H$5,IF(F26="Q1b",MucHoTro!$H$6,IF(F26="Q2",MucHoTro!$H$7,IF(F26="Q3",MucHoTro!$H$8,IF(F26="Q4",MucHoTro!$H$9))))) -> 1.1 | K26: =IF(G26="x",MucHoTro!$C$5,IF(H26="x",MucHoTro!$D$5,IF(I26="x",MucHoTro!$E$5))) -> 1 | L26: =J26*K26 -> 1.1 | M26: =L26*2000000 -> 2200000 | N26: =IF(F26<>"",INDEX(MucHoTro!$B$5:$B$10,MATCH(Sheet1!F26,MucHoTro!$G$5:$G$10,0),1),"") -> Tạp chí trong nhóm Q2 thuộc lĩnh vực nghiên cứu gần nhất của bài báo (Q2)
A27: 23 | B27: Novel Soft Computing Model for Predicting Blast-Induced Ground Vibration in Open-Pit Mines Based on Particle Swarm Optimization and XGBoost | C27: Xiliang Zhang, Hoang Nguyen, Bùi Xuân Nam, Trần Quang Hiếu, Nguyễn Đình An, Dieu Tien Bui, Hossein Moayedi | F27: Q1 | I27: x | J27: =IF(F27="Q1a",MucHoTro!$H$5,IF(F27="Q1b",MucHoTro!$H$6,IF(F27="Q2",MucHoTro!$H$7,IF(F27="Q3",MucHoTro!$H$8,IF(F27="Q4",MucHoTro!$H$9))))) -> FALSE | K27: =IF(G27="x",MucHoTro!$C$5,IF(H27="x",MucHoTro!$D$5,IF(I27="x",MucHoTro!$E$5))) -> 1 | L27: =J27*K27 -> 0 | M27: =L27*2000000 -> 0 | N27: =IF(F27<>"",INDEX(MucHoTro!$B$5:$B$10,MATCH(Sheet1!F27,MucHoTro!$G$5:$G$10,0),1),"") -> #N/A
A28: 24 | B28: Composition and Morphology Characteristics of Magnetic Fractions of Coal Fly Ash Wastes Processed in High-Temperature Exposure in Thermal Power Plants | C28: Vũ Đình Hiếu, Bùi Hoàng Bắc, Bahareh Kalantar, Bùi Xuân Nam, Nguyễn Đình An, Lê Quý Thảo, Đỗ Ngọc Hoàn, Hoang Nguyen | F28: Q3 | G28: x | J28: =IF(F28="Q1a",MucHoTro!$H$5,IF(F28="Q1b",MucHoTro!$H$6,IF(F28="Q2",MucHoTro!$H$7,IF(F28="Q3",MucHoTro!$H$8,IF(F28="Q4",MucHoTro!$H$9))))) -> 0.9 | K28: =IF(G28="x",MucHoTro!$C$5,IF(H28="x",MucHoTro!$D$5,IF(I28="x",MucHoTro!$E$5))) -> 1.5 | L28: =J28*K28 -> 1.35 | M28: =L28*2000000 -> 2700000 | N28: =IF(F28<>"",INDEX(MucHoTro!$B$5:$B$10,MATCH(Sheet1!F28,MucHoTro!$G$5:$G$10,0),1),"") -> Tạp chí trong nhóm Q3 thuộc lĩnh vực nghiên cứu gần nhất của bài báo (Q3)
A29: 25 | B29: A comparison of advanced computational models and experimental techniques in predicting blast-induced ground vibration in open-pit coal mine | C29: Hoang Nguyen, Bùi Xuân Nam, Hossein Moayedi | F29: Q3 | I29: x | J29: =IF(F29="Q1a",MucHoTro!$H$5,IF(F29="Q1b",MucHoTro!$H$6,IF(F29="Q2",MucHoTro!$H$7,IF(F29="Q3",MucHoTro!$H$8,IF(F29="Q4",MucHoTro!$H$9))))) -> 0.9 | K29: =IF(G29="x",MucHoTro!$C$5,IF(H29="x",MucHoTro!$D$5,IF(I29="x",MucHoTro!$E$5))) -> 1 | L29: =J29*K29 -> 0.9 | M29: =L29*2000000 -> 1800000 | N29: =IF(F29<>"",INDEX(MucHoTro!$B$5:$B$10,MATCH(Sheet1!F29,MucHoTro!$G$5:$G$10,0),1),"") -> Tạp chí trong nhóm Q3 thuộc lĩnh vực nghiên cứu gần nhất của bài báo (Q3)
A30: 26 | B30: A Novel Artificial Intelligence Approach to Predict Blast-Induced Ground Vibration in Open-Pit Mines Based on the Firefly Algorithm and Artificial Neural Network | C30: Yonghui Shang, Hoang Nguyen, Bùi Xuân Nam, Trần Quang Hiếu, Hossein Moayedi | F30: Q1 | G30: x | J30: =IF(F30="Q1a",MucHoTro!$H$5,IF(F30="Q1b",MucHoTro!$H$6,IF(F30="Q2",MucHoTro!$H$7,IF(F30="Q3",MucHoTro!$H$8,IF(F30="Q4",MucHoTro!$H$9))))) -> FALSE | K30: =IF(G30="x",MucHoTro!$C$5,IF(H30="x",MucHoTro!$D$5,IF(I30="x",MucHoTro!$E$5))) -> 1.5 | L30: =J30*K30 -> 0 | M30: =L30*2000000 -> 0 | N30: =IF(F30<>"",INDEX(MucHoTro!$B$5:$B$10,MATCH(Sheet1!F30,MucHoTro!$G$5:$G$10,0),1),"") -> #N/A
A31: 27 | B31: Estimating PM10 Concentration from Drilling Operations in Open-Pit Mines Using an Assembly of SVR and PSO | C31: Bùi Xuân Nam (tác giả liên hệ), Chang Woo Lee, Hoang Nguyen, Bùi Hoàng Bắc, Nguyễn Quốc Long, Lê Quý Thảo, Van-Duc Nguyen, Ngoc-Bich Nguyen, Hossein Moayedi | F31: Q1 | G31: x | J31: =IF(F31="Q1a",MucHoTro!$H$5,IF(F31="Q1b",MucHoTro!$H$6,IF(F31="Q2",MucHoTro!$H$7,IF(F31="Q3",MucHoTro!$H$8,IF(F31="Q4",MucHoTro!$H$9))))) -> FALSE | K31: =IF(G31="x",MucHoTro!$C$5,IF(H31="x",MucHoTro!$D$5,IF(I31="x",MucHoTro!$E$5))) -> 1.5 | L31: =J31*K31 -> 0 | M31: =L31*2000000 -> 0 | N31: =IF(F31<>"",INDEX(MucHoTro!$B$5:$B$10,MATCH(Sheet1!F31,MucHoTro!$G$5:$G$10,0),1),"") -> #N/A
A32: 28 | B32: Predicting blast-induced peak particle velocity using BGAMs, ANN and SVM: a case study at the Nui Beo open-pit coal mine in Vietnam | C32: Hoang Nguyen, Bùi Xuân Nam, Trần Quang Hiếu, Hossein Moayedi | F32: Q2 | I32: x | J32: =IF(F32="Q1a",MucHoTro!$H$5,IF(F32="Q1b",MucHoTro!$H$6,IF(F32="Q2",MucHoTro!$H$7,IF(F32="Q3",MucHoTro!$H$8,IF(F32="Q4",MucHoTro!$H$9))))) -> 1.1 | K32: =IF(G32="x",MucHoTro!$C$5,IF(H32="x",MucHoTro!$D$5,IF(I32="x",MucHoTro!$E$5))) -> 1 | L32: =J32*K32 -> 1.1 | M32: =L32*2000000 -> 2200000 | N32: =IF(F32<>"",INDEX(MucHoTro!$B$5:$B$10,MATCH(Sheet1!F32,MucHoTro!$G$5:$G$10,0),1),"") -> Tạp chí trong nhóm Q2 thuộc lĩnh vực nghiên cứu gần nhất của bài báo (Q2)
A33: 29 | B33: A New Technique to Predict Fly-rock in Bench Blasting Based on an Ensemble of Support Vector Regression and GLMNET | C33: Hoang Nguyen,Bùi Xuân Nam, Trần Quang Hiếu, Hossein Moayedi | F33: Q1 | G33: x | J33: =IF(F33="Q1a",MucHoTro!$H$5,IF(F33="Q1b",MucHoTro!$H$6,IF(F33="Q2",MucHoTro!$H$7,IF(F33="Q3",MucHoTro!$H$8,IF(F33="Q4",MucHoTro!$H$9))))) -> FALSE | K33: =IF(G33="x",MucHoTro!$C$5,IF(H33="x",MucHoTro!$D$5,IF(I33="x",MucHoTro!$E$5))) -> 1.5 | L33: =J33*K33 -> 0 | M33: =L33*2000000 -> 0 | N33: =IF(F33<>"",INDEX(MucHoTro!$B$5:$B$10,MATCH(Sheet1!F33,MucHoTro!$G$5:$G$10,0),1),"") -> #N/A
A34: 30 | B34: A novel approach in adsorption of heavy metal ions from aqueous solution using synthesized MCM-41 from coal bottom ash | C34: Vũ Đình Hiếu, Hoang-Bac Bui, Bùi Xuân Nam, Nguyễn Đình An, Lê Quý Thảo, Đỗ Ngọc Hoàn, Hoang Nguyen | F34: Q3 | G34: x | J34: =IF(F34="Q1a",MucHoTro!$H$5,IF(F34="Q1b",MucHoTro!$H$6,IF(F34="Q2",MucHoTro!$H$7,IF(F34="Q3",MucHoTro!$H$8,IF(F34="Q4",MucHoTro!$H$9))))) -> 0.9 | K34: =IF(G34="x",MucHoTro!$C$5,IF(H34="x",MucHoTro!$D$5,IF(I34="x",MucHoTro!$E$5))) -> 1.5 | L34: =J34*K34 -> 1.35 | M34: =L34*2000000 -> 2700000 | N34: =IF(F34<>"",INDEX(MucHoTro!$B$5:$B$10,MATCH(Sheet1!F34,MucHoTro!$G$5:$G$10,0),1),"") -> Tạp chí trong nhóm Q3 thuộc lĩnh vực nghiên cứu gần nhất của bài báo (Q3)
A35: 31 | B35: A novel artificial intelligence technique for analyzing slope stability using PSO-CA model | C35: Zhenyan Luo, Bùi Xuân Nam, Hoang Nguyen, Hossein Moayedi | F35: Q1 | G35: x | J35: =IF(F35="Q1a",MucHoTro!$H$5,IF(F35="Q1b",MucHoTro!$H$6,IF(F35="Q2",MucHoTro!$H$7,IF(F35="Q3",MucHoTro!$H$8,IF(F35="Q4",MucHoTro!$H$9))))) -> FALSE | K35: =IF(G35="x",MucHoTro!$C$5,IF(H35="x",MucHoTro!$D$5,IF(I35="x",MucHoTro!$E$5))) -> 1.5 | L35: =J35*K35 -> 0 | M35: =L35*2000000 -> 0 | N35: =IF(F35<>"",INDEX(MucHoTro!$B$5:$B$10,MATCH(Sheet1!F35,MucHoTro!$G$5:$G$10,0),1),"") -> #N/A
A36: 32 | B36: A Novel Swarm Intelligence—Harris Hawks Optimization for Spatial Assessment of Landslide Susceptibility | C36: Dieu Tien Bui, Hossein Moayedi, Bahareh Kalantar, Abdolreza Osouli, Biswajeet Pradhan, Nguyễn Hoàng, Ahmad Safuan A Rashid | F36: Q1 | I36: x | J36: =IF(F36="Q1a",MucHoTro!$H$5,IF(F36="Q1b",MucHoTro!$H$6,IF(F36="Q2",MucHoTro!$H$7,IF(F36="Q3",MucHoTro!$H$8,IF(F36="Q4",MucHoTro!$H$9))))) -> FALSE | K36: =IF(G36="x",MucHoTro!$C$5,IF(H36="x",MucHoTro!$D$5,IF(I36="x",MucHoTro!$E$5))) -> 1 | L36: =J36*K36 -> 0 | M36: =L36*2000000 -> 0 | N36: =IF(F36<>"",INDEX(MucHoTro!$B$5:$B$10,MATCH(Sheet1!F36,MucHoTro!$G$5:$G$10,0),1),"") -> #N/A
A37: 33 | B37: Forecasting mining capital cost for open-pit mining projects based on artificial neural network approach | C37: Hongquan Guo, Hoang Nguyen, Vũ Diệp Anh, Bùi Xuân Nam (đồng tác giả) | F37: Q1 | I37: x | J37: =IF(F37="Q1a",MucHoTro!$H$5,IF(F37="Q1b",MucHoTro!$H$6,IF(F37="Q2",MucHoTro!$H$7,IF(F37="Q3",MucHoTro!$H$8,IF(F37="Q4",MucHoTro!$H$9))))) -> FALSE | K37: =IF(G37="x",MucHoTro!$C$5,IF(H37="x",MucHoTro!$D$5,IF(I37="x",MucHoTro!$E$5))) -> 1 | L37: =J37*K37 -> 0 | M37: =L37*2000000 -> 0 | N37: =IF(F37<>"",INDEX(MucHoTro!$B$5:$B$10,MATCH(Sheet1!F37,MucHoTro!$G$5:$G$10,0),1),"") -> #N/A
A38: 34 | B38: Prediction of Pullout Behavior of Belled Piles through Various Machine Learning Modelling Techniques | C38: Dieu Tien Bui, Hossein Moayedi, Mu’azu Mohammed Abdullahi, Ahmad Safuan A Rashid, Nguyễn Hoàng (đồng tác giả) | F38: Q1 | I38: x | J38: =IF(F38="Q1a",MucHoTro!$H$5,IF(F38="Q1b",MucHoTro!$H$6,IF(F38="Q2",MucHoTro!$H$7,IF(F38="Q3",MucHoTro!$H$8,IF(F38="Q4",MucHoTro!$H$9))))) -> FALSE | K38: =IF(G38="x",MucHoTro!$C$5,IF(H38="x",MucHoTro!$D$5,IF(I38="x",MucHoTro!$E$5))) -> 1 | L38: =J38*K38 -> 0 | M38: =L38*2000000 -> 0 | N38: =IF(F38<>"",INDEX(MucHoTro!$B$5:$B$10,MATCH(Sheet1!F38,MucHoTro!$G$5:$G$10,0),1),"") -> #N/A
A39: 35 | B39: Computational Intelligence Model for Estimating Intensity of Blast-Induced Ground Vibration in a Mine Based on Imperialist Competitive and Extreme Gradient Boosting Algorithms | C39: Ziwei Ding, Hoang Nguyen, Bùi Xuân Nam (đồng tác giả), Jian Zhou, Hossein Moayedi | F39: Q2 | I39: x | J39: =IF(F39="Q1a",MucHoTro!$H$5,IF(F39="Q1b",MucHoTro!$H$6,IF(F39="Q2",MucHoTro!$H$7,IF(F39="Q3",MucHoTro!$H$8,IF(F39="Q4",MucHoTro!$H$9))))) -> 1.1 | K39: =IF(G39="x",MucHoTro!$C$5,IF(H39="x",MucHoTro!$D$5,IF(I39="x",MucHoTro!$E$5))) -> 1 | L39: =J39*K39 -> 1.1 | M39: =L39*2000000 -> 2200000 | N39: =IF(F39<>"",INDEX(MucHoTro!$B$5:$B$10,MATCH(Sheet1!F39,MucHoTro!$G$5:$G$10,0),1),"") -> Tạp chí trong nhóm Q2 thuộc lĩnh vực nghiên cứu gần nhất của bài báo (Q2)
A40: 36 | B40: Fine-tuning of neural computing using whale optimization algorithm for predicting compressive strength of concrete | C40: Dieu Tien Bui, Mu’azu Mohammed Abdullahi, Soheil Ghareh, Hossein Moayedi, Nguyễn Hoàng (đồng tác giả) | F40: Q1 | I40: x | J40: =IF(F40="Q1a",MucHoTro!$H$5,IF(F40="Q1b",MucHoTro!$H$6,IF(F40="Q2",MucHoTro!$H$7,IF(F40="Q3",MucHoTro!$H$8,IF(F40="Q4",MucHoTro!$H$9))))) -> FALSE | K40: =IF(G40="x",MucHoTro!$C$5,IF(H40="x",MucHoTro!$D$5,IF(I40="x",MucHoTro!$E$5))) -> 1 | L40: =J40*K40 -> 0 | M40: =L40*2000000 -> 0 | N40: =IF(F40<>"",INDEX(MucHoTro!$B$5:$B$10,MATCH(Sheet1!F40,MucHoTro!$G$5:$G$10,0),1),"") -> #N/A
...

Sheet MucHoTro
C2: Mức hỗ trợ (VNĐ)
A3: TT | B3: Loại tạp chí | C3: Nếu tác giả thứ nhất là cán bộ thuộc biên chế của Nhà trường | D3: Nếu tác giả liên hệ mà không là tác giả thứ nhất là cán bộ thuộc biên chế của Nhà trường | E3: Trường hợp khác | G3: Mã hiệu
A4: 1 | B4: Tạp chí thuộc danh mục ISI (SCI/SCIE)
A5: 1.1 | B5: =Sheet1!B129 -> Tạp chí nằm trong Top 30% tạp chí đứng đầu lĩnh vực nghiên cứu gần nhất của bài báo (Q1a) | C5: 1.5 | D5: 1.25 | E5: 1 | G5: Q1a | H5: 2
A6: 1.2 | B6: =Sheet1!C129 -> Tạp chí nằm ngoài Top 30% tạp chí đứng đầu nhóm Q1 thuộc lĩnh vực nghiên cứu gần nhất của bài báo (Q1b) | G6: Q1b | H6: 1.2
A7: 1.3 | B7: =Sheet1!F129 -> Tạp chí trong nhóm Q2 thuộc lĩnh vực nghiên cứu gần nhất của bài báo (Q2) | G7: Q2 | H7: 1.1
A8: 1.4 | B8: =Sheet1!H129 -> Tạp chí trong nhóm Q3 thuộc lĩnh vực nghiên cứu gần nhất của bài báo (Q3) | G8: Q3 | H8: 0.9
A9: 1.5 | B9: =Sheet1!J129 -> Tạp chí trong nhóm Q4 thuộc lĩnh vực nghiên cứu gần nhất của bài báo (Q4) | G9: Q4 | H9: 0.8
A10: 2 | B10: Tạp chí thuộc danh mục SCOPUS | G10: S
D11: Tổng chi | E11: =#REF! -> #REF!
D12: Kinh phí Bộ cấp | E12: 438000000
D13: Vênh: | E13: =E11-E12 -> #REF!

Sheet Phụ lục cách tính tiền bài báo
A2: PHỤ LỤC
A3: (kèm theo Quyết định số …………...ngày …..…tháng năm 2021)
A5: I. Phương án phân bổ kinh phí cho các bài báo
A6: Số tiền thực nhận của bài báo được tính theo công thức sau: Số tiền thực nhận = Hệ số tác giả x Hệ số bài báo x 2.000.000
A7: Trong đó:
A8: Hệ số tác giả được xác định như sau:
B9: Nếu tác giả thứ nhất là cán bộ thuộc biên chế của Nhà trường | C9: Nếu tác giả liên hệ mà không là tác giả thứ nhất là cán bộ thuộc biên chế của Nhà trường | D9: Đồng tác giả
A10: Hệ số tác giả | B10: =MucHoTro!C5 -> 1.5 | C10: =MucHoTro!D5 -> 1.25 | D10: =MucHoTro!E5 -> 1
A11: Hệ số bài báo được xác định như sau:
B12: Tạp chí nằm trong Top 30% tạp chí đứng đầu lĩnh vực nghiên cứu gần nhất của bài báo (Q1a) | C12: Tạp chí nằm ngoài Top 30% tạp chí đứng đầu nhóm Q1 thuộc lĩnh vực nghiên cứu gần nhất của bài báo (Q1b) | D12: Tạp chí trong nhóm Q2 thuộc lĩnh vực nghiên cứu gần nhất của bài báo (Q2) | E12: Tạp chí trong nhóm Q3 thuộc lĩnh vực nghiên cứu gần nhất của bài báo (Q3) | F12: Tạp chí trong nhóm Q4 thuộc lĩnh vực nghiên cứu gần nhất của bài báo (Q4)
A13: Hệ số bài báo | B13: =MucHoTro!H5 -> 2 | C13: =MucHoTro!H6 -> 1.2 | D13: =MucHoTro!H7 -> 1.1 | E13: =MucHoTro!H8 -> 0.9 | F13: =MucHoTro!H9 -> 0.8
A15: II. Phương án phân bổ kinh phí cho cá nhân tham gia bài báo
A16: Nguyên tắc tính: Mức hỗ trợ là số tiền chi cho 1 bài báo. - Nếu bài báo chỉ có 1 tác giả thuộc biên chế Trường Đại học Mỏ - Địa chất (HUMG) thì tác giả đó nhận toàn bộ số tiền thưởng của bài báo. - Nếu bài báo có số tác giả thuộc HUMG từ 2 trở lên thì tỷ lệ chia như sau: + 30% cho tác giả thứ nhất (nếu là tác giả HUMG); + 30% cho tác giả liên hệ (Corresponding author) (nếu là tác giả HUMG); + Số tiền còn lại sau khi trừ đi số tiền chi cho tác giả thứ nhất (nếu có) và tác giả liên hệ (nếu có) chia đều cho tất cả các thành viên là tác giả HUMG.
A17: Duyệt BGH | D17: Phòng KHCN

Sheet Danh sach gui Tai chinh
A2: BẢNG KÊ NHẬN KINH PHÍ THƯỞNG BÀI BÁO ĐĂNG TRÊN HỆ THỐNG TẠP CHÍ ISI, SCI, SCIE NĂM 2020
A3: (theo Quyết định số 666/QĐ-MĐC ngày 04 tháng 8 năm 2021)
A5: TT | B5: Họ và tên | C5: Đơn vị công tác | D5: Số tiền thực nhận (vnđ) | E5: Số tài khoản | F5: Ghi chú
A6: 1 | B6: Trần Trung Chuyên | C6: Bộ môn Tin học trắc địa | D6: =SUMIF('DS theo Quyet dinh khen thuong'!$L$6:$L$472,B6,'DS theo Quyet dinh khen thuong'!$S$6:$S$472) -> 5500000 | E6: 21510000050541
A7: 2 | B7: Đỗ Như Ý | C7: Bộ môn Điện khí hóa | D7: =SUMIF('DS theo Quyet dinh khen thuong'!$L$6:$L$472,B7,'DS theo Quyet dinh khen thuong'!$S$6:$S$472) -> 3100000 | E7: 21510000362431
A8: 3 | B8: Hồ Việt Bun | C8: Bộ môn Điện khí hóa | D8: =SUMIF('DS theo Quyet dinh khen thuong'!$L$6:$L$472,B8,'DS theo Quyet dinh khen thuong'!$S$6:$S$472) -> 2160000 | E8: 21510000362440
A9: 4 | B9: Lê Xuân Thành | C9: Bộ môn Điện khí hóa | D9: =SUMIF('DS theo Quyet dinh khen thuong'!$L$6:$L$472,B9,'DS theo Quyet dinh khen thuong'!$S$6:$S$472) -> 540000 | E9: 21510000079494
A10: 5 | B10: Nguyễn Đăng Tấn | C10: Bộ môn Máy và Thiết bị Công nghiệp | D10: =SUMIF('DS theo Quyet dinh khen thuong'!$L$6:$L$472,B10,'DS theo Quyet dinh khen thuong'!$S$6:$S$472) -> 2700000 | E10: 42710000545699 | F10: Nghỉ hưu từ 02/2020
A11: 6 | B11: Nguyễn Văn Xô | C11: Bộ môn Máy và Thiết bị Công nghiệp | D11: =SUMIF('DS theo Quyet dinh khen thuong'!$L$6:$L$472,B11,'DS theo Quyet dinh khen thuong'!$S$6:$S$472) -> 4600000 | E11: 21510000081064
A12: 7 | B12: Phạm Đức Thiên | C12: Bộ môn Kỹ thuật cơ khí | D12: =SUMIF('DS theo Quyet dinh khen thuong'!$L$6:$L$472,B12,'DS theo Quyet dinh khen thuong'!$S$6:$S$472) -> 540000 | E12: 21510000362592
A13: 8 | B13: Trần Đức Huân | C13: Bộ môn Kỹ thuật cơ khí | D13: =SUMIF('DS theo Quyet dinh khen thuong'!$L$6:$L$472,B13,'DS theo Quyet dinh khen thuong'!$S$6:$S$472) -> 2160000 | E13: 21510000801828 | F13: Học TS tại Nga
A14: 9 | B14: Bùi Thị Lệ Thủy | C14: Bộ môn Lọc hóa dầu | D14: =SUMIF('DS theo Quyet dinh khen thuong'!$L$6:$L$472,B14,'DS theo Quyet dinh khen thuong'!$S$6:$S$472) -> 5720000 | E14: 21510000392890
A15: 10 | B15: Bùi Thị Ngân | C15: Bộ môn Địa chất dầu khí | D15: =SUMIF('DS theo Quyet dinh khen thuong'!$L$6:$L$472,B15,'DS theo Quyet dinh khen thuong'!$S$6:$S$472) -> 216000 | E15: 21510001423933
A16: 11 | B16: Dương Văn Hào | C16: Bộ môn Địa vật lý | D16: =SUMIF('DS theo Quyet dinh khen thuong'!$L$6:$L$472,B16,'DS theo Quyet dinh khen thuong'!$S$6:$S$472) -> 4395000 | E16: 21510000820957
A17: 12 | B17: Đoàn Văn Huấn | C17: Bộ môn Lọc hóa dầu | D17: =SUMIF('DS theo Quyet dinh khen thuong'!$L$6:$L$472,B17,'DS theo Quyet dinh khen thuong'!$S$6:$S$472) -> 6297500 | E17: 21510000053328
A18: 13 | B18: Hồ Văn Sơn | C18: Bộ môn Lọc hóa dầu | D18: =SUMIF('DS theo Quyet dinh khen thuong'!$L$6:$L$472,B18,'DS theo Quyet dinh khen thuong'!$S$6:$S$472) -> 440000 | E18: 21510000667394
A19: 14 | B19: Lê Ngọc Ánh | C19: Bộ môn Địa chất dầu khí | D19: =SUMIF('DS theo Quyet dinh khen thuong'!$L$6:$L$472,B19,'DS theo Quyet dinh khen thuong'!$S$6:$S$472) -> 1836000 | E19: 21510000360611 | F19: Học TS tại Anh
A20: 15 | B20: Ngô Hà Sơn | C20: Bộ môn Lọc hóa dầu | D20: =SUMIF('DS theo Quyet dinh khen thuong'!$L$6:$L$472,B20,'DS theo Quyet dinh khen thuong'!$S$6:$S$472) -> 1280000 | E20: 21510000567342
A21: 16 | B21: Nguyễn Duy Mười | C21: Bộ môn Địa chất dầu khí | D21: =SUMIF('DS theo Quyet dinh khen thuong'!$L$6:$L$472,B21,'DS theo Quyet dinh khen thuong'!$S$6:$S$472) -> 216000 | E21: 21510000626289
A22: 17 | B22: Nguyễn Minh Hòa | C22: Bộ môn Địa chất dầu khí | D22: =SUMIF('DS theo Quyet dinh khen thuong'!$L$6:$L$472,B22,'DS theo Quyet dinh khen thuong'!$S$6:$S$472) -> 216000 | E22: 21510001422833 | F22: Học TS tại Nga
A23: 18 | B23: Nguyễn Thị Hải Yến | C23: Bộ môn Thiết bị Dầu khí và Công trình | D23: =SUMIF('DS theo Quyet dinh khen thuong'!$L$6:$L$472,B23,'DS theo Quyet dinh khen thuong'!$S$6:$S$472) -> 540000 | E23: 21510000553794
A24: 19 | B24: Nguyễn Văn Thịnh | C24: Bộ môn Thiết bị Dầu khí và Công trình | D24: ='DS theo Quyet dinh khen thuong'!S60 -> 2160000 | E24: 21510000076200
A25: 20 | B25: Phạm Trung Kiên | C25: Bộ môn Lọc hóa dầu | D25: =SUMIF('DS theo Quyet dinh khen thuong'!$L$6:$L$472,B25,'DS theo Quyet dinh khen thuong'!$S$6:$S$472) -> 3300000 | E25: 21510000392881
A26: 21 | B26: Phạm Văn Tuấn | C26: Bộ môn Địa chất dầu khí | D26: =SUMIF('DS theo Quyet dinh khen thuong'!$L$6:$L$472,B26,'DS theo Quyet dinh khen thuong'!$S$6:$S$472) -> 216000 | E26: 21510000438323
A27: 22 | B27: Phạm Xuân Núi | C27: Bộ môn Lọc hóa dầu | D27: =SUMIF('DS theo Quyet dinh khen thuong'!$L$6:$L$472,B27,'DS theo Quyet dinh khen thuong'!$S$6:$S$472) -> 14562500 | E27: 21510000359901
A28: 23 | B28: Triệu Hùng Trường | C28: Bộ môn Thiết bị Dầu khí và Công trình | D28: =SUMIF('DS theo Quyet dinh khen thuong'!$L$6:$L$472,B28,'DS theo Quyet dinh khen thuong'!$S$6:$S$472) -> 3660000 | E28: 21510000082872
A29: 24 | B29: Nguyễn Đức Thắng | C29: Bộ môn Quản trị doanh nghiệp Mỏ | D29: =SUMIF('DS theo Quyet dinh khen thuong'!$L$6:$L$472,B29,'DS theo Quyet dinh khen thuong'!$S$6:$S$472) -> 1800000 | E29: 21510000499038
A30: 25 | B30: Nguyễn Thị Hoài Nga | C30: Bộ môn Quản trị doanh nghiệp Mỏ | D30: =SUMIF('DS theo Quyet dinh khen thuong'!$L$6:$L$472,B30,'DS theo Quyet dinh khen thuong'!$S$6:$S$472) -> 8236000 | E30: 21510000079829
A31: 26 | B31: Nguyễn Thị Kim Ngân | C31: Bộ môn Quản trị doanh nghiệp Địa chất - Dầu khí | D31: =SUMIF('DS theo Quyet dinh khen thuong'!$L$6:$L$472,B31,'DS theo Quyet dinh khen thuong'!$S$6:$S$472) -> 2700000 | E31: 21510000079874
A32: 27 | B32: Bùi Thị Thu Thủy | C32: Bộ môn Kế toán doanh nghiệp | D32: =SUMIF('DS theo Quyet dinh khen thuong'!$L$6:$L$472,B32,'DS theo Quyet dinh khen thuong'!$S$6:$S$472) -> 420000 | E32: 21510000079227
A33: 28 | B33: Vũ Diệp Anh | C33: Bộ môn Kinh tế cơ sở | D33: =SUMIF('DS theo Quyet dinh khen thuong'!$L$6:$L$472,B33,'DS theo Quyet dinh khen thuong'!$S$6:$S$472) -> 420000 | E33: 21510000393200
A34: 29 | B34: Bùi Hoàng Bắc | C34: Bộ môn Tìm kiếm thăm dò | D34: =SUMIF('DS theo Quyet dinh khen thuong'!$L$6:$L$472,B34,'DS theo Quyet dinh khen thuong'!$S$6:$S$472) -> 3055000 | E34: 21510000393158
A35: 30 | B35: Bùi Thanh Tịnh | C35: Bộ môn Tìm kiếm thăm dò | D35: =SUMIF('DS theo Quyet dinh khen thuong'!$L$6:$L$472,B35,'DS theo Quyet dinh khen thuong'!$S$6:$S$472) -> 720000 | E35: 36010000107604
A36: 31 | B36: Bùi Trường Sơn | C36: Bộ môn Địa chất công trình | D36: =SUMIF('DS theo Quyet dinh khen thuong'!$L$6:$L$472,B36,'DS theo Quyet dinh khen thuong'!$S$6:$S$472) -> 4980000 | E36: 21510000076857
A37: 32 | B37: Đào Văn Nghiêm | C37: Bộ môn Địa chất | D37: =SUMIF('DS theo Quyet dinh khen thuong'!$L$6:$L$472,B37,'DS theo Quyet dinh khen thuong'!$S$6:$S$472) -> 800000 | E37: 21510000220308
A38: 33 | B38: Hoàng Đình Quế | C38: Bộ môn Địa chất | D38: =SUMIF('DS theo Quyet dinh khen thuong'!$L$6:$L$472,B38,'DS theo Quyet dinh khen thuong'!$S$6:$S$472) -> 800000 | E38: 21510000552816
A39: 34 | B39: Khương Thế Hùng | C39: Bộ môn Tìm kiếm thăm dò | D39: =SUMIF('DS theo Quyet dinh khen thuong'!$L$6:$L$472,B39,'DS theo Quyet dinh khen thuong'!$S$6:$S$472) -> 1836000 | E39: 21510000393167
A40: 35 | B40: Ngô Thị Kim Chi | C40: Bộ môn Địa chất | D40: =SUMIF('DS theo Quyet dinh khen thuong'!$L$6:$L$472,B40,'DS theo Quyet dinh khen thuong'!$S$6:$S$472) -> 800000 | E40: 21510000078260
A41: 36 | B41: Ngô Xuân Đắc | C41: Bộ môn Tìm kiếm thăm dò | D41: =SUMIF('DS theo Quyet dinh khen thuong'!$L$6:$L$472,B41,'DS theo Quyet dinh khen thuong'!$S$6:$S$472) -> 6880000 | E41: 21510000498503
A42: 37 | B42: Nguyễn Khắc Giảng | C42: Bộ môn Khoáng Thạch và Địa hóa | D42: =SUMIF('DS theo Quyet dinh khen thuong'!$L$6:$L$472,B42,'DS theo Quyet dinh khen thuong'!$S$6:$S$472) -> 3500000 | E42: 21510000078206
...

Sheet DS theo Quyet dinh khen thuong
A2: BẢNG TỔNG HỢP TÍNH THƯỞNG BÀI BÁO ĐĂNG TRÊN TẠP CHÍ UY TÍN QUỐC TẾ THUỘC HỆ THỐNG ISI, SCI, SCIE NĂM 2020
A3: (kèm theo Quyết định số 666/QĐ-MĐC ngày 04 tháng 8 năm 2021)
A4: STT | B4: Tên bài báo | D4: Tên Tạp chí | E4: Phân loại tạp chí | F4: =MucHoTro!C3 -> Nếu tác giả thứ nhất là cán bộ thuộc biên chế của Nhà trường | G4: =MucHoTro!D3 -> Nếu tác giả liên hệ mà không là tác giả thứ nhất là cán bộ thuộc biên chế của Nhà trường | H4: Đồng tác giả | I4: Hệ số bài báo (I) | J4: Hệ số tác giả (II) | K4: Hệ số tính (III=IxII) | L4: Tác giả thuộc biên chế HUMG | M4: Đơn vị công tác | N4: Số tác giả thuộc biên chế HUMG | O4: Vai trò tác giả trong bài báo trong trường hợp số tác giả thuộc biên chế HUMG > 1 | R4: Số tiền thực nhận/bài báo (vnđ) | S4: Số tiền thực nhận/cá nhân tham gia (vnđ) | T4: Ký nhận | U4: Ghi chú
O5: Tác giả thứ nhất | P5: Tác giả liên hệ | Q5: Khác
A6: 1 | B6: Simulation Study on Static and Dynamic Characteristics of Electromagnet for Electro-Hydraulic Proportional Valve Used in Shock Absorber | C6: Fangwei Xie, Rui Zhou, Dengshuai Wang, Jun Ke, Xinjian Guo, Van Xo Nguyen | D6: IEEE Access | E6: Q1b | H6: x | I6: =IF(E6="Q1a",MucHoTro!$H$5,IF(E6="Q1b",MucHoTro!$H$6,IF(E6="Q2",MucHoTro!$H$7,IF(E6="Q3",MucHoTro!$H$8,IF(E6="Q4",MucHoTro!$H$9))))) -> 1.2 | J6: =IF(F6="x",MucHoTro!$C$5,IF(G6="x",MucHoTro!$D$5,IF(H6="x",MucHoTro!$E$5))) -> 1 | K6: =I6*J6 -> 1.2 | N6: 1 | Q6: x | R6: =K6*2000000 -> 2400000
C7: Nguyễn Văn Xô | E7: Q1b | I7: =IF(E7="Q1a",MucHoTro!$H$5,IF(E7="Q1b",MucHoTro!$H$6,IF(E7="Q2",MucHoTro!$H$7,IF(E7="Q3",MucHoTro!$H$8,IF(E7="Q4",MucHoTro!$H$9))))) -> 1.2 | J7: =IF(F7="x",MucHoTro!$C$5,IF(G7="x",MucHoTro!$D$5,IF(H7="x",MucHoTro!$E$5))) -> FALSE | K7: =I7*J7 -> 0 | L7: Nguyễn Văn Xô | M7: Máy và Thiết bị Công nghiệp | S7: =R6/N6 -> 2400000
A8: 2 | B8: Grid-Connected Photovoltaic Systems with Single-Axis Sun Tracker: Case Study for Central Vietnam | C8: Xuan Cuong Ngo, Thi Hong Nguyen, Nhu Y Do, Duc Minh Nguyen, Dai-Viet N. Vo, Su Shiung Lam, Doyeon Heo, Mohammadreza Shokouhimehr, Van-Huy Nguyen, Rajender S. Varma, Soo Young Kim and Quyet Van Le | D8: Energies | E8: Q2 | H8: x | I8: =IF(E8="Q1a",MucHoTro!$H$5,IF(E8="Q1b",MucHoTro!$H$6,IF(E8="Q2",MucHoTro!$H$7,IF(E8="Q3",MucHoTro!$H$8,IF(E8="Q4",MucHoTro!$H$9))))) -> 1.1 | J8: =IF(F8="x",MucHoTro!$C$5,IF(G8="x",MucHoTro!$D$5,IF(H8="x",MucHoTro!$E$5))) -> 1 | K8: =I8*J8 -> 1.1 | N8: 1 | R8: =K8*2000000 -> 2200000
C9: Đỗ Như Ý | E9: Q2 | I9: =IF(E9="Q1a",MucHoTro!$H$5,IF(E9="Q1b",MucHoTro!$H$6,IF(E9="Q2",MucHoTro!$H$7,IF(E9="Q3",MucHoTro!$H$8,IF(E9="Q4",MucHoTro!$H$9))))) -> 1.1 | J9: =IF(F9="x",MucHoTro!$C$5,IF(G9="x",MucHoTro!$D$5,IF(H9="x",MucHoTro!$E$5))) -> FALSE | K9: =I9*J9 -> 0 | L9: Đỗ Như Ý | M9: Điện khí hóa | Q9: x | S9: =R8/N8 -> 2200000
A10: 3 | B10: Experimental Study on Transmission Efficiency of Hydro-viscous Clutch | C10: Qi Sun, Fangwei Xie, Kuaidi Wan, Xinjian Guo, Jie Zhu, VanXo Nguyen, Yun Wang | D10: Industrial Lubrication and Tribology | E10: Q2 | H10: x | I10: =IF(E10="Q1a",MucHoTro!$H$5,IF(E10="Q1b",MucHoTro!$H$6,IF(E10="Q2",MucHoTro!$H$7,IF(E10="Q3",MucHoTro!$H$8,IF(E10="Q4",MucHoTro!$H$9))))) -> 1.1 | J10: =IF(F10="x",MucHoTro!$C$5,IF(G10="x",MucHoTro!$D$5,IF(H10="x",MucHoTro!$E$5))) -> 1 | K10: =I10*J10 -> 1.1 | N10: 1 | R10: =K10*2000000 -> 2200000
C11: Nguyễn Văn Xô | E11: Q2 | I11: =IF(E11="Q1a",MucHoTro!$H$5,IF(E11="Q1b",MucHoTro!$H$6,IF(E11="Q2",MucHoTro!$H$7,IF(E11="Q3",MucHoTro!$H$8,IF(E11="Q4",MucHoTro!$H$9))))) -> 1.1 | J11: =IF(F11="x",MucHoTro!$C$5,IF(G11="x",MucHoTro!$D$5,IF(H11="x",MucHoTro!$E$5))) -> FALSE | K11: =I11*J11 -> 0 | L11: Nguyễn Văn Xô | M11: Máy và Thiết bị Công nghiệp | Q11: x | S11: =R10/N10 -> 2200000
A12: 4 | B12: The influence of voltage quality on the performance of EKG excavators in open pit mines | C12: Ngo Xuan Cuong, Do Nhu Y, Tran Quang Hieu | D12: Inżynieria Mineralna -Journal of the Polish Mineral Engineering Society | E12: Q3 | H12: x | I12: =IF(E12="Q1a",MucHoTro!$H$5,IF(E12="Q1b",MucHoTro!$H$6,IF(E12="Q2",MucHoTro!$H$7,IF(E12="Q3",MucHoTro!$H$8,IF(E12="Q4",MucHoTro!$H$9))))) -> 0.9 | J12: =IF(F12="x",MucHoTro!$C$5,IF(G12="x",MucHoTro!$D$5,IF(H12="x",MucHoTro!$E$5))) -> 1 | K12: =I12*J12 -> 0.9 | N12: 2 | R12: =K12*2000000 -> 1800000
C13: Đỗ Như Ý | E13: Q3 | I13: =IF(E13="Q1a",MucHoTro!$H$5,IF(E13="Q1b",MucHoTro!$H$6,IF(E13="Q2",MucHoTro!$H$7,IF(E13="Q3",MucHoTro!$H$8,IF(E13="Q4",MucHoTro!$H$9))))) -> 0.9 | J13: =IF(F13="x",MucHoTro!$C$5,IF(G13="x",MucHoTro!$D$5,IF(H13="x",MucHoTro!$E$5))) -> FALSE | K13: =I13*J13 -> 0 | L13: Đỗ Như Ý | M13: Điện khí hóa | Q13: x | S13: =$R$12/$N$12 -> 900000
C14: Trần Quang Hiếu | E14: Q3 | I14: =IF(E14="Q1a",MucHoTro!$H$5,IF(E14="Q1b",MucHoTro!$H$6,IF(E14="Q2",MucHoTro!$H$7,IF(E14="Q3",MucHoTro!$H$8,IF(E14="Q4",MucHoTro!$H$9))))) -> 0.9 | J14: =IF(F14="x",MucHoTro!$C$5,IF(G14="x",MucHoTro!$D$5,IF(H14="x",MucHoTro!$E$5))) -> FALSE | K14: =I14*J14 -> 0 | L14: Trần Quang Hiếu | M14: Khai thác Lộ thiên | Q14: x | S14: =$R$12/$N$12 -> 900000
A15: 5 | B15: Research on Apparent Friction Factor in Perforated and Slotted Horizontal Filters to Dewater Opencast Mines Using Numerical Analysis | C15: Tran Duc Huan, Pham Duc Thien | D15: Inżynieria Mineralna -Journal of the Polish Mineral Engineering Society | E15: Q3 | F15: x | I15: =IF(E15="Q1a",MucHoTro!$H$5,IF(E15="Q1b",MucHoTro!$H$6,IF(E15="Q2",MucHoTro!$H$7,IF(E15="Q3",MucHoTro!$H$8,IF(E15="Q4",MucHoTro!$H$9))))) -> 0.9 | J15: =IF(F15="x",MucHoTro!$C$5,IF(G15="x",MucHoTro!$D$5,IF(H15="x",MucHoTro!$E$5))) -> 1.5 | K15: =I15*J15 -> 1.35 | N15: 2 | R15: =K15*2000000 -> 2700000
C16: Trần Đức Huân | E16: Q3 | I16: =IF(E16="Q1a",MucHoTro!$H$5,IF(E16="Q1b",MucHoTro!$H$6,IF(E16="Q2",MucHoTro!$H$7,IF(E16="Q3",MucHoTro!$H$8,IF(E16="Q4",MucHoTro!$H$9))))) -> 0.9 | J16: =IF(F16="x",MucHoTro!$C$5,IF(G16="x",MucHoTro!$D$5,IF(H16="x",MucHoTro!$E$5))) -> FALSE | K16: =I16*J16 -> 0 | L16: Trần Đức Huân | M16: Kỹ thuật cơ khí | O16: x | P16: x | S16: =$R$15*0.6+($R$15*0.4)/2 -> 2160000
C17: Phạm Đức Thiên | E17: Q3 | I17: =IF(E17="Q1a",MucHoTro!$H$5,IF(E17="Q1b",MucHoTro!$H$6,IF(E17="Q2",MucHoTro!$H$7,IF(E17="Q3",MucHoTro!$H$8,IF(E17="Q4",MucHoTro!$H$9))))) -> 0.9 | J17: =IF(F17="x",MucHoTro!$C$5,IF(G17="x",MucHoTro!$D$5,IF(H17="x",MucHoTro!$E$5))) -> FALSE | K17: =I17*J17 -> 0 | L17: Phạm Đức Thiên | M17: Kỹ thuật cơ khí | Q17: x | S17: =R15*0.4/2 -> 540000
A18: 6 | B18: Dynamic Simulation of a Hydraulic Excavator to Determine the Joint Reaction Forces of Boom, Stick, Bucket, and Driving Forces of Hydraulic Cylinders | C18: Nguyen Dang Tan | D18: Inżynieria Mineralna -Journal of the Polish Mineral Engineering Society | E18: Q3 | F18: x | I18: =IF(E18="Q1a",MucHoTro!$H$5,IF(E18="Q1b",MucHoTro!$H$6,IF(E18="Q2",MucHoTro!$H$7,IF(E18="Q3",MucHoTro!$H$8,IF(E18="Q4",MucHoTro!$H$9))))) -> 0.9 | J18: =IF(F18="x",MucHoTro!$C$5,IF(G18="x",MucHoTro!$D$5,IF(H18="x",MucHoTro!$E$5))) -> 1.5 | K18: =I18*J18 -> 1.35 | L18: Nguyễn Đăng Tấn | N18: 1 | R18: =K18*2000000 -> 2700000
C19: Nguyễn Đăng Tấn | E19: Q3 | I19: =IF(E19="Q1a",MucHoTro!$H$5,IF(E19="Q1b",MucHoTro!$H$6,IF(E19="Q2",MucHoTro!$H$7,IF(E19="Q3",MucHoTro!$H$8,IF(E19="Q4",MucHoTro!$H$9))))) -> 0.9 | J19: =IF(F19="x",MucHoTro!$C$5,IF(G19="x",MucHoTro!$D$5,IF(H19="x",MucHoTro!$E$5))) -> FALSE | K19: =I19*J19 -> 0 | L19: Nguyễn Đăng Tấn | M19: Máy và Thiết bị Công nghiệp | O19: x | P19: x | S19: =R18/N18 -> 2700000
A20: 7 | B20: Improving the operation of earth fault relays by auto earthing connection at earth fault situations in 6kV mining grid of Quang Ninh | C20: Ho Viet Bun, Le Xuan Thanh | D20: Inżynieria Mineralna -Journal of the Polish Mineral Engineering Society | E20: Q3 | F20: x | I20: =IF(E20="Q1a",MucHoTro!$H$5,IF(E20="Q1b",MucHoTro!$H$6,IF(E20="Q2",MucHoTro!$H$7,IF(E20="Q3",MucHoTro!$H$8,IF(E20="Q4",MucHoTro!$H$9))))) -> 0.9 | J20: =IF(F20="x",MucHoTro!$C$5,IF(G20="x",MucHoTro!$D$5,IF(H20="x",MucHoTro!$E$5))) -> 1.5 | K20: =I20*J20 -> 1.35 | N20: 2 | R20: =K20*2000000 -> 2700000 | U20: 2019 bổ sung
C21: Hồ Việt Bun | E21: Q3 | I21: =IF(E21="Q1a",MucHoTro!$H$5,IF(E21="Q1b",MucHoTro!$H$6,IF(E21="Q2",MucHoTro!$H$7,IF(E21="Q3",MucHoTro!$H$8,IF(E21="Q4",MucHoTro!$H$9))))) -> 0.9 | J21: =IF(F21="x",MucHoTro!$C$5,IF(G21="x",MucHoTro!$D$5,IF(H21="x",MucHoTro!$E$5))) -> FALSE | K21: =I21*J21 -> 0 | L21: Hồ Việt Bun | M21: Điện khí hóa | O21: x | P21: x | S21: =$R$20*0.6+(R20*0.4/2) -> 2160000
C22: Lê Xuân Thành | E22: Q3 | I22: =IF(E22="Q1a",MucHoTro!$H$5,IF(E22="Q1b",MucHoTro!$H$6,IF(E22="Q2",MucHoTro!$H$7,IF(E22="Q3",MucHoTro!$H$8,IF(E22="Q4",MucHoTro!$H$9))))) -> 0.9 | J22: =IF(F22="x",MucHoTro!$C$5,IF(G22="x",MucHoTro!$D$5,IF(H22="x",MucHoTro!$E$5))) -> FALSE | K22: =I22*J22 -> 0 | L22: Lê Xuân Thành | M22: Điện khí hóa | Q22: x | S22: =R20*0.4/2 -> 540000
A23: 8 | B23: Improving Breastfeeding by Empowering Mothers in Vietnam: A Randomised Controlled Trial of a Mobile App | C23: Thi Thuy Duong Doan, Colin Binns, Ngoc Minh Pham, Yun Zhao, Thi Phuong Hoa Dinh, Thi Thu Ha Bui, Trung Chuyen Tran, Xuan Hoai Nguyen, Roslyn Giglia, Fenglian Xu and Andy Lee | D23: International Journal of Environmenttal Research and Public Health | E23: Q2 | F23: x | I23: =IF(E23="Q1a",MucHoTro!$H$5,IF(E23="Q1b",MucHoTro!$H$6,IF(E23="Q2",MucHoTro!$H$7,IF(E23="Q3",MucHoTro!$H$8,IF(E23="Q4",MucHoTro!$H$9))))) -> 1.1 | J23: =IF(F23="x",MucHoTro!$C$5,IF(G23="x",MucHoTro!$D$5,IF(H23="x",MucHoTro!$E$5))) -> 1.5 | K23: =I23*J23 -> 1.65 | N23: 1 | R23: =K23*2000000 -> 3300000
C24: Trần Trung Chuyên | E24: Q2 | I24: =IF(E24="Q1a",MucHoTro!$H$5,IF(E24="Q1b",MucHoTro!$H$6,IF(E24="Q2",MucHoTro!$H$7,IF(E24="Q3",MucHoTro!$H$8,IF(E24="Q4",MucHoTro!$H$9))))) -> 1.1 | J24: =IF(F24="x",MucHoTro!$C$5,IF(G24="x",MucHoTro!$D$5,IF(H24="x",MucHoTro!$E$5))) -> FALSE | K24: =I24*J24 -> 0 | L24: Trần Trung Chuyên | M24: Tin học Trắc địa | Q24: x | S24: =R23/N23 -> 3300000
A25: 9 | B25: Designing and Developing A Mobile App (BeBo) in a Randomized Controlled Trial Study to Promote Breastfeeding Among Vietnamese mothers | C25: Doan TTD, Tran CT, Pham MN, Zhao Y, Dinh HTP, Nguyen HX, Lee A, Binns C, Bui HTT | D25: JMIR mHealth and uHealth | E25: Q2 | H25: x | I25: =IF(E25="Q1a",MucHoTro!$H$5,IF(E25="Q1b",MucHoTro!$H$6,IF(E25="Q2",MucHoTro!$H$7,IF(E25="Q3",MucHoTro!$H$8,IF(E25="Q4",MucHoTro!$H$9))))) -> 1.1 | J25: =IF(F25="x",MucHoTro!$C$5,IF(G25="x",MucHoTro!$D$5,IF(H25="x",MucHoTro!$E$5))) -> 1 | K25: =I25*J25 -> 1.1 | N25: 1 | R25: =K25*2000000 -> 2200000
C26: Trần Trung Chuyên | E26: Q2 | H26: x | I26: =IF(E26="Q1a",MucHoTro!$H$5,IF(E26="Q1b",MucHoTro!$H$6,IF(E26="Q2",MucHoTro!$H$7,IF(E26="Q3",MucHoTro!$H$8,IF(E26="Q4",MucHoTro!$H$9))))) -> 1.1 | J26: =IF(F26="x",MucHoTro!$C$5,IF(G26="x",MucHoTro!$D$5,IF(H26="x",MucHoTro!$E$5))) -> 1 | K26: =I26*J26 -> 1.1 | L26: Trần Trung Chuyên | M26: Tin học Trắc địa | Q26: x | S26: =R25/N25 -> 2200000
A27: 10 | B27: Characterization and application of C–TiO2 doped cellulose acetate nanocomposite film for removal of Reactive Red-195 | C27: Xuan Nui Pham, Duc Trong Pham, Ha Son Ngo, Manh B. Nguyen, and Huan V. Doan | D27: Chemical Engineering Communications | E27: Q2 | F27: x | I27: =IF(E27="Q1a",MucHoTro!$H$5,IF(E27="Q1b",MucHoTro!$H$6,IF(E27="Q2",MucHoTro!$H$7,IF(E27="Q3",MucHoTro!$H$8,IF(E27="Q4",MucHoTro!$H$9))))) -> 1.1 | J27: =IF(F27="x",MucHoTro!$C$5,IF(G27="x",MucHoTro!$D$5,IF(H27="x",MucHoTro!$E$5))) -> 1.5 | K27: =I27*J27 -> 1.65 | N27: 3 | R27: =K27*2000000 -> 3300000
C28: Phạm Xuân Núi | E28: Q2 | H28: x | I28: =IF(E28="Q1a",MucHoTro!$H$5,IF(E28="Q1b",MucHoTro!$H$6,IF(E28="Q2",MucHoTro!$H$7,IF(E28="Q3",MucHoTro!$H$8,IF(E28="Q4",MucHoTro!$H$9))))) -> 1.1 | J28: =IF(F28="x",MucHoTro!$C$5,IF(G28="x",MucHoTro!$D$5,IF(H28="x",MucHoTro!$E$5))) -> 1 | K28: =I28*J28 -> 1.1 | L28: Phạm Xuân Núi | M28: Lọc - Hóa dầu | O28: x | P28: x | S28: =R27*0.6+R27*0.4/3 -> 2420000
C29: Ngô Hà Sơn | E29: Q2 | H29: x | I29: =IF(E29="Q1a",MucHoTro!$H$5,IF(E29="Q1b",MucHoTro!$H$6,IF(E29="Q2",MucHoTro!$H$7,IF(E29="Q3",MucHoTro!$H$8,IF(E29="Q4",MucHoTro!$H$9))))) -> 1.1 | J29: =IF(F29="x",MucHoTro!$C$5,IF(G29="x",MucHoTro!$D$5,IF(H29="x",MucHoTro!$E$5))) -> 1 | K29: =I29*J29 -> 1.1 | L29: Ngô Hà Sơn | M29: Lọc - Hóa dầu | Q29: x | S29: =$R$27*0.4/3 -> 440000
C30: Đoàn Văn Huấn | E30: Q2 | H30: x | I30: =IF(E30="Q1a",MucHoTro!$H$5,IF(E30="Q1b",MucHoTro!$H$6,IF(E30="Q2",MucHoTro!$H$7,IF(E30="Q3",MucHoTro!$H$8,IF(E30="Q4",MucHoTro!$H$9))))) -> 1.1 | J30: =IF(F30="x",MucHoTro!$C$5,IF(G30="x",MucHoTro!$D$5,IF(H30="x",MucHoTro!$E$5))) -> 1 | K30: =I30*J30 -> 1.1 | L30: Đoàn Văn Huấn | M30: Lọc - Hóa dầu | Q30: x | S30: =$R$27*0.4/3 -> 440000
A31: 11 | B31: Relative pressure drop model for hydrate formation and transportability in flowlines in high water cut systems | C31: Trung-Kien PHAM, Ana CAMEIRAO, Aline MELCHUNA, Jean-Michel HERRI, Philippe GLENAT | D31: Energies | E31: Q2 | F31: x | I31: =IF(E31="Q1a",MucHoTro!$H$5,IF(E31="Q1b",MucHoTro!$H$6,IF(E31="Q2",MucHoTro!$H$7,IF(E31="Q3",MucHoTro!$H$8,IF(E31="Q4",MucHoTro!$H$9))))) -> 1.1 | J31: =IF(F31="x",MucHoTro!$C$5,IF(G31="x",MucHoTro!$D$5,IF(H31="x",MucHoTro!$E$5))) -> 1.5 | K31: =I31*J31 -> 1.65 | N31: 1 | R31: =K31*2000000 -> 3300000
C32: Phạm Trung Kiên | E32: Q2 | I32: =IF(E32="Q1a",MucHoTro!$H$5,IF(E32="Q1b",MucHoTro!$H$6,IF(E32="Q2",MucHoTro!$H$7,IF(E32="Q3",MucHoTro!$H$8,IF(E32="Q4",MucHoTro!$H$9))))) -> 1.1 | J32: =IF(F32="x",MucHoTro!$C$5,IF(G32="x",MucHoTro!$D$5,IF(H32="x",MucHoTro!$E$5))) -> FALSE | K32: =I32*J32 -> 0 | L32: Phạm Trung Kiên | M32: Lọc - Hóa dầu | O32: x | P32: x | S32: =R31/N31 -> 3300000
A33: 12 | B33: Stratigraphic Framework And Petroleum Geochemistry Oligocene Source Rocks, Northern Song Hong Basin | C33: Anh Ngoc Le, Dat Tien Nguyen, Tuan Van Pham, Ngan Thi Bui, Hoa Minh Nguyen, Muoi Duy Nguyen, Hiep Huu Hoang | D33: International Journal of GEOMATE | E33: Q3 | F33: x | I33: =IF(E33="Q1a",MucHoTro!$H$5,IF(E33="Q1b",MucHoTro!$H$6,IF(E33="Q2",MucHoTro!$H$7,IF(E33="Q3",MucHoTro!$H$8,IF(E33="Q4",MucHoTro!$H$9))))) -> 0.9 | J33: =IF(F33="x",MucHoTro!$C$5,IF(G33="x",MucHoTro!$D$5,IF(H33="x",MucHoTro!$E$5))) -> 1.5 | K33: =I33*J33 -> 1.35 | N33: 5 | R33: =K33*2000000 -> 2700000
C34: Lê Ngọc Ánh | E34: Q3 | I34: =IF(E34="Q1a",MucHoTro!$H$5,IF(E34="Q1b",MucHoTro!$H$6,IF(E34="Q2",MucHoTro!$H$7,IF(E34="Q3",MucHoTro!$H$8,IF(E34="Q4",MucHoTro!$H$9))))) -> 0.9 | J34: =IF(F34="x",MucHoTro!$C$5,IF(G34="x",MucHoTro!$D$5,IF(H34="x",MucHoTro!$E$5))) -> FALSE | K34: =I34*J34 -> 0 | L34: Lê Ngọc Ánh | O34: x | P34: x | S34: =R33*0.6+R33*0.4/5 -> 1836000
C35: Phạm Văn Tuấn | E35: Q3 | I35: =IF(E35="Q1a",MucHoTro!$H$5,IF(E35="Q1b",MucHoTro!$H$6,IF(E35="Q2",MucHoTro!$H$7,IF(E35="Q3",MucHoTro!$H$8,IF(E35="Q4",MucHoTro!$H$9))))) -> 0.9 | J35: =IF(F35="x",MucHoTro!$C$5,IF(G35="x",MucHoTro!$D$5,IF(H35="x",MucHoTro!$E$5))) -> FALSE | K35: =I35*J35 -> 0 | L35: Phạm Văn Tuấn | Q35: x | S35: =$R$33*0.4/5 -> 216000
C36: Bùi Thị Ngân | E36: Q3 | I36: =IF(E36="Q1a",MucHoTro!$H$5,IF(E36="Q1b",MucHoTro!$H$6,IF(E36="Q2",MucHoTro!$H$7,IF(E36="Q3",MucHoTro!$H$8,IF(E36="Q4",MucHoTro!$H$9))))) -> 0.9 | J36: =IF(F36="x",MucHoTro!$C$5,IF(G36="x",MucHoTro!$D$5,IF(H36="x",MucHoTro!$E$5))) -> FALSE | K36: =I36*J36 -> 0 | L36: Bùi Thị Ngân | Q36: x | S36: =$R$33*0.4/5 -> 216000
C37: Nguyễn Minh Hòa | E37: Q3 | I37: =IF(E37="Q1a",MucHoTro!$H$5,IF(E37="Q1b",MucHoTro!$H$6,IF(E37="Q2",MucHoTro!$H$7,IF(E37="Q3",MucHoTro!$H$8,IF(E37="Q4",MucHoTro!$H$9))))) -> 0.9 | J37: =IF(F37="x",MucHoTro!$C$5,IF(G37="x",MucHoTro!$D$5,IF(H37="x",MucHoTro!$E$5))) -> FALSE | K37: =I37*J37 -> 0 | L37: Nguyễn Minh Hòa | Q37: x | S37: =$R$33*0.4/5 -> 216000
C38: Nguyễn Duy Mười | E38: Q3 | I38: =IF(E38="Q1a",MucHoTro!$H$5,IF(E38="Q1b",MucHoTro!$H$6,IF(E38="Q2",MucHoTro!$H$7,IF(E38="Q3",MucHoTro!$H$8,IF(E38="Q4",MucHoTro!$H$9))))) -> 0.9 | J38: =IF(F38="x",MucHoTro!$C$5,IF(G38="x",MucHoTro!$D$5,IF(H38="x",MucHoTro!$E$5))) -> FALSE | K38: =I38*J38 -> 0 | L38: Nguyễn Duy Mười | Q38: x | S38: =$R$33*0.4/5 -> 216000
A39: 13 | B39: One-Pot Preparation of Alumina-Modified Polysulfone-Graphene Oxide Nanocomposite Membrane for Separation of Emulsion- Oil from Wastewater | C39: Vuong Hoan T. Nguyen, Minh N. Nguyen Tam T. Truong, Tien Trung Nguyen, Huan V. Doan, and Xuan Nui Pham | D39: Journal of Nanomaterials | E39: Q2 | G39: x | I39: =IF(E39="Q1a",MucHoTro!$H$5,IF(E39="Q1b",MucHoTro!$H$6,IF(E39="Q2",MucHoTro!$H$7,IF(E39="Q3",MucHoTro!$H$8,IF(E39="Q4",MucHoTro!$H$9))))) -> 1.1 | J39: =IF(F39="x",MucHoTro!$C$5,IF(G39="x",MucHoTro!$D$5,IF(H39="x",MucHoTro!$E$5))) -> 1.25 | K39: =I39*J39 -> 1.375 | N39: 2 | R39: =K39*2000000 -> 2750000
C40: Đoàn Văn Huấn | E40: Q2 | G40: x | I40: =IF(E40="Q1a",MucHoTro!$H$5,IF(E40="Q1b",MucHoTro!$H$6,IF(E40="Q2",MucHoTro!$H$7,IF(E40="Q3",MucHoTro!$H$8,IF(E40="Q4",MucHoTro!$H$9))))) -> 1.1 | J40: =IF(F40="x",MucHoTro!$C$5,IF(G40="x",MucHoTro!$D$5,IF(H40="x",MucHoTro!$E$5))) -> 1.25 | K40: =I40*J40 -> 1.375 | L40: Đoàn Văn Huấn | Q40: x | S40: =R39*0.7/2 -> 962500
C41: Phạm Xuân Núi | E41: Q2 | G41: x | I41: =IF(E41="Q1a",MucHoTro!$H$5,IF(E41="Q1b",MucHoTro!$H$6,IF(E41="Q2",MucHoTro!$H$7,IF(E41="Q3",MucHoTro!$H$8,IF(E41="Q4",MucHoTro!$H$9))))) -> 1.1 | J41: =IF(F41="x",MucHoTro!$C$5,IF(G41="x",MucHoTro!$D$5,IF(H41="x",MucHoTro!$E$5))) -> 1.25 | K41: =I41*J41 -> 1.375 | L41: Phạm Xuân Núi | P41: x | S41: =R39*0.3+R39*0.7/2 -> 1787500
...
