Workbook
Name _Hlk9244919: 'Danh sach ca nhan nhan tien'!#REF!
Name _Hlk9244919: 'DS theo Quyet dinh khen thuong'!$B$175
Name _Hlk9244919: Sheet1!$B$116
Name OLE_LINK10: 'Danh sach ca nhan nhan tien'!#REF!
Name OLE_LINK10: 'DS theo Quyet dinh khen thuong'!$B$133
Name OLE_LINK10: Sheet1!$B$85
Name OLE_LINK2: 'Danh sach ca nhan nhan tien'!#REF!
Name OLE_LINK2: 'DS theo Quyet dinh khen thuong'!$B$132
Name OLE_LINK2: Sheet1!$B$84
Name OLE_LINK4: 'Danh sach ca nhan nhan tien'!#REF!
Name OLE_LINK4: 'DS theo Quyet dinh khen thuong'!$D$132
Name OLE_LINK8: 'Danh sach ca nhan nhan tien'!#REF!
Name OLE_LINK8: 'DS theo Quyet dinh khen thuong'!$D$133

Sheet Sheet1
A1: DANH MỤC THƯỞNG BÀI BÁO CÔNG BỐ TRÊN CÁC TẠP CHÍ UY TÍN TRONG DANH MỤC ISI, SCI, SCIE NĂM 2019
A2: (kèm theo Quyết định số , ngày tháng năm 2020)
A3: STT | B3: Tên bài báo | C3: Tác giả | D3: Tác giả thuộc biên chế HUMG | E3: Đơn vị công tác | F3: Loại tạp chí | G3: =MucHoTro!C3 -> Nếu tác giả thứ nhất là cán bộ thuộc biên chế của Nhà trường | H3: =MucHoTro!D3 -> Nếu tác giả liên hệ mà không là tác giả thứ nhất là cán bộ thuộc biên chế của Nhà trường | I3: Đồng tác giả | J3: Hệ số bài báo | K3: Hệ số tác giả | L3: Hệ số tính | M3: Thành tiền (VNĐ) | N3: Loại tạp chí
A4: (1) | B4: (2) | C4: (3) | F4: (4) | G4: (5) | H4: (6) | I4: (7) | J4: (8) | K4: (9) | L4: (10=8x9) | M4: (11)
A5: 1 | B5: Research on transmission efficiency of high power hydro-iscous clutch | C5: Qi Sun, Fangwei Xie, Kuaidi Wan, Xinjian Gu, Jie Zhu, Nguyễn Văn Xô (đồng tác giả), Yun Wang | F5: Q2 | G5: x | J5: =IF(F5="Q1a",MucHoTro!$H$5,IF(F5="Q1b",MucHoTro!$H$6,IF(F5="Q2",MucHoTro!$H$7,IF(F5="Q3",MucHoTro!$H$8,IF(F5="Q4",MucHoTro!$H$9))))) -> 1.2 | K5: =IF(G5="x",MucHoTro!$C$5,IF(H5="x",MucHoTro!$D$5,IF(I5="x",MucHoTro!$E$5))) -> 1.5 | L5: =J5*K5 -> 1.8 | M5: =L5*2000000 -> 3600000 | N5: =IF(F5<>"",INDEX(MucHoTro!$B$5:$B$10,MATCH(Sheet1!F5,MucHoTro!$G$5:$G$10,0),1),"") -> Tạp chí trong nhóm Q2 thuộc lĩnh vực nghiên cứu gần nhất của bài báo (Q2)
A6: 2 | B6: Effects of friction models on simulation of pneumatic cylinder | C6: Xuan Bo Tran, Nguyễn Văn Lại (đồng tác giả), and Khanh Duong Tran | F6: Q2 | G6: x | J6: =IF(F6="Q1a",MucHoTro!$H$5,IF(F6="Q1b",MucHoTro!$H$6,IF(F6="Q2",MucHoTro!$H$7,IF(F6="Q3",MucHoTro!$H$8,IF(F6="Q4",MucHoTro!$H$9))))) -> 1.2 | K6: =IF(G6="x",MucHoTro!$C$5,IF(H6="x",MucHoTro!$D$5,IF(I6="x",MucHoTro!$E$5))) -> 1.5 | L6: =J6*K6 -> 1.8 | M6: =L6*2000000 -> 3600000 | N6: =IF(F6<>"",INDEX(MucHoTro!$B$5:$B$10,MATCH(Sheet1!F6,MucHoTro!$G$5:$G$10,0),1),"") -> Tạp chí trong nhóm Q2 thuộc lĩnh vực nghiên cứu gần nhất của bài báo (Q2)
A7: 3 | B7: The deformation of AZ31 magnesium alloy during warm constrained groove pressing | C7: Hue Thi Hong Dang, Phạm Thị Thủy (đồng tác giả), Dao Minh Ngung, Pham Quang | F7: Q3 | G7: x | J7: =IF(F7="Q1a",MucHoTro!$H$5,IF(F7="Q1b",MucHoTro!$H$6,IF(F7="Q2",MucHoTro!$H$7,IF(F7="Q3",MucHoTro!$H$8,IF(F7="Q4",MucHoTro!$H$9))))) -> 1 | K7: =IF(G7="x",MucHoTro!$C$5,IF(H7="x",MucHoTro!$D$5,IF(I7="x",MucHoTro!$E$5))) -> 1.5 | L7: =J7*K7 -> 1.5 | M7: =L7*2000000 -> 3000000 | N7: =IF(F7<>"",INDEX(MucHoTro!$B$5:$B$10,MATCH(Sheet1!F7,MucHoTro!$G$5:$G$10,0),1),"") -> Tạp chí trong nhóm Q3 thuộc lĩnh vực nghiên cứu gần nhất của bài báo (Q3)
A8: 4 | B8: Effects of the Current Direction on the Energy Production of a Tidal Farm: The Case of Raz Blanchard (France) | C8: Nguyễn Văn Thịnh (tác giả chính), Alina Santa Cruz, Sylvain S. Guillou, Mohamad N. Shiekh Elsouk and Jérôme Thiébot | F8: Q2 | G8: x | J8: =IF(F8="Q1a",MucHoTro!$H$5,IF(F8="Q1b",MucHoTro!$H$6,IF(F8="Q2",MucHoTro!$H$7,IF(F8="Q3",MucHoTro!$H$8,IF(F8="Q4",MucHoTro!$H$9))))) -> 1.2 | K8: =IF(G8="x",MucHoTro!$C$5,IF(H8="x",MucHoTro!$D$5,IF(I8="x",MucHoTro!$E$5))) -> 1.5 | L8: =J8*K8 -> 1.8 | M8: =L8*2000000 -> 3600000 | N8: =IF(F8<>"",INDEX(MucHoTro!$B$5:$B$10,MATCH(Sheet1!F8,MucHoTro!$G$5:$G$10,0),1),"") -> Tạp chí trong nhóm Q2 thuộc lĩnh vực nghiên cứu gần nhất của bài báo (Q2)
A9: 5 | B9: Effects of Failure of the Ocean‐Bottom Seismograph Leveling System on Receiver Function Analysis | C9: Trần Danh Hùng (tác giả chính); Ting Yang; Ba Manh Le; Youqiang Yu | F9: Q1 | G9: x | J9: =IF(F9="Q1a",MucHoTro!$H$5,IF(F9="Q1b",MucHoTro!$H$6,IF(F9="Q2",MucHoTro!$H$7,IF(F9="Q3",MucHoTro!$H$8,IF(F9="Q4",MucHoTro!$H$9))))) -> FALSE | K9: =IF(G9="x",MucHoTro!$C$5,IF(H9="x",MucHoTro!$D$5,IF(I9="x",MucHoTro!$E$5))) -> 1.5 | L9: =J9*K9 -> 0 | M9: =L9*2000000 -> 0 | N9: =IF(F9<>"",INDEX(MucHoTro!$B$5:$B$10,MATCH(Sheet1!F9,MucHoTro!$G$5:$G$10,0),1),"") -> #N/A
A10: 6 | B10: Seismic‐impedance inversion with fuzzy clustering constraints: an example from the Carlin Gold District, Nevada, USA | C10: Kiều Duy Thông (tác giả chính) and Anton Kepic | F10: Q2 | G10: x | J10: =IF(F10="Q1a",MucHoTro!$H$5,IF(F10="Q1b",MucHoTro!$H$6,IF(F10="Q2",MucHoTro!$H$7,IF(F10="Q3",MucHoTro!$H$8,IF(F10="Q4",MucHoTro!$H$9))))) -> 1.2 | K10: =IF(G10="x",MucHoTro!$C$5,IF(H10="x",MucHoTro!$D$5,IF(I10="x",MucHoTro!$E$5))) -> 1.5 | L10: =J10*K10 -> 1.8 | M10: =L10*2000000 -> 3600000 | N10: =IF(F10<>"",INDEX(MucHoTro!$B$5:$B$10,MATCH(Sheet1!F10,MucHoTro!$G$5:$G$10,0),1),"") -> Tạp chí trong nhóm Q2 thuộc lĩnh vực nghiên cứu gần nhất của bài báo (Q2)
A11: 7 | B11: Recent tectonics, geodynamics and seismotectonics in the Ninh Thuan Nuclear Power plants and surrounding regions, South Vietnam | C11: Huong Nguyen Vana, Tran Van Phong, Phan Trong Trinh, nnk, Dương Văn Hào (đồng tác giả) | F11: Q1 | I11: x | J11: =IF(F11="Q1a",MucHoTro!$H$5,IF(F11="Q1b",MucHoTro!$H$6,IF(F11="Q2",MucHoTro!$H$7,IF(F11="Q3",MucHoTro!$H$8,IF(F11="Q4",MucHoTro!$H$9))))) -> FALSE | K11: =IF(G11="x",MucHoTro!$C$5,IF(H11="x",MucHoTro!$D$5,IF(I11="x",MucHoTro!$E$5))) -> 1 | L11: =J11*K11 -> 0 | M11: =L11*2000000 -> 0 | N11: =IF(F11<>"",INDEX(MucHoTro!$B$5:$B$10,MATCH(Sheet1!F11,MucHoTro!$G$5:$G$10,0),1),"") -> #N/A
A12: 8 | B12: Effect of tortuosity on diffusion of polystyrenes through chromatographic columns filled with fully porous and porous –shell particles and monoliths | C12: Nguyễn Khắc Long (tác giả chính), Véronique Wernert, André Morgado Lopes, Loïc Sorbier, Renaud Denoyel | F12: Q1 | I12: x | J12: =IF(F12="Q1a",MucHoTro!$H$5,IF(F12="Q1b",MucHoTro!$H$6,IF(F12="Q2",MucHoTro!$H$7,IF(F12="Q3",MucHoTro!$H$8,IF(F12="Q4",MucHoTro!$H$9))))) -> FALSE | K12: =IF(G12="x",MucHoTro!$C$5,IF(H12="x",MucHoTro!$D$5,IF(I12="x",MucHoTro!$E$5))) -> 1 | L12: =J12*K12 -> 0 | M12: =L12*2000000 -> 0 | N12: =IF(F12<>"",INDEX(MucHoTro!$B$5:$B$10,MATCH(Sheet1!F12,MucHoTro!$G$5:$G$10,0),1),"") -> #N/A
A13: 9 | B13: Study on the HPA immobilisation on Al-SBA-15 support over Brønsted groups | C13: T. H. Truong, V. Cuong Do, N. Mai Do, T. Q. Hung, Đoàn Văn Huấn (đồng tác giả), T. N. Nguyen, T. H. Doan, T. H. N. Le, T. Van Nguyen, L. G. Bach and Q. V. Tran | F13: Q2 | I13: x | J13: =IF(F13="Q1a",MucHoTro!$H$5,IF(F13="Q1b",MucHoTro!$H$6,IF(F13="Q2",MucHoTro!$H$7,IF(F13="Q3",MucHoTro!$H$8,IF(F13="Q4",MucHoTro!$H$9))))) -> 1.2 | K13: =IF(G13="x",MucHoTro!$C$5,IF(H13="x",MucHoTro!$D$5,IF(I13="x",MucHoTro!$E$5))) -> 1 | L13: =J13*K13 -> 1.2 | M13: =L13*2000000 -> 2400000 | N13: =IF(F13<>"",INDEX(MucHoTro!$B$5:$B$10,MATCH(Sheet1!F13,MucHoTro!$G$5:$G$10,0),1),"") -> Tạp chí trong nhóm Q2 thuộc lĩnh vực nghiên cứu gần nhất của bài báo (Q2)
A14: 10 | B14: Defective hierarchical porous copper-based metal-organic frameworks synthesised via facile acid etching strategy | C14: Đoàn Văn Huấn (tác giả chính), A. Sartbaeva, J.-C. Eloi, S. Davis and V. P. Ting | F14: Q1 | G14: x | J14: =IF(F14="Q1a",MucHoTro!$H$5,IF(F14="Q1b",MucHoTro!$H$6,IF(F14="Q2",MucHoTro!$H$7,IF(F14="Q3",MucHoTro!$H$8,IF(F14="Q4",MucHoTro!$H$9))))) -> FALSE | K14: =IF(G14="x",MucHoTro!$C$5,IF(H14="x",MucHoTro!$D$5,IF(I14="x",MucHoTro!$E$5))) -> 1.5 | L14: =J14*K14 -> 0 | M14: =L14*2000000 -> 0 | N14: =IF(F14<>"",INDEX(MucHoTro!$B$5:$B$10,MATCH(Sheet1!F14,MucHoTro!$G$5:$G$10,0),1),"") -> #N/A
A15: 11 | B15: Hierarchical Metal–Organic Frameworks with Macroporosity: Synthesis, Achievements, and Challenges | C15: Đoàn Văn Huấn, Karikkethu Prabhakaran, C. Petrillo and V. P. Ting | F15: Q1 | I15: x | J15: =IF(F15="Q1a",MucHoTro!$H$5,IF(F15="Q1b",MucHoTro!$H$6,IF(F15="Q2",MucHoTro!$H$7,IF(F15="Q3",MucHoTro!$H$8,IF(F15="Q4",MucHoTro!$H$9))))) -> FALSE | K15: =IF(G15="x",MucHoTro!$C$5,IF(H15="x",MucHoTro!$D$5,IF(I15="x",MucHoTro!$E$5))) -> 1 | L15: =J15*K15 -> 0 | M15: =L15*2000000 -> 0 | N15: =IF(F15<>"",INDEX(MucHoTro!$B$5:$B$10,MATCH(Sheet1!F15,MucHoTro!$G$5:$G$10,0),1),"") -> #N/A
A16: 12 | B16: Crystallization Mechanisms and Rates of Cyclopentane Hydrates Formation in Brine | C16: Hồ Văn Sơn (tác giả chính, tác giả liên hệ), Baptiste Bouillot, Daniel Garcia, Jérome Douzet, Ana Cameirao, Saheb Maghsoodloo-Babakhani, Jean-Michel Herri | F16: Q2 | I16: x | J16: =IF(F16="Q1a",MucHoTro!$H$5,IF(F16="Q1b",MucHoTro!$H$6,IF(F16="Q2",MucHoTro!$H$7,IF(F16="Q3",MucHoTro!$H$8,IF(F16="Q4",MucHoTro!$H$9))))) -> 1.2 | K16: =IF(G16="x",MucHoTro!$C$5,IF(H16="x",MucHoTro!$D$5,IF(I16="x",MucHoTro!$E$5))) -> 1 | L16: =J16*K16 -> 1.2 | M16: =L16*2000000 -> 2400000 | N16: =IF(F16<>"",INDEX(MucHoTro!$B$5:$B$10,MATCH(Sheet1!F16,MucHoTro!$G$5:$G$10,0),1),"") -> Tạp chí trong nhóm Q2 thuộc lĩnh vực nghiên cứu gần nhất của bài báo (Q2)
A17: 13 | B17: Cyclopentane hydrates – A candidate for desalination? | C17: Hồ Văn Sơn (tác giả chính, tác giả liên hệ), Baptiste Bouillot, Jérome Douzet, Saheb Maghsoodloo-Babakhani, Jean-Michel Herri | F17: Q1 | I17: x | J17: =IF(F17="Q1a",MucHoTro!$H$5,IF(F17="Q1b",MucHoTro!$H$6,IF(F17="Q2",MucHoTro!$H$7,IF(F17="Q3",MucHoTro!$H$8,IF(F17="Q4",MucHoTro!$H$9))))) -> FALSE | K17: =IF(G17="x",MucHoTro!$C$5,IF(H17="x",MucHoTro!$D$5,IF(I17="x",MucHoTro!$E$5))) -> 1 | L17: =J17*K17 -> 0 | M17: =L17*2000000 -> 0 | N17: =IF(F17<>"",INDEX(MucHoTro!$B$5:$B$10,MATCH(Sheet1!F17,MucHoTro!$G$5:$G$10,0),1),"") -> #N/A
A18: 14 | B18: Phase equilibrium measurements and modelling of mixed cyclopentane and carbon dioxide hydrates in presence of salts | C18: Saheb Maghsoodloo-Babakhani, Hồ Văn Sơn (đồng tác giả), Baptiste Bouillot, Jérome Douzet, Jean-Michel Herri | F18: Q1 | G18: x | J18: =IF(F18="Q1a",MucHoTro!$H$5,IF(F18="Q1b",MucHoTro!$H$6,IF(F18="Q2",MucHoTro!$H$7,IF(F18="Q3",MucHoTro!$H$8,IF(F18="Q4",MucHoTro!$H$9))))) -> FALSE | K18: =IF(G18="x",MucHoTro!$C$5,IF(H18="x",MucHoTro!$D$5,IF(I18="x",MucHoTro!$E$5))) -> 1.5 | L18: =J18*K18 -> 0 | M18: =L18*2000000 -> 0 | N18: =IF(F18<>"",INDEX(MucHoTro!$B$5:$B$10,MATCH(Sheet1!F18,MucHoTro!$G$5:$G$10,0),1),"") -> #N/A
A19: 15 | B19: The role of organic and inorganic UV-absorbents on photopolymerization and mechanical properties of acrylate-urethane coating | C19: Thien VuongNguyen, PhuongNguyen Tri, SohrabAzizi, Tran Chien Dang, Duc MinhHoang, Thu HaHoang, Nguyễn Thị Linh (Đồng tác giả), Thuy Thi LeBui, Viet HungDang, Ngọc LinhNguyen, The TamLe, Thi Ngoc LinhNguyen, Quoc TrungVu, Dai LamTran, Thi My LinhDang, Le TrongLu | F19: Q2 | G19: x | J19: =IF(F19="Q1a",MucHoTro!$H$5,IF(F19="Q1b",MucHoTro!$H$6,IF(F19="Q2",MucHoTro!$H$7,IF(F19="Q3",MucHoTro!$H$8,IF(F19="Q4",MucHoTro!$H$9))))) -> 1.2 | K19: =IF(G19="x",MucHoTro!$C$5,IF(H19="x",MucHoTro!$D$5,IF(I19="x",MucHoTro!$E$5))) -> 1.5 | L19: =J19*K19 -> 1.8 | M19: =L19*2000000 -> 3600000 | N19: =IF(F19<>"",INDEX(MucHoTro!$B$5:$B$10,MATCH(Sheet1!F19,MucHoTro!$G$5:$G$10,0),1),"") -> Tạp chí trong nhóm Q2 thuộc lĩnh vực nghiên cứu gần nhất của bài báo (Q2)
A20: 16 | B20: Prediction of Blast-induced Air Over-pressure: Assessment of Different Artificial Intelligence Techniques | C20: Bùi Xuân Nam (tác giả liên hệ), Nguyễn Hoàng, Hai-An Le, Bùi Hoàng Bắc, Đỗ Ngọc Hoàn | F20: Q1 | G20: x | J20: =IF(F20="Q1a",MucHoTro!$H$5,IF(F20="Q1b",MucHoTro!$H$6,IF(F20="Q2",MucHoTro!$H$7,IF(F20="Q3",MucHoTro!$H$8,IF(F20="Q4",MucHoTro!$H$9))))) -> FALSE | K20: =IF(G20="x",MucHoTro!$C$5,IF(H20="x",MucHoTro!$D$5,IF(I20="x",MucHoTro!$E$5))) -> 1.5 | L20: =J20*K20 -> 0 | M20: =L20*2000000 -> 0 | N20: =IF(F20<>"",INDEX(MucHoTro!$B$5:$B$10,MATCH(Sheet1!F20,MucHoTro!$G$5:$G$10,0),1),"") -> #N/A
A21: 17 | B21: A New Soft Computing Model for Estimating and Controlling Blast-Produced Ground Vibration Based on Hierarchical K-Means Clustering and Cubist Algorithms | C21: Nguyễn Hoàng (tác giả liên hệ), Bùi Xuân Nam, Trần Quang Hiếu, Ngoc-Luan Mai | F21: Q1 | G21: x | J21: =IF(F21="Q1a",MucHoTro!$H$5,IF(F21="Q1b",MucHoTro!$H$6,IF(F21="Q2",MucHoTro!$H$7,IF(F21="Q3",MucHoTro!$H$8,IF(F21="Q4",MucHoTro!$H$9))))) -> FALSE | K21: =IF(G21="x",MucHoTro!$C$5,IF(H21="x",MucHoTro!$D$5,IF(I21="x",MucHoTro!$E$5))) -> 1.5 | L21: =J21*K21 -> 0 | M21: =L21*2000000 -> 0 | N21: =IF(F21<>"",INDEX(MucHoTro!$B$5:$B$10,MATCH(Sheet1!F21,MucHoTro!$G$5:$G$10,0),1),"") -> #N/A
A22: 18 | B22: Developing an XGBoost model to predict blast-induced peak particle velocity in an open-pit mine: a case study | C22: Nguyễn Hoàng (tác giả liên hệ), Bùi Xuân Nam, Bùi Hoàng Bắc, Dao Trong Cuong | F22: Q3 | I22: x | J22: =IF(F22="Q1a",MucHoTro!$H$5,IF(F22="Q1b",MucHoTro!$H$6,IF(F22="Q2",MucHoTro!$H$7,IF(F22="Q3",MucHoTro!$H$8,IF(F22="Q4",MucHoTro!$H$9))))) -> 1 | K22: =IF(G22="x",MucHoTro!$C$5,IF(H22="x",MucHoTro!$D$5,IF(I22="x",MucHoTro!$E$5))) -> 1 | L22: =J22*K22 -> 1 | M22: =L22*2000000 -> 2000000 | N22: =IF(F22<>"",INDEX(MucHoTro!$B$5:$B$10,MATCH(Sheet1!F22,MucHoTro!$G$5:$G$10,0),1),"") -> Tạp chí trong nhóm Q3 thuộc lĩnh vực nghiên cứu gần nhất của bài báo (Q3)
A23: 19 | B23: Prediction of Blast-Induced Ground Vibration in an Open-Pit Mine by a Novel Hybrid Model Based on Clustering and Artificial Neural Network | C23: Nguyễn Hoàng (tác giả liên hệ), Carsten Drebenstedt, Bùi Xuân Nam, Dieu Tien Bui | F23: Q1 | G23: x | J23: =IF(F23="Q1a",MucHoTro!$H$5,IF(F23="Q1b",MucHoTro!$H$6,IF(F23="Q2",MucHoTro!$H$7,IF(F23="Q3",MucHoTro!$H$8,IF(F23="Q4",MucHoTro!$H$9))))) -> FALSE | K23: =IF(G23="x",MucHoTro!$C$5,IF(H23="x",MucHoTro!$D$5,IF(I23="x",MucHoTro!$E$5))) -> 1.5 | L23: =J23*K23 -> 0 | M23: =L23*2000000 -> 0 | N23: =IF(F23<>"",INDEX(MucHoTro!$B$5:$B$10,MATCH(Sheet1!F23,MucHoTro!$G$5:$G$10,0),1),"") -> #N/A
A24: 20 | B24: Prediction of ultimate bearing capacity through various novel evolutionary and neural network models | C24: Hossein Moayedi, Arash Moatamediyan, Nguyễn Hoàng, Bùi Xuân Nam (đồng tác giả), Dieu Tien Bui, Ahmad Safuan A. Rashid | F24: Q2 | G24: x | J24: =IF(F24="Q1a",MucHoTro!$H$5,IF(F24="Q1b",MucHoTro!$H$6,IF(F24="Q2",MucHoTro!$H$7,IF(F24="Q3",MucHoTro!$H$8,IF(F24="Q4",MucHoTro!$H$9))))) -> 1.2 | K24: =IF(G24="x",MucHoTro!$C$5,IF(H24="x",MucHoTro!$D$5,IF(I24="x",MucHoTro!$E$5))) -> 1.5 | L24: =J24*K24 -> 1.8 | M24: =L24*2000000 -> 3600000 | N24: =IF(F24<>"",INDEX(MucHoTro!$B$5:$B$10,MATCH(Sheet1!F24,MucHoTro!$G$5:$G$10,0),1),"") -> Tạp chí trong nhóm Q2 thuộc lĩnh vực nghiên cứu gần nhất của bài báo (Q2)
A25: 21 | B25: Optimizing Levenberg–Marquardt backpropagation technique in predicting factor of safety of slopes after two-dimensional OptumG2 analysis | C25: Bùi Xuân Nam, Mohammed Abdullahi Muazu, Hoang Nguyen | F25: Q2 | I25: x | J25: =IF(F25="Q1a",MucHoTro!$H$5,IF(F25="Q1b",MucHoTro!$H$6,IF(F25="Q2",MucHoTro!$H$7,IF(F25="Q3",MucHoTro!$H$8,IF(F25="Q4",MucHoTro!$H$9))))) -> 1.2 | K25: =IF(G25="x",MucHoTro!$C$5,IF(H25="x",MucHoTro!$D$5,IF(I25="x",MucHoTro!$E$5))) -> 1 | L25: =J25*K25 -> 1.2 | M25: =L25*2000000 -> 2400000 | N25: =IF(F25<>"",INDEX(MucHoTro!$B$5:$B$10,MATCH(Sheet1!F25,MucHoTro!$G$5:$G$10,0),1),"") -> Tạp chí trong nhóm Q2 thuộc lĩnh vực nghiên cứu gần nhất của bài báo (Q2)
A26: 22 | B26: Neuro-genetic, neuro-imperialism and genetic programing models in predicting ultimate bearing capacity of pile | C26: Wusi Chen, Payam Sarir, Bùi Xuân Nam, Nguyễn Hoàng, M. M. Tahir, Danial Jahed Armaghani | F26: Q2 | I26: x | J26: =IF(F26="Q1a",MucHoTro!$H$5,IF(F26="Q1b",MucHoTro!$H$6,IF(F26="Q2",MucHoTro!$H$7,IF(F26="Q3",MucHoTro!$H$8,IF(F26="Q4",MucHoTro!$H$9))))) -> 1.2 | K26: =IF(G26="x",MucHoTro!$C$5,IF(H26="x",MucHoTro!$D$5,IF(I26="x",MucHoTro!$E$5))) -> 1 | L26: =J26*K26 -> 1.2 | M26: =L26*2000000 -> 2400000 | N26: =IF(F26<>"",INDEX(MucHoTro!$B$5:$B$10,MATCH(Sheet1!F26,MucHoTro!$G$5:$G$10,0),1),"") -> Tạp chí trong nhóm Q2 thuộc lĩnh vực nghiên cứu gần nhất của bài báo (Q2)
A27: 23 | B27: Novel Soft Computing Model for Predicting Blast-Induced Ground Vibration in Open-Pit Mines Based on Particle Swarm Optimization and XGBoost | C27: Xiliang Zhang, Hoang Nguyen, Bùi Xuân Nam, Trần Quang Hiếu, Nguyễn Đình An, Dieu Tien Bui, Hossein Moayedi | F27: Q1 | I27: x | J27: =IF(F27="Q1a",MucHoTro!$H$5,IF(F27="Q1b",MucHoTro!$H$6,IF(F27="Q2",MucHoTro!$H$7,IF(F27="Q3",MucHoTro!$H$8,IF(F27="Q4",MucHoTro!$H$9))))) -> FALSE | K27: =IF(G27="x",MucHoTro!$C$5,IF(H27="x",MucHoTro!$D$5,IF(I27="x",MucHoTro!$E$5))) -> 1 | L27: =J27*K27 -> 0 | M27: =L27*2000000 -> 0 | N27: =IF(F27<>"",INDEX(MucHoTro!$B$5:$B$10,MATCH(Sheet1!F27,MucHoTro!$G$5:$G$10,0),1),"") -> #N/A
A28: 24 | B28: Composition and Morphology Characteristics of Magnetic Fractions of Coal Fly Ash Wastes Processed in High-Temperature Exposure in Thermal Power Plants | C28: Vũ Đình Hiếu, Bùi Hoàng Bắc, Bahareh Kalantar, Bùi Xuân Nam, Nguyễn Đình An, Lê Quý Thảo, Đỗ Ngọc Hoàn, Hoang Nguyen | F28: Q3 | G28: x | J28: =IF(F28="Q1a",MucHoTro!$H$5,IF(F28="Q1b",MucHoTro!$H$6,IF(F28="Q2",MucHoTro!$H$7,IF(F28="Q3",MucHoTro!$H$8,IF(F28="Q4",MucHoTro!$H$9))))) -> 1 | K28: =IF(G28="x",MucHoTro!$C$5,IF(H28="x",MucHoTro!$D$5,IF(I28="x",MucHoTro!$E$5))) -> 1.5 | L28: =J28*K28 -> 1.5 | M28: =L28*2000000 -> 3000000 | N28: =IF(F28<>"",INDEX(MucHoTro!$B$5:$B$10,MATCH(Sheet1!F28,MucHoTro!$G$5:$G$10,0),1),"") -> Tạp chí trong nhóm Q3 thuộc lĩnh vực nghiên cứu gần nhất của bài báo (Q3)
A29: 25 | B29: A comparison of advanced computational models and experimental techniques in predicting blast-induced ground vibration in open-pit coal mine | C29: Hoang Nguyen, Bùi Xuân Nam, Hossein Moayedi | F29: Q3 | I29: x | J29: =IF(F29="Q1a",MucHoTro!$H$5,IF(F29="Q1b",MucHoTro!$H$6,IF(F29="Q2",MucHoTro!$H$7,IF(F29="Q3",MucHoTro!$H$8,IF(F29="Q4",MucHoTro!$H$9))))) -> 1 | K29: =IF(G29="x",MucHoTro!$C$5,IF(H29="x",MucHoTro!$D$5,IF(I29="x",MucHoTro!$E$5))) -> 1 | L29: =J29*K29 -> 1 | M29: =L29*2000000 -> 2000000 | N29: =IF(F29<>"",INDEX(MucHoTro!$B$5:$B$10,MATCH(Sheet1!F29,MucHoTro!$G$5:$G$10,0),1),"") -> Tạp chí trong nhóm Q3 thuộc lĩnh vực nghiên cứu gần nhất của bài báo (Q3)
A30: 26 | B30: A Novel Artificial Intelligence Approach to Predict Blast-Induced Ground Vibration in Open-Pit Mines Based on the Firefly Algorithm and Artificial Neural Network | C30: Yonghui Shang, Hoang Nguyen, Bùi Xuân Nam, Trần Quang Hiếu, Hossein Moayedi | F30: Q1 | G30: x | J30: =IF(F30="Q1a",MucHoTro!$H$5,IF(F30="Q1b",MucHoTro!$H$6,IF(F30="Q2",MucHoTro!$H$7,IF(F30="Q3",MucHoTro!$H$8,IF(F30="Q4",MucHoTro!$H$9))))) -> FALSE | K30: =IF(G30="x",MucHoTro!$C$5,IF(H30="x",MucHoTro!$D$5,IF(I30="x",MucHoTro!$E$5))) -> 1.5 | L30: =J30*K30 -> 0 | M30: =L30*2000000 -> 0 | N30: =IF(F30<>"",INDEX(MucHoTro!$B$5:$B$10,MATCH(Sheet1!F30,MucHoTro!$G$5:$G$10,0),1),"") -> #N/A
A31: 27 | B31: Estimating PM10 Concentration from Drilling Operations in Open-Pit Mines Using an Assembly of SVR and PSO | C31: Bùi Xuân Nam (tác giả liên hệ), Chang Woo Lee, Hoang Nguyen, Bùi Hoàng Bắc, Nguyễn Quốc Long, Lê Quý Thảo, Van-Duc Nguyen, Ngoc-Bich Nguyen, Hossein Moayedi | F31: Q1 | G31: x | J31: =IF(F31="Q1a",MucHoTro!$H$5,IF(F31="Q1b",MucHoTro!$H$6,IF(F31="Q2",MucHoTro!$H$7,IF(F31="Q3",MucHoTro!$H$8,IF(F31="Q4",MucHoTro!$H$9))))) -> FALSE | K31: =IF(G31="x",MucHoTro!$C$5,IF(H31="x",MucHoTro!$D$5,IF(I31="x",MucHoTro!$E$5))) -> 1.5 | L31: =J31*K31 -> 0 | M31: =L31*2000000 -> 0 | N31: =IF(F31<>"",INDEX(MucHoTro!$B$5:$B$10,MATCH(Sheet1!F31,MucHoTro!$G$5:$G$10,0),1),"") -> #N/A
A32: 28 | B32: Predicting blast-induced peak particle velocity using BGAMs, ANN and SVM: a case study at the Nui Beo open-pit coal mine in Vietnam | C32: Hoang Nguyen, Bùi Xuân Nam, Trần Quang Hiếu, Hossein Moayedi | F32: Q2 | I32: x | J32: =IF(F32="Q1a",MucHoTro!$H$5,IF(F32="Q1b",MucHoTro!$H$6,IF(F32="Q2",MucHoTro!$H$7,IF(F32="Q3",MucHoTro!$H$8,IF(F32="Q4",MucHoTro!$H$9))))) -> 1.2 | K32: =IF(G32="x",MucHoTro!$C$5,IF(H32="x",MucHoTro!$D$5,IF(I32="x",MucHoTro!$E$5))) -> 1 | L32: =J32*K32 -> 1.2 | M32: =L32*2000000 -> 2400000 | N32: =IF(F32<>"",INDEX(MucHoTro!$B$5:$B$10,MATCH(Sheet1!F32,MucHoTro!$G$5:$G$10,0),1),"") -> Tạp chí trong nhóm Q2 thuộc lĩnh vực nghiên cứu gần nhất của bài báo (Q2)
A33: 29 | B33: A New Technique to Predict Fly-rock in Bench Blasting Based on an Ensemble of Support Vector Regression and GLMNET | C33: Hoang Nguyen,Bùi Xuân Nam, Trần Quang Hiếu, Hossein Moayedi | F33: Q1 | G33: x | J33: =IF(F33="Q1a",MucHoTro!$H$5,IF(F33="Q1b",MucHoTro!$H$6,IF(F33="Q2",MucHoTro!$H$7,IF(F33="Q3",MucHoTro!$H$8,IF(F33="Q4",MucHoTro!$H$9))))) -> FALSE | K33: =IF(G33="x",MucHoTro!$C$5,IF(H33="x",MucHoTro!$D$5,IF(I33="x",MucHoTro!$E$5))) -> 1.5 | L33: =J33*K33 -> 0 | M33: =L33*2000000 -> 0 | N33: =IF(F33<>"",INDEX(MucHoTro!$B$5:$B$10,MATCH(Sheet1!F33,MucHoTro!$G$5:$G$10,0),1),"") -> #N/A
A34: 30 | B34: A novel approach in adsorption of heavy metal ions from aqueous solution using synthesized MCM-41 from coal bottom ash | C34: Vũ Đình Hiếu, Hoang-Bac Bui, Bùi Xuân Nam, Nguyễn Đình An, Lê Quý Thảo, Đỗ Ngọc Hoàn, Hoang Nguyen | F34: Q3 | G34: x | J34: =IF(F34="Q1a",MucHoTro!$H$5,IF(F34="Q1b",MucHoTro!$H$6,IF(F34="Q2",MucHoTro!$H$7,IF(F34="Q3",MucHoTro!$H$8,IF(F34="Q4",MucHoTro!$H$9))))) -> 1 | K34: =IF(G34="x",MucHoTro!$C$5,IF(H34="x",MucHoTro!$D$5,IF(I34="x",MucHoTro!$E$5))) -> 1.5 | L34: =J34*K34 -> 1.5 | M34: =L34*2000000 -> 3000000 | N34: =IF(F34<>"",INDEX(MucHoTro!$B$5:$B$10,MATCH(Sheet1!F34,MucHoTro!$G$5:$G$10,0),1),"") -> Tạp chí trong nhóm Q3 thuộc lĩnh vực nghiên cứu gần nhất của bài báo (Q3)
A35: 31 | B35: A novel artificial intelligence technique for analyzing slope stability using PSO-CA model | C35: Zhenyan Luo, Bùi Xuân Nam, Hoang Nguyen, Hossein Moayedi | F35: Q1 | G35: x | J35: =IF(F35="Q1a",MucHoTro!$H$5,IF(F35="Q1b",MucHoTro!$H$6,IF(F35="Q2",MucHoTro!$H$7,IF(F35="Q3",MucHoTro!$H$8,IF(F35="Q4",MucHoTro!$H$9))))) -> FALSE | K35: =IF(G35="x",MucHoTro!$C$5,IF(H35="x",MucHoTro!$D$5,IF(I35="x",MucHoTro!$E$5))) -> 1.5 | L35: =J35*K35 -> 0 | M35: =L35*2000000 -> 0 | N35: =IF(F35<>"",INDEX(MucHoTro!$B$5:$B$10,MATCH(Sheet1!F35,MucHoTro!$G$5:$G$10,0),1),"") -> #N/A
A36: 32 | B36: A Novel Swarm Intelligence—Harris Hawks Optimization for Spatial Assessment of Landslide Susceptibility | C36: Dieu Tien Bui, Hossein Moayedi, Bahareh Kalantar, Abdolreza Osouli, Biswajeet Pradhan, Nguyễn Hoàng, Ahmad Safuan A Rashid | F36: Q1 | I36: x | J36: =IF(F36="Q1a",MucHoTro!$H$5,IF(F36="Q1b",MucHoTro!$H$6,IF(F36="Q2",MucHoTro!$H$7,IF(F36="Q3",MucHoTro!$H$8,IF(F36="Q4",MucHoTro!$H$9))))) -> FALSE | K36: =IF(G36="x",MucHoTro!$C$5,IF(H36="x",MucHoTro!$D$5,IF(I36="x",MucHoTro!$E$5))) -> 1 | L36: =J36*K36 -> 0 | M36: =L36*2000000 -> 0 | N36: =IF(F36<>"",INDEX(MucHoTro!$B$5:$B$10,MATCH(Sheet1!F36,MucHoTro!$G$5:$G$10,0),1),"") -> #N/A
A37: 33 | B37: Forecasting mining capital cost for open-pit mining projects based on artificial neural network approach | C37: Hongquan Guo, Hoang Nguyen, Vũ Diệp Anh, Bùi Xuân Nam (đồng tác giả) | F37: Q1 | I37: x | J37: =IF(F37="Q1a",MucHoTro!$H$5,IF(F37="Q1b",MucHoTro!$H$6,IF(F37="Q2",MucHoTro!$H$7,IF(F37="Q3",MucHoTro!$H$8,IF(F37="Q4",MucHoTro!$H$9))))) -> FALSE | K37: =IF(G37="x",MucHoTro!$C$5,IF(H37="x",MucHoTro!$D$5,IF(I37="x",MucHoTro!$E$5))) -> 1 | L37: =J37*K37 -> 0 | M37: =L37*2000000 -> 0 | N37: =IF(F37<>"",INDEX(MucHoTro!$B$5:$B$10,MATCH(Sheet1!F37,MucHoTro!$G$5:$G$10,0),1),"") -> #N/A
A38: 34 | B38: Prediction of Pullout Behavior of Belled Piles through Various Machine Learning Modelling Techniques | C38: Dieu Tien Bui, Hossein Moayedi, Mu’azu Mohammed Abdullahi, Ahmad Safuan A Rashid, Nguyễn Hoàng (đồng tác giả) | F38: Q1 | I38: x | J38: =IF(F38="Q1a",MucHoTro!$H$5,IF(F38="Q1b",MucHoTro!$H$6,IF(F38="Q2",MucHoTro!$H$7,IF(F38="Q3",MucHoTro!$H$8,IF(F38="Q4",MucHoTro!$H$9))))) -> FALSE | K38: =IF(G38="x",MucHoTro!$C$5,IF(H38="x",MucHoTro!$D$5,IF(I38="x",MucHoTro!$E$5))) -> 1 | L38: =J38*K38 -> 0 | M38: =L38*2000000 -> 0 | N38: =IF(F38<>"",INDEX(MucHoTro!$B$5:$B$10,MATCH(Sheet1!F38,MucHoTro!$G$5:$G$10,0),1),"") -> #N/A
A39: 35 | B39: Computational Intelligence Model for Estimating Intensity of Blast-Induced Ground Vibration in a Mine Based on Imperialist Competitive and Extreme Gradient Boosting Algorithms | C39: Ziwei Ding, Hoang Nguyen, Bùi Xuân Nam (đồng tác giả), Jian Zhou, Hossein Moayedi | F39: Q2 | I39: x | J39: =IF(F39="Q1a",MucHoTro!$H$5,IF(F39="Q1b",MucHoTro!$H$6,IF(F39="Q2",MucHoTro!$H$7,IF(F39="Q3",MucHoTro!$H$8,IF(F39="Q4",MucHoTro!$H$9))))) -> 1.2 | K39: =IF(G39="x",MucHoTro!$C$5,IF(H39="x",MucHoTro!$D$5,IF(I39="x",MucHoTro!$E$5))) -> 1 | L39: =J39*K39 -> 1.2 | M39: =L39*2000000 -> 2400000 | N39: =IF(F39<>"",INDEX(MucHoTro!$B$5:$B$10,MATCH(Sheet1!F39,MucHoTro!$G$5:$G$10,0),1),"") -> Tạp chí trong nhóm Q2 thuộc lĩnh vực nghiên cứu gần nhất của bài báo (Q2)
A40: 36 | B40: Fine-tuning of neural computing using whale optimization algorithm for predicting compressive strength of concrete | C40: Dieu Tien Bui, Mu’azu Mohammed Abdullahi, Soheil Ghareh, Hossein Moayedi, Nguyễn Hoàng (đồng tác giả) | F40: Q1 | I40: x | J40: =IF(F40="Q1a",MucHoTro!$H$5,IF(F40="Q1b",MucHoTro!$H$6,IF(F40="Q2",MucHoTro!$H$7,IF(F40="Q3",MucHoTro!$H$8,IF(F40="Q4",MucHoTro!$H$9))))) -> FALSE | K40: =IF(G40="x",MucHoTro!$C$5,IF(H40="x",MucHoTro!$D$5,IF(I40="x",MucHoTro!$E$5))) -> 1 | L40: =J40*K40 -> 0 | M40: =L40*2000000 -> 0 | N40: =IF(F40<>"",INDEX(MucHoTro!$B$5:$B$10,MATCH(Sheet1!F40,MucHoTro!$G$5:$G$10,0),1),"") -> #N/A
...

Sheet MucHoTro
C2: Mức hỗ trợ (VNĐ)
A3: TT | B3: Loại tạp chí | C3: Nếu tác giả thứ nhất là cán bộ thuộc biên chế của Nhà trường | D3: Nếu tác giả liên hệ mà không là tác giả thứ nhất là cán bộ thuộc biên chế của Nhà trường | E3: Trường hợp khác | G3: Mã hiệu
A4: 1 | B4: Tạp chí thuộc danh mục ISI (SCI/SCIE)
A5: 1.1 | B5: =Sheet1!B129 -> Tạp chí nằm trong Top 30% tạp chí đứng đầu lĩnh vực nghiên cứu gần nhất của bài báo (Q1a) | C5: 1.5 | D5: 1.25 | E5: 1 | G5: Q1a | H5: 2.23
A6: 1.2 | B6: =Sheet1!C129 -> Tạp chí nằm ngoài Top 30% tạp chí đứng đầu nhóm Q1 thuộc lĩnh vực nghiên cứu gần nhất của bài báo (Q1b) | G6: Q1b | H6: 1.3
A7: 1.3 | B7: =Sheet1!F129 -> Tạp chí trong nhóm Q2 thuộc lĩnh vực nghiên cứu gần nhất của bài báo (Q2) | G7: Q2 | H7: 1.2
A8: 1.4 | B8: =Sheet1!H129 -> Tạp chí trong nhóm Q3 thuộc lĩnh vực nghiên cứu gần nhất của bài báo (Q3) | G8: Q3 | H8: 1
A9: 1.5 | B9: =Sheet1!J129 -> Tạp chí trong nhóm Q4 thuộc lĩnh vực nghiên cứu gần nhất của bài báo (Q4) | G9: Q4 | H9: 0.9
A10: 2 | B10: Tạp chí thuộc danh mục SCOPUS | G10: S
D11: Tổng chi | E11: =Sheet1!M121 -> 90380000
D12: Kinh phí Bộ cấp | E12: 277000000

Sheet Danh sach ca nhan nhan tien
A2: DANH SÁCH NHẬN THƯỞNG BÀI BÁO ĐĂNG TRÊN TẠP CHÍ UY TÍN QUỐC TẾ THUỘC HỆ THỐNG ISI, SCI, SCIE NĂM 2019
A3: (kèm theo quyết định số…………../QĐ-MĐC ngày…….tháng………năm 2020)
A5: TT | B5: Họ và tên | C5: Đơn vị công tác | D5: Số tiền thực nhận (vnđ) | E5: Số tài khoản | F5: Ghi chú
A6: 1 | B6: Bùi Hoàng Bắc | C6: BM Tìm kiếm thăm dò | D6: ='DS theo Quyet dinh khen thuong'!S70+'DS theo Quyet dinh khen thuong'!S78+'DS theo Quyet dinh khen thuong'!S85+'DS theo Quyet dinh khen thuong'!S93+'DS theo Quyet dinh khen thuong'!S95+'DS theo Quyet dinh khen thuong'!S116 -> 4085000 | E6: 21510000393158
A7: 2 | B7: Bùi Trường Sơn | C7: Bm Địa chất công trình | D7: ='DS theo Quyet dinh khen thuong'!S46+'DS theo Quyet dinh khen thuong'!S61 -> 1140000 | E7: 21510000076857
A8: 3 | B8: Bùi Văn Đức | C8: BM Kỹ thuật xây dựng | D8: ='DS theo Quyet dinh khen thuong'!S145+'DS theo Quyet dinh khen thuong'!S146+'DS theo Quyet dinh khen thuong'!S149+'DS theo Quyet dinh khen thuong'!S156+'DS theo Quyet dinh khen thuong'!S162+'DS theo Quyet dinh khen thuong'!S170+'DS theo Quyet dinh khen thuong'!S175+'DS theo Quyet dinh khen thuong'!S180+'DS theo Quyet dinh khen thuong'!S181 -> 15400000 | E8: 21510003009472
A9: 4 | B9: Bùi Xuân Nam | C9: BM Khai thác lộ thiên | D9: ='DS theo Quyet dinh khen thuong'!S63+'DS theo Quyet dinh khen thuong'!S66+'DS theo Quyet dinh khen thuong'!S68+'DS theo Quyet dinh khen thuong'!S71+'DS theo Quyet dinh khen thuong'!S75+'DS theo Quyet dinh khen thuong'!S77+'DS theo Quyet dinh khen thuong'!S79+'DS theo Quyet dinh khen thuong'!S80+'DS theo Quyet dinh khen thuong'!S86+'DS theo Quyet dinh khen thuong'!S90+'DS theo Quyet dinh khen thuong'!S92+'DS theo Quyet dinh khen thuong'!S94+'DS theo Quyet dinh khen thuong'!S98+'DS theo Quyet dinh khen thuong'!S102+'DS theo Quyet dinh khen thuong'!S104+'DS theo Quyet dinh khen thuong'!S107+'DS theo Quyet dinh khen thuong'!S110+'DS theo Quyet dinh khen thuong'!S111+'DS theo Quyet dinh khen thuong'!S113+'DS theo Quyet dinh khen thuong'!S118+'DS theo Quyet dinh khen thuong'!S119+'DS theo Quyet dinh khen thuong'!S120+'DS theo Quyet dinh khen thuong'!S126+'DS theo Quyet dinh khen thuong'!S127 -> 38625000 | E9: 21510000368059
A10: 5 | B10: Dư Thị Xuân Thảo | C10: BM Vật lý | D10: ='DS theo Quyet dinh khen thuong'!S37 -> 480000 | E10: 21510000360462 | F10: Nghỉ hưu từ 02/2020
A11: 6 | B11: Dương Thành Trung | C11: BM Trắc địa phổ thông và Sai số | D11: ='DS theo Quyet dinh khen thuong'!S143 -> 3600000 | E11: 21510000365306
A12: 7 | B12: Dương Thị Hiền Thanh | C12: Bm Tin học Kinh tế | D12: ='DS theo Quyet dinh khen thuong'!S7 -> 6690000 | E12: 21510000392155
A13: 8 | B13: Dương Văn Bình | C13: Bm Địa chất công trình | D13: ='DS theo Quyet dinh khen thuong'!S41 -> 780000 | E13: 21510000570304 | F13: Học TS tại Nga
A14: 9 | B14: Dương Văn Hào | C14: BM Địa vật lý | D14: ='DS theo Quyet dinh khen thuong'!S20 -> 2600000 | E14: 21510000820957
A15: 10 | B15: Đào Trung Thành | C15: BM Kỹ thuật môi trường | D15: ='DS theo Quyet dinh khen thuong'!S130 -> 400000 | E15: 44110000385118
A16: 11 | B16: Đào Viết Đoàn | C16: BM Xây dựng CTN và Mỏ | D16: ='DS theo Quyet dinh khen thuong'!S152 -> 3000000 | E16: 21510000363382
A17: 12 | B17: Đào Việt Thắng | C17: BM Vật lý | D17: ='DS theo Quyet dinh khen thuong'!S35 -> 2640000 | E17: 26010000060452
A18: 13 | B18: Đặng Trung Thành | C18: BM Xây dựng CTN và Mỏ | D18: ='DS theo Quyet dinh khen thuong'!S147 -> 2400000 | E18: 21510000080821
A19: 14 | B19: Đoàn Văn Huấn | C19: BM Lọc - Hóa dầu | D19: ='DS theo Quyet dinh khen thuong'!S14+'DS theo Quyet dinh khen thuong'!S18+'DS theo Quyet dinh khen thuong'!S22+'DS theo Quyet dinh khen thuong'!S24 -> 15590000 | E19: 21510000053328 | F19: Học TS tại Anh
A20: 15 | B20: Đỗ Mạnh Tấn | C20: BM Xây dựng CTN và Mỏ | D20: ='DS theo Quyet dinh khen thuong'!S153+'DS theo Quyet dinh khen thuong'!S155+'DS theo Quyet dinh khen thuong'!S160+'DS theo Quyet dinh khen thuong'!S161+'DS theo Quyet dinh khen thuong'!S179+'DS theo Quyet dinh khen thuong'!S182+'DS theo Quyet dinh khen thuong'!S183 -> 26633500 | E20: 21510000667969
A21: 16 | B21: Đỗ Ngọc Anh | C21: BM Xây dựng CTN và Mỏ | D21: ='DS theo Quyet dinh khen thuong'!S164+'DS theo Quyet dinh khen thuong'!S166+'DS theo Quyet dinh khen thuong'!S184 -> 9311500 | E21: 21510000080681
A22: 17 | B22: Đỗ Ngọc Hoàn | C22: BM Khai thác lộ thiên | D22: ='DS theo Quyet dinh khen thuong'!S74+'DS theo Quyet dinh khen thuong'!S89 -> 400000 | E22: 21510000820106 | F22: Học TS tại Nga
A23: 18 | B23: Đỗ Thị Hải | C23: BM Hóa | D23: ='DS theo Quyet dinh khen thuong'!S31 -> 360000 | E23: 21510000455085
A24: 19 | B24: Đỗ Thị Hải | C24: BM Địa sinh thái và CNMT | D24: ='DS theo Quyet dinh khen thuong'!S132 -> 2400000 | E24: 21510000076617
A25: 20 | B25: Đỗ Thị Hồng Hải | C25: BM Vật lý | D25: ='DS theo Quyet dinh khen thuong'!S39 -> 3600000 | E25: 21510000360365
A26: 21 | B26: Đỗ Văn Nhuận | C26: BM Môi trường cơ sở | D26: ='DS theo Quyet dinh khen thuong'!S134 -> 2600000 | E26: 21510000078084
A27: 22 | B27: Hà Mạnh Hùng | C27: BM Hóa | D27: ='DS theo Quyet dinh khen thuong'!S32 -> 3900000 | E27: 21510000359886
A28: 23 | B28: Hoàng Đình Quế | C28: BM Địa chất | D28: ='DS theo Quyet dinh khen thuong'!S51 -> 3900000 | E28: 21510000552816
A29: 24 | B29: Hồ Văn Sơn | C29: BM Lọc - Hóa dầu | D29: ='DS theo Quyet dinh khen thuong'!S12+'DS theo Quyet dinh khen thuong'!S13+'DS theo Quyet dinh khen thuong'!S19 -> 10100000 | E29: 21510000667394
A30: 25 | B30: Kiều Duy Thông | C30: BM Địa vật lý | D30: ='DS theo Quyet dinh khen thuong'!S21 -> 3600000 | E30: 21510000360693
A31: 26 | B31: Lê Đắc Tuyên | C31: BM Vật lý | D31: ='DS theo Quyet dinh khen thuong'!S27+'DS theo Quyet dinh khen thuong'!S33 -> 5160000 | E31: 21510000392784
A32: 27 | B32: Lê Huy Việt | C32: BM Kỹ thuật xây dựng | D32: ='DS theo Quyet dinh khen thuong'!S174 -> 4460000 | E32: 22010000335103
A33: 28 | B33: Lê Quí Thảo | C33: BM Khai thác lộ thiên | D33: ='DS theo Quyet dinh khen thuong'!S73+'DS theo Quyet dinh khen thuong'!S88+'DS theo Quyet dinh khen thuong'!S96 -> 790000 | E33: 21510000496154
A34: 29 | B34: Lê Tiến Dũng | C34: BM Khai thác hầm lò | D34: ='DS theo Quyet dinh khen thuong'!S64 -> 6690000 | E34: 21510000496039
A35: 30 | B35: Lê Thị Duyên | C35: BM Hóa | D35: ='DS theo Quyet dinh khen thuong'!S28 -> 2520000 | E35: 21510000358908
A36: 31 | B36: Lê Thị Phương Thảo | C36: BM Hóa | D36: ='DS theo Quyet dinh khen thuong'!S29 -> 360000 | E36: 21510000359938
A37: 32 | B37: Lê Thị Vinh | C37: BM Hóa | D37: ='DS theo Quyet dinh khen thuong'!S38 -> 2400000 | E37: 21510000288537
A38: 33 | B38: Lê Trọng Thắng | C38: Bm Địa chất công trình | D38: ='DS theo Quyet dinh khen thuong'!S148 -> 600000 | E38: 21510000076495
A39: 34 | B39: Ngô Thị Phương Thảo | C39: BM Tin học Trắc địa | D39: ='DS theo Quyet dinh khen thuong'!S3+'DS theo Quyet dinh khen thuong'!S4+'DS theo Quyet dinh khen thuong'!S6 -> 11520000 | E39: 21510000359424
A40: 35 | B40: Ngô Xuân Thành | C40: BM Địa chất | D40: ='DS theo Quyet dinh khen thuong'!S49 -> 1170750 | E40: 21510000393033
A41: 36 | B41: Nguyễn Đình An | C41: BM Khai thác lộ thiên | D41: ='DS theo Quyet dinh khen thuong'!S72+'DS theo Quyet dinh khen thuong'!S109+'DS theo Quyet dinh khen thuong'!S87 -> 1200000 | E41: 21510000083918
A42: 37 | B42: Nguyễn Đình Luyện | C42: BM Tìm kiếm thăm dò | D42: ='DS theo Quyet dinh khen thuong'!S52 -> 4460000 | E42: 21510001425683
...

Sheet Phụ lục cách tính tiền bài báo
A2: PHỤ LỤC
A3: (kèm theo Quyết định số …………...ngày …..…tháng 5 năm 2020)
A5: I. Phương án phân bổ kinh phí cho các bài báo
A6: Số tiền thực nhận của bài báo được tính theo công thức sau: Số tiền thực nhận = Hệ số tác giả x Hệ số bài báo x 2.000.000
A7: Trong đó:
A8: Hệ số tác giả được xác định như sau:
B9: Nếu tác giả thứ nhất là cán bộ thuộc biên chế của Nhà trường | C9: Nếu tác giả liên hệ mà không là tác giả thứ nhất là cán bộ thuộc biên chế của Nhà trường | D9: Đồng tác giả
A10: Hệ số tác giả | B10: 1.5 | C10: 1.25 | D10: 1
A11: Hệ số bài báo được xác định như sau:
B12: Tạp chí nằm trong Top 30% tạp chí đứng đầu lĩnh vực nghiên cứu gần nhất của bài báo (Q1a) | C12: Tạp chí nằm ngoài Top 30% tạp chí đứng đầu nhóm Q1 thuộc lĩnh vực nghiên cứu gần nhất của bài báo (Q1b) | D12: Tạp chí trong nhóm Q2 thuộc lĩnh vực nghiên cứu gần nhất của bài báo (Q2) | E12: Tạp chí trong nhóm Q3 thuộc lĩnh vực nghiên cứu gần nhất của bài báo (Q3) | F12: Tạp chí trong nhóm Q4 thuộc lĩnh vực nghiên cứu gần nhất của bài báo (Q4)
A13: Hệ số bài báo | B13: 2.23 | C13: 1.3 | D13: 1.2 | E13: 1 | F13: 0.9
A15: II. Phương án phân bổ kinh phí cho cá nhân tham gia bài báo
A16: Nguyên tắc tính: Mức hỗ trợ là số tiền chi cho 1 bài báo. - Nếu bài báo chỉ có 1 tác giả thuộc biên chế Trường Đại học Mỏ - Địa chất (HUMG) thì tác giả đó nhận toàn bộ số tiền thưởng của bài báo. - Nếu bài báo có số tác giả thuộc HUMG từ 2 trở lên thì tỷ lệ chia như sau: + 30% cho tác giả thứ nhất (nếu là tác giả HUMG); + 30% cho tác giả liên hệ (Corresponding author) (nếu là tác giả HUMG); + Số tiền còn lại sau khi trừ đi số tiền chi cho tác giả thứ nhất (nếu có) và tác giả liên hệ (nếu có) chia đều cho tất cả các thành viên là tác giả HUMG.
A17: Duyệt BGH | D17: Phòng KHCN

Sheet DS theo Quyet dinh khen thuong
A1: STT | B1: Tên bài báo | C1: Tác giả thuộc biên chế HUMG | D1: Tên Tạp chí | E1: Đơn vị công tác | F1: Phân loại tạp chí | G1: =MucHoTro!C3 -> Nếu tác giả thứ nhất là cán bộ thuộc biên chế của Nhà trường | H1: =MucHoTro!D3 -> Nếu tác giả liên hệ mà không là tác giả thứ nhất là cán bộ thuộc biên chế của Nhà trường | I1: Đồng tác giả | J1: Hệ số bài báo (I) | K1: Hệ số tác giả (II) | L1: Hệ số tính (III=IxII) | M1: Số tiền thực nhận/bài báo (vnđ) | N1: Tác giả thuộc biên chế HUMG | O1: Số tác giả thuộc biên chế HUMG | P1: Vai trò tác giả trong bài báo trong trường hợp số tác giả thuộc biên chế HUMG > 1 | S1: Sỗ tiền thực nhận/cá nhân tham gia (vnđ) | T1: Ký nhận | U1: Ghi chú
P2: Tác giả thứ nhất | Q2: Tác giả liên hệ | R2: Khác
A3: 1 | B3: A New Intelligence Approach Based on GIS-Based Multivariate Adaptive Regression Splines and Metaheuristic optimization for Predicting Flash Flood Susceptible Areas at High-frequency Tropical Typhoon Area | C3: Ngô Thị Phương Thảo | D3: Journal of Hydrology | E3: BM Tin học Trắc địa | F3: Q1a | I3: x | J3: =IF(F3="Q1a",MucHoTro!$H$5,IF(F3="Q1b",MucHoTro!$H$6,IF(F3="Q2",MucHoTro!$H$7,IF(F3="Q3",MucHoTro!$H$8,IF(F3="Q4",MucHoTro!$H$9))))) -> 2.23 | K3: =IF(G3="x",MucHoTro!$C$5,IF(H3="x",MucHoTro!$D$5,IF(I3="x",MucHoTro!$E$5))) -> 1 | L3: =J3*K3 -> 2.23 | M3: =L3*2000000 -> 4460000 | N3: Ngô Thị Phương Thảo | O3: 1 | S3: =M3 -> 4460000
A4: 2 | B4: A novel hybrid approach based on a swarm intelligence optimized extreme learning machine for flash flood susceptibility mapping | C4: Ngô Thị Phương Thảo | D4: Catena | E4: BM Tin học Trắc địa | F4: Q1b | I4: x | J4: =IF(F4="Q1a",MucHoTro!$H$5,IF(F4="Q1b",MucHoTro!$H$6,IF(F4="Q2",MucHoTro!$H$7,IF(F4="Q3",MucHoTro!$H$8,IF(F4="Q4",MucHoTro!$H$9))))) -> 1.3 | K4: =IF(G4="x",MucHoTro!$C$5,IF(H4="x",MucHoTro!$D$5,IF(I4="x",MucHoTro!$E$5))) -> 1 | L4: =J4*K4 -> 1.3 | M4: =L4*2000000 -> 2600000 | N4: Ngô Thị Phương Thảo | O4: 1 | S4: =M4 -> 2600000
A5: 3 | B5: Development of HUMGEOSTAT: A new Geological Tool for Geostaticssical Analysis of Mineral Deposit: A case stydy at Sin Quyen Mine (northern Vietnam) | C5: Trương Xuân Luận | D5: Journal of the Geological Society of India | E5: BM Tin học Địa chất | F5: Q3 | G5: x | J5: =IF(F5="Q1a",MucHoTro!$H$5,IF(F5="Q1b",MucHoTro!$H$6,IF(F5="Q2",MucHoTro!$H$7,IF(F5="Q3",MucHoTro!$H$8,IF(F5="Q4",MucHoTro!$H$9))))) -> 1 | K5: =IF(G5="x",MucHoTro!$C$5,IF(H5="x",MucHoTro!$D$5,IF(I5="x",MucHoTro!$E$5))) -> 1.5 | L5: =J5*K5 -> 1.5 | M5: =L5*2000000 -> 3000000 | N5: Trương Xuân Luận | O5: 1 | S5: =M5 -> 3000000
A6: 4 | B6: Flash flood susceptibility modeling using an optimized fuzzy rule based feature selection technique and tree based ensemble methods | C6: Ngô Thị Phương Thảo | D6: Science of The Total Environment | E6: BM Tin học Trắc địa | F6: Q1a | I6: x | J6: =IF(F6="Q1a",MucHoTro!$H$5,IF(F6="Q1b",MucHoTro!$H$6,IF(F6="Q2",MucHoTro!$H$7,IF(F6="Q3",MucHoTro!$H$8,IF(F6="Q4",MucHoTro!$H$9))))) -> 2.23 | K6: =IF(G6="x",MucHoTro!$C$5,IF(H6="x",MucHoTro!$D$5,IF(I6="x",MucHoTro!$E$5))) -> 1 | L6: =J6*K6 -> 2.23 | M6: =L6*2000000 -> 4460000 | N6: Ngô Thị Phương Thảo | O6: 1 | S6: =M6 -> 4460000
A7: 5 | B7: Gaussian modeling-based multichannel audio source separation exploiting generic source spectral model | C7: Dương Thị Hiền Thanh | D7: IEEE/ACM Transactions on Audio, Speech, and Language Processing | E7: BM Tin học Kinh tế | F7: Q1a | G7: x | J7: =IF(F7="Q1a",MucHoTro!$H$5,IF(F7="Q1b",MucHoTro!$H$6,IF(F7="Q2",MucHoTro!$H$7,IF(F7="Q3",MucHoTro!$H$8,IF(F7="Q4",MucHoTro!$H$9))))) -> 2.23 | K7: =IF(G7="x",MucHoTro!$C$5,IF(H7="x",MucHoTro!$D$5,IF(I7="x",MucHoTro!$E$5))) -> 1.5 | L7: =J7*K7 -> 3.345 | M7: =L7*2000000 -> 6690000 | N7: Dương Thị Hiền Thanh | S7: =M7 -> 6690000
A8: 6 | B8: Review of mobile laser scanning target‐free registration methods for urban areas using improved error metrics | C8: Nguyễn Hoàng Long | D8: Photogrammetric record | E8: BM Tin học Trắc địa | F8: Q1b | G8: x | J8: =IF(F8="Q1a",MucHoTro!$H$5,IF(F8="Q1b",MucHoTro!$H$6,IF(F8="Q2",MucHoTro!$H$7,IF(F8="Q3",MucHoTro!$H$8,IF(F8="Q4",MucHoTro!$H$9))))) -> 1.3 | K8: =IF(G8="x",MucHoTro!$C$5,IF(H8="x",MucHoTro!$D$5,IF(I8="x",MucHoTro!$E$5))) -> 1.5 | L8: =J8*K8 -> 1.95 | M8: =L8*2000000 -> 3900000 | N8: Nguyễn Hoàng Long | S8: =M8 -> 3900000
A9: 7 | B9: Effects of friction models on simulation of pneumatic cylinder | C9: Nguyễn Văn Lại | D9: Mechanical Sciences | E9: BM Kỹ thuật cơ khí | F9: Q2 | I9: x | J9: =IF(F9="Q1a",MucHoTro!$H$5,IF(F9="Q1b",MucHoTro!$H$6,IF(F9="Q2",MucHoTro!$H$7,IF(F9="Q3",MucHoTro!$H$8,IF(F9="Q4",MucHoTro!$H$9))))) -> 1.2 | K9: =IF(G9="x",MucHoTro!$C$5,IF(H9="x",MucHoTro!$D$5,IF(I9="x",MucHoTro!$E$5))) -> 1 | L9: =J9*K9 -> 1.2 | M9: =L9*2000000 -> 2400000 | N9: Nguyễn Văn Lại | S9: =M9 -> 2400000
A10: 8 | B10: Research on transmission efficiency of high power hydro-iscous clutch | C10: Nguyễn Văn Xô | D10: Industrial Lubrication and Tribology | E10: BM Máy và Thiết bị Mỏ | F10: Q2 | I10: x | J10: =IF(F10="Q1a",MucHoTro!$H$5,IF(F10="Q1b",MucHoTro!$H$6,IF(F10="Q2",MucHoTro!$H$7,IF(F10="Q3",MucHoTro!$H$8,IF(F10="Q4",MucHoTro!$H$9))))) -> 1.2 | K10: =IF(G10="x",MucHoTro!$C$5,IF(H10="x",MucHoTro!$D$5,IF(I10="x",MucHoTro!$E$5))) -> 1 | L10: =J10*K10 -> 1.2 | M10: =L10*2000000 -> 2400000 | N10: Nguyễn Văn Xô | S10: =M10 -> 2400000
A11: 9 | B11: The deformation of AZ31 magnesium alloy during warm constrained groove pressing | C11: Phạm Thị Thủy | D11: Acta metallurgica slovaca | E11: BM Kỹ thuật cơ khí | F11: Q3 | I11: x | J11: =IF(F11="Q1a",MucHoTro!$H$5,IF(F11="Q1b",MucHoTro!$H$6,IF(F11="Q2",MucHoTro!$H$7,IF(F11="Q3",MucHoTro!$H$8,IF(F11="Q4",MucHoTro!$H$9))))) -> 1 | K11: =IF(G11="x",MucHoTro!$C$5,IF(H11="x",MucHoTro!$D$5,IF(I11="x",MucHoTro!$E$5))) -> 1 | L11: =J11*K11 -> 1 | M11: =L11*2000000 -> 2000000 | N11: Phạm Thị Thủy | S11: =M11 -> 2000000
A12: 10 | B12: Crystallization Mechanisms and Rates of Cyclopentane Hydrates Formation in Brine | C12: Hồ Văn Sơn | D12: Chemical Engineering & Technology | E12: BM Lọc - Hóa dầu | F12: Q2 | G12: x | J12: =IF(F12="Q1a",MucHoTro!$H$5,IF(F12="Q1b",MucHoTro!$H$6,IF(F12="Q2",MucHoTro!$H$7,IF(F12="Q3",MucHoTro!$H$8,IF(F12="Q4",MucHoTro!$H$9))))) -> 1.2 | K12: =IF(G12="x",MucHoTro!$C$5,IF(H12="x",MucHoTro!$D$5,IF(I12="x",MucHoTro!$E$5))) -> 1.5 | L12: =J12*K12 -> 1.8 | M12: =L12*2000000 -> 3600000 | N12: Hồ Văn Sơn | S12: =M12 -> 3600000
A13: 11 | B13: Cyclopentane hydrates – A candidate for desalination? | C13: Hồ Văn Sơn | D13: Journal of Environmental Chemical Engineering | E13: BM Lọc - Hóa dầu | F13: Q1b | G13: x | J13: =IF(F13="Q1a",MucHoTro!$H$5,IF(F13="Q1b",MucHoTro!$H$6,IF(F13="Q2",MucHoTro!$H$7,IF(F13="Q3",MucHoTro!$H$8,IF(F13="Q4",MucHoTro!$H$9))))) -> 1.3 | K13: =IF(G13="x",MucHoTro!$C$5,IF(H13="x",MucHoTro!$D$5,IF(I13="x",MucHoTro!$E$5))) -> 1.5 | L13: =J13*K13 -> 1.95 | M13: =L13*2000000 -> 3900000 | N13: Hồ Văn Sơn | S13: =M13 -> 3900000
A14: 12 | B14: Defective hierarchical porous copper-based metal-organic frameworks synthesised via facile acid etching strategy | C14: Đoàn Văn Huấn | D14: Scientific Reports | E14: BM Lọc - Hóa dầu | F14: Q1a | G14: x | J14: =IF(F14="Q1a",MucHoTro!$H$5,IF(F14="Q1b",MucHoTro!$H$6,IF(F14="Q2",MucHoTro!$H$7,IF(F14="Q3",MucHoTro!$H$8,IF(F14="Q4",MucHoTro!$H$9))))) -> 2.23 | K14: =IF(G14="x",MucHoTro!$C$5,IF(H14="x",MucHoTro!$D$5,IF(I14="x",MucHoTro!$E$5))) -> 1.5 | L14: =J14*K14 -> 3.345 | M14: =L14*2000000 -> 6690000 | N14: Đoàn Văn Huấn | S14: =M14 -> 6690000
A15: 13 | B15: Effect of tortuosity on diffusion of polystyrenes through chromatographic columns filled with fully porous and porous –shell particles and monoliths | C15: Nguyễn Khắc Long | D15: Microporous and Mesoporous Materials | E15: BM Khoan - Khai thác Dầu khí | F15: Q1b | G15: x | J15: =IF(F15="Q1a",MucHoTro!$H$5,IF(F15="Q1b",MucHoTro!$H$6,IF(F15="Q2",MucHoTro!$H$7,IF(F15="Q3",MucHoTro!$H$8,IF(F15="Q4",MucHoTro!$H$9))))) -> 1.3 | K15: =IF(G15="x",MucHoTro!$C$5,IF(H15="x",MucHoTro!$D$5,IF(I15="x",MucHoTro!$E$5))) -> 1.5 | L15: =J15*K15 -> 1.95 | M15: =L15*2000000 -> 3900000 | N15: Nguyễn Khắc Long | S15: =M15 -> 3900000
A16: 14 | B16: Effects of Failure of the Ocean‐Bottom Seismograph Leveling System on Receiver Function Analysis | C16: Trần Danh Hùng | D16: Seismological Research Letters | E16: BM Địa Vật lý | F16: Q1b | G16: x | J16: =IF(F16="Q1a",MucHoTro!$H$5,IF(F16="Q1b",MucHoTro!$H$6,IF(F16="Q2",MucHoTro!$H$7,IF(F16="Q3",MucHoTro!$H$8,IF(F16="Q4",MucHoTro!$H$9))))) -> 1.3 | K16: =IF(G16="x",MucHoTro!$C$5,IF(H16="x",MucHoTro!$D$5,IF(I16="x",MucHoTro!$E$5))) -> 1.5 | L16: =J16*K16 -> 1.95 | M16: =L16*2000000 -> 3900000 | N16: Trần Danh Hùng | S16: =M16 -> 3900000
A17: 15 | B17: Effects of the Current Direction on the Energy Production of a Tidal Farm: The Case of Raz Blanchard (France) | C17: Nguyễn Văn Thịnh | D17: Energies | E17: BM Thiết bị dầu khí và Công trình | F17: Q2 | G17: x | J17: =IF(F17="Q1a",MucHoTro!$H$5,IF(F17="Q1b",MucHoTro!$H$6,IF(F17="Q2",MucHoTro!$H$7,IF(F17="Q3",MucHoTro!$H$8,IF(F17="Q4",MucHoTro!$H$9))))) -> 1.2 | K17: =IF(G17="x",MucHoTro!$C$5,IF(H17="x",MucHoTro!$D$5,IF(I17="x",MucHoTro!$E$5))) -> 1.5 | L17: =J17*K17 -> 1.8 | M17: =L17*2000000 -> 3600000 | N17: Nguyễn Văn Thịnh | S17: =M17 -> 3600000
A18: 16 | B18: Hierarchical Metal–Organic Frameworks with Macroporosity: Synthesis, Achievements, and Challenges | C18: Đoàn Văn Huấn | D18: Nano-Micro Letters | E18: BM Lọc - Hóa dầu | F18: Q1b | G18: x | J18: =IF(F18="Q1a",MucHoTro!$H$5,IF(F18="Q1b",MucHoTro!$H$6,IF(F18="Q2",MucHoTro!$H$7,IF(F18="Q3",MucHoTro!$H$8,IF(F18="Q4",MucHoTro!$H$9))))) -> 1.3 | K18: =IF(G18="x",MucHoTro!$C$5,IF(H18="x",MucHoTro!$D$5,IF(I18="x",MucHoTro!$E$5))) -> 1.5 | L18: =J18*K18 -> 1.95 | M18: =L18*2000000 -> 3900000 | N18: Đoàn Văn Huấn | S18: =M18 -> 3900000
A19: 17 | B19: Phase equilibrium measurements and modelling of mixed cyclopentane and carbon dioxide hydrates in presence of salts | C19: Hồ Văn Sơn | D19: Chemical Engineering Science | E19: BM Lọc - Hóa dầu | F19: Q1b | I19: x | J19: =IF(F19="Q1a",MucHoTro!$H$5,IF(F19="Q1b",MucHoTro!$H$6,IF(F19="Q2",MucHoTro!$H$7,IF(F19="Q3",MucHoTro!$H$8,IF(F19="Q4",MucHoTro!$H$9))))) -> 1.3 | K19: =IF(G19="x",MucHoTro!$C$5,IF(H19="x",MucHoTro!$D$5,IF(I19="x",MucHoTro!$E$5))) -> 1 | L19: =J19*K19 -> 1.3 | M19: =L19*2000000 -> 2600000 | N19: Hồ Văn Sơn | S19: =M19 -> 2600000
A20: 18 | B20: Recent tectonics, geodynamics and seismotectonics in the Ninh Thuan Nuclear Power plants and surrounding regions, South Vietnam | C20: Dương Văn Hào | D20: Journal of Asian Earth Sciences | E20: BM Địa Vật lý | F20: Q1b | I20: x | J20: =IF(F20="Q1a",MucHoTro!$H$5,IF(F20="Q1b",MucHoTro!$H$6,IF(F20="Q2",MucHoTro!$H$7,IF(F20="Q3",MucHoTro!$H$8,IF(F20="Q4",MucHoTro!$H$9))))) -> 1.3 | K20: =IF(G20="x",MucHoTro!$C$5,IF(H20="x",MucHoTro!$D$5,IF(I20="x",MucHoTro!$E$5))) -> 1 | L20: =J20*K20 -> 1.3 | M20: =L20*2000000 -> 2600000 | N20: Dương Văn Hào | S20: =M20 -> 2600000
A21: 19 | B21: Seismic‐impedance inversion with fuzzy clustering constraints: an example from the Carlin Gold District, Nevada, USA | C21: Kiều Duy Thông | D21: Geophysical Prospecting | E21: BM Địa Vật lý | F21: Q2 | G21: x | J21: =IF(F21="Q1a",MucHoTro!$H$5,IF(F21="Q1b",MucHoTro!$H$6,IF(F21="Q2",MucHoTro!$H$7,IF(F21="Q3",MucHoTro!$H$8,IF(F21="Q4",MucHoTro!$H$9))))) -> 1.2 | K21: =IF(G21="x",MucHoTro!$C$5,IF(H21="x",MucHoTro!$D$5,IF(I21="x",MucHoTro!$E$5))) -> 1.5 | L21: =J21*K21 -> 1.8 | M21: =L21*2000000 -> 3600000 | N21: Kiều Duy Thông | S21: =M21 -> 3600000
A22: 20 | B22: Study on the HPA immobilisation on Al-SBA-15 support over Brønsted groups | C22: Đoàn Văn Huấn | D22: Molecular Catalysis | E22: BM Lọc - Hóa dầu | F22: Q2 | I22: x | J22: =IF(F22="Q1a",MucHoTro!$H$5,IF(F22="Q1b",MucHoTro!$H$6,IF(F22="Q2",MucHoTro!$H$7,IF(F22="Q3",MucHoTro!$H$8,IF(F22="Q4",MucHoTro!$H$9))))) -> 1.2 | K22: =IF(G22="x",MucHoTro!$C$5,IF(H22="x",MucHoTro!$D$5,IF(I22="x",MucHoTro!$E$5))) -> 1 | L22: =J22*K22 -> 1.2 | M22: =L22*2000000 -> 2400000 | N22: Đoàn Văn Huấn | S22: =M22 -> 2400000
A23: 21 | B23: The role of organic and inorganic UV-absorbents on photopolymerization and mechanical properties of acrylate-urethane coating | C23: Nguyễn Thị Linh | D23: Materials Today Communications | E23: BM Lọc - Hóa dầu | F23: Q2 | I23: x | J23: =IF(F23="Q1a",MucHoTro!$H$5,IF(F23="Q1b",MucHoTro!$H$6,IF(F23="Q2",MucHoTro!$H$7,IF(F23="Q3",MucHoTro!$H$8,IF(F23="Q4",MucHoTro!$H$9))))) -> 1.2 | K23: =IF(G23="x",MucHoTro!$C$5,IF(H23="x",MucHoTro!$D$5,IF(I23="x",MucHoTro!$E$5))) -> 1 | L23: =J23*K23 -> 1.2 | M23: =L23*2000000 -> 2400000 | N23: Nguyễn Thị Linh | S23: =M23 -> 2400000
A24: 22 | B24: Understanding the AC conductivity and permittivity of trapdoor chabazites for future development of next-generation gas sensors | C24: Đoàn Văn Huấn | D24: Microporous and Mesoporous Materials | E24: BM Lọc - Hóa dầu | F24: Q1b | I24: x | J24: =IF(F24="Q1a",MucHoTro!$H$5,IF(F24="Q1b",MucHoTro!$H$6,IF(F24="Q2",MucHoTro!$H$7,IF(F24="Q3",MucHoTro!$H$8,IF(F24="Q4",MucHoTro!$H$9))))) -> 1.3 | K24: =IF(G24="x",MucHoTro!$C$5,IF(H24="x",MucHoTro!$D$5,IF(I24="x",MucHoTro!$E$5))) -> 1 | L24: =J24*K24 -> 1.3 | M24: =L24*2000000 -> 2600000 | N24: Đoàn Văn Huấn | S24: =M24 -> 2600000
A25: 23 | B25: A Novel Approach for Fabricating LaMnO3 Thin Films Using Combined Microwave Combustion and Pulsed Electron Deposition Techniques | C25: Trần Thị Hà | D25: Journal of Chemistry | E25: BM Vật lý | F25: Q3 | G25: x | J25: =IF(F25="Q1a",MucHoTro!$H$5,IF(F25="Q1b",MucHoTro!$H$6,IF(F25="Q2",MucHoTro!$H$7,IF(F25="Q3",MucHoTro!$H$8,IF(F25="Q4",MucHoTro!$H$9))))) -> 1 | K25: =IF(G25="x",MucHoTro!$C$5,IF(H25="x",MucHoTro!$D$5,IF(I25="x",MucHoTro!$E$5))) -> 1.5 | L25: =J25*K25 -> 1.5 | M25: =L25*2000000 -> 3000000 | N25: Trần Thị Hà | S25: =M25 -> 3000000
A26: 24 | B26: Discovery of cycloartane-typetriterpene saponins from Mussaenda glabra, 33, 39-45, 2019. | C26: Vũ Kim Thư | D26: Phytochemistry Letters | E26: BM Hóa | F26: Q2 | G26: x | J26: =IF(F26="Q1a",MucHoTro!$H$5,IF(F26="Q1b",MucHoTro!$H$6,IF(F26="Q2",MucHoTro!$H$7,IF(F26="Q3",MucHoTro!$H$8,IF(F26="Q4",MucHoTro!$H$9))))) -> 1.2 | K26: =IF(G26="x",MucHoTro!$C$5,IF(H26="x",MucHoTro!$D$5,IF(I26="x",MucHoTro!$E$5))) -> 1.5 | L26: =J26*K26 -> 1.8 | M26: =L26*2000000 -> 3600000 | N26: Vũ Kim Thư | S26: =M26 -> 3600000
A27: 25 | B27: Dual-band isotropic metamaterial absorber based on near-field interaction in the Ku band | C27: Lê Đắc Tuyên | D27: Current Applied Physics | E27: BM Vật lý | F27: Q2 | H27: x | J27: =IF(F27="Q1a",MucHoTro!$H$5,IF(F27="Q1b",MucHoTro!$H$6,IF(F27="Q2",MucHoTro!$H$7,IF(F27="Q3",MucHoTro!$H$8,IF(F27="Q4",MucHoTro!$H$9))))) -> 1.2 | K27: =IF(G27="x",MucHoTro!$C$5,IF(H27="x",MucHoTro!$D$5,IF(I27="x",MucHoTro!$E$5))) -> 1.25 | L27: =J27*K27 -> 1.5 | M27: =L27*2000000 -> 3000000 | N27: Lê Đắc Tuyên | S27: =M27 -> 3000000
A28: 26 | B28: Fabrication of Porous Hydroxyapatite Granules as an Effective Adsorbent for the Removal of Aqueous Pb(II) Ions | C28: Lê Thị Duyên, Lê Thị Phương Thảo, Đỗ Thị Hải, Võ Thị Hạnh | D28: Journal of Chemistry | E28: BM Hóa | F28: Q2 | G28: x | J28: =IF(F28="Q1a",MucHoTro!$H$5,IF(F28="Q1b",MucHoTro!$H$6,IF(F28="Q2",MucHoTro!$H$7,IF(F28="Q3",MucHoTro!$H$8,IF(F28="Q4",MucHoTro!$H$9))))) -> 1.2 | K28: =IF(G28="x",MucHoTro!$C$5,IF(H28="x",MucHoTro!$D$5,IF(I28="x",MucHoTro!$E$5))) -> 1.5 | L28: =J28*K28 -> 1.8 | M28: =L28*2000000 -> 3600000 | N28: Lê Thị Duyên | O28: 4 | P28: x | Q28: x | S28: =M28*(0.3+0.3)+M28*0.4/O28 -> 2520000
E29: BM Hóa | N29: Lê Thị Phương Thảo | R29: x | S29: =M28*0.4/O28 -> 360000
E30: BM Hóa | N30: Võ Thị Hạnh | R30: x | S30: =M28*0.4/O28 -> 360000
E31: BM Hóa | N31: Đỗ Thị Hải | R31: x | S31: =M28*0.4/O28 -> 360000
A32: 27 | B32: Improvement of the corrosion protection of polypyrrole coating for CT3 mild steel with 10-camphorsulfonic acid and molybdate as inhibitor dopants | C32: Hà Mạnh Hùng | D32: Progress in Organic Coatings | E32: BM Hóa | F32: Q1b | G32: x | J32: =IF(F32="Q1a",MucHoTro!$H$5,IF(F32="Q1b",MucHoTro!$H$6,IF(F32="Q2",MucHoTro!$H$7,IF(F32="Q3",MucHoTro!$H$8,IF(F32="Q4",MucHoTro!$H$9))))) -> 1.3 | K32: =IF(G32="x",MucHoTro!$C$5,IF(H32="x",MucHoTro!$D$5,IF(I32="x",MucHoTro!$E$5))) -> 1.5 | L32: =J32*K32 -> 1.95 | M32: =L32*2000000 -> 3900000 | N32: Hà Mạnh Hùng | O32: 1 | S32: =M32 -> 3900000
A33: 28 | B33: Multi-band and broadband metamaterial perfect absorber based on conductive polymer and near-field coupling | C33: Lê Đắc Tuyên, Tống Bá Tuấn | D33: International Journal of Modern Physics B | E33: BM Vật lý | F33: Q4 | G33: x | J33: =IF(F33="Q1a",MucHoTro!$H$5,IF(F33="Q1b",MucHoTro!$H$6,IF(F33="Q2",MucHoTro!$H$7,IF(F33="Q3",MucHoTro!$H$8,IF(F33="Q4",MucHoTro!$H$9))))) -> 0.9 | K33: =IF(G33="x",MucHoTro!$C$5,IF(H33="x",MucHoTro!$D$5,IF(I33="x",MucHoTro!$E$5))) -> 1.5 | L33: =J33*K33 -> 1.35 | M33: =L33*2000000 -> 2700000 | N33: Lê Đắc Tuyên | O33: 2 | P33: x | Q33: x | S33: =M33*(0.3+0.3)+M33*0.4/O33 -> 2160000
N34: Tống Bá Tuấn | R34: x | S34: =M33*0.4/O33 -> 540000
A35: 29 | B35: Structural, Electrical, and Magnetic Properties of Bi0.90Nd0.10Fe0.98TM0.02O3 (TM = Mn, Co, Ni, and Cu) Materials | C35: Đào Việt Thắng, Nguyễn Mạnh Hùng, Dư Thị Xuân Thảo | D35: IEEE Magnetics Letters | E35: BM Vật lý | F35: Q2 | G35: x | J35: =IF(F35="Q1a",MucHoTro!$H$5,IF(F35="Q1b",MucHoTro!$H$6,IF(F35="Q2",MucHoTro!$H$7,IF(F35="Q3",MucHoTro!$H$8,IF(F35="Q4",MucHoTro!$H$9))))) -> 1.2 | K35: =IF(G35="x",MucHoTro!$C$5,IF(H35="x",MucHoTro!$D$5,IF(I35="x",MucHoTro!$E$5))) -> 1.5 | L35: =J35*K35 -> 1.8 | M35: =L35*2000000 -> 3600000 | N35: Đào Việt Thắng | O35: 3 | P35: x | Q35: x | S35: =M35*(0.3+0.3)+M35*0.4/O35 -> 2640000
E36: BM Vật lý | N36: Nguyễn Mạnh Hùng | R36: x | S36: =M35*0.4/O35 -> 480000
E37: BM Vật lý | N37: Dư Thị Xuân Thảo | R37: x | S37: =M35*0.4/O35 -> 480000
A38: 30 | B38: Synthesis and characterization of NaYF4:Yb3+,Er3+@silica-N¼folic acid nanocomplex for bioimaginable detecting MCF-7 breast cancer cells | C38: Lê Thị Vinh | D38: Journal of Rare Earths | E38: BM Hóa | F38: Q2 | I38: x | J38: =IF(F38="Q1a",MucHoTro!$H$5,IF(F38="Q1b",MucHoTro!$H$6,IF(F38="Q2",MucHoTro!$H$7,IF(F38="Q3",MucHoTro!$H$8,IF(F38="Q4",MucHoTro!$H$9))))) -> 1.2 | K38: =IF(G38="x",MucHoTro!$C$5,IF(H38="x",MucHoTro!$D$5,IF(I38="x",MucHoTro!$E$5))) -> 1 | L38: =J38*K38 -> 1.2 | M38: =L38*2000000 -> 2400000 | N38: Lê Thị Vinh | S38: =M38 -> 2400000
A39: 31 | B39: Thermal Fluctuations in the Phase Structure of the Excitonic Insulator Charge Density Wave State in the Extended Falicov-Kimball Model | C39: Đỗ Thị Hồng Hải | D39: Journal of Electronic Materials | E39: BM Vật lý | F39: Q2 | G39: x | J39: =IF(F39="Q1a",MucHoTro!$H$5,IF(F39="Q1b",MucHoTro!$H$6,IF(F39="Q2",MucHoTro!$H$7,IF(F39="Q3",MucHoTro!$H$8,IF(F39="Q4",MucHoTro!$H$9))))) -> 1.2 | K39: =IF(G39="x",MucHoTro!$C$5,IF(H39="x",MucHoTro!$D$5,IF(I39="x",MucHoTro!$E$5))) -> 1.5 | L39: =J39*K39 -> 1.8 | M39: =L39*2000000 -> 3600000 | N39: Đỗ Thị Hồng Hải | S39: =M39 -> 3600000
A40: 32 | B40: A hybrid computational intelligence approach for predicting soil shear strength for urban housing construction: a case study at Vinhomes Imperia project, Hai Phong city (Vietnam) | C40: Nhữ Việt Hà, Dương Văn Bình | D40: Engineering with Computers | E40: BM Địa chất công trình | F40: Q1b | G40: x | J40: =IF(F40="Q1a",MucHoTro!$H$5,IF(F40="Q1b",MucHoTro!$H$6,IF(F40="Q2",MucHoTro!$H$7,IF(F40="Q3",MucHoTro!$H$8,IF(F40="Q4",MucHoTro!$H$9))))) -> 1.3 | K40: =IF(G40="x",MucHoTro!$C$5,IF(H40="x",MucHoTro!$D$5,IF(I40="x",MucHoTro!$E$5))) -> 1.5 | L40: =J40*K40 -> 1.95 | M40: =L40*2000000 -> 3900000 | N40: Nhữ Việt Hà | O40: 2 | S40: =M40*(0.3+0.3)+M40*0.4/O40 -> 3120000
...
