Workbook

Sheet Danh sách nhận tiền
A1: DANH SÁCH NHẬN THƯỞNG BÀI BÁO CÔNG BỐ TRÊN CÁC TẠP CHÍ UY TÍN TRONG DANH MỤC ISI, SCI, SCIE NĂM 2018
A2: (kèm theo Quyết định số 943/QĐ-MĐC, ngày 08 tháng 7 năm 2019 của Hiệu trưởng trường Đại học Mỏ - Địa chất về việc Khen thưởng bài báo công bố trên các Tạp chí uy tín trong danh mục ISI, SCI, SCIE năm 2018)
A3: STT | B3: Tên bài báo | C3: Tác giả thuộc biên chế Trường Đại học Mỏ - Địa chất | D3: Loại tạp chí | E3: =MucHoTro!C3 -> Nếu tác giả thứ nhất là cán bộ thuộc biên chế của Nhà trường | F3: =MucHoTro!D3 -> Nếu tác giả liên hệ mà không là tác giả thứ nhất là cán bộ thuộc biên chế của Nhà trường | G3: Đồng tác giả | H3: Hệ số bài báo | I3: Hệ số tác giả | J3: Hệ số tính | K3: Đơn vị công tác | L3: Số Chứng minh thư nhân dân | M3: Ngày cấp, nơi cấp | N3: Số tiền thực nhận (Vnđ) | O3: Ký nhận | P3: Ghi chú | S3: Loại tạp chí
A4: (1) | B4: (2) | C4: (3) | D4: (4) | E4: (5) | F4: (6) | G4: (7) | H4: (8) | I4: (9) | J4: (10=8x9) | N4: (11)
A5: 1 | B5: Synthesis of Ag-AgBr/Al-MCM-41 nanocomposite and its application in photocatalytic oxidative sulfurization of dibenzothiophene | C5: Phạm Xuân Núi Đoàn Văn Huấn | D5: Q1b | E5: x | H5: =IF(D5="Q1a",MucHoTro!$H$5,IF(D5="Q1b",MucHoTro!$H$6,IF(D5="Q2",MucHoTro!$H$7,IF(D5="Q3",MucHoTro!$H$8,IF(D5="Q4",MucHoTro!$H$9))))) -> 1.3 | I5: =IF(E5="x",MucHoTro!$C$5,IF(F5="x",MucHoTro!$D$5,IF(G5="x",MucHoTro!$E$5))) -> 1.5 | J5: =H5*I5 -> 1.95 | K5: Bộ môn Lọc - Hóa dầu Bộ môn Lọc - Hóa dầu | N5: =J5*2000000 -> 3900000 | S5: =IF(D5<>"",INDEX(MucHoTro!$B$5:$B$10,MATCH('Danh sách nhận tiền'!D5,MucHoTro!$G$5:$G$10,0),1),"") -> Tạp chí nằm ngoài Top 30% tạp chí đứng đầu nhóm Q1 thuộc lĩnh vực nghiên cứu gần nhất của bài báo (Q1b)
A6: 2 | B6: Synthesis of Al-MCM-41@Ag/TiO2 Nanocomposite and Its Photocatalytic Activity for Degradation of Dibenzothiophene | C6: Phạm Xuân Núi | D6: Q2 | E6: x | H6: =IF(D6="Q1a",MucHoTro!$H$5,IF(D6="Q1b",MucHoTro!$H$6,IF(D6="Q2",MucHoTro!$H$7,IF(D6="Q3",MucHoTro!$H$8,IF(D6="Q4",MucHoTro!$H$9))))) -> 1.2 | I6: =IF(E6="x",MucHoTro!$C$5,IF(F6="x",MucHoTro!$D$5,IF(G6="x",MucHoTro!$E$5))) -> 1.5 | J6: =H6*I6 -> 1.8 | K6: Bộ môn Lọc - Hóa dầu | N6: =J6*2000000 -> 3600000 | S6: =IF(D6<>"",INDEX(MucHoTro!$B$5:$B$10,MATCH('Danh sách nhận tiền'!D6,MucHoTro!$G$5:$G$10,0),1),"") -> Tạp chí trong nhóm Q2 thuộc lĩnh vực nghiên cứu gần nhất của bài báo (Q2)
A7: 3 | B7: Activity and stability of amino-functionalized SBA-15 immobilized 12-tungstophosphoric acid in the oxidative desulfurization of a diesel fuel model with H2O2 | C7: Phạm Xuân Núi Đoàn Văn Huấn | D7: Q2 | E7: x | H7: =IF(D7="Q1a",MucHoTro!$H$5,IF(D7="Q1b",MucHoTro!$H$6,IF(D7="Q2",MucHoTro!$H$7,IF(D7="Q3",MucHoTro!$H$8,IF(D7="Q4",MucHoTro!$H$9))))) -> 1.2 | I7: =IF(E7="x",MucHoTro!$C$5,IF(F7="x",MucHoTro!$D$5,IF(G7="x",MucHoTro!$E$5))) -> 1.5 | J7: =H7*I7 -> 1.8 | K7: Bộ môn Lọc - Hóa dầu Bộ môn Lọc - Hóa dầu | N7: =J7*2000000 -> 3600000 | S7: =IF(D7<>"",INDEX(MucHoTro!$B$5:$B$10,MATCH('Danh sách nhận tiền'!D7,MucHoTro!$G$5:$G$10,0),1),"") -> Tạp chí trong nhóm Q2 thuộc lĩnh vực nghiên cứu gần nhất của bài báo (Q2)
A8: 4 | B8: Photocatalytic Selectivities of Ethane, Methane and Dimethylether Controlled by Reaction Conditions and TiO2 Structure in the Degradation of Acetic Acid | C8: Ngô Hà Sơn | D8: Q2 | E8: x | H8: =IF(D8="Q1a",MucHoTro!$H$5,IF(D8="Q1b",MucHoTro!$H$6,IF(D8="Q2",MucHoTro!$H$7,IF(D8="Q3",MucHoTro!$H$8,IF(D8="Q4",MucHoTro!$H$9))))) -> 1.2 | I8: =IF(E8="x",MucHoTro!$C$5,IF(F8="x",MucHoTro!$D$5,IF(G8="x",MucHoTro!$E$5))) -> 1.5 | J8: =H8*I8 -> 1.8 | K8: Bộ môn Lọc - Hóa dầu | N8: =J8*2000000 -> 3600000 | S8: =IF(D8<>"",INDEX(MucHoTro!$B$5:$B$10,MATCH('Danh sách nhận tiền'!D8,MucHoTro!$G$5:$G$10,0),1),"") -> Tạp chí trong nhóm Q2 thuộc lĩnh vực nghiên cứu gần nhất của bài báo (Q2)
A9: 5 | B9: Experimental measurement and thermodynamic modeling of cyclopentane hydrates with NaCl, KCl, CaCl2, or NaCl‐KCl present | C9: Hồ Văn Sơn | D9: Q1b | E9: x | H9: =IF(D9="Q1a",MucHoTro!$H$5,IF(D9="Q1b",MucHoTro!$H$6,IF(D9="Q2",MucHoTro!$H$7,IF(D9="Q3",MucHoTro!$H$8,IF(D9="Q4",MucHoTro!$H$9))))) -> 1.3 | I9: =IF(E9="x",MucHoTro!$C$5,IF(F9="x",MucHoTro!$D$5,IF(G9="x",MucHoTro!$E$5))) -> 1.5 | J9: =H9*I9 -> 1.95 | K9: Bộ môn Lọc - Hóa dầu | N9: =J9*2000000 -> 3900000 | S9: =IF(D9<>"",INDEX(MucHoTro!$B$5:$B$10,MATCH('Danh sách nhận tiền'!D9,MucHoTro!$G$5:$G$10,0),1),"") -> Tạp chí nằm ngoài Top 30% tạp chí đứng đầu nhóm Q1 thuộc lĩnh vực nghiên cứu gần nhất của bài báo (Q1b)
A10: 6 | B10: Implementing Cyclopentane Hydrates Phase Equilibrium Data and Simulations in Brine Solutions | C10: Hồ Văn Sơn | D10: Q1b | E10: x | H10: =IF(D10="Q1a",MucHoTro!$H$5,IF(D10="Q1b",MucHoTro!$H$6,IF(D10="Q2",MucHoTro!$H$7,IF(D10="Q3",MucHoTro!$H$8,IF(D10="Q4",MucHoTro!$H$9))))) -> 1.3 | I10: =IF(E10="x",MucHoTro!$C$5,IF(F10="x",MucHoTro!$D$5,IF(G10="x",MucHoTro!$E$5))) -> 1.5 | J10: =H10*I10 -> 1.95 | K10: Bộ môn Lọc - Hóa dầu | N10: =J10*2000000 -> 3900000 | S10: =IF(D10<>"",INDEX(MucHoTro!$B$5:$B$10,MATCH('Danh sách nhận tiền'!D10,MucHoTro!$G$5:$G$10,0),1),"") -> Tạp chí nằm ngoài Top 30% tạp chí đứng đầu nhóm Q1 thuộc lĩnh vực nghiên cứu gần nhất của bài báo (Q1b)
A11: 7 | B11: A review on hydrate composition and capability of thermodynamic modeling to predict hydrate pressure and composition | C11: Hồ Văn Sơn | D11: Q1b | G11: x | H11: =IF(D11="Q1a",MucHoTro!$H$5,IF(D11="Q1b",MucHoTro!$H$6,IF(D11="Q2",MucHoTro!$H$7,IF(D11="Q3",MucHoTro!$H$8,IF(D11="Q4",MucHoTro!$H$9))))) -> 1.3 | I11: =IF(E11="x",MucHoTro!$C$5,IF(F11="x",MucHoTro!$D$5,IF(G11="x",MucHoTro!$E$5))) -> 1 | J11: =H11*I11 -> 1.3 | K11: Bộ môn Lọc - Hóa dầu | N11: =J11*2000000 -> 2600000 | S11: =IF(D11<>"",INDEX(MucHoTro!$B$5:$B$10,MATCH('Danh sách nhận tiền'!D11,MucHoTro!$G$5:$G$10,0),1),"") -> Tạp chí nằm ngoài Top 30% tạp chí đứng đầu nhóm Q1 thuộc lĩnh vực nghiên cứu gần nhất của bài báo (Q1b)
A12: 8 | B12: PVTx measurements of mixed clathrate hydrates in batch conditions under different crystallization rates: Influence on equilibrium | C12: Hồ Văn Sơn | D12: Q1b | G12: x | H12: =IF(D12="Q1a",MucHoTro!$H$5,IF(D12="Q1b",MucHoTro!$H$6,IF(D12="Q2",MucHoTro!$H$7,IF(D12="Q3",MucHoTro!$H$8,IF(D12="Q4",MucHoTro!$H$9))))) -> 1.3 | I12: =IF(E12="x",MucHoTro!$C$5,IF(F12="x",MucHoTro!$D$5,IF(G12="x",MucHoTro!$E$5))) -> 1 | J12: =H12*I12 -> 1.3 | K12: Bộ môn Lọc - Hóa dầu | N12: =J12*2000000 -> 2600000 | S12: =IF(D12<>"",INDEX(MucHoTro!$B$5:$B$10,MATCH('Danh sách nhận tiền'!D12,MucHoTro!$G$5:$G$10,0),1),"") -> Tạp chí nằm ngoài Top 30% tạp chí đứng đầu nhóm Q1 thuộc lĩnh vực nghiên cứu gần nhất của bài báo (Q1b)
A13: 9 | B13: A new approach of studying mixed gas hydrates involving propane at non-equilibrium conditions and final state: An experimental study and modeling | C13: Hồ Văn Sơn | D13: Q1b | G13: x | H13: =IF(D13="Q1a",MucHoTro!$H$5,IF(D13="Q1b",MucHoTro!$H$6,IF(D13="Q2",MucHoTro!$H$7,IF(D13="Q3",MucHoTro!$H$8,IF(D13="Q4",MucHoTro!$H$9))))) -> 1.3 | I13: =IF(E13="x",MucHoTro!$C$5,IF(F13="x",MucHoTro!$D$5,IF(G13="x",MucHoTro!$E$5))) -> 1 | J13: =H13*I13 -> 1.3 | K13: Bộ môn Lọc - Hóa dầu | N13: =J13*2000000 -> 2600000 | S13: =IF(D13<>"",INDEX(MucHoTro!$B$5:$B$10,MATCH('Danh sách nhận tiền'!D13,MucHoTro!$G$5:$G$10,0),1),"") -> Tạp chí nằm ngoài Top 30% tạp chí đứng đầu nhóm Q1 thuộc lĩnh vực nghiên cứu gần nhất của bài báo (Q1b)
A14: 10 | B14: Synthesis, Characterization, and Impregnation of Some Ionic Liquids on Polymer Membrane for Separation of Carbon Dioxide from Its Mixture with Methane | C14: Bùi Thị Lệ Thủy | D14: Q2 | E14: x | H14: =IF(D14="Q1a",MucHoTro!$H$5,IF(D14="Q1b",MucHoTro!$H$6,IF(D14="Q2",MucHoTro!$H$7,IF(D14="Q3",MucHoTro!$H$8,IF(D14="Q4",MucHoTro!$H$9))))) -> 1.2 | I14: =IF(E14="x",MucHoTro!$C$5,IF(F14="x",MucHoTro!$D$5,IF(G14="x",MucHoTro!$E$5))) -> 1.5 | J14: =H14*I14 -> 1.8 | K14: Bộ môn Lọc - Hóa dầu | N14: =J14*2000000 -> 3600000 | S14: =IF(D14<>"",INDEX(MucHoTro!$B$5:$B$10,MATCH('Danh sách nhận tiền'!D14,MucHoTro!$G$5:$G$10,0),1),"") -> Tạp chí trong nhóm Q2 thuộc lĩnh vực nghiên cứu gần nhất của bài báo (Q2)
A15: 11 | B15: Theoretical modeling of Positive Displacement Motors performance | C15: Nguyễn Thế Vinh | D15: Q2 | G15: x | H15: =IF(D15="Q1a",MucHoTro!$H$5,IF(D15="Q1b",MucHoTro!$H$6,IF(D15="Q2",MucHoTro!$H$7,IF(D15="Q3",MucHoTro!$H$8,IF(D15="Q4",MucHoTro!$H$9))))) -> 1.2 | I15: =IF(E15="x",MucHoTro!$C$5,IF(F15="x",MucHoTro!$D$5,IF(G15="x",MucHoTro!$E$5))) -> 1 | J15: =H15*I15 -> 1.2 | K15: Bộ môn Khoan - Khai thác | N15: =J15*2000000 -> 2400000 | S15: =IF(D15<>"",INDEX(MucHoTro!$B$5:$B$10,MATCH('Danh sách nhận tiền'!D15,MucHoTro!$G$5:$G$10,0),1),"") -> Tạp chí trong nhóm Q2 thuộc lĩnh vực nghiên cứu gần nhất của bài báo (Q2)
A16: 12 | B16: Correcting the distortion of apparent resistivity pseudosection produced by 3D effect of the embankment geometry | C16: Phạm Ngọc Kiên | D16: Q2 | G16: x | H16: =IF(D16="Q1a",MucHoTro!$H$5,IF(D16="Q1b",MucHoTro!$H$6,IF(D16="Q2",MucHoTro!$H$7,IF(D16="Q3",MucHoTro!$H$8,IF(D16="Q4",MucHoTro!$H$9))))) -> 1.2 | I16: =IF(E16="x",MucHoTro!$C$5,IF(F16="x",MucHoTro!$D$5,IF(G16="x",MucHoTro!$E$5))) -> 1 | J16: =H16*I16 -> 1.2 | K16: Bộ môn Địa vật lý | N16: =J16*2000000 -> 2400000 | S16: =IF(D16<>"",INDEX(MucHoTro!$B$5:$B$10,MATCH('Danh sách nhận tiền'!D16,MucHoTro!$G$5:$G$10,0),1),"") -> Tạp chí trong nhóm Q2 thuộc lĩnh vực nghiên cứu gần nhất của bài báo (Q2)
A17: 13 | B17: Moho depth of the northern Vietnam and Gulf of Tonkin from 3D inverse interpretation of gravity anomaly data | C17: Phan Thị Hồng | D17: Q2 | G17: x | H17: =IF(D17="Q1a",MucHoTro!$H$5,IF(D17="Q1b",MucHoTro!$H$6,IF(D17="Q2",MucHoTro!$H$7,IF(D17="Q3",MucHoTro!$H$8,IF(D17="Q4",MucHoTro!$H$9))))) -> 1.2 | I17: =IF(E17="x",MucHoTro!$C$5,IF(F17="x",MucHoTro!$D$5,IF(G17="x",MucHoTro!$E$5))) -> 1 | J17: =H17*I17 -> 1.2 | K17: Bộ môn Địa vật lý | N17: =J17*2000000 -> 2400000 | S17: =IF(D17<>"",INDEX(MucHoTro!$B$5:$B$10,MATCH('Danh sách nhận tiền'!D17,MucHoTro!$G$5:$G$10,0),1),"") -> Tạp chí trong nhóm Q2 thuộc lĩnh vực nghiên cứu gần nhất của bài báo (Q2)
A18: 14 | B18: High-level natural radionuclides from the Mandena deposit, South Madagascar | C18: Dương Văn Hào | D18: Q2 | E18: x | H18: =IF(D18="Q1a",MucHoTro!$H$5,IF(D18="Q1b",MucHoTro!$H$6,IF(D18="Q2",MucHoTro!$H$7,IF(D18="Q3",MucHoTro!$H$8,IF(D18="Q4",MucHoTro!$H$9))))) -> 1.2 | I18: =IF(E18="x",MucHoTro!$C$5,IF(F18="x",MucHoTro!$D$5,IF(G18="x",MucHoTro!$E$5))) -> 1.5 | J18: =H18*I18 -> 1.8 | K18: Bộ môn Địa vật lý | N18: =J18*2000000 -> 3600000 | S18: =IF(D18<>"",INDEX(MucHoTro!$B$5:$B$10,MATCH('Danh sách nhận tiền'!D18,MucHoTro!$G$5:$G$10,0),1),"") -> Tạp chí trong nhóm Q2 thuộc lĩnh vực nghiên cứu gần nhất của bài báo (Q2)
A19: 15 | B19: Uranium and radium isotopes in some selected thermal, surface and bottled waters in Vietnam | C19: Dương Văn Hào | D19: Q2 | E19: x | H19: =IF(D19="Q1a",MucHoTro!$H$5,IF(D19="Q1b",MucHoTro!$H$6,IF(D19="Q2",MucHoTro!$H$7,IF(D19="Q3",MucHoTro!$H$8,IF(D19="Q4",MucHoTro!$H$9))))) -> 1.2 | I19: =IF(E19="x",MucHoTro!$C$5,IF(F19="x",MucHoTro!$D$5,IF(G19="x",MucHoTro!$E$5))) -> 1.5 | J19: =H19*I19 -> 1.8 | K19: Bộ môn Địa vật lý | N19: =J19*2000000 -> 3600000 | S19: =IF(D19<>"",INDEX(MucHoTro!$B$5:$B$10,MATCH('Danh sách nhận tiền'!D19,MucHoTro!$G$5:$G$10,0),1),"") -> Tạp chí trong nhóm Q2 thuộc lĩnh vực nghiên cứu gần nhất của bài báo (Q2)
A20: 16 | B20: Prediction of sonic velocities from other borehole data: An example from the Kevitsa mine site, northern Finland | C20: Kiều Duy Thông | D20: Q2 | E20: x | H20: =IF(D20="Q1a",MucHoTro!$H$5,IF(D20="Q1b",MucHoTro!$H$6,IF(D20="Q2",MucHoTro!$H$7,IF(D20="Q3",MucHoTro!$H$8,IF(D20="Q4",MucHoTro!$H$9))))) -> 1.2 | I20: =IF(E20="x",MucHoTro!$C$5,IF(F20="x",MucHoTro!$D$5,IF(G20="x",MucHoTro!$E$5))) -> 1.5 | J20: =H20*I20 -> 1.8 | K20: Bộ môn Địa vật lý | N20: =J20*2000000 -> 3600000 | S20: =IF(D20<>"",INDEX(MucHoTro!$B$5:$B$10,MATCH('Danh sách nhận tiền'!D20,MucHoTro!$G$5:$G$10,0),1),"") -> Tạp chí trong nhóm Q2 thuộc lĩnh vực nghiên cứu gần nhất của bài báo (Q2)
A21: 17 | B21: Distribution and Characteristics of Nanotubular Halloysites in the Thach Khoan Area, Phu Tho, Vietnam | C21: Bùi Hoàng Bắc Nguyễn Tiến Dũng Lương Quang Khang Khương Thế Hùng Nguyễn Văn Lâm Đỗ Mạnh An Phan Viết Sơn Trần Thị Vân Anh Bùi Thanh Tịnh | D21: Q3 | E21: x | H21: =IF(D21="Q1a",MucHoTro!$H$5,IF(D21="Q1b",MucHoTro!$H$6,IF(D21="Q2",MucHoTro!$H$7,IF(D21="Q3",MucHoTro!$H$8,IF(D21="Q4",MucHoTro!$H$9))))) -> 1 | I21: =IF(E21="x",MucHoTro!$C$5,IF(F21="x",MucHoTro!$D$5,IF(G21="x",MucHoTro!$E$5))) -> 1.5 | J21: =H21*I21 -> 1.5 | K21: Bộ môn Tìm kiếm thăm dò Bộ môn Tìm kiếm thăm dò Bộ môn Tìm kiếm thăm dò Bộ môn Tìm kiếm thăm dò Bộ môn Tìm kiếm thăm dò Bộ môn Tìm kiếm thăm dò Bộ môn Tìm kiếm thăm dò Bộ môn Tìm kiếm thăm dò Bộ môn Tìm kiếm thăm dò | N21: =J21*2000000 -> 3000000 | S21: =IF(D21<>"",INDEX(MucHoTro!$B$5:$B$10,MATCH('Danh sách nhận tiền'!D21,MucHoTro!$G$5:$G$10,0),1),"") -> Tạp chí trong nhóm Q3 thuộc lĩnh vực nghiên cứu gần nhất của bài báo (Q3)
A22: 18 | B22: Occurrence of Felsic Rocks in Oceanic Gabbros from IODP Hole U1473A: Implications for Evolved Melt Migration in the Lower Oceanic Crust | C22: Nguyễn Khắc Du | D22: Q3 | E22: x | H22: =IF(D22="Q1a",MucHoTro!$H$5,IF(D22="Q1b",MucHoTro!$H$6,IF(D22="Q2",MucHoTro!$H$7,IF(D22="Q3",MucHoTro!$H$8,IF(D22="Q4",MucHoTro!$H$9))))) -> 1 | I22: =IF(E22="x",MucHoTro!$C$5,IF(F22="x",MucHoTro!$D$5,IF(G22="x",MucHoTro!$E$5))) -> 1.5 | J22: =H22*I22 -> 1.5 | K22: Bộ môn Địa chất | N22: =J22*2000000 -> 3000000 | S22: =IF(D22<>"",INDEX(MucHoTro!$B$5:$B$10,MATCH('Danh sách nhận tiền'!D22,MucHoTro!$G$5:$G$10,0),1),"") -> Tạp chí trong nhóm Q3 thuộc lĩnh vực nghiên cứu gần nhất của bài báo (Q3)
A23: 19 | B23: Component variation in the late Neoproterozoic to Cambrian sedimentary rocks of SW China – NE Vietnam, and its tectonic significance | C23: Nguyễn Đình Luyện | D23: Q1a | G23: x | H23: =IF(D23="Q1a",MucHoTro!$H$5,IF(D23="Q1b",MucHoTro!$H$6,IF(D23="Q2",MucHoTro!$H$7,IF(D23="Q3",MucHoTro!$H$8,IF(D23="Q4",MucHoTro!$H$9))))) -> 2.23 | I23: =IF(E23="x",MucHoTro!$C$5,IF(F23="x",MucHoTro!$D$5,IF(G23="x",MucHoTro!$E$5))) -> 1 | J23: =H23*I23 -> 2.23 | K23: Bộ môn Địa chất | N23: =J23*2000000 -> 4460000 | S23: =IF(D23<>"",INDEX(MucHoTro!$B$5:$B$10,MATCH('Danh sách nhận tiền'!D23,MucHoTro!$G$5:$G$10,0),1),"") -> Tạp chí nằm trong Top 30% tạp chí đứng đầu lĩnh vực nghiên cứu gần nhất của bài báo (Q1a)
A24: 20 | B24: Neoproterozoic deposition and Triassic metamorphism of metasedimentary rocks in the Nam Co Complex, Song Ma Suture Zone, NW Vietnam | C24: Bùi Vĩnh Hậu Ngô Xuân Thành Trần Thanh Hải | D24: Q2 | E24: x | H24: =IF(D24="Q1a",MucHoTro!$H$5,IF(D24="Q1b",MucHoTro!$H$6,IF(D24="Q2",MucHoTro!$H$7,IF(D24="Q3",MucHoTro!$H$8,IF(D24="Q4",MucHoTro!$H$9))))) -> 1.2 | I24: =IF(E24="x",MucHoTro!$C$5,IF(F24="x",MucHoTro!$D$5,IF(G24="x",MucHoTro!$E$5))) -> 1.5 | J24: =H24*I24 -> 1.8 | K24: Bộ môn Địa chất Bộ môn Địa chất Bộ môn Địa chất | N24: =J24*2000000 -> 3600000 | S24: =IF(D24<>"",INDEX(MucHoTro!$B$5:$B$10,MATCH('Danh sách nhận tiền'!D24,MucHoTro!$G$5:$G$10,0),1),"") -> Tạp chí trong nhóm Q2 thuộc lĩnh vực nghiên cứu gần nhất của bài báo (Q2)
A25: 21 | B25: Determination of abundances of fifty- two elements in natural waters by ICP-MS with freeze-drying pre- concentration | C25: Hoàng Đình Quế | D25: Q1b | E25: x | H25: =IF(D25="Q1a",MucHoTro!$H$5,IF(D25="Q1b",MucHoTro!$H$6,IF(D25="Q2",MucHoTro!$H$7,IF(D25="Q3",MucHoTro!$H$8,IF(D25="Q4",MucHoTro!$H$9))))) -> 1.3 | I25: =IF(E25="x",MucHoTro!$C$5,IF(F25="x",MucHoTro!$D$5,IF(G25="x",MucHoTro!$E$5))) -> 1.5 | J25: =H25*I25 -> 1.95 | K25: Bộ môn Địa chất | N25: =J25*2000000 -> 3900000 | S25: =IF(D25<>"",INDEX(MucHoTro!$B$5:$B$10,MATCH('Danh sách nhận tiền'!D25,MucHoTro!$G$5:$G$10,0),1),"") -> Tạp chí nằm ngoài Top 30% tạp chí đứng đầu nhóm Q1 thuộc lĩnh vực nghiên cứu gần nhất của bài báo (Q1b)
A26: 22 | B26: Prediction of soil compression coefficient for urban housing project using novel integration machine learning approach of swarm intelligence and Multi-layer Perceptron Neural Network | C26: Nhữ Việt Hà | D26: Q1b | G26: x | H26: =IF(D26="Q1a",MucHoTro!$H$5,IF(D26="Q1b",MucHoTro!$H$6,IF(D26="Q2",MucHoTro!$H$7,IF(D26="Q3",MucHoTro!$H$8,IF(D26="Q4",MucHoTro!$H$9))))) -> 1.3 | I26: =IF(E26="x",MucHoTro!$C$5,IF(F26="x",MucHoTro!$D$5,IF(G26="x",MucHoTro!$E$5))) -> 1 | J26: =H26*I26 -> 1.3 | K26: Bộ môn Địa chất công trình | N26: =J26*2000000 -> 2600000 | S26: =IF(D26<>"",INDEX(MucHoTro!$B$5:$B$10,MATCH('Danh sách nhận tiền'!D26,MucHoTro!$G$5:$G$10,0),1),"") -> Tạp chí nằm ngoài Top 30% tạp chí đứng đầu nhóm Q1 thuộc lĩnh vực nghiên cứu gần nhất của bài báo (Q1b)
A27: 23 | B27: A swarm intelligence-based machine learning approach for predicting soil shear strength for road construction: a case study at Trung Luong National Expressway Project (Vietnam) | C27: Nhữ Việt Hà | D27: Q2 | G27: x | H27: =IF(D27="Q1a",MucHoTro!$H$5,IF(D27="Q1b",MucHoTro!$H$6,IF(D27="Q2",MucHoTro!$H$7,IF(D27="Q3",MucHoTro!$H$8,IF(D27="Q4",MucHoTro!$H$9))))) -> 1.2 | I27: =IF(E27="x",MucHoTro!$C$5,IF(F27="x",MucHoTro!$D$5,IF(G27="x",MucHoTro!$E$5))) -> 1 | J27: =H27*I27 -> 1.2 | K27: Bộ môn Địa chất công trình | N27: =J27*2000000 -> 2400000 | S27: =IF(D27<>"",INDEX(MucHoTro!$B$5:$B$10,MATCH('Danh sách nhận tiền'!D27,MucHoTro!$G$5:$G$10,0),1),"") -> Tạp chí trong nhóm Q2 thuộc lĩnh vực nghiên cứu gần nhất của bài báo (Q2)
A28: 24 | B28: Metal and metalloid concentrations in soil, surface water, and vegetables and the potential ecological and human health risks in the northeastern area of Hanoi, Vietnam. | C28: Nguyễn Khắc Giảng | D28: Q2 | G28: x | H28: =IF(D28="Q1a",MucHoTro!$H$5,IF(D28="Q1b",MucHoTro!$H$6,IF(D28="Q2",MucHoTro!$H$7,IF(D28="Q3",MucHoTro!$H$8,IF(D28="Q4",MucHoTro!$H$9))))) -> 1.2 | I28: =IF(E28="x",MucHoTro!$C$5,IF(F28="x",MucHoTro!$D$5,IF(G28="x",MucHoTro!$E$5))) -> 1 | J28: =H28*I28 -> 1.2 | K28: Bộ môn Khoáng thạch và Địa hóa | N28: =J28*2000000 -> 2400000 | S28: =IF(D28<>"",INDEX(MucHoTro!$B$5:$B$10,MATCH('Danh sách nhận tiền'!D28,MucHoTro!$G$5:$G$10,0),1),"") -> Tạp chí trong nhóm Q2 thuộc lĩnh vực nghiên cứu gần nhất của bài báo (Q2)
A29: 25 | B29: Extending fuzzy logics with many hedges | C29: Lê Văn Hưng | D29: Q1b | E29: x | H29: =IF(D29="Q1a",MucHoTro!$H$5,IF(D29="Q1b",MucHoTro!$H$6,IF(D29="Q2",MucHoTro!$H$7,IF(D29="Q3",MucHoTro!$H$8,IF(D29="Q4",MucHoTro!$H$9))))) -> 1.3 | I29: =IF(E29="x",MucHoTro!$C$5,IF(F29="x",MucHoTro!$D$5,IF(G29="x",MucHoTro!$E$5))) -> 1.5 | J29: =H29*I29 -> 1.95 | K29: Bộ môn Công nghệ phần mềm | N29: =J29*2000000 -> 3900000 | S29: =IF(D29<>"",INDEX(MucHoTro!$B$5:$B$10,MATCH('Danh sách nhận tiền'!D29,MucHoTro!$G$5:$G$10,0),1),"") -> Tạp chí nằm ngoài Top 30% tạp chí đứng đầu nhóm Q1 thuộc lĩnh vực nghiên cứu gần nhất của bài báo (Q1b)
A30: 26 | B30: GIS-based spatial prediction of tropical forest fire danger using a new hybrid machine learning method | C30: Lê Văn Hưng | D30: Q1b | G30: x | H30: =IF(D30="Q1a",MucHoTro!$H$5,IF(D30="Q1b",MucHoTro!$H$6,IF(D30="Q2",MucHoTro!$H$7,IF(D30="Q3",MucHoTro!$H$8,IF(D30="Q4",MucHoTro!$H$9))))) -> 1.3 | I30: =IF(E30="x",MucHoTro!$C$5,IF(F30="x",MucHoTro!$D$5,IF(G30="x",MucHoTro!$E$5))) -> 1 | J30: =H30*I30 -> 1.3 | K30: Bộ môn Công nghệ phần mềm | N30: =J30*2000000 -> 2600000 | S30: =IF(D30<>"",INDEX(MucHoTro!$B$5:$B$10,MATCH('Danh sách nhận tiền'!D30,MucHoTro!$G$5:$G$10,0),1),"") -> Tạp chí nằm ngoài Top 30% tạp chí đứng đầu nhóm Q1 thuộc lĩnh vực nghiên cứu gần nhất của bài báo (Q1b)
A31: 27 | B31: Enhancing Prediction Performance of Landslide Susceptibility Model Using Hybrid Machine Learning Approach of Bagging Ensemble and Logistic Model Tree | C31: Trương Xuân Luận | D31: Q3 | E31: x | H31: =IF(D31="Q1a",MucHoTro!$H$5,IF(D31="Q1b",MucHoTro!$H$6,IF(D31="Q2",MucHoTro!$H$7,IF(D31="Q3",MucHoTro!$H$8,IF(D31="Q4",MucHoTro!$H$9))))) -> 1 | I31: =IF(E31="x",MucHoTro!$C$5,IF(F31="x",MucHoTro!$D$5,IF(G31="x",MucHoTro!$E$5))) -> 1.5 | J31: =H31*I31 -> 1.5 | K31: Bộ môn Tin học Địa chất | N31: =J31*2000000 -> 3000000 | S31: =IF(D31<>"",INDEX(MucHoTro!$B$5:$B$10,MATCH('Danh sách nhận tiền'!D31,MucHoTro!$G$5:$G$10,0),1),"") -> Tạp chí trong nhóm Q3 thuộc lĩnh vực nghiên cứu gần nhất của bài báo (Q3)
A32: 28 | B32: A Novel Hybrid Swarm Optimized Multilayer Neural Network for Spatial Prediction of Flash Floods in Tropical Areas Using Sentinel-1 SAR Imagery and Geospatial Data | C32: Ngô Thị Phương Thảo Nguyễn Quang Khánh | D32: Q2 | E32: x | H32: =IF(D32="Q1a",MucHoTro!$H$5,IF(D32="Q1b",MucHoTro!$H$6,IF(D32="Q2",MucHoTro!$H$7,IF(D32="Q3",MucHoTro!$H$8,IF(D32="Q4",MucHoTro!$H$9))))) -> 1.2 | I32: =IF(E32="x",MucHoTro!$C$5,IF(F32="x",MucHoTro!$D$5,IF(G32="x",MucHoTro!$E$5))) -> 1.5 | J32: =H32*I32 -> 1.8 | K32: Bộ môn Tin học Trắc địa Bộ môn Tin học Trắc địa | N32: =J32*2000000 -> 3600000 | S32: =IF(D32<>"",INDEX(MucHoTro!$B$5:$B$10,MATCH('Danh sách nhận tiền'!D32,MucHoTro!$G$5:$G$10,0),1),"") -> Tạp chí trong nhóm Q2 thuộc lĩnh vực nghiên cứu gần nhất của bài báo (Q2)
A33: 29 | B33: A Novel Integrated Approach of Relevance Vector Machine Optimized by Imperialist Competitive Algorithm for Spatial Modeling of Shallow Landslides | C33: Trần Chung Chuyên | D33: Q1b | G33: x | H33: =IF(D33="Q1a",MucHoTro!$H$5,IF(D33="Q1b",MucHoTro!$H$6,IF(D33="Q2",MucHoTro!$H$7,IF(D33="Q3",MucHoTro!$H$8,IF(D33="Q4",MucHoTro!$H$9))))) -> 1.3 | I33: =IF(E33="x",MucHoTro!$C$5,IF(F33="x",MucHoTro!$D$5,IF(G33="x",MucHoTro!$E$5))) -> 1 | J33: =H33*I33 -> 1.3 | K33: Bộ môn Tin học Trắc địa | N33: =J33*2000000 -> 2600000 | S33: =IF(D33<>"",INDEX(MucHoTro!$B$5:$B$10,MATCH('Danh sách nhận tiền'!D33,MucHoTro!$G$5:$G$10,0),1),"") -> Tạp chí nằm ngoài Top 30% tạp chí đứng đầu nhóm Q1 thuộc lĩnh vực nghiên cứu gần nhất của bài báo (Q1b)
A34: 30 | B34: An Approach to Modeling and Estimating Power Consumption of Mobile Applications | C34: Lê Hồng Anh | D34: Q1b | E34: x | H34: =IF(D34="Q1a",MucHoTro!$H$5,IF(D34="Q1b",MucHoTro!$H$6,IF(D34="Q2",MucHoTro!$H$7,IF(D34="Q3",MucHoTro!$H$8,IF(D34="Q4",MucHoTro!$H$9))))) -> 1.3 | I34: =IF(E34="x",MucHoTro!$C$5,IF(F34="x",MucHoTro!$D$5,IF(G34="x",MucHoTro!$E$5))) -> 1.5 | J34: =H34*I34 -> 1.95 | K34: Bộ môn Khoa học máy tính | N34: =J34*2000000 -> 3900000 | S34: =IF(D34<>"",INDEX(MucHoTro!$B$5:$B$10,MATCH('Danh sách nhận tiền'!D34,MucHoTro!$G$5:$G$10,0),1),"") -> Tạp chí nằm ngoài Top 30% tạp chí đứng đầu nhóm Q1 thuộc lĩnh vực nghiên cứu gần nhất của bài báo (Q1b)
A35: 31 | B35: Eﬀect of annealing temperature on morphology and structure of CuO nanowires grown by thermal oxidation method | C35: Trần Thị Hà | D35: Q2 | E35: x | H35: =IF(D35="Q1a",MucHoTro!$H$5,IF(D35="Q1b",MucHoTro!$H$6,IF(D35="Q2",MucHoTro!$H$7,IF(D35="Q3",MucHoTro!$H$8,IF(D35="Q4",MucHoTro!$H$9))))) -> 1.2 | I35: =IF(E35="x",MucHoTro!$C$5,IF(F35="x",MucHoTro!$D$5,IF(G35="x",MucHoTro!$E$5))) -> 1.5 | J35: =H35*I35 -> 1.8 | K35: Bộ môn Vật lý | N35: =J35*2000000 -> 3600000 | S35: =IF(D35<>"",INDEX(MucHoTro!$B$5:$B$10,MATCH('Danh sách nhận tiền'!D35,MucHoTro!$G$5:$G$10,0),1),"") -> Tạp chí trong nhóm Q2 thuộc lĩnh vực nghiên cứu gần nhất của bài báo (Q2)
A36: 32 | B36: Phase transition of LaMnO3 nanoparticles prepared by microwave assisted combustion method | C36: Trần Thị Hà | D36: Q2 | E36: x | H36: =IF(D36="Q1a",MucHoTro!$H$5,IF(D36="Q1b",MucHoTro!$H$6,IF(D36="Q2",MucHoTro!$H$7,IF(D36="Q3",MucHoTro!$H$8,IF(D36="Q4",MucHoTro!$H$9))))) -> 1.2 | I36: =IF(E36="x",MucHoTro!$C$5,IF(F36="x",MucHoTro!$D$5,IF(G36="x",MucHoTro!$E$5))) -> 1.5 | J36: =H36*I36 -> 1.8 | K36: Bộ môn Vật lý | N36: =J36*2000000 -> 3600000 | S36: =IF(D36<>"",INDEX(MucHoTro!$B$5:$B$10,MATCH('Danh sách nhận tiền'!D36,MucHoTro!$G$5:$G$10,0),1),"") -> Tạp chí trong nhóm Q2 thuộc lĩnh vực nghiên cứu gần nhất của bài báo (Q2)
A37: 33 | B37: On the Automorphism Groups of Finite Multitype Models in Cn | C37: Nguyễn Thị Lan Hương | D37: Q1b | G37: x | H37: =IF(D37="Q1a",MucHoTro!$H$5,IF(D37="Q1b",MucHoTro!$H$6,IF(D37="Q2",MucHoTro!$H$7,IF(D37="Q3",MucHoTro!$H$8,IF(D37="Q4",MucHoTro!$H$9))))) -> 1.3 | I37: =IF(E37="x",MucHoTro!$C$5,IF(F37="x",MucHoTro!$D$5,IF(G37="x",MucHoTro!$E$5))) -> 1 | J37: =H37*I37 -> 1.3 | K37: Bộ môn Toán | N37: =J37*2000000 -> 2600000 | S37: =IF(D37<>"",INDEX(MucHoTro!$B$5:$B$10,MATCH('Danh sách nhận tiền'!D37,MucHoTro!$G$5:$G$10,0),1),"") -> Tạp chí nằm ngoài Top 30% tạp chí đứng đầu nhóm Q1 thuộc lĩnh vực nghiên cứu gần nhất của bài báo (Q1b)
A38: 34 | B38: Broadening the absorption bandwidth of metamaterial absorber by coupling three dipole resonances | C38: Lê Đắc Tuyên | D38: Q3 | F38: x | H38: =IF(D38="Q1a",MucHoTro!$H$5,IF(D38="Q1b",MucHoTro!$H$6,IF(D38="Q2",MucHoTro!$H$7,IF(D38="Q3",MucHoTro!$H$8,IF(D38="Q4",MucHoTro!$H$9))))) -> 1 | I38: =IF(E38="x",MucHoTro!$C$5,IF(F38="x",MucHoTro!$D$5,IF(G38="x",MucHoTro!$E$5))) -> 1.25 | J38: =H38*I38 -> 1.25 | K38: Bộ môn Vật lý | N38: =J38*2000000 -> 2500000 | S38: =IF(D38<>"",INDEX(MucHoTro!$B$5:$B$10,MATCH('Danh sách nhận tiền'!D38,MucHoTro!$G$5:$G$10,0),1),"") -> Tạp chí trong nhóm Q3 thuộc lĩnh vực nghiên cứu gần nhất của bài báo (Q3)
A39: 35 | B39: Multi-band absorption induced by near-field coupling and defects in metamaterial | C39: Lê Đắc Tuyên | D39: Q3 | G39: x | H39: =IF(D39="Q1a",MucHoTro!$H$5,IF(D39="Q1b",MucHoTro!$H$6,IF(D39="Q2",MucHoTro!$H$7,IF(D39="Q3",MucHoTro!$H$8,IF(D39="Q4",MucHoTro!$H$9))))) -> 1 | I39: =IF(E39="x",MucHoTro!$C$5,IF(F39="x",MucHoTro!$D$5,IF(G39="x",MucHoTro!$E$5))) -> 1 | J39: =H39*I39 -> 1 | K39: Bộ môn Vật lý | N39: =J39*2000000 -> 2000000 | S39: =IF(D39<>"",INDEX(MucHoTro!$B$5:$B$10,MATCH('Danh sách nhận tiền'!D39,MucHoTro!$G$5:$G$10,0),1),"") -> Tạp chí trong nhóm Q3 thuộc lĩnh vực nghiên cứu gần nhất của bài báo (Q3)
A40: 36 | B40: Controlled Defect Based Ultra Broadband Full-sized Metamaterial Absorber | C40: Lê Đắc Tuyên | D40: Q1a | G40: x | H40: =IF(D40="Q1a",MucHoTro!$H$5,IF(D40="Q1b",MucHoTro!$H$6,IF(D40="Q2",MucHoTro!$H$7,IF(D40="Q3",MucHoTro!$H$8,IF(D40="Q4",MucHoTro!$H$9))))) -> 2.23 | I40: =IF(E40="x",MucHoTro!$C$5,IF(F40="x",MucHoTro!$D$5,IF(G40="x",MucHoTro!$E$5))) -> 1 | J40: =H40*I40 -> 2.23 | K40: Bộ môn Vật lý | N40: =J40*2000000 -> 4460000 | S40: =IF(D40<>"",INDEX(MucHoTro!$B$5:$B$10,MATCH('Danh sách nhận tiền'!D40,MucHoTro!$G$5:$G$10,0),1),"") -> Tạp chí nằm trong Top 30% tạp chí đứng đầu lĩnh vực nghiên cứu gần nhất của bài báo (Q1a)
...

Sheet MucHoTro
C2: Mức hỗ trợ (VNĐ)
A3: TT | B3: Loại tạp chí | C3: Nếu tác giả thứ nhất là cán bộ thuộc biên chế của Nhà trường | D3: Nếu tác giả liên hệ mà không là tác giả thứ nhất là cán bộ thuộc biên chế của Nhà trường | E3: Trường hợp khác | G3: Mã hiệu
A4: 1 | B4: Tạp chí thuộc danh mục ISI (SCI/SCIE)
A5: 1.1 | B5: ='Danh sách nhận tiền'!B90 -> Tạp chí nằm trong Top 30% tạp chí đứng đầu lĩnh vực nghiên cứu gần nhất của bài báo (Q1a) | C5: 1.5 | D5: 1.25 | E5: 1 | G5: Q1a | H5: 2.23
A6: 1.2 | B6: ='Danh sách nhận tiền'!C90 -> Tạp chí nằm ngoài Top 30% tạp chí đứng đầu nhóm Q1 thuộc lĩnh vực nghiên cứu gần nhất của bài báo (Q1b) | G6: Q1b | H6: 1.3
A7: 1.3 | B7: ='Danh sách nhận tiền'!D90 -> Tạp chí trong nhóm Q2 thuộc lĩnh vực nghiên cứu gần nhất của bài báo (Q2) | G7: Q2 | H7: 1.2
A8: 1.4 | B8: ='Danh sách nhận tiền'!F90 -> Tạp chí trong nhóm Q3 thuộc lĩnh vực nghiên cứu gần nhất của bài báo (Q3) | G8: Q3 | H8: 1
A9: 1.5 | B9: ='Danh sách nhận tiền'!H90 -> Tạp chí trong nhóm Q4 thuộc lĩnh vực nghiên cứu gần nhất của bài báo (Q4) | G9: Q4 | H9: 0.9
A10: 2 | B10: Tạp chí thuộc danh mục SCOPUS | G10: S
D11: Tổng chi | E11: ='Danh sách nhận tiền'!N82 -> 277000000
D12: Kinh phí Bộ cấp | E12: 277000000
