Workbook

Sheet Danh sách nhận tiền
A1: DANH SÁCH NHẬN THƯỞNG BÀI BÁO CÔNG BỐ TRÊN CÁC TẠP CHÍ UY TÍN TRONG DANH MỤC ISI, SCI, SCIE NĂM 2018
A2: (kèm theo Quyết định số 943/QĐ-MĐC, ngày 08 tháng 7 năm 2019 của Hiệu trưởng trường Đại học Mỏ - Địa chất về việc Khen thưởng bài báo công bố trên các Tạp chí uy tín trong danh mục ISI, SCI, SCIE năm 2018)
A3: STT | B3: Tên bài báo | C3: Tác giả thuộc biên chế Trường Đại học Mỏ - Địa chất | D3: Loại tạp chí | E3: =MucHoTro!C3 -> Nếu tác giả thứ nhất là cán bộ thuộc biên chế của Nhà trường | F3: =MucHoTro!D3 -> Nếu tác giả liên hệ mà không là tác giả thứ nhất là cán bộ thuộc biên chế của Nhà trường | G3: Đồng tác giả | H3: Hệ số bài báo | I3: Hệ số tác giả | J3: Hệ số tính | K3: Đơn vị công tác | L3: Số Chứng minh thư nhân dân | M3: Ngày cấp, nơi cấp | N3: Số tiền thực nhận (Vnđ) | O3: Ký nhận | P3: Ghi chú | S3: Loại tạp chí
A4: (1) | B4: (2) | C4: (3) | D4: (4) | E4: (5) | F4: (6) | G4: (7) | H4: (8) | I4: (9) | J4: (10=8x9) | N4: (11)
A5: 1 | B5: Synthesis of Ag-AgBr/Al-MCM-41 nanocomposite and its application in photocatalytic oxidative sulfurization of dibenzothiophene | C5: Phạm Xuân Núi Đoàn Văn Huấn | D5: Q1b | E5: x | H5: =IF(D5="Q1a",MucHoTro!$H$5,IF(D5="Q1b",MucHoTro!$H$6,IF(D5="Q2",MucHoTro!$H$7,IF(D5="Q3",MucHoTro!$H$8,IF(D5="Q4",MucHoTro!$H$9))))) -> 1.3 | I5: =IF(E5="x",MucHoTro!$C$5,IF(F5="x",MucHoTro!$D$5,IF(G5="x",MucHoTro!$E$5))) -> 1.5 | J5: =H5*I5 -> 1.95 | K5: Bộ môn Lọc - Hóa dầu Bộ môn Lọc - Hóa dầu | N5: =J5*2000000 -> 3900000 | S5: =IF(D5<>"",INDEX(MucHoTro!$B$5:$B$10,MATCH('Danh sách nhận tiền'!D5,MucHoTro!$G$5:$G$10,0),1),"") -> Tạp chí nằm ngoài Top 30% tạp chí đứng đầu nhóm Q1 thuộc lĩnh vực nghiên cứu gần nhất của bài báo (Q1b)
A6: 2 | B6: Synthesis of Al-MCM-41@Ag/TiO2 Nanocomposite and Its Photocatalytic Activity for Degradation of Dibenzothiophene | C6: Phạm Xuân Núi | D6: Q2 | E6: x | H6: =IF(D6="Q1a",MucHoTro!$H$5,IF(D6="Q1b",MucHoTro!$H$6,IF(D6="Q2",MucHoTro!$H$7,IF(D6="Q3",MucHoTro!$H$8,IF(D6="Q4",MucHoTro!$H$9))))) -> 1.2 | I6: =IF(E6="x",MucHoTro!$C$5,IF(F6="x",MucHoTro!$D$5,IF(G6="x",MucHoTro!$E$5))) -> 1.5 | J6: =H6*I6 -> 1.8 | K6: Bộ môn Lọc - Hóa dầu | N6: =J6*2000000 -> 3600000 | S6: =IF(D6<>"",INDEX(MucHoTro!$B$5:$B$10,MATCH('Danh sách nhận tiền'!D6,MucHoTro!$G$5:$G$10,0),1),"") -> Tạp chí trong nhóm Q2 thuộc lĩnh vực nghiên cứu gần nhất của bài báo (Q2)
A7: 3 | B7: Activity and stability of amino-functionalized SBA-15 immobilized 12-tungstophosphoric acid in the oxidative desulfurization of a diesel fuel model with H2O2 | C7: Phạm Xuân Núi Đoàn Văn Huấn | D7: Q2 | E7: x | H7: =IF(D7="Q1a",MucHoTro!$H$5,IF(D7="Q1b",MucHoTro!$H$6,IF(D7="Q2",MucHoTro!$H$7,IF(D7="Q3",MucHoTro!$H$8,IF(D7="Q4",MucHoTro!$H$9))))) -> 1.2 | I7: =IF(E7="x",MucHoTro!$C$5,IF(F7="x",MucHoTro!$D$5,IF(G7="x",MucHoTro!$E$5))) -> 1.5 | J7: =H7*I7 -> 1.8 | K7: Bộ môn Lọc - Hóa dầu Bộ môn Lọc - Hóa dầu | N7: =J7*2000000 -> 3600000 | S7: =IF(D7<>"",INDEX(MucHoTro!$B$5:$B$10,MATCH('Danh sách nhận tiền'!D7,MucHoTro!$G$5:$G$10,0),1),"") -> Tạp chí trong nhóm Q2 thuộc lĩnh vực nghiên cứu gần nhất của bài báo (Q2)
A8: 4 | B8: Photocatalytic Selectivities of Ethane, Methane and Dimethylether Controlled by Reaction Conditions and TiO2 Structure in the Degradation of Acetic Acid | C8: Ngô Hà Sơn | D8: Q2 | E8: x | H8: =IF(D8="Q1a",MucHoTro!$H$5,IF(D8="Q1b",MucHoTro!$H$6,IF(D8="Q2",MucHoTro!$H$7,IF(D8="Q3",MucHoTro!$H$8,IF(D8="Q4",MucHoTro!$H$9))))) -> 1.2 | I8: =IF(E8="x",MucHoTro!$C$5,IF(F8="x",MucHoTro!$D$5,IF(G8="x",MucHoTro!$E$5))) -> 1.5 | J8: =H8*I8 -> 1.8 | K8: Bộ môn Lọc - Hóa dầu | N8: =J8*2000000 -> 3600000 | S8: =IF(D8<>"",INDEX(MucHoTro!$B$5:$B$10,MATCH('Danh sách nhận tiền'!D8,MucHoTro!$G$5:$G$10,0),1),"") -> Tạp chí trong nhóm Q2 thuộc lĩnh vực nghiên cứu gần nhất của bài báo (Q2)
A9: 5 | B9: Experimental measurement and thermodynamic modeling of cyclopentane hydrates with NaCl, KCl, CaCl2, or NaCl‐KCl present | C9: Hồ Văn Sơn | D9: Q1b | E9: x | H9: =IF(D9="Q1a",MucHoTro!$H$5,IF(D9="Q1b",MucHoTro!$H$6,IF(D9="Q2",MucHoTro!$H$7,IF(D9="Q3",MucHoTro!$H$8,IF(D9="Q4",MucHoTro!$H$9))))) -> 1.3 | I9: =IF(E9="x",MucHoTro!$C$5,IF(F9="x",MucHoTro!$D$5,IF(G9="x",MucHoTro!$E$5))) -> 1.5 | J9: =H9*I9 -> 1.95 | K9: Bộ môn Lọc - Hóa dầu | N9: =J9*2000000 -> 3900000 | S9: =IF(D9<>"",INDEX(MucHoTro!$B$5:$B$10,MATCH('Danh sách nhận tiền'!D9,MucHoTro!$G$5:$G$10,0),1),"") -> Tạp chí nằm ngoài Top 30% tạp chí đứng đầu nhóm Q1 thuộc lĩnh vực nghiên cứu gần nhất của bài báo (Q1b)
A10: 6 | B10: Implementing Cyclopentane Hydrates Phase Equilibrium Data and Simulations in Brine Solutions | C10: Hồ Văn Sơn | D10: Q1b | E10: x | H10: =IF(D10="Q1a",MucHoTro!$H$5,IF(D10="Q1b",MucHoTro!$H$6,IF(D10="Q2",MucHoTro!$H$7,IF(D10="Q3",MucHoTro!$H$8,IF(D10="Q4",MucHoTro!$H$9))))) -> 1.3 | I10: =IF(E10="x",MucHoTro!$C$5,IF(F10="x",MucHoTro!$D$5,IF(G10="x",MucHoTro!$E$5))) -> 1.5 | J10: =H10*I10 -> 1.95 | K10: Bộ môn Lọc - Hóa dầu | N10: =J10*2000000 -> 3900000 | S10: =IF(D10<>"",INDEX(MucHoTro!$B$5:$B$10,MATCH('Danh sách nhận tiền'!D10,MucHoTro!$G$5:$G$10,0),1),"") -> Tạp chí nằm ngoài Top 30% tạp chí đứng đầu nhóm Q1 thuộc lĩnh vực nghiên cứu gần nhất của bài báo (Q1b)
A11: 7 | B11: A review on hydrate composition and capability of thermodynamic modeling to predict hydrate pressure and composition | C11: Hồ Văn Sơn | D11: Q1b | G11: x | H11: =IF(D11="Q1a",MucHoTro!$H$5,IF(D11="Q1b",MucHoTro!$H$6,IF(D11="Q2",MucHoTro!$H$7,IF(D11="Q3",MucHoTro!$H$8,IF(D11="Q4",MucHoTro!$H$9))))) -> 1.3 | I11: =IF(E11="x",MucHoTro!$C$5,IF(F11="x",MucHoTro!$D$5,IF(G11="x",MucHoTro!$E$5))) -> 1 | J11: =H11*I11 -> 1.3 | K11: Bộ môn Lọc - Hóa dầu | N11: =J11*2000000 -> 2600000 | S11: =IF(D11<>"",INDEX(MucHoTro!$B$5:$B$10,MATCH('Danh sách nhận tiền'!D11,MucHoTro!$G$5:$G$10,0),1),"") -> Tạp chí nằm ngoài Top 30% tạp chí đứng đầu nhóm Q1 thuộc lĩnh vực nghiên cứu gần nhất của bài báo (Q1b)
A12: 8 | B12: PVTx measurements of mixed clathrate hydrates in batch conditions under different crystallization rates: Influence on equilibrium | C12: Hồ Văn Sơn | D12: Q1b | G12: x | H12: =IF(D12="Q1a",MucHoTro!$H$5,IF(D12="Q1b",MucHoTro!$H$6,IF(D12="Q2",MucHoTro!$H$7,IF(D12="Q3",MucHoTro!$H$8,IF(D12="Q4",MucHoTro!$H$9))))) -> 1.3 | I12: =IF(E12="x",MucHoTro!$C$5,IF(F12="x",MucHoTro!$D$5,IF(G12="x",MucHoTro!$E$5))) -> 1 | J12: =H12*I12 -> 1.3 | K12: Bộ môn Lọc - Hóa dầu | N12: =J12*2000000 -> 2600000 | S12: =IF(D12<>"",INDEX(MucHoTro!$B$5:$B$10,MATCH('Danh sách nhận tiền'!D12,MucHoTro!$G$5:$G$10,0),1),"") -> Tạp chí nằm ngoài Top 30% tạp chí đứng đầu nhóm Q1 thuộc lĩnh vực nghiên cứu gần nhất của bài báo (Q1b)
A13: 9 | B13: A new approach of studying mixed gas hydrates involving propane at non-equilibrium conditions and final state: An experimental study and modeling | C13: Hồ Văn Sơn | D13: Q1b | G13: x | H13: =IF(D13="Q1a",MucHoTro!$H$5,IF(D13="Q1b",MucHoTro!$H$6,IF(D13="Q2",MucHoTro!$H$7,IF(D13="Q3",MucHoTro!$H$8,IF(D13="Q4",MucHoTro!$H$9))))) -> 1.3 | I13: =IF(E13="x",MucHoTro!$C$5,IF(F13="x",MucHoTro!$D$5,IF(G13="x",MucHoTro!$E$5))) -> 1 | J13: =H13*I13 -> 1.3 | K13: Bộ môn Lọc - Hóa dầu | N13: =J13*2000000 -> 2600000 | S13: =IF(D13<>"",INDEX(MucHoTro!$B$5:$B$10,MATCH('Danh sách nhận tiền'!D13,MucHoTro!$G$5:$G$10,0),1),"") -> Tạp chí nằm ngoài Top 30% tạp chí đứng đầu nhóm Q1 thuộc lĩnh vực nghiên cứu gần nhất của bài báo (Q1b)
A14: 10 | B14: Synthesis, Characterization, and Impregnation of Some Ionic Liquids on Polymer Membrane for Separation of Carbon Dioxide from Its Mixture with Methane | C14: Bùi Thị Lệ Thủy | D14: Q2 | E14: x | H14: =IF(D14="Q1a",MucHoTro!$H$5,IF(D14="Q1b",MucHoTro!$H$6,IF(D14="Q2",MucHoTro!$H$7,IF(D14="Q3",MucHoTro!$H$8,IF(D14="Q4",MucHoTro!$H$9))))) -> 1.2 | I14: =IF(E14="x",MucHoTro!$C$5,IF(F14="x",MucHoTro!$D$5,IF(G14="x",MucHoTro!$E$5))) -> 1.5 | J14: =H14*I14 -> 1.8 | K14: Bộ môn Lọc - Hóa dầu | N14: =J14*2000000 -> 3600000 | S14: =IF(D14<>"",INDEX(MucHoTro!$B$5:$B$10,MATCH('Danh sách nhận tiền'!D14,MucHoTro!$G$5:$G$10,0),1),"") -> Tạp chí trong nhóm Q2 thuộc lĩnh vực nghiên cứu gần nhất của bài báo (Q2)
A15: 11 | B15: Theoretical modeling of Positive Displacement Motors performance | C15: Nguyễn Thế Vinh | D15: Q2 | G15: x | H15: =IF(D15="Q1a",MucHoTro!$H$5,IF(D15="Q1b",MucHoTro!$H$6,IF(D15="Q2",MucHoTro!$H$7,IF(D15="Q3",MucHoTro!$H$8,IF(D15="Q4",MucHoTro!$H$9))))) -> 1.2 | I15: =IF(E15="x",MucHoTro!$C$5,IF(F15="x",MucHoTro!$D$5,IF(G15="x",MucHoTro!$E$5))) -> 1 | J15: =H15*I15 -> 1.2 | K15: Bộ môn Khoan - Khai thác | N15: =J15*2000000 -> 2400000 | S15: =IF(D15<>"",INDEX(MucHoTro!$B$5:$B$10,MATCH('Danh sách nhận tiền'!D15,MucHoTro!$G$5:$G$10,0),1),"") -> Tạp chí trong nhóm Q2 thuộc lĩnh vực nghiên cứu gần nhất của bài báo (Q2)
A16: 12 | B16: Correcting the distortion of apparent resistivity pseudosection produced by 3D effect of the embankment geometry | C16: Phạm Ngọc Kiên | D16: Q2 | G16: x | H16: =IF(D16="Q1a",MucHoTro!$H$5,IF(D16="Q1b",MucHoTro!$H$6,IF(D16="Q2",MucHoTro!$H$7,IF(D16="Q3",MucHoTro!$H$8,IF(D16="Q4",MucHoTro!$H$9))))) -> 1.2 | I16: =IF(E16="x",MucHoTro!$C$5,IF(F16="x",MucHoTro!$D$5,IF(G16="x",MucHoTro!$E$5))) -> 1 | J16: =H16*I16 -> 1.2 | K16: Bộ môn Địa vật lý | N16: =J16*2000000 -> 2400000 | S16: =IF(D16<>"",INDEX(MucHoTro!$B$5:$B$10,MATCH('Danh sách nhận tiền'!D16,MucHoTro!$G$5:$G$10,0),1),"") -> Tạp chí trong nhóm Q2 thuộc lĩnh vực nghiên cứu gần nhất của bài báo (Q2)
A17: 13 | B17: Moho depth of the northern Vietnam and Gulf of Tonkin from 3D inverse interpretation of gravity anomaly data | C17: Phan Thị Hồng | D17: Q2 | G17: x | H17: =IF(D17="Q1a",MucHoTro!$H$5,IF(D17="Q1b",MucHoTro!$H$6,IF(D17="Q2",MucHoTro!$H$7,IF(D17="Q3",MucHoTro!$H$8,IF(D17="Q4",MucHoTro!$H$9))))) -> 1.2 | I17: =IF(E17="x",MucHoTro!$C$5,IF(F17="x",MucHoTro!$D$5,IF(G17="x",MucHoTro!$E$5))) -> 1 | J17: =H17*I17 -> 1.2 | K17: Bộ môn Địa vật lý | N17: =J17*2000000 -> 2400000 | S17: =IF(D17<>"",INDEX(MucHoTro!$B$5:$B$10,MATCH('Danh sách nhận tiền'!D17,MucHoTro!$G$5:$G$10,0),1),"") -> Tạp chí trong nhóm Q2 thuộc lĩnh vực nghiên cứu gần nhất của bài báo (Q2)
A18: 14 | B18: High-level natural radionuclides from the Mandena deposit, South Madagascar | C18: Dương Văn Hào | D18: Q2 | E18: x | H18: =IF(D18="Q1a",MucHoTro!$H$5,IF(D18="Q1b",MucHoTro!$H$6,IF(D18="Q2",MucHoTro!$H$7,IF(D18="Q3",MucHoTro!$H$8,IF(D18="Q4",MucHoTro!$H$9))))) -> 1.2 | I18: =IF(E18="x",MucHoTro!$C$5,IF(F18="x",MucHoTro!$D$5,IF(G18="x",MucHoTro!$E$5))) -> 1.5 | J18: =H18*I18 -> 1.8 | K18: Bộ môn Địa vật lý | N18: =J18*2000000 -> 3600000 | S18: =IF(D18<>"",INDEX(MucHoTro!$B$5:$B$10,MATCH('Danh sách nhận tiền'!D18,MucHoTro!$G$5:$G$10,0),1),"") -> Tạp chí trong nhóm Q2 thuộc lĩnh vực nghiên cứu gần nhất của bài báo (Q2)
A19: 15 | B19: Uranium and radium isotopes in some selected thermal, surface and bottled waters in Vietnam | C19: Dương Văn Hào | D19: Q2 | E19: x | H19: =IF(D19="Q1a",MucHoTro!$H$5,IF(D19="Q1b",MucHoTro!$H$6,IF(D19="Q2",MucHoTro!$H$7,IF(D19="Q3",MucHoTro!$H$8,IF(D19="Q4",MucHoTro!$H$9))))) -> 1.2 | I19: =IF(E19="x",MucHoTro!$C$5,IF(F19="x",MucHoTro!$D$5,IF(G19="x",MucHoTro!$E$5))) -> 1.5 | J19: =H19*I19 -> 1.8 | K19: Bộ môn Địa vật lý | N19: =J19*2000000 -> 3600000 | S19: =IF(D19<>"",INDEX(MucHoTro!$B$5:$B$10,MATCH('Danh sách nhận tiền'!D19,MucHoTro!$G$5:$G$10,0),1),"") -> Tạp chí trong nhóm Q2 thuộc lĩnh vực nghiên cứu gần nhất của bài báo (Q2)
A20: 16 | B20: Prediction of sonic velocities from other borehole data: An example from the Kevitsa mine site, northern Finland | C20: Kiều Duy Thông | D20: Q2 | E20: x | H20: =IF(D20="Q1a",MucHoTro!$H$5,IF(D20="Q1b",MucHoTro!$H$6,IF(D20="Q2",MucHoTro!$H$7,IF(D20="Q3",MucHoTro!$H$8,IF(D20="Q4",MucHoTro!$H$9))))) -> 1.2 | I20: =IF(E20="x",MucHoTro!$C$5,IF(F20="x",MucHoTro!$D$5,IF(G20="x",MucHoTro!$E$5))) -> 1.5 | J20: =H20*I20 -> 1.8 | K20: Bộ môn Địa vật lý | N20: =J20*2000000 -> 3600000 | S20: =IF(D20<>"",INDEX(MucHoTro!$B$5:$B$10,MATCH('Danh sách nhận tiền'!D20,MucHoTro!$G$5:$G$10,0),1),"") -> Tạp chí trong nhóm Q2 thuộc lĩnh vực nghiên cứu gần nhất của bài báo (Q2)
A21: 17 | B21: Distribution and Characteristics of Nanotubular Halloysites in the Thach Khoan Area, Phu Tho, Vietnam | C21: Bùi Hoàng Bắc Nguyễn Tiến Dũng Lương Quang Khang Khương Thế Hùng Nguyễn Văn Lâm Đỗ Mạnh An Phan Viết Sơn Trần Thị Vân Anh Bùi Thanh Tịnh | D21: Q3 | E21: x | H21: =IF(D21="Q1a",MucHoTro!$H$5,IF(D21="Q1b",MucHoTro!$H$6,IF(D21="Q2",MucHoTro!$H$7,IF(D21="Q3",MucHoTro!$H$8,IF(D21="Q4",MucHoTro!$H$9))))) -> 1 | I21: =IF(E21="x",MucHoTro!$C$5,IF(F21="x",MucHoTro!$D$5,IF(G21="x",MucHoTro!$E$5))) -> 1.5 | J21: =H21*I21 -> 1.5 | K21: Bộ môn Tìm kiếm thăm dò Bộ môn Tìm kiếm thăm dò Bộ môn Tìm kiếm thăm dò Bộ môn Tìm kiếm thăm dò Bộ môn Tìm kiếm thăm dò Bộ môn Tìm kiếm thăm dò Bộ môn Tìm kiếm thăm dò Bộ môn Tìm kiếm thăm dò Bộ môn Tìm kiếm thăm dò | N21: =J21*2000000 -> 3000000 | S21: =IF(D21<>"",INDEX(MucHoTro!$B$5:$B$10,MATCH('Danh sách nhận tiền'!D21,MucHoTro!$G$5:$G$10,0),1),"") -> Tạp chí trong nhóm Q3 thuộc lĩnh vực nghiên cứu gần nhất của bài báo (Q3)
A22: 18 | B22: Occurrence of Felsic Rocks in Oceanic Gabbros from IODP Hole U1473A: Implications for Evolved Melt Migration in the Lower Oceanic Crust | C22: Nguyễn Khắc Du | D22: Q3 | E22: x | H22: =IF(D22="Q1a",MucHoTro!$H$5,IF(D22="Q1b",MucHoTro!$H$6,IF(D22="Q2",MucHoTro!$H$7,IF(D22="Q3",MucHoTro!$H$8,IF(D22="Q4",MucHoTro!$H$9))))) -> 1 | I22: =IF(E22="x",MucHoTro!$C$5,IF(F22="x",MucHoTro!$D$5,IF(G22="x",MucHoTro!$E$5))) -> 1.5 | J22: =H22*I22 -> 1.5 | K22: Bộ môn Địa chất | N22: =J22*2000000 -> 3000000 | S22: =IF(D22<>"",INDEX(MucHoTro!$B$5:$B$10,MATCH('Danh sách nhận tiền'!D22,MucHoTro!$G$5:$G$10,0),1),"") -> Tạp chí trong nhóm Q3 thuộc lĩnh vực nghiên cứu gần nhất của bài báo (Q3)
A23: 19 | B23: Component variation in the late Neoproterozoic to Cambrian sedimentary rocks of SW China – NE Vietnam, and its tectonic significance | C23: Nguyễn Đình Luyện | D23: Q1a | G23: x | H23: =IF(D23="Q1a",MucHoTro!$H$5,IF(D23="Q1b",MucHoTro!$H$6,IF(D23="Q2",MucHoTro!$H$7,IF(D23="Q3",MucHoTro!$H$8,IF(D23="Q4",MucHoTro!$H$9))))) -> 2.23 | I23: =IF(E23="x",MucHoTro!$C$5,IF(F23="x",MucHoTro!$D$5,IF(G23="x",MucHoTro!$E$5))) -> 1 | J23: =H23*I23 -> 2.23 | K23: Bộ môn Địa chất | N23: =J23*2000000 -> 4460000 | S23: =IF(D23<>"",INDEX(MucHoTro!$B$5:$B$10,MATCH('Danh sách nhận tiền'!D23,MucHoTro!$G$5:$G$10,0),1),"") -> Tạp chí nằm trong Top 30% tạp chí đứng đầu lĩnh vực nghiên cứu gần nhất của bài báo (Q1a)
A24: 20 | B24: Neoproterozoic deposition and Triassic metamorphism of metasedimentary rocks in the Nam Co Complex, Song Ma Suture Zone, NW Vietnam | C24: Bùi Vĩnh Hậu Ngô Xuân Thành Trần Thanh Hải | D24: Q2 | E24: x | H24: =IF(D24="Q1a",MucHoTro!$H$5,IF(D24="Q1b",MucHoTro!$H$6,IF(D24="Q2",MucHoTro!$H$7,IF(D24="Q3",MucHoTro!$H$8,IF(D24="Q4",MucHoTro!$H$9))))) -> 1.2 | I24: =IF(E24="x",MucHoTro!$C$5,IF(F24="x",MucHoTro!$D$5,IF(G24="x",MucHoTro!$E$5))) -> 1.5 | J24: =H24*I24 -> 1.8 | K24: Bộ môn Địa chất Bộ môn Địa chất Bộ môn Địa chất | N24: =J24*2000000 -> 3600000 | S24: =IF(D24<>"",INDEX(MucHoTro!$B$5:$B$10,MATCH('Danh sách nhận tiền'!D24,MucHoTro!$G$5:$G$10,0),1),"") -> Tạp chí trong nhóm Q2 thuộc lĩnh vực nghiên cứu gần nhất của bài báo (Q2)
A25: 21 | B25: Determination of abundances of fifty- two elements in natural waters by ICP-MS with freeze-drying pre- concentration | C25: Hoàng Đình Quế | D25: Q1b | E25: x | H25: =IF(D25="Q1a",MucHoTro!$H$5,IF(D25="Q1b",MucHoTro!$H$6,IF(D25="Q2",MucHoTro!$H$7,IF(D25="Q3",MucHoTro!$H$8,IF(D25="Q4",MucHoTro!$H$9))))) -> 1.3 | I25: =IF(E25="x",MucHoTro!$C$5,IF(F25="x",MucHoTro!$D$5,IF(G25="x",MucHoTro!$E$5))) -> 1.5 | J25: =H25*I25 -> 1.95 | K25: Bộ môn Địa chất | N25: =J25*2000000 -> 3900000 | S25: =IF(D25<>"",INDEX(MucHoTro!$B$5:$B$10,MATCH('Danh sách nhận tiền'!D25,MucHoTro!$G$5:$G$10,0),1),"") -> Tạp chí nằm ngoài Top 30% tạp chí đứng đầu nhóm Q1 thuộc lĩnh vực nghiên cứu gần nhất của bài báo (Q1b)
A26: 22 | B26: Prediction of soil compression coefficient for urban housing project using novel integration machine learning approach of swarm intelligence and Multi-layer Perceptron Neural Network | C26: Nhữ Việt Hà | D26: Q1b | G26: x | H26: =IF(D26="Q1a",MucHoTro!$H$5,IF(D26="Q1b",MucHoTro!$H$6,IF(D26="Q2",MucHoTro!$H$7,IF(D26="Q3",MucHoTro!$H$8,IF(D26="Q4",MucHoTro!$H$9))))) -> 1.3 | I26: =IF(E26="x",MucHoTro!$C$5,IF(F26="x",MucHoTro!$D$5,IF(G26="x",MucHoTro!$E$5))) -> 1 | J26: =H26*I26 -> 1.3 | K26: Bộ môn Địa chất công trình | N26: =J26*2000000 -> 2600000 | S26: =IF(D26<>"",INDEX(MucHoTro!$B$5:$B$10,MATCH('Danh sách nhận tiền'!D26,MucHoTro!$G$5:$G$10,0),1),"") -> Tạp chí nằm ngoài Top 30% tạp chí đứng đầu nhóm Q1 thuộc lĩnh vực nghiên cứu gần nhất của bài báo (Q1b)
A27: 23 | B27: A swarm intelligence-based machine learning approach for predicting soil shear strength for road construction: a case study at Trung Luong National Expressway Project (Vietnam) | C27: Nhữ Việt Hà | D27: Q2 | G27: x | H27: =IF(D27="Q1a",MucHoTro!$H$5,IF(D27="Q1b",MucHoTro!$H$6,IF(D27="Q2",MucHoTro!$H$7,IF(D27="Q3",MucHoTro!$H$8,IF(D27="Q4",MucHoTro!$H$9))))) -> 1.2 | I27: =IF(E27="x",MucHoTro!$C$5,IF(F27="x",MucHoTro!$D$5,IF(G27="x",MucHoTro!$E$5))) -> 1 | J27: =H27*I27 -> 1.2 | K27: Bộ môn Địa chất công trình | N27: =J27*2000000 -> 2400000 | S27: =IF(D27<>"",INDEX(MucHoTro!$B$5:$B$10,MATCH('Danh sách nhận tiền'!D27,MucHoTro!$G$5:$G$10,0),1),"") -> Tạp chí trong nhóm Q2 thuộc lĩnh vực nghiên cứu gần nhất của bài báo (Q2)
A28: 24 | B28: Metal and metalloid concentrations in soil, surface water, and vegetables and the potential ecological and human health risks in the northeastern area of Hanoi, Vietnam. | C28: Nguyễn Khắc Giảng | D28: Q2 | G28: x | H28: =IF(D28="Q1a",MucHoTro!$H$5,IF(D28="Q1b",MucHoTro!$H$6,IF(D28="Q2",MucHoTro!$H$7,IF(D28="Q3",MucHoTro!$H$8,IF(D28="Q4",MucHoTro!$H$9))))) -> 1.2 | I28: =IF(E28="x",MucHoTro!$C$5,IF(F28="x",MucHoTro!$D$5,IF(G28="x",MucHoTro!$E$5))) -> 1 | J28: =H28*I28 -> 1.2 | K28: Bộ môn Khoáng thạch và Địa hóa | N28: =J28*2000000 -> 2400000 | S28: =IF(D28<>"",INDEX(MucHoTro!$B$5:$B$10,MATCH('Danh sách nhận tiền'!D28,MucHoTro!$G$5:$G$10,0),1),"") -> Tạp chí trong nhóm Q2 thuộc lĩnh vực nghiên cứu gần nhất của bài báo (Q2)
A29: 25 | B29: Extending fuzzy logics with many hedges | C29: Lê Văn Hưng | D29: Q1b | E29: x | H29: =IF(D29="Q1a",MucHoTro!$H$5,IF(D29="Q1b",MucHoTro!$H$6,IF(D29="Q2",MucHoTro!$H$7,IF(D29="Q3",MucHoTro!$H$8,IF(D29="Q4",MucHoTro!$H$9))))) -> 1.3 | I29: =IF(E29="x",MucHoTro!$C$5,IF(F29="x",MucHoTro!$D$5,IF(G29="x",MucHoTro!$E$5))) -> 1.5 | J29: =H29*I29 -> 1.95 | K29: Bộ môn Công nghệ phần mềm | N29: =J29*2000000 -> 3900000 | S29: =IF(D29<>"",INDEX(MucHoTro!$B$5:$B$10,MATCH('Danh sách nhận tiền'!D29,MucHoTro!$G$5:$G$10,0),1),"") -> Tạp chí nằm ngoài Top 30% tạp chí đứng đầu nhóm Q1 thuộc lĩnh vực nghiên cứu gần nhất của bài báo (Q1b)
A30: 26 | B30: GIS-based spatial prediction of tropical forest fire danger using a new hybrid machine learning method | C30: Lê Văn Hưng | D30: Q1b | G30: x | H30: =IF(D30="Q1a",MucHoTro!$H$5,IF(D30="Q1b",MucHoTro!$H$6,IF(D30="Q2",MucHoTro!$H$7,IF(D30="Q3",MucHoTro!$H$8,IF(D30="Q4",MucHoTro!$H$9))))) -> 1.3 | I30: =IF(E30="x",MucHoTro!$C$5,IF(F30="x",MucHoTro!$D$5,IF(G30="x",MucHoTro!$E$5))) -> 1 | J30: =H30*I30 -> 1.3 | K30: Bộ môn Công nghệ phần mềm | N30: =J30*2000000 -> 2600000 | S30: =IF(D30<>"",INDEX(MucHoTro!$B$5:$B$10,MATCH('Danh sách nhận tiền'!D30,MucHoTro!$G$5:$G$10,0),1),"") -> Tạp chí nằm ngoài Top 30% tạp chí đứng đầu nhóm Q1 thuộc lĩnh vực nghiên cứu gần nhất của bài báo (Q1b)
A31: 27 | B31: Enhancing Prediction Performance of Landslide Susceptibility Model Using Hybrid Machine Learning Approach of Bagging Ensemble and Logistic Model Tree | C31: Trương Xuân Luận | D31: Q3 | E31: x | H31: =IF(D31="Q1a",MucHoTro!$H$5,IF(D31="Q1b",MucHoTro!$H$6,IF(D31="Q2",MucHoTro!$H$7,IF(D31="Q3",MucHoTro!$H$8,IF(D31="Q4",MucHoTro!$H$9))))) -> 1 | I31: =IF(E31="x",MucHoTro!$C$5,IF(F31="x",MucHoTro!$D$5,IF(G31="x",MucHoTro!$E$5))) -> 1.5 | J31: =H31*I31 -> 1.5 | K31: Bộ môn Tin học Địa chất | N31: =J31*2000000 -> 3000000 | S31: =IF(D31<>"",INDEX(MucHoTro!$B$5:$B$10,MATCH('Danh sách nhận tiền'!D31,MucHoTro!$G$5:$G$10,0),1),"") -> Tạp chí trong nhóm Q3 thuộc lĩnh vực nghiên cứu gần nhất của bài báo (Q3)
A32: 28 | B32: A Novel Hybrid Swarm Optimized Multilayer Neural Network for Spatial Prediction of Flash Floods in Tropical Areas Using Sentinel-1 SAR Imagery and Geospatial Data | C32: Ngô Thị Phương Thảo Nguyễn Quang Khánh | D32: Q2 | E32: x | H32: =IF(D32="Q1a",MucHoTro!$H$5,IF(D32="Q1b",MucHoTro!$H$6,IF(D32="Q2",MucHoTro!$H$7,IF(D32="Q3",MucHoTro!$H$8,IF(D32="Q4",MucHoTro!$H$9))))) -> 1.2 | I32: =IF(E32="x",MucHoTro!$C$5,IF(F32="x",MucHoTro!$D$5,IF(G32="x",MucHoTro!$E$5))) -> 1.5 | J32: =H32*I32 -> 1.8 | K32: Bộ môn Tin học Trắc địa Bộ môn Tin học Trắc địa | N32: =J32*2000000 -> 3600000 | S32: =IF(D32<>"",INDEX(MucHoTro!$B$5:$B$10,MATCH('Danh sách nhận tiền'!D32,MucHoTro!$G$5:$G$10,0),1),"") -> Tạp chí trong nhóm Q2 thuộc lĩnh vực nghiên cứu gần nhất của bài báo (Q2)
A33: 29 | B33: A Novel Integrated Approach of Relevance Vector Machine Optimized by Imperialist Competitive Algorithm for Spatial Modeling of Shallow Landslides | C33: Trần Chung Chuyên | D33: Q1b | G33: x | H33: =IF(D33="Q1a",MucHoTro!$H$5,IF(D33="Q1b",MucHoTro!$H$6,IF(D33="Q2",MucHoTro!$H$7,IF(D33="Q3",MucHoTro!$H$8,IF(D33="Q4",MucHoTro!$H$9))))) -> 1.3 | I33: =IF(E33="x",MucHoTro!$C$5,IF(F33="x",MucHoTro!$D$5,IF(G33="x",MucHoTro!$E$5))) -> 1 | J33: =H33*I33 -> 1.3 | K33: Bộ môn Tin học Trắc địa | N33: =J33*2000000 -> 2600000 | S33: =IF(D33<>"",INDEX(MucHoTro!$B$5:$B$10,MATCH('Danh sách nhận tiền'!D33,MucHoTro!$G$5:$G$10,0),1),"") -> Tạp chí nằm ngoài Top 30% tạp chí đứng đầu nhóm Q1 thuộc lĩnh vực nghiên cứu gần nhất của bài báo (Q1b)
A34: 30 | B34: An Approach to Modeling and Estimating Power Consumption of Mobile Applications | C34: Lê Hồng Anh | D34: Q1b | E34: x | H34: =IF(D34="Q1a",MucHoTro!$H$5,IF(D34="Q1b",MucHoTro!$H$6,IF(D34="Q2",MucHoTro!$H$7,IF(D34="Q3",MucHoTro!$H$8,IF(D34="Q4",MucHoTro!$H$9))))) -> 1.3 | I34: =IF(E34="x",MucHoTro!$C$5,IF(F34="x",MucHoTro!$D$5,IF(G34="x",MucHoTro!$E$5))) -> 1.5 | J34: =H34*I34 -> 1.95 | K34: Bộ môn Khoa học máy tính | N34: =J34*2000000 -> 3900000 | S34: =IF(D34<>"",INDEX(MucHoTro!$B$5:$B$10,MATCH('Danh sách nhận tiền'!D34,MucHoTro!$G$5:$G$10,0),1),"") -> Tạp chí nằm ngoài Top 30% tạp chí đứng đầu nhóm Q1 thuộc lĩnh vực nghiên cứu gần nhất của bài báo (Q1b)
A35: 31 | B35: Eﬀect of annealing temperature on morphology and structure of CuO nanowires grown by thermal oxidation method | C35: Trần Thị Hà | D35: Q2 | E35: x | H35: =IF(D35="Q1a",MucHoTro!$H$5,IF(D35="Q1b",MucHoTro!$H$6,IF(D35="Q2",MucHoTro!$H$7,IF(D35="Q3",MucHoTro!$H$8,IF(D35="Q4",MucHoTro!$H$9))))) -> 1.2 | I35: =IF(E35="x",MucHoTro!$C$5,IF(F35="x",MucHoTro!$D$5,IF(G35="x",MucHoTro!$E$5))) -> 1.5 | J35: =H35*I35 -> 1.8 | K35: Bộ môn Vật lý | N35: =J35*2000000 -> 3600000 | S35: =IF(D35<>"",INDEX(MucHoTro!$B$5:$B$10,MATCH('Danh sách nhận tiền'!D35,MucHoTro!$G$5:$G$10,0),1),"") -> Tạp chí trong nhóm Q2 thuộc lĩnh vực nghiên cứu gần nhất của bài báo (Q2)
A36: 32 | B36: Phase transition of LaMnO3 nanoparticles prepared by microwave assisted combustion method | C36: Trần Thị Hà | D36: Q2 | E36: x | H36: =IF(D36="Q1a",MucHoTro!$H$5,IF(D36="Q1b",MucHoTro!$H$6,IF(D36="Q2",MucHoTro!$H$7,IF(D36="Q3",MucHoTro!$H$8,IF(D36="Q4",MucHoTro!$H$9))))) -> 1.2 | I36: =IF(E36="x",MucHoTro!$C$5,IF(F36="x",MucHoTro!$D$5,IF(G36="x",MucHoTro!$E$5))) -> 1.5 | J36: =H36*I36 -> 1.8 | K36: Bộ môn Vật lý | N36: =J36*2000000 -> 3600000 | S36: =IF(D36<>"",INDEX(MucHoTro!$B$5:$B$10,MATCH('Danh sách nhận tiền'!D36,MucHoTro!$G$5:$G$10,0),1),"") -> Tạp chí trong nhóm Q2 thuộc lĩnh vực nghiên cứu gần nhất của bài báo (Q2)
A37: 33 | B37: On the Automorphism Groups of Finite Multitype Models in Cn | C37: Nguyễn Thị Lan Hương | D37: Q1b | G37: x | H37: =IF(D37="Q1a",MucHoTro!$H$5,IF(D37="Q1b",MucHoTro!$H$6,IF(D37="Q2",MucHoTro!$H$7,IF(D37="Q3",MucHoTro!$H$8,IF(D37="Q4",MucHoTro!$H$9))))) -> 1.3 | I37: =IF(E37="x",MucHoTro!$C$5,IF(F37="x",MucHoTro!$D$5,IF(G37="x",MucHoTro!$E$5))) -> 1 | J37: =H37*I37 -> 1.3 | K37: Bộ môn Toán | N37: =J37*2000000 -> 2600000 | S37: =IF(D37<>"",INDEX(MucHoTro!$B$5:$B$10,MATCH('Danh sách nhận tiền'!D37,MucHoTro!$G$5:$G$10,0),1),"") -> Tạp chí nằm ngoài Top 30% tạp chí đứng đầu nhóm Q1 thuộc lĩnh vực nghiên cứu gần nhất của bài báo (Q1b)
A38: 34 | B38: Broadening the absorption bandwidth of metamaterial absorber by coupling three dipole resonances | C38: Lê Đắc Tuyên | D38: Q3 | F38: x | H38: =IF(D38="Q1a",MucHoTro!$H$5,IF(D38="Q1b",MucHoTro!$H$6,IF(D38="Q2",MucHoTro!$H$7,IF(D38="Q3",MucHoTro!$H$8,IF(D38="Q4",MucHoTro!$H$9))))) -> 1 | I38: =IF(E38="x",MucHoTro!$C$5,IF(F38="x",MucHoTro!$D$5,IF(G38="x",MucHoTro!$E$5))) -> 1.25 | J38: =H38*I38 -> 1.25 | K38: Bộ môn Vật lý | N38: =J38*2000000 -> 2500000 | S38: =IF(D38<>"",INDEX(MucHoTro!$B$5:$B$10,MATCH('Danh sách nhận tiền'!D38,MucHoTro!$G$5:$G$10,0),1),"") -> Tạp chí trong nhóm Q3 thuộc lĩnh vực nghiên cứu gần nhất của bài báo (Q3)
A39: 35 | B39: Multi-band absorption induced by near-field coupling and defects in metamaterial | C39: Lê Đắc Tuyên | D39: Q3 | G39: x | H39: =IF(D39="Q1a",MucHoTro!$H$5,IF(D39="Q1b",MucHoTro!$H$6,IF(D39="Q2",MucHoTro!$H$7,IF(D39="Q3",MucHoTro!$H$8,IF(D39="Q4",MucHoTro!$H$9))))) -> 1 | I39: =IF(E39="x",MucHoTro!$C$5,IF(F39="x",MucHoTro!$D$5,IF(G39="x",MucHoTro!$E$5))) -> 1 | J39: =H39*I39 -> 1 | K39: Bộ môn Vật lý | N39: =J39*2000000 -> 2000000 | S39: =IF(D39<>"",INDEX(MucHoTro!$B$5:$B$10,MATCH('Danh sách nhận tiền'!D39,MucHoTro!$G$5:$G$10,0),1),"") -> Tạp chí trong nhóm Q3 thuộc lĩnh vực nghiên cứu gần nhất của bài báo (Q3)
A40: 36 | B40: Controlled Defect Based Ultra Broadband Full-sized Metamaterial Absorber | C40: Lê Đắc Tuyên | D40: Q1a | G40: x | H40: =IF(D40="Q1a",MucHoTro!$H$5,IF(D40="Q1b",MucHoTro!$H$6,IF(D40="Q2",MucHoTro!$H$7,IF(D40="Q3",MucHoTro!$H$8,IF(D40="Q4",MucHoTro!$H$9))))) -> 2.23 | I40: =IF(E40="x",MucHoTro!$C$5,IF(F40="x",MucHoTro!$D$5,IF(G40="x",MucHoTro!$E$5))) -> 1 | J40: =H40*I40 -> 2.23 | K40: Bộ môn Vật lý | N40: =J40*2000000 -> 4460000 | S40: =IF(D40<>"",INDEX(MucHoTro!$B$5:$B$10,MATCH('Danh sách nhận tiền'!D40,MucHoTro!$G$5:$G$10,0),1),"") -> Tạp chí nằm trong Top 30% tạp chí đứng đầu lĩnh vực nghiên cứu gần nhất của bài báo (Q1a)
A41: 37 | B41: Conductive polymer for ultra-broadband, wide-angle, and polarization- insensitive metamaterial perfect absorber | C41: Lê Đắc Tuyên | D41: Q1b | F41: x | H41: =IF(D41="Q1a",MucHoTro!$H$5,IF(D41="Q1b",MucHoTro!$H$6,IF(D41="Q2",MucHoTro!$H$7,IF(D41="Q3",MucHoTro!$H$8,IF(D41="Q4",MucHoTro!$H$9))))) -> 1.3 | I41: =IF(E41="x",MucHoTro!$C$5,IF(F41="x",MucHoTro!$D$5,IF(G41="x",MucHoTro!$E$5))) -> 1.25 | J41: =H41*I41 -> 1.625 | K41: Bộ môn Vật lý | N41: =J41*2000000 -> 3250000 | S41: =IF(D41<>"",INDEX(MucHoTro!$B$5:$B$10,MATCH('Danh sách nhận tiền'!D41,MucHoTro!$G$5:$G$10,0),1),"") -> Tạp chí nằm ngoài Top 30% tạp chí đứng đầu nhóm Q1 thuộc lĩnh vực nghiên cứu gần nhất của bài báo (Q1b)
A42: 38 | B42: Chemical constituents of Vitex trifolia leaves | C42: Nguyễn Thị Kim Thoa | D42: Q2 | G42: x | H42: =IF(D42="Q1a",MucHoTro!$H$5,IF(D42="Q1b",MucHoTro!$H$6,IF(D42="Q2",MucHoTro!$H$7,IF(D42="Q3",MucHoTro!$H$8,IF(D42="Q4",MucHoTro!$H$9))))) -> 1.2 | I42: =IF(E42="x",MucHoTro!$C$5,IF(F42="x",MucHoTro!$D$5,IF(G42="x",MucHoTro!$E$5))) -> 1 | J42: =H42*I42 -> 1.2 | K42: Bộ môn Hóa | N42: =J42*2000000 -> 2400000 | S42: =IF(D42<>"",INDEX(MucHoTro!$B$5:$B$10,MATCH('Danh sách nhận tiền'!D42,MucHoTro!$G$5:$G$10,0),1),"") -> Tạp chí trong nhóm Q2 thuộc lĩnh vực nghiên cứu gần nhất của bài báo (Q2)
A43: 39 | B43: Toward Practical Carrier Multiplication: Donor/Acceptor Codoped Si Nanocrystals in SiO2 | C43: Nguyễn Xuân Chung | D43: Q1a | E43: x | H43: =IF(D43="Q1a",MucHoTro!$H$5,IF(D43="Q1b",MucHoTro!$H$6,IF(D43="Q2",MucHoTro!$H$7,IF(D43="Q3",MucHoTro!$H$8,IF(D43="Q4",MucHoTro!$H$9))))) -> 2.23 | I43: =IF(E43="x",MucHoTro!$C$5,IF(F43="x",MucHoTro!$D$5,IF(G43="x",MucHoTro!$E$5))) -> 1.5 | J43: =H43*I43 -> 3.345 | K43: Bộ môn Vật lý | N43: =J43*2000000 -> 6690000 | S43: =IF(D43<>"",INDEX(MucHoTro!$B$5:$B$10,MATCH('Danh sách nhận tiền'!D43,MucHoTro!$G$5:$G$10,0),1),"") -> Tạp chí nằm trong Top 30% tạp chí đứng đầu lĩnh vực nghiên cứu gần nhất của bài báo (Q1a)
A44: 40 | B44: Influence of annealing temperature on physical properties and photocatalytic ability of g-C3N4 nanosheets synthesized through urea polymerization in Ar atmosphere | C44: Đào Việt Thắng Nguyễn Mạnh Hùng | D44: Q3 | G44: x | H44: =IF(D44="Q1a",MucHoTro!$H$5,IF(D44="Q1b",MucHoTro!$H$6,IF(D44="Q2",MucHoTro!$H$7,IF(D44="Q3",MucHoTro!$H$8,IF(D44="Q4",MucHoTro!$H$9))))) -> 1 | I44: =IF(E44="x",MucHoTro!$C$5,IF(F44="x",MucHoTro!$D$5,IF(G44="x",MucHoTro!$E$5))) -> 1 | J44: =H44*I44 -> 1 | K44: Bộ môn Vật lý | N44: =J44*2000000 -> 2000000 | S44: =IF(D44<>"",INDEX(MucHoTro!$B$5:$B$10,MATCH('Danh sách nhận tiền'!D44,MucHoTro!$G$5:$G$10,0),1),"") -> Tạp chí trong nhóm Q3 thuộc lĩnh vực nghiên cứu gần nhất của bài báo (Q3)
A45: 41 | B45: New criteria for finite-time stability of nonlinear fractional-order delay systems: A Gronwall inequality approach | C45: Nguyễn Trường Thanh | D45: Q1b | G45: x | H45: =IF(D45="Q1a",MucHoTro!$H$5,IF(D45="Q1b",MucHoTro!$H$6,IF(D45="Q2",MucHoTro!$H$7,IF(D45="Q3",MucHoTro!$H$8,IF(D45="Q4",MucHoTro!$H$9))))) -> 1.3 | I45: =IF(E45="x",MucHoTro!$C$5,IF(F45="x",MucHoTro!$D$5,IF(G45="x",MucHoTro!$E$5))) -> 1 | J45: =H45*I45 -> 1.3 | K45: Bộ môn Toán | N45: =J45*2000000 -> 2600000 | S45: =IF(D45<>"",INDEX(MucHoTro!$B$5:$B$10,MATCH('Danh sách nhận tiền'!D45,MucHoTro!$G$5:$G$10,0),1),"") -> Tạp chí nằm ngoài Top 30% tạp chí đứng đầu nhóm Q1 thuộc lĩnh vực nghiên cứu gần nhất của bài báo (Q1b)
A46: 42 | B46: Switching law design for finite-time stability of singular fractional-order systems with delay | C46: Nguyễn Trường Thanh | D46: Q1a | E46: x | H46: =IF(D46="Q1a",MucHoTro!$H$5,IF(D46="Q1b",MucHoTro!$H$6,IF(D46="Q2",MucHoTro!$H$7,IF(D46="Q3",MucHoTro!$H$8,IF(D46="Q4",MucHoTro!$H$9))))) -> 2.23 | I46: =IF(E46="x",MucHoTro!$C$5,IF(F46="x",MucHoTro!$D$5,IF(G46="x",MucHoTro!$E$5))) -> 1.5 | J46: =H46*I46 -> 3.345 | K46: Bộ môn Toán | N46: =J46*2000000 -> 6690000 | S46: =IF(D46<>"",INDEX(MucHoTro!$B$5:$B$10,MATCH('Danh sách nhận tiền'!D46,MucHoTro!$G$5:$G$10,0),1),"") -> Tạp chí nằm trong Top 30% tạp chí đứng đầu lĩnh vực nghiên cứu gần nhất của bài báo (Q1a)
A47: 43 | B47: Improved approach for finite-time stability of nonlinear fractional-order systems with interval time-varying delay | C47: Nguyễn Trường Thanh | D47: Q1b | E47: x | H47: =IF(D47="Q1a",MucHoTro!$H$5,IF(D47="Q1b",MucHoTro!$H$6,IF(D47="Q2",MucHoTro!$H$7,IF(D47="Q3",MucHoTro!$H$8,IF(D47="Q4",MucHoTro!$H$9))))) -> 1.3 | I47: =IF(E47="x",MucHoTro!$C$5,IF(F47="x",MucHoTro!$D$5,IF(G47="x",MucHoTro!$E$5))) -> 1.5 | J47: =H47*I47 -> 1.95 | K47: Bộ môn Toán | N47: =J47*2000000 -> 3900000 | S47: =IF(D47<>"",INDEX(MucHoTro!$B$5:$B$10,MATCH('Danh sách nhận tiền'!D47,MucHoTro!$G$5:$G$10,0),1),"") -> Tạp chí nằm ngoài Top 30% tạp chí đứng đầu nhóm Q1 thuộc lĩnh vực nghiên cứu gần nhất của bài báo (Q1b)
A48: 44 | B48: A comparative study of artificial neural networks in predicting blast- induced air-blast overpressure at DeoNai open-pit coal mine, Vietnam | C48: Nguyễn Hoàng Bùi Xuân Nam Bùi Hoàng Bắc | D48: Q2 | E48: x | H48: =IF(D48="Q1a",MucHoTro!$H$5,IF(D48="Q1b",MucHoTro!$H$6,IF(D48="Q2",MucHoTro!$H$7,IF(D48="Q3",MucHoTro!$H$8,IF(D48="Q4",MucHoTro!$H$9))))) -> 1.2 | I48: =IF(E48="x",MucHoTro!$C$5,IF(F48="x",MucHoTro!$D$5,IF(G48="x",MucHoTro!$E$5))) -> 1.5 | J48: =H48*I48 -> 1.8 | K48: Bộ môn Khai thác lộ thiên Bộ môn Khai thác lộ thiên Bộ môn Tìm kiếm thăm dò | N48: =J48*2000000 -> 3600000 | S48: =IF(D48<>"",INDEX(MucHoTro!$B$5:$B$10,MATCH('Danh sách nhận tiền'!D48,MucHoTro!$G$5:$G$10,0),1),"") -> Tạp chí trong nhóm Q2 thuộc lĩnh vực nghiên cứu gần nhất của bài báo (Q2)
A49: 45 | B49: Predicting Blast- Induced Air Overpressure: A Robust Artificial Intelligence System Based on Artificial Neural Networks and Random Forest | C49: Nguyễn Hoàng Bùi Xuân Nam | D49: Q1b | E49: x | H49: =IF(D49="Q1a",MucHoTro!$H$5,IF(D49="Q1b",MucHoTro!$H$6,IF(D49="Q2",MucHoTro!$H$7,IF(D49="Q3",MucHoTro!$H$8,IF(D49="Q4",MucHoTro!$H$9))))) -> 1.3 | I49: =IF(E49="x",MucHoTro!$C$5,IF(F49="x",MucHoTro!$D$5,IF(G49="x",MucHoTro!$E$5))) -> 1.5 | J49: =H49*I49 -> 1.95 | K49: Bộ môn Khai thác lộ thiên | N49: =J49*2000000 -> 3900000 | S49: =IF(D49<>"",INDEX(MucHoTro!$B$5:$B$10,MATCH('Danh sách nhận tiền'!D49,MucHoTro!$G$5:$G$10,0),1),"") -> Tạp chí nằm ngoài Top 30% tạp chí đứng đầu nhóm Q1 thuộc lĩnh vực nghiên cứu gần nhất của bài báo (Q1b)
A50: 46 | B50: Flotation study of fine grained carbonaceous sedimentary apatite ore – Challenges in process mineralogy and impact of hydrodynamics | C50: Hoàng Hữu Đường | D50: Q1b | E50: x | H50: =IF(D50="Q1a",MucHoTro!$H$5,IF(D50="Q1b",MucHoTro!$H$6,IF(D50="Q2",MucHoTro!$H$7,IF(D50="Q3",MucHoTro!$H$8,IF(D50="Q4",MucHoTro!$H$9))))) -> 1.3 | I50: =IF(E50="x",MucHoTro!$C$5,IF(F50="x",MucHoTro!$D$5,IF(G50="x",MucHoTro!$E$5))) -> 1.5 | J50: =H50*I50 -> 1.95 | K50: Bộ môn Tuyển khoáng | N50: =J50*2000000 -> 3900000 | S50: =IF(D50<>"",INDEX(MucHoTro!$B$5:$B$10,MATCH('Danh sách nhận tiền'!D50,MucHoTro!$G$5:$G$10,0),1),"") -> Tạp chí nằm ngoài Top 30% tạp chí đứng đầu nhóm Q1 thuộc lĩnh vực nghiên cứu gần nhất của bài báo (Q1b)
A51: 47 | B51: Froth properties and entrainment in lab-scale flotation: A case of carbonaceous sedimentary phosphate ore | C51: Hoàng Hữu Đường | D51: Q1b | E51: x | H51: =IF(D51="Q1a",MucHoTro!$H$5,IF(D51="Q1b",MucHoTro!$H$6,IF(D51="Q2",MucHoTro!$H$7,IF(D51="Q3",MucHoTro!$H$8,IF(D51="Q4",MucHoTro!$H$9))))) -> 1.3 | I51: =IF(E51="x",MucHoTro!$C$5,IF(F51="x",MucHoTro!$D$5,IF(G51="x",MucHoTro!$E$5))) -> 1.5 | J51: =H51*I51 -> 1.95 | K51: Bộ môn Tuyển khoáng | N51: =J51*2000000 -> 3900000 | S51: =IF(D51<>"",INDEX(MucHoTro!$B$5:$B$10,MATCH('Danh sách nhận tiền'!D51,MucHoTro!$G$5:$G$10,0),1),"") -> Tạp chí nằm ngoài Top 30% tạp chí đứng đầu nhóm Q1 thuộc lĩnh vực nghiên cứu gần nhất của bài báo (Q1b)
A52: 48 | B52: Integrated Change Detection and Classification in Urban Areas Based on Airborne Laser Scanning Point Clouds | C52: Trần Thị Hương Giang | D52: Q2 | E52: x | H52: =IF(D52="Q1a",MucHoTro!$H$5,IF(D52="Q1b",MucHoTro!$H$6,IF(D52="Q2",MucHoTro!$H$7,IF(D52="Q3",MucHoTro!$H$8,IF(D52="Q4",MucHoTro!$H$9))))) -> 1.2 | I52: =IF(E52="x",MucHoTro!$C$5,IF(F52="x",MucHoTro!$D$5,IF(G52="x",MucHoTro!$E$5))) -> 1.5 | J52: =H52*I52 -> 1.8 | K52: Bộ môn Bản đồ | N52: =J52*2000000 -> 3600000 | S52: =IF(D52<>"",INDEX(MucHoTro!$B$5:$B$10,MATCH('Danh sách nhận tiền'!D52,MucHoTro!$G$5:$G$10,0),1),"") -> Tạp chí trong nhóm Q2 thuộc lĩnh vực nghiên cứu gần nhất của bài báo (Q2)
A53: 49 | B53: Classification of image matching point cloud over urban areas | C53: Trần Thị Hương Giang | D53: Q1b | E53: x | H53: =IF(D53="Q1a",MucHoTro!$H$5,IF(D53="Q1b",MucHoTro!$H$6,IF(D53="Q2",MucHoTro!$H$7,IF(D53="Q3",MucHoTro!$H$8,IF(D53="Q4",MucHoTro!$H$9))))) -> 1.3 | I53: =IF(E53="x",MucHoTro!$C$5,IF(F53="x",MucHoTro!$D$5,IF(G53="x",MucHoTro!$E$5))) -> 1.5 | J53: =H53*I53 -> 1.95 | K53: Bộ môn Bản đồ | N53: =J53*2000000 -> 3900000 | S53: =IF(D53<>"",INDEX(MucHoTro!$B$5:$B$10,MATCH('Danh sách nhận tiền'!D53,MucHoTro!$G$5:$G$10,0),1),"") -> Tạp chí nằm ngoài Top 30% tạp chí đứng đầu nhóm Q1 thuộc lĩnh vực nghiên cứu gần nhất của bài báo (Q1b)
A54: 50 | B54: Thermo-mechanically-induced thermal conductivity change and its effect on the behaviour of concrete | C54: Nguyễn Trọng Dũng Phạm Đức Thọ | D54: Q1a | E54: x | H54: =IF(D54="Q1a",MucHoTro!$H$5,IF(D54="Q1b",MucHoTro!$H$6,IF(D54="Q2",MucHoTro!$H$7,IF(D54="Q3",MucHoTro!$H$8,IF(D54="Q4",MucHoTro!$H$9))))) -> 2.23 | I54: =IF(E54="x",MucHoTro!$C$5,IF(F54="x",MucHoTro!$D$5,IF(G54="x",MucHoTro!$E$5))) -> 1.5 | J54: =H54*I54 -> 3.345 | K54: Bộ môn Xây dựng Hạ tầng cơ sở Bộ môn Xây dựng Hạ tầng cơ sở | N54: =J54*2000000 -> 6690000 | S54: =IF(D54<>"",INDEX(MucHoTro!$B$5:$B$10,MATCH('Danh sách nhận tiền'!D54,MucHoTro!$G$5:$G$10,0),1),"") -> Tạp chí nằm trong Top 30% tạp chí đứng đầu lĩnh vực nghiên cứu gần nhất của bài báo (Q1a)
A55: 51 | B55: Structural design model for tunnels in soft soils: From construction stages to the long-term | C55: Vũ Minh Ngạn | D55: Q1a | E55: x | H55: =IF(D55="Q1a",MucHoTro!$H$5,IF(D55="Q1b",MucHoTro!$H$6,IF(D55="Q2",MucHoTro!$H$7,IF(D55="Q3",MucHoTro!$H$8,IF(D55="Q4",MucHoTro!$H$9))))) -> 2.23 | I55: =IF(E55="x",MucHoTro!$C$5,IF(F55="x",MucHoTro!$D$5,IF(G55="x",MucHoTro!$E$5))) -> 1.5 | J55: =H55*I55 -> 3.345 | K55: Bộ môn Xây dựng Hạ tầng cơ sở | N55: =J55*2000000 -> 6690000 | S55: =IF(D55<>"",INDEX(MucHoTro!$B$5:$B$10,MATCH('Danh sách nhận tiền'!D55,MucHoTro!$G$5:$G$10,0),1),"") -> Tạp chí nằm trong Top 30% tạp chí đứng đầu lĩnh vực nghiên cứu gần nhất của bài báo (Q1a)
A56: 52 | B56: 3D Numerical Modeling of Foundation Solutions for Wind Turbines | C56: Phạm Văn Hùng | D56: Q1b | E56: x | H56: =IF(D56="Q1a",MucHoTro!$H$5,IF(D56="Q1b",MucHoTro!$H$6,IF(D56="Q2",MucHoTro!$H$7,IF(D56="Q3",MucHoTro!$H$8,IF(D56="Q4",MucHoTro!$H$9))))) -> 1.3 | I56: =IF(E56="x",MucHoTro!$C$5,IF(F56="x",MucHoTro!$D$5,IF(G56="x",MucHoTro!$E$5))) -> 1.5 | J56: =H56*I56 -> 1.95 | K56: Bộ môn Xây dựng Hạ tầng cơ sở | N56: =J56*2000000 -> 3900000 | S56: =IF(D56<>"",INDEX(MucHoTro!$B$5:$B$10,MATCH('Danh sách nhận tiền'!D56,MucHoTro!$G$5:$G$10,0),1),"") -> Tạp chí nằm ngoài Top 30% tạp chí đứng đầu nhóm Q1 thuộc lĩnh vực nghiên cứu gần nhất của bài báo (Q1b)
A57: 53 | B57: 3D modeling of geosynthetic- reinforced pile- supported embankment under cyclic loading | C57: Phạm Văn Hùng | D57: Q1b | E57: x | H57: =IF(D57="Q1a",MucHoTro!$H$5,IF(D57="Q1b",MucHoTro!$H$6,IF(D57="Q2",MucHoTro!$H$7,IF(D57="Q3",MucHoTro!$H$8,IF(D57="Q4",MucHoTro!$H$9))))) -> 1.3 | I57: =IF(E57="x",MucHoTro!$C$5,IF(F57="x",MucHoTro!$D$5,IF(G57="x",MucHoTro!$E$5))) -> 1.5 | J57: =H57*I57 -> 1.95 | K57: Bộ môn Xây dựng Hạ tầng cơ sở | N57: =J57*2000000 -> 3900000 | S57: =IF(D57<>"",INDEX(MucHoTro!$B$5:$B$10,MATCH('Danh sách nhận tiền'!D57,MucHoTro!$G$5:$G$10,0),1),"") -> Tạp chí nằm ngoài Top 30% tạp chí đứng đầu nhóm Q1 thuộc lĩnh vực nghiên cứu gần nhất của bài báo (Q1b)
... A59: 55 | B59: Simplified Approach to the Design of Segmental Tunnel Lining | C59: Đỗ Ngọc Anh | D59: Q2 | E59: x | H59: =IF(D59="Q1a",MucHoTro!$H$5,IF(D59="Q1b",MucHoTro!$H$6,IF(D59="Q2",MucHoTro!$H$7,IF(D59="Q3",MucHoTro!$H$8,IF(D59="Q4",MucHoTro!$H$9))))) -> 1.2 | I59: =IF(E59="x",MucHoTro!$C$5,IF(F59="x",MucHoTro!$D$5,IF(G59="x",MucHoTro!$E$5))) -> 1.5 | J59: =H59*I59 -> 1.8 | K59: Bộ môn Xây dựng công trình ngầm và Mỏ | N59: =J59*2000000 -> 3600000 | S59: =IF(D59<>"",INDEX(MucHoTro!$B$5:$B$10,MATCH('Danh sách nhận tiền'!D59,MucHoTro!$G$5:$G$10,0),1),"") -> Tạp chí trong nhóm Q2 thuộc lĩnh vực nghiên cứu gần nhất của bài báo (Q2)
A60: 56 | B60: Reliability of Tunnel Lining Design using the Hyperstatic Reaction Method | C60: Đỗ Ngọc Anh | D60: Q1a | G60: x | H60: =IF(D60="Q1a",MucHoTro!$H$5,IF(D60="Q1b",MucHoTro!$H$6,IF(D60="Q2",MucHoTro!$H$7,IF(D60="Q3",MucHoTro!$H$8,IF(D60="Q4",MucHoTro!$H$9))))) -> 2.23 | I60: =IF(E60="x",MucHoTro!$C$5,IF(F60="x",MucHoTro!$D$5,IF(G60="x",MucHoTro!$E$5))) -> 1 | J60: =H60*I60 -> 2.23 | K60: Bộ môn Xây dựng công trình ngầm và Mỏ | N60: =J60*2000000 -> 4460000 | S60: =IF(D60<>"",INDEX(MucHoTro!$B$5:$B$10,MATCH('Danh sách nhận tiền'!D60,MucHoTro!$G$5:$G$10,0),1),"") -> Tạp chí nằm trong Top 30% tạp chí đứng đầu lĩnh vực nghiên cứu gần nhất của bài báo (Q1a)
A61: 57 | B61: Behavior of Noncircular Tunnels Excavated in Stratified Rock Masses in Quangninh Coal Mines | C61: Đỗ Ngọc Anh Đào Văn Canh Đào Viết Đoàn | D61: Q1b | E61: x | H61: =IF(D61="Q1a",MucHoTro!$H$5,IF(D61="Q1b",MucHoTro!$H$6,IF(D61="Q2",MucHoTro!$H$7,IF(D61="Q3",MucHoTro!$H$8,IF(D61="Q4",MucHoTro!$H$9))))) -> 1.3 | I61: =IF(E61="x",MucHoTro!$C$5,IF(F61="x",MucHoTro!$D$5,IF(G61="x",MucHoTro!$E$5))) -> 1.5 | J61: =H61*I61 -> 1.95 | K61: Bộ môn Xây dựng công trình ngầm và Mỏ | N61: =J61*2000000 -> 3900000 | S61: =IF(D61<>"",INDEX(MucHoTro!$B$5:$B$10,MATCH('Danh sách nhận tiền'!D61,MucHoTro!$G$5:$G$10,0),1),"") -> Tạp chí nằm ngoài Top 30% tạp chí đứng đầu nhóm Q1 thuộc lĩnh vực nghiên cứu gần nhất của bài báo (Q1b)
A62: 58 | B62: Tunnel lining design in multi-layered ground | C62: Đỗ Ngọc Anh | D62: Q1a | E62: x | H62: =IF(D62="Q1a",MucHoTro!$H$5,IF(D62="Q1b",MucHoTro!$H$6,IF(D62="Q2",MucHoTro!$H$7,IF(D62="Q3",MucHoTro!$H$8,IF(D62="Q4",MucHoTro!$H$9))))) -> 2.23 | I62: =IF(E62="x",MucHoTro!$C$5,IF(F62="x",MucHoTro!$D$5,IF(G62="x",MucHoTro!$E$5))) -> 1.5 | J62: =H62*I62 -> 3.345 | K62: Bộ môn Xây dựng công trình ngầm và Mỏ | N62: 6680000 | S62: =IF(D62<>"",INDEX(MucHoTro!$B$5:$B$10,MATCH('Danh sách nhận tiền'!D62,MucHoTro!$G$5:$G$10,0),1),"") -> Tạp chí nằm trong Top 30% tạp chí đứng đầu lĩnh vực nghiên cứu gần nhất của bài báo (Q1a)
A63: 59 | B63: Designing U-shaped tunnel linings in stratified soils using the Hyperstatic Reaction Method | C63: Đỗ Ngọc Anh | D63: Q2 | G63: x | H63: =IF(D63="Q1a",MucHoTro!$H$5,IF(D63="Q1b",MucHoTro!$H$6,IF(D63="Q2",MucHoTro!$H$7,IF(D63="Q3",MucHoTro!$H$8,IF(D63="Q4",MucHoTro!$H$9))))) -> 1.2 | I63: =IF(E63="x",MucHoTro!$C$5,IF(F63="x",MucHoTro!$D$5,IF(G63="x",MucHoTro!$E$5))) -> 1 | J63: =H63*I63 -> 1.2 | K63: Bộ môn Xây dựng công trình ngầm và Mỏ | N63: =J63*2000000 -> 2400000 | S63: =IF(D63<>"",INDEX(MucHoTro!$B$5:$B$10,MATCH('Danh sách nhận tiền'!D63,MucHoTro!$G$5:$G$10,0),1),"") -> Tạp chí trong nhóm Q2 thuộc lĩnh vực nghiên cứu gần nhất của bài báo (Q2)
A64: 60 | B64: Effect of the lateral earth pressure coefficient on settlements during mechanized tunneling | C64: Đỗ Ngọc Anh | D64: Q2 | G64: x | H64: =IF(D64="Q1a",MucHoTro!$H$5,IF(D64="Q1b",MucHoTro!$H$6,IF(D64="Q2",MucHoTro!$H$7,IF(D64="Q3",MucHoTro!$H$8,IF(D64="Q4",MucHoTro!$H$9))))) -> 1.2 | I64: =IF(E64="x",MucHoTro!$C$5,IF(F64="x",MucHoTro!$D$5,IF(G64="x",MucHoTro!$E$5))) -> 1 | J64: =H64*I64 -> 1.2 | K64: Bộ môn Xây dựng công trình ngầm và Mỏ | N64: =J64*2000000 -> 2400000 | S64: =IF(D64<>"",INDEX(MucHoTro!$B$5:$B$10,MATCH('Danh sách nhận tiền'!D64,MucHoTro!$G$5:$G$10,0),1),"") -> Tạp chí trong nhóm Q2 thuộc lĩnh vực nghiên cứu gần nhất của bài báo (Q2)
A65: 61 | B65: Impact of blasting at tunnel face on an existing adjacent tunnel | C65: Đặng Văn Kiên Đỗ Ngọc Anh Võ Trọng Hùng | D65: Q3 | E65: x | H65: =IF(D65="Q1a",MucHoTro!$H$5,IF(D65="Q1b",MucHoTro!$H$6,IF(D65="Q2",MucHoTro!$H$7,IF(D65="Q3",MucHoTro!$H$8,IF(D65="Q4",MucHoTro!$H$9))))) -> 1 | I65: =IF(E65="x",MucHoTro!$C$5,IF(F65="x",MucHoTro!$D$5,IF(G65="x",MucHoTro!$E$5))) -> 1.5 | J65: =H65*I65 -> 1.5 | K65: Bộ môn Xây dựng công trình ngầm và Mỏ | N65: =J65*2000000 -> 3000000 | S65: =IF(D65<>"",INDEX(MucHoTro!$B$5:$B$10,MATCH('Danh sách nhận tiền'!D65,MucHoTro!$G$5:$G$10,0),1),"") -> Tạp chí trong nhóm Q3 thuộc lĩnh vực nghiên cứu gần nhất của bài báo (Q3)
A66: 62 | B66: Behavior of segmental tunnel linings under the impact of earthquakes: A case study from the tunnel of Hanoi metro system | C66: Nguyễn Chí Thành | D66: Q3 | F66: x | H66: =IF(D66="Q1a",MucHoTro!$H$5,IF(D66="Q1b",MucHoTro!$H$6,IF(D66="Q2",MucHoTro!$H$7,IF(D66="Q3",MucHoTro!$H$8,IF(D66="Q4",MucHoTro!$H$9))))) -> 1 | I66: =IF(E66="x",MucHoTro!$C$5,IF(F66="x",MucHoTro!$D$5,IF(G66="x",MucHoTro!$E$5))) -> 1.25 | J66: =H66*I66 -> 1.25 | K66: Bộ môn Xây dựng công trình ngầm và Mỏ | N66: =J66*2000000 -> 2500000 | S66: =IF(D66<>"",INDEX(MucHoTro!$B$5:$B$10,MATCH('Danh sách nhận tiền'!D66,MucHoTro!$G$5:$G$10,0),1),"") -> Tạp chí trong nhóm Q3 thuộc lĩnh vực nghiên cứu gần nhất của bài báo (Q3)
A67: 63 | B67: Different behaviour of circular and rectangular tunnels under the impact of earthquakes: A casestudy from the tunnel of Hanoi metro system | C67: Nguyễn Chí Thành | D67: Q3 | F67: x | H67: =IF(D67="Q1a",MucHoTro!$H$5,IF(D67="Q1b",MucHoTro!$H$6,IF(D67="Q2",MucHoTro!$H$7,IF(D67="Q3",MucHoTro!$H$8,IF(D67="Q4",MucHoTro!$H$9))))) -> 1 | I67: =IF(E67="x",MucHoTro!$C$5,IF(F67="x",MucHoTro!$D$5,IF(G67="x",MucHoTro!$E$5))) -> 1.25 | J67: =H67*I67 -> 1.25 | K67: Bộ môn Xây dựng công trình ngầm và Mỏ | N67: =J67*2000000 -> 2500000 | S67: =IF(D67<>"",INDEX(MucHoTro!$B$5:$B$10,MATCH('Danh sách nhận tiền'!D67,MucHoTro!$G$5:$G$10,0),1),"") -> Tạp chí trong nhóm Q3 thuộc lĩnh vực nghiên cứu gần nhất của bài báo (Q3)
A68: 64 | B68: Evaluation of productivities influenced by disturbances and different soil compositions in microtunnelling using process simulation | C68: Đặng Trung Thành | D68: Q1a | E68: x | H68: =IF(D68="Q1a",MucHoTro!$H$5,IF(D68="Q1b",MucHoTro!$H$6,IF(D68="Q2",MucHoTro!$H$7,IF(D68="Q3",MucHoTro!$H$8,IF(D68="Q4",MucHoTro!$H$9))))) -> 2.23 | I68: =IF(E68="x",MucHoTro!$C$5,IF(F68="x",MucHoTro!$D$5,IF(G68="x",MucHoTro!$E$5))) -> 1.5 | J68: =H68*I68 -> 3.345 | K68: Bộ môn Xây dựng công trình ngầm và Mỏ | N68: =J68*2000000 -> 6690000 | S68: =IF(D68<>"",INDEX(MucHoTro!$B$5:$B$10,MATCH('Danh sách nhận tiền'!D68,MucHoTro!$G$5:$G$10,0),1),"") -> Tạp chí nằm trong Top 30% tạp chí đứng đầu lĩnh vực nghiên cứu gần nhất của bài báo (Q1a)
A69: 65 | B69: Influence of the stratification in rock mass on the stability of roadways in Vietnamese coal mines. | C69: Trần Tuấn Minh | D69: Q3 | E69: x | H69: =IF(D69="Q1a",MucHoTro!$H$5,IF(D69="Q1b",MucHoTro!$H$6,IF(D69="Q2",MucHoTro!$H$7,IF(D69="Q3",MucHoTro!$H$8,IF(D69="Q4",MucHoTro!$H$9))))) -> 1 | I69: =IF(E69="x",MucHoTro!$C$5,IF(F69="x",MucHoTro!$D$5,IF(G69="x",MucHoTro!$E$5))) -> 1.5 | J69: =H69*I69 -> 1.5 | K69: Bộ môn Xây dựng công trình ngầm và Mỏ | N69: =J69*2000000 -> 3000000 | S69: =IF(D69<>"",INDEX(MucHoTro!$B$5:$B$10,MATCH('Danh sách nhận tiền'!D69,MucHoTro!$G$5:$G$10,0),1),"") -> Tạp chí trong nhóm Q3 thuộc lĩnh vực nghiên cứu gần nhất của bài báo (Q3)
A70: 66 | B70: Thermal conductivity of controlled low strength material (CLSM) under various degrees of saturation using a modified pressure plate extractor apparatus- A case study for geothermal system. | C70: Đỗ Mạnh Tấn | D70: Q1b | E70: x | H70: =IF(D70="Q1a",MucHoTro!$H$5,IF(D70="Q1b",MucHoTro!$H$6,IF(D70="Q2",MucHoTro!$H$7,IF(D70="Q3",MucHoTro!$H$8,IF(D70="Q4",MucHoTro!$H$9))))) -> 1.3 | I70: =IF(E70="x",MucHoTro!$C$5,IF(F70="x",MucHoTro!$D$5,IF(G70="x",MucHoTro!$E$5))) -> 1.5 | J70: =H70*I70 -> 1.95 | K70: Bộ môn Xây dựng công trình ngầm và Mỏ | N70: =J70*2000000 -> 3900000 | S70: =IF(D70<>"",INDEX(MucHoTro!$B$5:$B$10,MATCH('Danh sách nhận tiền'!D70,MucHoTro!$G$5:$G$10,0),1),"") -> Tạp chí nằm ngoài Top 30% tạp chí đứng đầu nhóm Q1 thuộc lĩnh vực nghiên cứu gần nhất của bài báo (Q1b)
A71: 67 | B71: Soil Stabilization by Ground Bottom Ash and Red Mud | C71: Đỗ Mạnh Tấn | D71: Q2 | G71: x | H71: =IF(D71="Q1a",MucHoTro!$H$5,IF(D71="Q1b",MucHoTro!$H$6,IF(D71="Q2",MucHoTro!$H$7,IF(D71="Q3",MucHoTro!$H$8,IF(D71="Q4",MucHoTro!$H$9))))) -> 1.2 | I71: =IF(E71="x",MucHoTro!$C$5,IF(F71="x",MucHoTro!$D$5,IF(G71="x",MucHoTro!$E$5))) -> 1 | J71: =H71*I71 -> 1.2 | K71: Bộ môn Xây dựng công trình ngầm và Mỏ | N71: =J71*2000000 -> 2400000 | S71: =IF(D71<>"",INDEX(MucHoTro!$B$5:$B$10,MATCH('Danh sách nhận tiền'!D71,MucHoTro!$G$5:$G$10,0),1),"") -> Tạp chí trong nhóm Q2 thuộc lĩnh vực nghiên cứu gần nhất của bài báo (Q2)
A72: 68 | B72: Development of a new cementless binder for marine dredged soil stabilization: Strength behavior, hydraulic resistance capacity, microstructural analysis and environmental impacts. | C72: Đỗ Mạnh Tấn | D72: Q1a | E72: x | H72: =IF(D72="Q1a",MucHoTro!$H$5,IF(D72="Q1b",MucHoTro!$H$6,IF(D72="Q2",MucHoTro!$H$7,IF(D72="Q3",MucHoTro!$H$8,IF(D72="Q4",MucHoTro!$H$9))))) -> 2.23 | I72: =IF(E72="x",MucHoTro!$C$5,IF(F72="x",MucHoTro!$D$5,IF(G72="x",MucHoTro!$E$5))) -> 1.5 | J72: =H72*I72 -> 3.345 | K72: Bộ môn Xây dựng công trình ngầm và Mỏ | N72: =J72*2000000 -> 6690000 | S72: =IF(D72<>"",INDEX(MucHoTro!$B$5:$B$10,MATCH('Danh sách nhận tiền'!D72,MucHoTro!$G$5:$G$10,0),1),"") -> Tạp chí nằm trong Top 30% tạp chí đứng đầu lĩnh vực nghiên cứu gần nhất của bài báo (Q1a)
A73: 69 | B73: Evaluation of coal ash-based controlled low strength material (CLSM) made with cementless binder as a thermal grout for borehole heat exchangers | C73: Đỗ Mạnh Tấn | D73: Q1b | E73: x | H73: =IF(D73="Q1a",MucHoTro!$H$5,IF(D73="Q1b",MucHoTro!$H$6,IF(D73="Q2",MucHoTro!$H$7,IF(D73="Q3",MucHoTro!$H$8,IF(D73="Q4",MucHoTro!$H$9))))) -> 1.3 | I73: =IF(E73="x",MucHoTro!$C$5,IF(F73="x",MucHoTro!$D$5,IF(G73="x",MucHoTro!$E$5))) -> 1.5 | J73: =H73*I73 -> 1.95 | K73: Bộ môn Xây dựng công trình ngầm và Mỏ | N73: =J73*2000000 -> 3900000 | S73: =IF(D73<>"",INDEX(MucHoTro!$B$5:$B$10,MATCH('Danh sách nhận tiền'!D73,MucHoTro!$G$5:$G$10,0),1),"") -> Tạp chí nằm ngoài Top 30% tạp chí đứng đầu nhóm Q1 thuộc lĩnh vực nghiên cứu gần nhất của bài báo (Q1b)
A74: 70 | B74: Water retention and thermal conductivity of a natural unsaturated loess | C74: Nguyễn Văn Trí | D74: Q1b | E74: x | H74: =IF(D74="Q1a",MucHoTro!$H$5,IF(D74="Q1b",MucHoTro!$H$6,IF(D74="Q2",MucHoTro!$H$7,IF(D74="Q3",MucHoTro!$H$8,IF(D74="Q4",MucHoTro!$H$9))))) -> 1.3 | I74: =IF(E74="x",MucHoTro!$C$5,IF(F74="x",MucHoTro!$D$5,IF(G74="x",MucHoTro!$E$5))) -> 1.5 | J74: =H74*I74 -> 1.95 | K74: Bộ môn Xây dựng công trình ngầm và Mỏ | N74: =J74*2000000 -> 3900000 | S74: =IF(D74<>"",INDEX(MucHoTro!$B$5:$B$10,MATCH('Danh sách nhận tiền'!D74,MucHoTro!$G$5:$G$10,0),1),"") -> Tạp chí nằm ngoài Top 30% tạp chí đứng đầu nhóm Q1 thuộc lĩnh vực nghiên cứu gần nhất của bài báo (Q1b)
A75: 71 | B75: Control technology for soft rock roadway in inclined coal seam: a case study in nui beo mine, quang ninh, vietnam | C75: Đào Viết Đoàn | D75: Q3 | E75: x | H75: =IF(D75="Q1a",MucHoTro!$H$5,IF(D75="Q1b",MucHoTro!$H$6,IF(D75="Q2",MucHoTro!$H$7,IF(D75="Q3",MucHoTro!$H$8,IF(D75="Q4",MucHoTro!$H$9))))) -> 1 | I75: =IF(E75="x",MucHoTro!$C$5,IF(F75="x",MucHoTro!$D$5,IF(G75="x",MucHoTro!$E$5))) -> 1.5 | J75: =H75*I75 -> 1.5 | K75: Bộ môn Xây dựng công trình ngầm và Mỏ | N75: =J75*2000000 -> 3000000 | S75: =IF(D75<>"",INDEX(MucHoTro!$B$5:$B$10,MATCH('Danh sách nhận tiền'!D75,MucHoTro!$G$5:$G$10,0),1),"") -> Tạp chí trong nhóm Q3 thuộc lĩnh vực nghiên cứu gần nhất của bài báo (Q3)
A76: 72 | B76: Effects of ageing and storage conditions on the interfacial bond strength of steel fibers in mortars | C76: Lê Huy Việt | D76: Q1a | E76: x | H76: =IF(D76="Q1a",MucHoTro!$H$5,IF(D76="Q1b",MucHoTro!$H$6,IF(D76="Q2",MucHoTro!$H$7,IF(D76="Q3",MucHoTro!$H$8,IF(D76="Q4",MucHoTro!$H$9))))) -> 2.23 | I76: =IF(E76="x",MucHoTro!$C$5,IF(F76="x",MucHoTro!$D$5,IF(G76="x",MucHoTro!$E$5))) -> 1.5 | J76: =H76*I76 -> 3.345 | K76: Bộ môn Kỹ thuật xây dựng | N76: =J76*2000000 -> 6690000 | S76: =IF(D76<>"",INDEX(MucHoTro!$B$5:$B$10,MATCH('Danh sách nhận tiền'!D76,MucHoTro!$G$5:$G$10,0),1),"") -> Tạp chí nằm trong Top 30% tạp chí đứng đầu lĩnh vực nghiên cứu gần nhất của bài báo (Q1a)
A77: 73 | B77: Durability of nanostructured biomasses ash (NBA) stabilized expansive soils for pavement foundation | C77: Bùi Văn Đức | D77: Q3 | G77: x | H77: =IF(D77="Q1a",MucHoTro!$H$5,IF(D77="Q1b",MucHoTro!$H$6,IF(D77="Q2",MucHoTro!$H$7,IF(D77="Q3",MucHoTro!$H$8,IF(D77="Q4",MucHoTro!$H$9))))) -> 1 | I77: =IF(E77="x",MucHoTro!$C$5,IF(F77="x",MucHoTro!$D$5,IF(G77="x",MucHoTro!$E$5))) -> 1 | J77: =H77*I77 -> 1 | K77: Bộ môn Kỹ thuật xây dựng | N77: =J77*2000000 -> 2000000 | S77: =IF(D77<>"",INDEX(MucHoTro!$B$5:$B$10,MATCH('Danh sách nhận tiền'!D77,MucHoTro!$G$5:$G$10,0),1),"") -> Tạp chí trong nhóm Q3 thuộc lĩnh vực nghiên cứu gần nhất của bài báo (Q3)
A78: 74 | B78: Swelling potential, shrinkage and durability of cemented and uncemented lateritic soils treated with CWC base geopolymer | C78: Bùi Văn Đức Nguyễn Văn Mạnh | D78: Q3 | G78: x | H78: =IF(D78="Q1a",MucHoTro!$H$5,IF(D78="Q1b",MucHoTro!$H$6,IF(D78="Q2",MucHoTro!$H$7,IF(D78="Q3",MucHoTro!$H$8,IF(D78="Q4",MucHoTro!$H$9))))) -> 1 | I78: =IF(E78="x",MucHoTro!$C$5,IF(F78="x",MucHoTro!$D$5,IF(G78="x",MucHoTro!$E$5))) -> 1 | J78: =H78*I78 -> 1 | K78: Bộ môn Kỹ thuật xây dựng Bộ môn Kỹ thuật xây dựng | N78: =J78*2000000 -> 2000000 | S78: =IF(D78<>"",INDEX(MucHoTro!$B$5:$B$10,MATCH('Danh sách nhận tiền'!D78,MucHoTro!$G$5:$G$10,0),1),"") -> Tạp chí trong nhóm Q3 thuộc lĩnh vực nghiên cứu gần nhất của bài báo (Q3)
A79: 75 | B79: Productive activities of the older people in Vietnam | C79: Phí Mạnh Phong | D79: Q1a | G79: x | H79: =IF(D79="Q1a",MucHoTro!$H$5,IF(D79="Q1b",MucHoTro!$H$6,IF(D79="Q2",MucHoTro!$H$7,IF(D79="Q3",MucHoTro!$H$8,IF(D79="Q4",MucHoTro!$H$9))))) -> 2.23 | I79: =IF(E79="x",MucHoTro!$C$5,IF(F79="x",MucHoTro!$D$5,IF(G79="x",MucHoTro!$E$5))) -> 1 | J79: =H79*I79 -> 2.23 | K79: Bộ môn Nguyên lý chủ nghĩa Mác - Lê nin | N79: =J79*2000000 -> 4460000 | S79: =IF(D79<>"",INDEX(MucHoTro!$B$5:$B$10,MATCH('Danh sách nhận tiền'!D79,MucHoTro!$G$5:$G$10,0),1),"") -> Tạp chí nằm trong Top 30% tạp chí đứng đầu lĩnh vực nghiên cứu gần nhất của bài báo (Q1a)
A80: 76 | B80: A Hybrid Intelligence System Based on Relevance Vector Machines and Imperialist Competitive Optimization for Modelling Forest Fire Danger Using GIS | C80: Lê Văn Hưng Trần Hồng Hạnh | D80: Q1b | E80: x | H80: =IF(D80="Q1a",MucHoTro!$H$5,IF(D80="Q1b",MucHoTro!$H$6,IF(D80="Q2",MucHoTro!$H$7,IF(D80="Q3",MucHoTro!$H$8,IF(D80="Q4",MucHoTro!$H$9))))) -> 1.3 | I80: =IF(E80="x",MucHoTro!$C$5,IF(F80="x",MucHoTro!$D$5,IF(G80="x",MucHoTro!$E$5))) -> 1.5 | J80: =H80*I80 -> 1.95 | K80: Bộ môn Công nghệ phần mềm Bộ môn Đo ảnh và Viễn thám | N80: =J80*2000000 -> 3900000 | S80: =IF(D80<>"",INDEX(MucHoTro!$B$5:$B$10,MATCH('Danh sách nhận tiền'!D80,MucHoTro!$G$5:$G$10,0),1),"") -> Tạp chí nằm ngoài Top 30% tạp chí đứng đầu nhóm Q1 thuộc lĩnh vực nghiên cứu gần nhất của bài báo (Q1b)
A81: 77 | B81: CFD simulation of air effect on flow field characteristics of hydro-viscous clutch with constant speed difference | C81: Nguyễn Văn Xô | D81: Q3 | G81: x | H81: =IF(D81="Q1a",MucHoTro!$H$5,IF(D81="Q1b",MucHoTro!$H$6,IF(D81="Q2",MucHoTro!$H$7,IF(D81="Q3",MucHoTro!$H$8,IF(D81="Q4",MucHoTro!$H$9))))) -> 1 | I81: =IF(E81="x",MucHoTro!$C$5,IF(F81="x",MucHoTro!$D$5,IF(G81="x",MucHoTro!$E$5))) -> 1 | J81: =H81*I81 -> 1 | K81: Bộ môn Máy và Thiết bị Công nghiệp | N81: =J81*2000000 -> 2000000 | S81: =IF(D81<>"",INDEX(MucHoTro!$B$5:$B$10,MATCH('Danh sách nhận tiền'!D81,MucHoTro!$G$5:$G$10,0),1),"") -> Tạp chí trong nhóm Q3 thuộc lĩnh vực nghiên cứu gần nhất của bài báo (Q3)
A82: Tổng | N82: =SUM(N5:N81) -> 277000000
A83: Ghi chú:
A84: Số tiền thực nhận được tính theo công thức sau: Số tiền thực nhận = Hệ số tác giả x Hệ số bài báo x 2.000.000
A85: Trong đó:
A86: Hệ số tác giả được xác định như sau:
B87: Nếu tác giả thứ nhất là cán bộ thuộc biên chế của Nhà trường | C87: Nếu tác giả liên hệ mà không là tác giả thứ nhất là cán bộ thuộc biên chế của Nhà trường | D87: Đồng tác giả
A88: Hệ số tác giả | B88: 1.5 | C88: 1.25 | D88: 1
A89: Hệ số bài báo được xác định như sau:
B90: Tạp chí nằm trong Top 30% tạp chí đứng đầu lĩnh vực nghiên cứu gần nhất của bài báo (Q1a) | C90: Tạp chí nằm ngoài Top 30% tạp chí đứng đầu nhóm Q1 thuộc lĩnh vực nghiên cứu gần nhất của bài báo (Q1b) | D90: Tạp chí trong nhóm Q2 thuộc lĩnh vực nghiên cứu gần nhất của bài báo (Q2) | F90: Tạp chí trong nhóm Q3 thuộc lĩnh vực nghiên cứu gần nhất của bài báo (Q3) | H90: Tạp chí trong nhóm Q4 thuộc lĩnh vực nghiên cứu gần nhất của bài báo (Q4)
A91: Hệ số bài báo | B91: =MucHoTro!H5 -> 2.23 | C91: =MucHoTro!H6 -> 1.3 | D91: =MucHoTro!H7 -> 1.2 | F91: =MucHoTro!H8 -> 1 | H91: =MucHoTro!H9 -> 0.9
A92: Số tiền bằng chữ: Hai trăm bảy mươi bảy triệu đồng chẵn
B94: Duyệt Ban Giám hiệu | K94: Phòng Kế hoạch Tài chính | M94: Phòng Khoa học Công nghệ

Sheet MucHoTro
C2: Mức hỗ trợ (VNĐ)
A3: TT | B3: Loại tạp chí | C3: Nếu tác giả thứ nhất là cán bộ thuộc biên chế của Nhà trường | D3: Nếu tác giả liên hệ mà không là tác giả thứ nhất là cán bộ thuộc biên chế của Nhà trường | E3: Trường hợp khác | G3: Mã hiệu
A4: 1 | B4: Tạp chí thuộc danh mục ISI (SCI/SCIE)
A5: 1.1 | B5: ='Danh sách nhận tiền'!B90 -> Tạp chí nằm trong Top 30% tạp chí đứng đầu lĩnh vực nghiên cứu gần nhất của bài báo (Q1a) | C5: 1.5 | D5: 1.25 | E5: 1 | G5: Q1a | H5: 2.23
A6: 1.2 | B6: ='Danh sách nhận tiền'!C90 -> Tạp chí nằm ngoài Top 30% tạp chí đứng đầu nhóm Q1 thuộc lĩnh vực nghiên cứu gần nhất của bài báo (Q1b) | G6: Q1b | H6: 1.3
A7: 1.3 | B7: ='Danh sách nhận tiền'!D90 -> Tạp chí trong nhóm Q2 thuộc lĩnh vực nghiên cứu gần nhất của bài báo (Q2) | G7: Q2 | H7: 1.2
A8: 1.4 | B8: ='Danh sách nhận tiền'!F90 -> Tạp chí trong nhóm Q3 thuộc lĩnh vực nghiên cứu gần nhất của bài báo (Q3) | G8: Q3 | H8: 1
A9: 1.5 | B9: ='Danh sách nhận tiền'!H90 -> Tạp chí trong nhóm Q4 thuộc lĩnh vực nghiên cứu gần nhất của bài báo (Q4) | G9: Q4 | H9: 0.9
A10: 2 | B10: Tạp chí thuộc danh mục SCOPUS | G10: S
D11: Tổng chi | E11: ='Danh sách nhận tiền'!N82 -> 277000000
D12: Kinh phí Bộ cấp | E12: 277000000
