Workbook
Name _ftn1: 'B12. Doi sanh SVTN'!$A$15
Name _ftn2: 'B12. Doi sanh SVTN'!$A$16
Name _ftn3: 'B12. Doi sanh SVTN'!$A$17
Name _ftn4: 'B12. Doi sanh SVTN'!$A$18
Name _ftn5: 'B12. Doi sanh SVTN'!$A$19
Name _ftn6: 'B12. Doi sanh SVTN'!$A$20
Name _ftnref1: 'B12. Doi sanh SVTN'!$E$5
Name _ftnref2: 'B12. Doi sanh SVTN'!$F$5
Name _ftnref3: 'B12. Doi sanh SVTN'!$I$5
Name _ftnref4: 'B12. Doi sanh SVTN'!$J$5
Name _ftnref5: 'B12. Doi sanh SVTN'!$M$5
Name _ftnref6: 'B12. Doi sanh SVTN'!$N$5

Sheet B1. Trichngang GV
A1: CƠ QUAN CHỦ QUẢN
A2: TRƯỜNG ………..
A4: DANH SÁCH TRÍCH NGANG ĐỘI NGŨ GIẢNG VIÊN THAM GIA THỰC HIỆN CHƯƠNG TRÌNH ĐÀO TẠO ………
A6: TT | B6: Họ và tên | C6: Ngày tháng năm sinh | E6: Trình độ chuyên môn | I6: Trình độ nghiệp vụ | N6: Chức vụ (từ Phó trưởng BM trở lên) | O6: Đơn vị công tác | P6: Phân loại giảng viên* | U6: Thời gian tham gia CTĐT | V6: Học phần giảng dạy trong CTĐT | W6: Số giờ thực tế/năm học | X6: Nhiệm vụ khác được phân công/kiêm nhiệm* | Y6: Số đề tài NCKH/bài báo KH/ấn phẩm KH ... trong 5 năm qua** | Z6: Các khóa BD về NVSP đã tham dự trong giai đoạn đánh giá** | AA6: Ghi chú
C7: Nam | D7: Nữ | E7: Học hàm/ học vị | F7: Chuyên ngành TN | G7: Năm TN | H7: Nơi TN | I7: NVSP | J7: QLNN | K7: LLCT | L7: Tin học | M7: Ngoại ngữ | P7: Biên chế | Q7: HĐ dài hạn | R7: Kiêm nhiệm | S7: Thỉnh giảng | T7: Quốc tế
A8: 1 | B8: 2 | C8: 3 | D8: 4 | E8: 5 | F8: 6 | G8: 7 | H8: 8 | I8: 9 | J8: 10 | K8: 11 | L8: 12 | M8: 13 | N8: 14 | O8: 15 | P8: 16 | Q8: 17 | R8: 18 | S8: 19 | T8: 20 | U8: 21 | V8: 22 | Z8: 29 | AA8: 30
A9: 1
A10: 2
A11: 3
A12: 4
A13: 5
A14: 6
A15: 7
A16: 8
A17: 9
A18: 10
A19: 11
A20: 12
... A23: 15
A25: Ghi chú:
B26: *Phân loại giảng viên bao gồm: Giảng viên biên chế trực tiếp giảng dạy, Giảng viên hợp đồng dài hạn trực tiếp giảng dạy, Giảng viên kiêm nhiệm là cán bộ quản lý, Giảng viên thỉnh giảng, Giảng viên quốc tế
B27: ** Các khóa BD về NVSP đã tham dự trong giai đoạn đánh gi:Nhà trường xác định đánh giá CTĐT trong giai đoạn nào thì báo cáo số liệu theo giai đoạn đó (ví dụ 2013-2017; 2014-2018, v.v.)

Sheet B2. Thong ke GV
A2: Bảng 2. Thống kê đội ngũ giảng viên
A4: Phân loại | B4: Nam | C4: Nữ | D4: Tổng cộng | F4: Tỉ lệ % trên tổng số Tiến sĩ
D5: Số lượng | E5: FTE
A6: Giáo sư
A7: Phó Giáo sư
A8: Giảng viên toàn thời gian
A9: Giảng viên bán thời gian
A10: Giảng viên thỉnh giảng
A11: Tổng cộng

Sheet B3. Trinh do GV
A2: Bảng 3. Thống kê trình độ của đội ngũ giảng viên theo năm học
A4: Năm học | B4: Tổng cộng | C4: Giáo sư | D4: Phó Giáo sư | E4: Tiến sĩ | F4: Thạc sĩ | G4: Đại học
A5: 2013-2014
A6: 2014-2015
A7: 2015-2016
A8: 2016-2017
A9: 2017-2018

Sheet B4. Thong ke FTE
A2: Bảng 4. Thống kê FTE (quy đổi thời gian làm việc toàn phần) của Giảng viên và sinh viên
A4: Năm học | B4: Tổng số FTE Giảng viên | C4: Tổng số FTE Sinh viên | D4: Tỷ lệ FTE SV/GV | E4: Tỷ lệ FTE GV/SV
A5: 2013-2014 | D5: =C5/B5 -> #DIV/0! | E5: =B5/C5 -> #DIV/0!
A6: 2014-2015 | D6: =C6/B6 -> #DIV/0! | E6: =B6/C6 -> #DIV/0!
A7: 2015-2016 | D7: =C7/B7 -> #DIV/0! | E7: =B7/C7 -> #DIV/0!
A8: 2016-2017 | D8: =C8/B8 -> #DIV/0! | E8: =B8/C8 -> #DIV/0!
A9: 2017-2018 | D9: =C9/B9 -> #DIV/0! | E9: =B9/C9 -> #DIV/0!

Sheet B4.1 FTE GV
D1: Bảng này không cần tính, số liệu cập nhật tự động từ bảng 4.2
A2: Bảng 4.1. Tổng số FTE của Giảng viên
A4: Năm học | B4: Tổng số FTE Giảng viên
A5: 2013-2014 | B5: Môn chung + Cơ sở khối ngành | C5: ='B4.2. FTE SV'!F12 -> 2598.8
B6: Môn Cơ sở ngành | C6: ='B4.2. FTE SV'!F23 -> 3003.8
B7: Môn Chuyên ngành | C7: ='B4.2. FTE SV'!F34 -> 3375
B8: Tổng FTE GV | C8: =SUM(C5:C7) -> 8977.6
A9: 2014-2015 | B9: Môn chung + Cơ sở khối ngành | C9: ='B4.2. FTE SV'!J12 -> 1676.3
B10: Môn Cơ sở ngành | C10: ='B4.2. FTE SV'!J23 -> 2205
B11: Môn Chuyên ngành | C11: ='B4.2. FTE SV'!J34 -> 4252.5
B12: Tổng FTE GV | C12: =SUM(C9:C11) -> 8133.8
A13: 2015-2016 | B13: Môn chung + Cơ sở khối ngành | C13: ='B4.2. FTE SV'!N12 -> 902.5
B14: Môn Cơ sở ngành | C14: ='B4.2. FTE SV'!N23 -> 1612.5
B15: Môn Chuyên ngành | C15: ='B4.2. FTE SV'!N34 -> 5782.5
B16: Tổng FTE GV | C16: =SUM(C13:C15) -> 8297.5
A17: 2016-2017 | B17: Môn chung + Cơ sở khối ngành | C17: ='B4.2. FTE SV'!R12 -> 910
B18: Môn Cơ sở ngành | C18: ='B4.2. FTE SV'!R23 -> 1550
B19: Môn Chuyên ngành | C19: ='B4.2. FTE SV'!R34 -> 4792.5
B20: Tổng FTE GV | C20: =SUM(C17:C19) -> 7252.5
A21: 2017-2018 | B21: Môn chung + Cơ sở khối ngành | C21: ='B4.2. FTE SV'!V12 -> 900
B22: Môn Cơ sở ngành | C22: ='B4.2. FTE SV'!V23 -> 1387.5
B23: Môn Chuyên ngành | C23: ='B4.2. FTE SV'!V34 -> 4363.8
B24: Tổng FTE GV | C24: =SUM(C21:C23) -> 6651.3

Sheet B4.2. FTE SV
A1: Bảng 4.2
A3: MÔN CHUNG + CƠ SỞ KHỐI NGÀNH
A5: Năm | C5: 2013-2014 | G5: 2014-2015 | K5: 2015-2016 | O5: 2016-2017 | S5: 2017-2018
A6: Lớp | B6: LT | C6: TH | D6: Số nhóm | E6: Tổng | F6: LT | G6: TH | H6: Số nhóm | I6: Tổng | J6: LT | K6: TH | L6: Số nhóm | M6: Tổng | N6: LT | O6: TH | P6: Số nhóm | Q6: Tổng | R6: LT | S6: TH | T6: Số nhóm | U6: Tổng
A7: D1 | B7: 30 | C7: 9 | D7: 4 | E7: 68850 | F7: 30 | G7: 9 | H7: 4 | I7: 68850 | J7: 15 | K7: 4 | L7: 4 | M7: 35250 | N7: 18 | O7: 4 | P7: 4 | Q7: 37500 | R7: 13 | S7: 5 | T7: 4 | U7: 39750
A8: D2 | B8: 10 | C8: 11 | D8: 5 | E8: 81000 | F8: 18 | G8: 2 | H8: 5 | I8: 25650 | J8: 18 | K8: 1 | L8: 4 | M8: 17550 | N8: 11 | O8: 1 | P8: 5 | Q8: 15750 | R8: 11 | S8: 1 | T8: 4 | U8: 14250
A9: D3 | B9: 7 | C9: 0 | D9: 4 | E9: 4725 | F9: 7 | G9: 0 | H9: 5 | I9: 4725 | J9: 0 | K9: 0 | L9: 6 | M9: 0 | N9: 0 | O9: 0 | P9: 4 | Q9: 0 | R9: 0 | S9: 0 | T9: 6 | U9: 0
A10: D4 | B10: 0 | C10: 0 | D10: 3 | E10: 0 | F10: 0 | G10: 0 | H10: 4 | I10: 0 | J10: 0 | K10: 0 | L10: 5 | M10: 0 | N10: 0 | O10: 0 | P10: 5 | Q10: 0 | R10: 0 | S10: 0 | T10: 4 | U10: 0
A11: D5 | B11: 2 | C11: 0 | D11: 2 | E11: 1350 | F11: 2 | G11: 0 | H11: 3 | I11: 1350 | J11: 2 | K11: 0 | L11: 4 | M11: 1350 | N11: 2 | O11: 0 | P11: 4 | Q11: 1350 | R11: 0 | S11: 0 | T11: 4 | U11: 0
E12: =SUM(E7:E11) -> 155925 | F12: 2598.8 | I12: =SUM(I7:I11) -> 100575 | J12: 1676.3 | M12: =SUM(M7:M11) -> 54150 | N12: 902.5 | Q12: =SUM(Q7:Q11) -> 54600 | R12: 910 | U12: =SUM(U7:U11) -> 54000 | V12: 900
A14: MÔN CƠ SỞ NGÀNH
A16: Năm | C16: 2013-2014 | G16: 2014-2015 | K16: 2015-2016 | O16: 2016-2017 | S16: 2017-2018
A17: Lớp | B17: LT | C17: TH | D17: Số nhóm | E17: Tổng | F17: LT | G17: TH | H17: Số nhóm | I17: Tổng | J17: LT | K17: TH | L17: Số nhóm | M17: Tổng | N17: LT | O17: TH | P17: Số nhóm | Q17: Tổng | R17: LT | S17: TH | T17: Số nhóm | U17: Tổng
A18: D1 | B18: 8 | C18: 3 | D18: 4 | E18: 21600 | F18: 8 | G18: 3 | H18: 4 | I18: 21600 | J18: 6 | K18: 3 | L18: 4 | M18: 22500 | N18: 6 | O18: 3 | P18: 4 | Q18: 22500 | R18: 6 | S18: 3 | T18: 4 | U18: 22500
A19: D2 | B19: 29 | C19: 15 | D19: 5 | E19: 120825 | F19: 28 | G19: 7 | H19: 5 | I19: 66150 | J19: 28 | K19: 7 | L19: 4 | M19: 56700 | N19: 14 | O19: 8 | P19: 5 | Q19: 70500 | R19: 14 | S19: 8 | T19: 4 | U19: 58500
A20: D3 | B20: 14 | C20: 3 | D20: 4 | E20: 25650 | F20: 14 | G20: 3 | H20: 5 | I20: 29700 | J20: 0 | K20: 0 | L20: 6 | M20: 0 | N20: 0 | O20: 0 | P20: 4 | Q20: 0 | R20: 3 | S20: 0 | T20: 6 | U20: 2250
A21: D4 | B21: 6 | C21: 2 | D21: 3 | E21: 12150 | F21: 6 | G21: 2 | H21: 4 | I21: 14850 | J21: 6 | K21: 2 | L21: 5 | M21: 17550 | N21: 0 | O21: 0 | P21: 5 | Q21: 0 | R21: 0 | S21: 0 | T21: 4 | U21: 0
A22: D5 | B22: 0 | C22: 0 | D22: 2 | E22: 0 | F22: 0 | G22: 0 | H22: 3 | I22: 0 | J22: 0 | K22: 0 | L22: 4 | M22: 0 | N22: 0 | O22: 0 | P22: 4 | Q22: 0 | R22: 0 | S22: 0 | T22: 4 | U22: 0
E23: =SUM(E18:E22) -> 180225 | F23: 3003.8 | I23: =SUM(I18:I22) -> 132300 | J23: 2205 | M23: =SUM(M18:M22) -> 96750 | N23: 1612.5 | Q23: =SUM(Q18:Q22) -> 93000 | R23: 1550 | U23: =SUM(U18:U22) -> 83250 | V23: 1387.5
A25: MÔN CHUYÊN NGÀNH
A27: Năm | C27: 2013-2014 | G27: 2014-2015 | K27: 2015-2016 | O27: 2016-2017 | S27: 2017-2018
A28: Lớp | B28: LT | C28: TH | D28: Số nhóm | E28: Tổng | F28: LT | G28: TH | H28: Số nhóm | I28: Tổng | J28: LT | K28: TH | L28: Số nhóm | M28: Tổng | N28: LT | O28: TH | P28: Số nhóm | Q28: Tổng | R28: LT | S28: TH | T28: Số nhóm | U28: Tổng
A29: D1 | B29: 0 | C29: 0 | D29: 4 | E29: 0 | F29: 0 | G29: 0 | H29: 4 | I29: 0 | J29: 0 | K29: 0 | L29: 4 | M29: 0 | N29: 0 | O29: 0 | P29: 4 | Q29: 0 | R29: 0 | S29: 0 | T29: 4 | U29: 0
A30: D2 | B30: 0 | C30: 0 | D30: 5 | E30: 0 | F30: 0 | G30: 0 | H30: 5 | I30: 0 | J30: 0 | K30: 0 | L30: 4 | M30: 0 | N30: 0 | O30: 0 | P30: 5 | Q30: 0 | R30: 0 | S30: 0 | T30: 4 | U30: 0
A31: D3 | B31: 23 | C31: 9 | D31: 4 | E31: 64125 | F31: 23 | G31: 9 | H31: 5 | I31: 76275 | J31: 36 | K31: 14 | L31: 6 | M31: 137700 | N31: 36 | O31: 14 | P31: 4 | Q31: 99900 | R31: 23 | S31: 10 | T31: 6 | U31: 107250
A32: D4 | B32: 26 | C32: 18 | D32: 3 | E32: 90450 | F32: 26 | G32: 18 | H32: 4 | I32: 114750 | J32: 26 | K32: 18 | L32: 5 | M32: 139050 | N32: 34 | O32: 14 | P32: 5 | Q32: 117450 | R32: 34 | S32: 14 | T32: 4 | U32: 98550
A33: D5 | B33: 23 | C33: 12 | D33: 2 | E33: 47925 | F33: 23 | G33: 12 | H33: 3 | I33: 64125 | J33: 8 | K33: 12 | L33: 4 | M33: 70200 | N33: 8 | O33: 12 | P33: 4 | Q33: 70200 | R33: 11 | S33: 9 | T33: 4 | U33: 56025
E34: =SUM(E29:E33) -> 202500 | F34: 3375 | I34: =SUM(I29:I33) -> 255150 | J34: 4252.5 | M34: =SUM(M29:M33) -> 346950 | N34: 5782.5 | Q34: =SUM(Q29:Q33) -> 287550 | R34: 4792.5 | U34: =SUM(U29:U33) -> 261825 | V34: 4363.8
E35: Tổng phút | F35: Tổng giờ (60p) | I35: Tổng phút | J35: Tổng giờ (60p) | M35: Tổng phút | N35: Tổng giờ (60p) | Q35: Tổng phút | R35: Tổng giờ (60p) | U35: Tổng phút | V35: Tổng giờ (60p)
A36: TỔNG | E36: =E12+E23+E34 -> 538650 | F36: 8977.6 | I36: =I12+I23+I34 -> 488025 | J36: 8133.8 | M36: =M12+M23+M34 -> 497850 | N36: 8297.5 | Q36: =Q12+Q23+Q34 -> 435150 | R36: 7252.5 | U36: =U12+U23+U34 -> 399075 | V36: 6651.3

Sheet B5. Trinh do cua CBHT
A2: Bảng 5. Thống kê trình độ của cán bộ hỗ trợ CTĐT
A4: Cán bộ hỗ trợ | B4: Bằng cấp cao nhất | F4: Tổng số
B5: THPT | C5: Đại học | D5: Thạc sĩ | E5: Tiến sĩ
A6: Cán bộ thư viện | F6: =SUM(B6:E6) -> 0
A7: Cán bộ phòng thí nghiệm | F7: =SUM(B7:E7) -> 0
A8: Cán bộ mảng công nghệ thông tin | F8: =SUM(B8:E8) -> 0
A9: Cán bộ tại các đơn vị hỗ trợ SV khác (liệt kê theo loại hình hỗ trợ, dịch vụ) | F9: =SUM(B9:E9) -> 0
A10: Tổng số | B10: =SUM(B6:B9) -> 0 | C10: =SUM(C6:C9) -> 0 | D10: =SUM(D6:D9) -> 0 | E10: =SUM(E6:E9) -> 0 | F10: =SUM(B10:E10) -> 0

Sheet B6. CBHT CTDT
A1: Bảng 6. Thống kê trình độ của cán bộ hỗ trợ
A3: Cán bộ hỗ trợ thuộc các đơn vị trong Trường có tham gia CTĐT | B3: T12/2016 | E3: T12/2017 | H3: T12/2018
B4: Đại học | C4: SĐH | D4: Tổng | E4: Đại học | F4: SĐH | G4: Tổng | H4: Đại học | I4: SĐH | J4: Tổng
A5: Cán bộ hỗ trợ thuộc các Phòng, Ban, Trung tâm, Khoa khác có tham gia CTĐT
A6: Cán bộ thư viện
A7: Cán bộ phòng thí nghiệm
A8: Cán bộ công nghệ thông tin
A9: Cán bộ tại các đơn vị khác có hỗ trợ cho sinh viên
A10: Tổng cộng
A11: Cán bộ hỗ trợ của Khoa có tham gia hỗ trợ CTĐT
A12: Giảng viên chủ nhiệm/Cố vấn học tập
A13: Thư ký, Giáo vụ
A14: Cán bộ phòng thí nghiệm
A15: ...
A16: Tổng cộng

Sheet B7. So SV theo ky
A1: Bảng 7. Thống kê số lượng sinh viên theo học kỳ
A3: Năm học | B3: Số lượng sinh viên
B4: Năm 1 | D4: Năm 2 | F4: Năm 3 | H4: Năm 4 | J4: Năm 5
B5: HK1 | C5: HK2 | D5: HK1 | E5: HK2 | F5: HK1 | G5: HK2 | H5: HK1 | I5: HK2 | J5: HK1 | K5: HK2
A6: 2013-2014
A7: 2014-2015
A8: 2015-2016
A9: 2016-2017
A10: 2017-2018
A11: 2013-2014

Sheet B8. ĐTB theo hoc ky
A1: Bảng 8. Thống kê điểm trung bình của người học theo học kỳ
A2: (nếu có đào tạo theo tín chỉ và theo niên chế thì chia thành 2 bảng: Bảng 8.1 và Bảng 8.2)
A4: Bảng 8.1. Thống kê điểm trung bình của người học theo tín chỉ
A6: Năm học | B6: Học kỳ | C6: Số sinh viên đạt điểm trung bình (GPA) | I6: Tổng số sinh viên trong học kỳ | J6: Tỷ lệ số tín chỉ trong học kỳ/tổng số SV
C7: theo thang điểm tín chỉ
C8: GPA<1 | D8: 1≤GPA<2 | E8: 2≤GPA<2.5 | F8: 2.5≤GPA<3.5 | G8: .... | H8: ....
A9: 2013-2014 | B9: HK 1 | C9: 24 (2%) | D9: 45 (X%)
B10: HK 2
A11: 2014-2015 | B11: HK 1
B12: HK 2
A13: 2015-2016 | B13: HK 1
B14: HK 2
A15: 2016-2017 | B15: HK 1
B16: HK 2
A17: 2017-2018 | B17: HK 1
B18: HK 2
A19: ...
A21: Bảng 8.2. Thống kê điểm trung bình của người học theo niên chế (nếu có)
A23: Năm học | B23: Học kỳ | C23: Số sinh viên đạt điểm trung bình (GPA) | I23: Tổng số sinh viên trong học kỳ
C24: theo thang điểm niên chế
C25: <... | G25: .... | H25: ....
A26: 2013-2014 | B26: HK 1 | C26: 24 (2%) | D26: 45 (X%)
B27: HK 2
A28: 2014-2015 | B28: HK 1
B29: HK 2
A30: 2015-2016 | B30: HK 1
B31: HK 2
A32: 2016-2017 | B32: HK 1
B33: HK 2
A34: 2017-2018 | B34: HK 1
B35: HK 2
A36: ....

Sheet B9. SV Tot nghiep
A1: Bảng 9. Thống kê tỉ lệ sinh viên tốt nghiệp, thôi học của CTĐT
A2: (cho chương trình đào tạo 04 năm)
A4: Khóa | B4: Tổng số sinh viên | C4: Tỷ lệ (%) sinh viên tốt nghiệp trong | F4: Tỷ lệ (%) sinh viên thôi học sau
C5: 3 năm (trước hạn) | D5: 4 năm (đúng hạn) | E5: > 4 năm (quá hạn) | F5: Năm 1 | G5: Năm 2 | H5: Năm 3 | I5: Năm 4 | J5: Tổng
A6: 2010-2011 | B6: 200 | C6: 10 | D6: 170 | E6: 10 | F6: 2 | G6: 3 | H6: 4 | I6: 1 | J6: 10
C7: =C6/$B$6 -> 0.05 | D7: =D6/$B$6 -> 0.85 | E7: =E6/$B$6 -> 0.05 | F7: =F6/$B$6 -> 0.01 | G7: =G6/$B$6 -> 0.015 | H7: =H6/$B$6 -> 0.02 | I7: =I6/$B$6 -> 0.005 | J7: =J6/$B$6 -> 0.05
A8: 2011-2012
A10: 2012-2013
A12: 2013-2014
A14: 2014-2015
A16: 2015-2016
A18: 2016-2017
A20: ...
A22: ...

Sheet B10. Tinh trang VL
A1: Bảng 10. Thống kê tỉ lệ về việc làm của sinh viên tốt nghiệp
A3: Tỷ lệ có việc làm sau | B3: Năm học
B4: 2009-2010 | C4: 2010-2011 | D4: 2011-2012 | E4: 2012-2013 | F4: 2013-2014
A5: 3 tháng
A6: 6 tháng
A7: 1 năm
A8: 2 năm
A9: Tỷ lệ có việc làm sau | B9: Năm học
B10: 2014-2015 | C10: 2015-2016 | D10: 2016-2017 | E10: 2017-2018 | F10: 2018-2019
A11: 3 tháng
A12: 6 tháng
A13: 1 năm
A14: 2 năm
A16: Bảng 10.1*. Thống kê số lượng sinh viên khảo sát việc làm
A18: Năm tốt nghiệp | C18: 2015 | D18: 2016 | E18: 2017
A19: Tổng số SV đầu vào
A20: Tổng số SV tốt nghiệp
A21: Tổng số SV tham gia khảo sát
A22: Tổng số phản hồi
A23: Tổng SV có việc làm
A24: Tổng SV có việc làm < 6 tháng
A25: Tổng SV có việc làm > 6 tháng -1 năm
A26: Tổng SV có việc làm > 1năm
A28: Bảng 10.2. Thống kê số lượng sinh viên tốt nghiệp có việc làm
A30: Tình trạng việc làm Năm | B30: Có việc làm | C30: Chưa có việc làm nhưng đang học nâng cao | D30: Chưa có việc làm | E30: Tỷ lệ SVTN có việc làm theo quy định của Bộ GD&ĐT (1+2)
B31: (1) | C31: (2)
A32: Năm 2015
A33: Năm 2016
A34: Năm 2017

Sheet B11. VL va thu nhap
A1: Bảng 11. Thống kê về việc làm và thu nhập của sinh viên tốt nghiệp
A3: Tỷ lệ có việc làm sau | B3: Năm học
B4: 2009-2010 | C4: 2010-2011 | D4: 2011-2012 | E4: 2012-2013 | F4: 2013-2014 | G4: 2014-2015 | H4: 2015-2016 | I4: 2016-2017 | J4: 2017-2018 | K4: 2018-2019
A5: Công ty/tổ chức Nhà nước | B5: 32 | C5: 42 | D5: 11 | E5: 30 | F5: 46
B6: (11,1%) | C6: (17,7%) | D6: (3,7%) | E6: (10,9%) | F6: (16,4%)
A7: Công ty/tổ chức tư nhân
A9: Công ty/tổ chức nước ngoài
A11: Tự tạo việc làm
A13: Thu nhập trung bình (triệu đồng)

Sheet B12. Doi sanh SVTN
A1: Bảng 12. Đối sánh tỷ lệ SV tốt nghiệp, tỷ lệ SV thôi học, thời gian tốt nghiệp trung bình
A3: Khóa tốt nghiệp | B3: Tổng số sinh viên | C3: Tỷ lệ (%) sinh viên tốt nghiệp | G3: Tỷ lệ (%) sinh viên thôi học | K3: Thời gian tốt ngiệp trung bình*
C4: CTĐT được đánh giá | D4: CTĐT của Trường | E4: CTĐT của Trường trong nước | F4: CTĐT của Trường ngoài nước | G4: CTĐT được đánh giá | H4: CTĐT của Trường | I4: CTĐT của Trường trong nước | J4: CTĐT của Trường ngoài nước | K4: CTĐT được đánh giá | L4: CTĐT của Trường | M4: CTĐT của Trường trong nước | N4: CTĐT của Trường ngoài nước
A5: 2010-2014 | B5: 280 | C5: 80,3 | D5: 55,7 | E5: 68,6[1] | F5: 68,9[2] | G5: 2,3 | H5: 4,2 | I5: 1,8[3] | J5: 3,5[4] | K5: 4,15 | L5: 4,25 | M5: 4,14[5] | N5: 4,23[6]
A6: 2011-2015
A7: 2012-2016
A8: 2013-2017
A9: 2014-2018
A10: 2015-2019
A11: 2016-2020
A12: ...
A13: ...
A15: [1] Ví dụ: CTĐT SP Toán của Trường ĐH A
A16: [2] CTĐT SP Toán của Trường ĐH B
A17: [3] CTĐT SP Toán của Trường ĐH C
A18: [4] CTĐT SP Toán của Trường ĐH D
... A23: Bảng 12.1. Thống kê số lượng sinh viên tốt nghiệp đúng hạn, quá hạn; thời gian tốt nghiệp
A25: Khóa học | B25: Tổng số SV tốt nghiệp | C25: Số lượng sinh viên tốt nghiệp trong
C26: 3 năm (trước hạn) | D26: 4 năm (đúng hạn) | E26: > 4 năm
E27: (quá hạn)
D28: Lần 1 | E28: Lần 2 | F28: Lần 3 | G28: Lần 4 | H28: Lần
A29: 2000-2014
A30: 2011-2015
A31: 2012-2016
A32: 2013-2017
A33: 2014-2018

Sheet B13. Doi sanh SVTN NCKH
A1: Bảng 13. Đối sánh tỷ lệ SV tốt nghiệp có việc làm, tham gia hoạt động NCKH, số lượng các loại hình hoạt động NCKH
A2: Cần ghi chú ghi rõ các loại hình hoạt động NCKH mà Nhà trường phân chia
A4: Khóa tốt nghiệp | B4: Tổng số sinh viên | C4: Tỷ lệ (%) SV tốt nghiệp có việc làm | G4: Tỷ lệ (%) SV tham gia hoạt động NCKH | K4: Số lượng các loại hình hoạt động NCKH của SV
C5: CTĐT được đánh giá | D5: CTĐT của Trường | E5: CTĐT của Trường trong nước | F5: CTĐT của Trường ngoài nước | G5: CTĐT được đánh giá | H5: CTĐT của Trường | I5: CTĐT của Trường trong nước | J5: CTĐT của Trường ngoài nước | K5: CTĐT được đánh giá | L5: CTĐT của Trường | M5: CTĐT của Trường trong nước | N5: CTĐT của Trường ngoài nước
A6: 2010-2014 | B6: 280 | C6: 90 | D6: 80 | E6: 85,6[1] | F6: 92,3[2] | G6: 2,3 | H6: 4,2 | I6: 1,8[3] | J6: 3,5[4] | K6: 3 | L6: 4 | M6: 3[5] | N6: 5[6]
A7: 2011-2015
A8: 2012-2016
A9: 2013-2017
A10: 2014-2018
A11: 2015-2019
A12: 2016-2020
A13: ...
A14: ...
A16: [1] Ví dụ: CTĐT SP Toán của Trường ĐH A
A17: [2] CTĐT SP Toán của Trường ĐH B
A18: [3] CTĐT SP Toán của Trường ĐH C
A19: [4] CTĐT SP Toán của Trường ĐH D
... A21: [6] CTĐT SP Toán của Trường ĐH F

Sheet B14. Doi sanh muc do hai long
A1: Bảng 14.Đối sánh mức độ hài lòng của các bên liên quan
A2: Cần ghi chú ghi rõ các phương pháp khảo sát các bên liên quan cụ thể
A4: Bảng 14.1. Đối sánh mức độ hài lòng của sinh viên tốt nghiệp
A6: Khóa tốt nghiệp | B6: Tổng số sinh viên | C6: Tỷ lệ (%) hài lòng của các bên liên quan | G6: Tỷ lệ (%) không hài lòng của các bên liên quan | K6: Tỷ lệ (%) phản hồi của các bên liên quan
C7: CTĐT được đánh giá | D7: CTĐT của Trường | E7: CTĐT của Trường trong nước | F7: CTĐT của Trường ngoài nước | G7: CTĐT được đánh giá | H7: CTĐT của Trường | I7: CTĐT của Trường trong nước | J7: CTĐT của Trường ngoài nước | K7: CTĐT được đánh giá | L7: CTĐT của Trường | M7: CTĐT của Trường trong nước | N7: CTĐT của Trường ngoài nước
A8: 2010-2014 | B8: 280 | C8: 86 | D8: 80 | E8: 85,6[1] | F8: 68[2] | G8: 5 | H8: 6,8 | I8: 7[3] | J8: 9[4] | K8: 70 | L8: 75 | M8: 83[5] | N8: 70[6]
A9: 2011-2015
A10: 2012-2016
A11: 2013-2017
A12: 2014-2018
A13: 2015-2019
A14: 2016-2020
A15: ...
A16: ...
A18: [1] CTĐT SP Toán của Trường ĐH A
A19: [2] CTĐT SP Toán của Trường ĐH B
A20: [3] CTĐT SP Toán của Trường ĐH C
A21: [4] CTĐT SP Toán của Trường ĐH D
... A25: Bảng 14.2. Đối sánh mức độ hài lòng của cựu người học
A27: Khóa tốt nghiệp | B27: Tổng số sinh viên | C27: Tỷ lệ (%) hài lòng của các bên liên quan | G27: Tỷ lệ (%) không hài lòng của các bên liên quan | K27: Tỷ lệ (%) phản hồi của các bên liên quan
C28: CTĐT được đánh giá | D28: CTĐT của Trường | E28: CTĐT của Trường trong nước | F28: CTĐT của Trường ngoài nước | G28: CTĐT được đánh giá | H28: CTĐT của Trường | I28: CTĐT của Trường trong nước | J28: CTĐT của Trường ngoài nước | K28: CTĐT được đánh giá | L28: CTĐT của Trường | M28: CTĐT của Trường trong nước | N28: CTĐT của Trường ngoài nước
A29: 2010-2014 | B29: 280 | C29: 86 | D29: 80 | E29: 85,6 | F29: 68 | G29: 5 | H29: 6,8 | I29: 7 | J29: 9 | K29: 70 | L29: 75 | M29: 83 | N29: 70
A30: 2011-2015
A31: 2012-2016
A32: 2013-2017
A33: 2014-2018
A34: 2015-2019
A35: 2016-2020
A36: ...
A39: Bảng 14.3. Đối sánh mức độ hài lòng của các nhà tuyển dụng
A41: Khóa tốt nghiệp | B41: Tổng số sinh viên | C41: Tỷ lệ (%) hài lòng của các bên liên quan | G41: Tỷ lệ (%) không hài lòng của các bên liên quan | K41: Tỷ lệ (%) phản hồi của các bên liên quan
C42: CTĐT được đánh giá | D42: CTĐT của Trường | E42: CTĐT của Trường trong nước | F42: CTĐT của Trường ngoài nước | G42: CTĐT được đánh giá | H42: CTĐT của Trường | I42: CTĐT của Trường trong nước | J42: CTĐT của Trường ngoài nước | K42: CTĐT được đánh giá | L42: CTĐT của Trường | M42: CTĐT của Trường trong nước | N42: CTĐT của Trường ngoài nước
A43: 2010-2014 | B43: 280 | C43: 86 | D43: 80 | E43: 85,6 | F43: 68 | G43: 5 | H43: 6,8 | I43: 7 | J43: 9 | K43: 70 | L43: 75 | M43: 83 | N43: 70
A44: 2011-2015
A45: 2012-2016
A46: 2013-2017
A47: 2014-2018
A48: 2015-2019
A49: 2016-2020
A50: ...

Sheet B15. Hinh thuc day hoc, KTDG
A1: Bảng 15. Thống kê các hình thức tổ chức dạy học và kiểm tra đánh giá của CTĐT
A3: STT | B3: Tên học phần | C3: Số TC | D3: Mã học phần | E3: Hình thức tổ chức dạy học | J3: Hình thức KTĐG
E4: Lý thuyết | F4: TH,TT, thực tế | G4: TL nhóm | H4: Tự học | I4: Khác | J4: Vấn đáp | K4: Viết luận | L4: Bài tập lớn | M4: Trắc nghiệm khách quan | N4: Thuyết trình nhóm | O4: Khác
A5: 1. | B5: Tin học nhóm ngành 4 | C5: 3 | D5: TI11004 | E5: 30 | G5: 15 | H5: 90 | M5: X
A6: 2. | B6: …
B7: Tổng | C7: 132 | E7: …. | F7: …. | G7: …. | H7: …. | K7: …. | L7: …. | M7: …. | N7: ….
E8: (..%) | F8: (..%) | G8: (..%) | H8: (..%) | K8: (..%) | L8: (..%) | M8: (..%) | N8: (..%)
B9: Các học phần tự chọn:
A10: 1.
A11: 2.

Sheet TK NCKH
B1: THỐNG KÊ NHIỆM VỤ NGHIÊN CỨU KHOA HỌC (20… - 20…)
A3: STT | B3: STT | C3: Tên nhiệm vụ/ Mã số | D3: Loại hình* | E3: Quyết định giao nhiệm vụ | F3: Chủ trì | G3: Cơ quan quản lý | H3: Thời gian bắt đầu, kết thúc | I3: Tình trạng nhiệm vụ**
B4: 1
B5: 2
B6: …
C7: Tổng số
C8: - Đề tài cấp Nhà nước
C9: - Đề tài cấp Bộ
C10: - Đề tài cấp cơ sở
C11: …..
B13: * Loại hình: Cấp Nhà nước, cấp Bộ, cấp cơ sở, Nafosted, v.v.
B14: ** Tình trạng nhiệm vụ: Hoàn thành đúng hạn, Hoàn thành quá hạn, Đang thực hiện, Không hoàn thành

Sheet TK Bai bao
B1: THỐNG KÊ BÀI BÁO CÔNG BỐ QUỐC TẾ
A3: STT | B3: STT | C3: Tên bài báo | D3: Cơ quan xuất bản | E3: Số xuất bản Volume (Issue/Number) | F3: Năm xuất bản | G3: Tên tác giả | H3: Đơn vị công tác | I3: THỂ LOẠI | J3: Lĩnh vực | K3: Đường link bài báo | L3: Impact Factor | M3: Đường lick Impact Factor | N3: Format of print | O3: Đường link
B4: 1
B5: 2
B6: 3
B7: ….
C8: Tổng số bài báo ISI | D8: =SUM(D9:D11) -> 0
C9: Tổng bài SCI | D9: =COUNTIF($I$4:$J$7, "SCI") -> 0
C10: Tổng bài SCIE | D10: =COUNTIF($I$4:$J$7, "SCIE") -> 0
C11: Tổng bài ESCI | D11: =COUNTIF($I$4:$J$7, "ESCI") -> 0
