Workbook
Name _ftn1: 'B12. Doi sanh SVTN'!#REF!
Name _ftn2: 'B12. Doi sanh SVTN'!#REF!
Name _ftn3: 'B12. Doi sanh SVTN'!#REF!
Name _ftn4: 'B12. Doi sanh SVTN'!#REF!
Name _ftn5: 'B12. Doi sanh SVTN'!#REF!
Name _ftn6: 'B12. Doi sanh SVTN'!#REF!
Name _ftnref1: 'B12. Doi sanh SVTN'!$E$6
Name _ftnref2: 'B12. Doi sanh SVTN'!$F$6
Name _ftnref3: 'B12. Doi sanh SVTN'!$I$6
Name _ftnref4: 'B12. Doi sanh SVTN'!$J$6
Name _ftnref5: 'B12. Doi sanh SVTN'!$M$6
Name _ftnref6: 'B12. Doi sanh SVTN'!$N$6

Sheet B7. So SV theo ky
A1: Bảng 7. Thống kê số lượng sinh viên theo học kỳ
A2: NGÀNH KĨ THUẬT MỎ
A3: Năm học | B3: Số lượng sinh viên
B4: Năm 1 | D4: Năm 2 | F4: Năm 3 | H4: Năm 4 | J4: Năm 5
B5: HK1 | C5: HK2 | D5: HK1 | E5: HK2 | F5: HK1 | G5: HK2 | H5: HK1 | I5: HK2 | J5: HK1 | K5: HK2
A6: 2014-2015 | B6: 424(Mỏ+TK) | C6: 291 | D6: 316 | E6: 275 | F6: 277 | G6: 265 | H6: 387 | I6: 378 | J6: 281 | K6: 276
A7: 2015-2016 | B7: 244(Mỏ + TK) | C7: 140 | D7: 278 | E7: 254 | F7: 275 | G7: 268 | H7: 264 | I7: 261 | J7: 378 | K7: 376 | N7: 30 VT
A8: 2016-2017 | B8: 112(Mỏ+TK) | C8: 58 | D8: 140 | E8: 140 | F8: 253 | G8: 235 | H8: 268 | I8: 260 | J8: 261 | K8: 260
A9: 2017-2018 | B9: 81(Mỏ+TK) | C9: 42 | D9: 68 | E9: 58 | F9: 140 | G9: 138 | H9: 235 | I9: 235 | J9: 260 | K9: 257
A10: 2018-2019 | B10: 53 | C10: 47 | D10: 44 | E10: 42 | F10: 58 | G10: 58 | H10: 137 | I10: 137 | J10: 234 | K10: 232
A14: Bảng 7. Thống kê số lượng sinh viên theo học kỳ
A15: NGÀNH KĨ THUẬT TUYỂN KHOÁNG
A16: Năm học | B16: Số lượng sinh viên
B17: Năm 1 | D17: Năm 2 | F17: Năm 3 | H17: Năm 4 | J17: Năm 5
B18: HK1 | C18: HK2 | D18: HK1 | E18: HK2 | F18: HK1 | G18: HK2 | H18: HK1 | I18: HK2 | J18: HK1 | K18: HK2
A19: 2014-2015 | B19: 424(KTMỏ+TK) | C19: 146 | D19: 103 | E19: 93 | F19: 85 | G19: 82 | H19: 43 | I19: 41 | J19: 58 | K19: 58
A20: 2015-2016 | B20: 244(KTMỏ + TK) | C20: 97 | D20: 146 | E20: 146 | F20: 94 | G20: 94 | H20: 82 | I20: 81 | J20: 41 | K20: 41
A21: 2016-2017 | B21: 112(KTMỏ+TK) | C21: 32 | D21: 89 | E21: 77 | F21: 146 | G21: 136 | H21: 94 | I21: 90 | J21: 81 | K21: 78
A22: 2017-2018 | B22: 81(KTMỏ+TK) | C22: 22 | D22: 34 | E22: 32 | F22: 79 | G22: 77 | H22: 136 | I22: 135 | J22: 90 | K22: 90
A23: 2018-2019 | B23: 8 | C23: 8 | D23: 22 | E23: 22 | F23: 32 | G23: 32 | H23: 77 | I23: 77 | J23: 135 | K23: 135
A27: Bảng 7. Thống kê số lượng sinh viên theo học kỳ
A28: NGÀNH KĨ THUẬT DẦU KHÍ
A29: Năm học | B29: Số lượng sinh viên
B30: Năm 1 | D30: Năm 2 | F30: Năm 3 | H30: Năm 4 | J30: Năm 5
B31: HK1 | C31: HK2 | D31: HK1 | E31: HK2 | F31: HK1 | G31: HK2 | H31: HK1 | I31: HK2 | J31: HK1 | K31: HK2
A32: 2014-2015 | B32: Khoa DK350 | C32: 276 | D32: 300 | E32: 279 | F32: 333 | G32: 322 | H32: 290 | I32: 286 | J32: 304 | K32: 301
A33: 2015-2016 | B33: 315(KTDK+KTĐVL) | C33: 273 | D33: 276 | E33: 276 | F33: 279 | G33: 274 | H33: 322 | I33: 311 | J33: 282 | K33: 281
A34: 2016-2017 | B34: 199(KTDK+KTĐVL) | C34: 131 | D34: 264 | E34: 261 | F34: 274 | G34: 266 | H34: 274 | I34: 270 | J34: 310 | K34: 308
A35: 2017-2018 | B35: 75(KTDK+KTĐVL) | C35: 73 | D35: 131 | E35: 125 | F35: 261 | G35: 252 | H35: 264 | I35: 257 | J35: 270 | K35: 266
A36: 2018-2019 | B36: 74 | C36: 73 | D36: 73 | E36: 73 | F36: 113 | G36: 113 | H36: 252 | I36: 252 | J36: 257 | K36: 256
A39: Bảng 7. Thống kê số lượng sinh viên theo học kỳ
A40: NGÀNH MÔI TRƯỜNG
A41: Năm học | B41: Số lượng sinh viên
B42: Năm 1 | D42: Năm 2 | F42: Năm 3 | H42: Năm 4 | J42: Năm 5
B43: HK1 | C43: HK2 | D43: HK1 | E43: HK2 | F43: HK1 | G43: HK2 | H43: HK1 | I43: HK2 | J43: HK1 | K43: HK2
A44: 2014-2015 | B44: 254 | C44: 254 | D44: 176 | E44: 171 | F44: 122 | G44: 121 | H44: 73 | I44: 72 | J44: 39 | K44: 39
A45: 2015-2016 | B45: 181 | C45: 181 | D45: 254 | E45: 253 | F45: 171 | G45: 170 | H45: 120 | I45: 120 | J45: 73 | K45: 73
A46: 2016-2017 | B46: 101 | C46: 98 | D46: 181 | E46: 169 | F46: 253 | G46: 238 | H46: 170 | I46: 166 | J46: 120 | K46: 119
A47: 2017-2018 | B47: 28 | C47: 28 | D47: 98 | E47: 93 | F47: 169 | G47: 165 | H47: 238 | I47: 231 | J47: 166 | K47: 163
A48: 2018-2019 | B48: 29 | C48: 28 | D48: 28 | E48: 28 | F48: 93 | G48: 93 | H48: 165 | I48: 165 | J48: 231 | K48: 231
...

Sheet B8. ĐTB theo hoc ky
A1: Bảng 8. Thống kê điểm trung bình của người học theo học kỳ
A2: (nếu có đào tạo theo tín chỉ và theo niên chế thì chia thành 2 bảng: Bảng 8.1 và Bảng 8.2)
A4: Bảng 8.1. Thống kê điểm trung bình của người học theo tín chỉ
A5: NGÀNH KĨ THUẬT MỎ
A7: Năm học | B7: Học kỳ | C7: Số sinh viên đạt điểm trung bình (GPA) | I7: Tổng số sinh viên trong học kỳ | J7: Tỷ lệ số tín chỉ trong học kỳ/tổng số SV
C8: theo thang điểm tín chỉ
C9: GPA<1 | D9: 1≤GPA<1.5 | E9: 1.5≤GPA<2 | F9: 2≤GPA<2.5 | G9: 2.5≤GPA<3.5 | H9: 3.5≤GPA<4.0
A10: 2014-2015 | B10: HK 1 | C10: 111 | D10: 162 | E10: 242 | F10: 181 | G10: 704 | H10: 93 | I10: 1493 | J10: 17.85
B11: HK 2 | C11: 111 | D11: 92 | E11: 190 | F11: 262 | G11: 564 | H11: 239 | I11: 1458 | J11: 18.02
A12: 2015-2016 | B12: HK 1 | C12: 99 | D12: 113 | E12: 153 | F12: 133 | G12: 676 | H12: 125 | I12: 1299 | J12: 17.69
B13: HK 2 | C13: 106 | D13: 80 | E13: 116 | F13: 179 | G13: 458 | H13: 344 | I13: 1283 | J13: 17.64
A14: 2016-2017 | B14: HK 1 | C14: 66 | D14: 69 | E14: 143 | F14: 100 | G14: 497 | H14: 139 | I14: 1014 | J14: 17.04
B15: HK 2 | C15: 61 | D15: 42 | E15: 81 | F15: 158 | G15: 384 | H15: 257 | I15: 983 | J15: 17.24
A16: 2017-2018 | B16: HK 1 | C16: 55 | D16: 38 | E16: 64 | F16: 59 | G16: 440 | H16: 86 | I16: 742 | J16: 17.44
B17: HK 2 | C17: 60 | D17: 41 | E17: 37 | F17: 62 | G17: 287 | H17: 228 | I17: 715 | J17: 17.98
A18: 2018-2019 | B18: HK 1 | C18: 41 | D18: 25 | E18: 54 | F18: 28 | G18: 272 | H18: 76 | I18: 496 | J18: 17.68
B19: HK 2 | C19: 68 | D19: 22 | E19: 28 | F19: 35 | G19: 168 | H19: 173 | I19: 494 | J19: 17.2
A25: Bảng 8.1. Thống kê điểm trung bình của người học theo tín chỉ
A26: NGÀNH KĨ THUẬT TUYỂN KHOÁNG
A28: Năm học | B28: Học kỳ | C28: Số sinh viên đạt điểm trung bình (GPA) | I28: Tổng số sinh viên trong học kỳ | J28: Tỷ lệ số tín chỉ trong học kỳ/tổng số SV
C29: theo thang điểm tín chỉ
C30: GPA<1 | D30: 1≤GPA<1.5 | E30: 1.5≤GPA<2 | F30: 2≤GPA<2.5 | G30: 2.5≤GPA<3.5 | H30: 3.5≤GPA<4.0
A31: 2014-2015 | B31: HK 1 | C31: =COUNTIFS($G:$G,"DC",$K:$K,B31,$I:$I,$U$19,$L:$L,"<1") -> 38 | D31: =COUNTIFS($G:$G,"DC",$K:$K,B31,$I:$I,$U$19,$L:$L,"<1.5")-C31 -> 74 | E31: =COUNTIFS($G:$G,"DC",$K:$K,B31,$I:$I,$U$19,$L:$L,"<2")-C31-D31 -> 93 | F31: =COUNTIFS($G:$G,"DC",$K:$K,B31,$I:$I,$U$19,$L:$L,"<2.5")-D31-C31-E31 -> 90 | G31: =COUNTIFS($G:$G,"DC",$K:$K,B31,$I:$I,$U$19,$L:$L,"<3.5")-F31-C31-D31-E31 -> 112 | H31: =COUNTIFS($G:$G,"DC",$K:$K,B31,$I:$I,$U$19,$L:$L,"<=4")-F31-C31-D31-G31-E31 -> 26 | I31: =H31-G31 -> 433 | J31: =K31/I31 -> 17.374134
B32: HK 2 | C32: =COUNTIFS($G:$G,"DC",$N:$N,B32,$I:$I,$U$19,$O:$O,"<1") -> 33 | D32: =COUNTIFS($G:$G,"DC",$N:$N,B32,$I:$I,$U$19,$O:$O,"<1.5")-C32 -> 65 | E32: =COUNTIFS($G:$G,"DC",$N:$N,B32,$I:$I,$U$19,$O:$O,"<2")-D32-C32 -> 76 | F32: =COUNTIFS($G:$G,"DC",$N:$N,B32,$I:$I,$U$19,$O:$O,"<2.5")-E32-C32-D32 -> 79 | G32: =COUNTIFS($G:$G,"DC",$N:$N,B32,$I:$I,$U$19,$O:$O,"<3.5")-F32-C32-D32-E32 -> 116 | H32: =COUNTIFS($G:$G,"DC",$N:$N,B32,$I:$I,$U$19,$O:$O,"<=4")-F32-C32-D32-G32-E32 -> 57 | I32: =H32-G32 -> 426 | J32: =K32/I32 -> 17.43662
A33: 2015-2016 | B33: HK 1 | C33: =COUNTIFS($G:$G,"DC",$K:$K,B33,$I:$I,$U$19,$L:$L,"<1") -> 63 | D33: =COUNTIFS($G:$G,"DC",$K:$K,B33,$I:$I,$U$19,$L:$L,"<1.5")-C33 -> 61 | E33: =COUNTIFS($G:$G,"DC",$K:$K,B33,$I:$I,$U$19,$L:$L,"<2")-C33-D33 -> 81 | F33: =COUNTIFS($G:$G,"DC",$K:$K,B33,$I:$I,$U$19,$L:$L,"<2.5")-D33-C33-E33 -> 83 | G33: =COUNTIFS($G:$G,"DC",$K:$K,B33,$I:$I,$U$19,$L:$L,"<3.5")-F33-C33-D33-E33 -> 108 | H33: =COUNTIFS($G:$G,"DC",$K:$K,B33,$I:$I,$U$19,$L:$L,"<=4")-F33-C33-D33-G33-E33 -> 51 | I33: =H33-G33 -> 447 | J33: =K33/I33 -> 17.642058
B34: HK 2 | C34: =COUNTIFS($G:$G,"DC",$N:$N,B34,$I:$I,$U$19,$O:$O,"<1") -> 42 | D34: =COUNTIFS($G:$G,"DC",$N:$N,B34,$I:$I,$U$19,$O:$O,"<1.5")-C34 -> 52 | E34: =COUNTIFS($G:$G,"DC",$N:$N,B34,$I:$I,$U$19,$O:$O,"<2")-D34-C34 -> 61 | F34: =COUNTIFS($G:$G,"DC",$N:$N,B34,$I:$I,$U$19,$O:$O,"<2.5")-E34-C34-D34 -> 91 | G34: =COUNTIFS($G:$G,"DC",$N:$N,B34,$I:$I,$U$19,$O:$O,"<3.5")-F34-C34-D34-E34 -> 119 | H34: =COUNTIFS($G:$G,"DC",$N:$N,B34,$I:$I,$U$19,$O:$O,"<=4")-F34-C34-D34-G34-E34 -> 80 | I34: =H34-G34 -> 445 | J34: =K34/I34 -> 17.689888
A35: 2016-2017 | B35: HK 1 | C35: =COUNTIFS($G:$G,"DC",$K:$K,B35,$I:$I,$U$19,$L:$L,"<1") -> 33 | D35: =COUNTIFS($G:$G,"DC",$K:$K,B35,$I:$I,$U$19,$L:$L,"<1.5")-C35 -> 24 | E35: =COUNTIFS($G:$G,"DC",$K:$K,B35,$I:$I,$U$19,$L:$L,"<2")-C35-D35 -> 49 | F35: =COUNTIFS($G:$G,"DC",$K:$K,B35,$I:$I,$U$19,$L:$L,"<2.5")-D35-C35-E35 -> 68 | G35: =COUNTIFS($G:$G,"DC",$K:$K,B35,$I:$I,$U$19,$L:$L,"<3.5")-F35-C35-D35-E35 -> 159 | H35: =COUNTIFS($G:$G,"DC",$K:$K,B35,$I:$I,$U$19,$L:$L,"<=4")-F35-C35-D35-G35-E35 -> 46 | I35: =H35-G35 -> 379 | J35: =K35/I35 -> 17.229551
B36: HK 2 | C36: =COUNTIFS($G:$G,"DC",$N:$N,B36,$I:$I,$U$19,$O:$O,"<1") -> 24 | D36: =COUNTIFS($G:$G,"DC",$N:$N,B36,$I:$I,$U$19,$O:$O,"<1.5")-C36 -> 15 | E36: =COUNTIFS($G:$G,"DC",$N:$N,B36,$I:$I,$U$19,$O:$O,"<2")-D36-C36 -> 34 | F36: =COUNTIFS($G:$G,"DC",$N:$N,B36,$I:$I,$U$19,$O:$O,"<2.5")-E36-C36-D36 -> 56 | G36: =COUNTIFS($G:$G,"DC",$N:$N,B36,$I:$I,$U$19,$O:$O,"<3.5")-F36-C36-D36-E36 -> 151 | H36: =COUNTIFS($G:$G,"DC",$N:$N,B36,$I:$I,$U$19,$O:$O,"<=4")-F36-C36-D36-G36-E36 -> 92 | I36: =H36-G36 -> 372 | J36: =K36/I36 -> 18.215054
A37: 2017-2018 | B37: HK 1 | C37: =COUNTIFS($G:$G,"DC",$K:$K,B37,$I:$I,$U$19,$L:$L,"<1") -> 32 | D37: =COUNTIFS($G:$G,"DC",$K:$K,B37,$I:$I,$U$19,$L:$L,"<1.5")-C37 -> 25 | E37: =COUNTIFS($G:$G,"DC",$K:$K,B37,$I:$I,$U$19,$L:$L,"<2")-C37-D37 -> 32 | F37: =COUNTIFS($G:$G,"DC",$K:$K,B37,$I:$I,$U$19,$L:$L,"<2.5")-D37-C37-E37 -> 61 | G37: =COUNTIFS($G:$G,"DC",$K:$K,B37,$I:$I,$U$19,$L:$L,"<3.5")-F37-C37-D37-E37 -> 163 | H37: =COUNTIFS($G:$G,"DC",$K:$K,B37,$I:$I,$U$19,$L:$L,"<=4")-F37-C37-D37-G37-E37 -> 43 | I37: =H37-G37 -> 356 | J37: =K37/I37 -> 17.691011
B38: HK 2 | C38: =COUNTIFS($G:$G,"DC",$N:$N,B38,$I:$I,$U$19,$O:$O,"<1") -> 23 | D38: =COUNTIFS($G:$G,"DC",$N:$N,B38,$I:$I,$U$19,$O:$O,"<1.5")-C38 -> 7 | E38: =COUNTIFS($G:$G,"DC",$N:$N,B38,$I:$I,$U$19,$O:$O,"<2")-D38-C38 -> 33 | F38: =COUNTIFS($G:$G,"DC",$N:$N,B38,$I:$I,$U$19,$O:$O,"<2.5")-E38-C38-D38 -> 39 | G38: =COUNTIFS($G:$G,"DC",$N:$N,B38,$I:$I,$U$19,$O:$O,"<3.5")-F38-C38-D38-E38 -> 135 | H38: =COUNTIFS($G:$G,"DC",$N:$N,B38,$I:$I,$U$19,$O:$O,"<=4")-F38-C38-D38-G38-E38 -> 102 | I38: =H38-G38 -> 339 | J38: =K38/I38 -> 18.442478
A39: 2018-2019 | B39: HK 1 | C39: =COUNTIFS($G:$G,"DC",$K:$K,B39,$I:$I,$U$19,$L:$L,"<1") -> 13 | D39: =COUNTIFS($G:$G,"DC",$K:$K,B39,$I:$I,$U$19,$L:$L,"<1.5")-C39 -> 7 | E39: =COUNTIFS($G:$G,"DC",$K:$K,B39,$I:$I,$U$19,$L:$L,"<2")-C39-D39 -> 23 | F39: =COUNTIFS($G:$G,"DC",$K:$K,B39,$I:$I,$U$19,$L:$L,"<2.5")-D39-C39-E39 -> 42 | G39: =COUNTIFS($G:$G,"DC",$K:$K,B39,$I:$I,$U$19,$L:$L,"<3.5")-F39-C39-D39-E39 -> 136 | H39: =COUNTIFS($G:$G,"DC",$K:$K,B39,$I:$I,$U$19,$L:$L,"<=4")-F39-C39-D39-G39-E39 -> 27 | I39: =H39-G39 -> 248 | J39: =K39/I39 -> 18.487903
B40: HK 2 | C40: =COUNTIFS($G:$G,"DC",$N:$N,B40,$I:$I,$U$19,$O:$O,"<1") -> 17 | D40: =COUNTIFS($G:$G,"DC",$N:$N,B40,$I:$I,$U$19,$O:$O,"<1.5")-C40 -> 6 | E40: =COUNTIFS($G:$G,"DC",$N:$N,B40,$I:$I,$U$19,$O:$O,"<2")-D40-C40 -> 16 | F40: =COUNTIFS($G:$G,"DC",$N:$N,B40,$I:$I,$U$19,$O:$O,"<2.5")-E40-C40-D40 -> 33 | G40: =COUNTIFS($G:$G,"DC",$N:$N,B40,$I:$I,$U$19,$O:$O,"<3.5")-F40-C40-D40-E40 -> 83 | H40: =COUNTIFS($G:$G,"DC",$N:$N,B40,$I:$I,$U$19,$O:$O,"<=4")-F40-C40-D40-G40-E40 -> 88 | I40: =H40-G40 -> 243 | J40: =K40/I40 -> 17.152263
A45: Bảng 8.1. Thống kê điểm trung bình của người học theo tín chỉ
A46: NGÀNH KĨ THUẬT MÔI TRƯỜNG
A48: Năm học | B48: Học kỳ | C48: Số sinh viên đạt điểm trung bình (GPA) | I48: Tổng số sinh viên trong học kỳ | J48: Tỷ lệ số tín chỉ trong học kỳ/tổng số SV
C49: theo thang điểm tín chỉ
C50: GPA<1 | D50: 1≤GPA<1.5 | E50: 1.5≤GPA<2 | F50: 2≤GPA<2.5 | G50: 2.5≤GPA<3.5 | H50: 3.5≤GPA<4.0
A51: 2014-2015 | B51: HK 1 | C51: =COUNTIFS($G:$G,"DC",$K:$K,B51,$I:$I,$U$32,$L:$L,"<1") -> 19 | D51: =COUNTIFS($G:$G,"DC",$K:$K,B51,$I:$I,$U$32,$L:$L,"<1.5")-C51 -> 58 | E51: =COUNTIFS($G:$G,"DC",$K:$K,B51,$I:$I,$U$32,$L:$L,"<2")-C51-D51 -> 128 | F51: =COUNTIFS($G:$G,"DC",$K:$K,B51,$I:$I,$U$32,$L:$L,"<2.5")-D51-C51-E51 -> 149 | G51: =COUNTIFS($G:$G,"DC",$K:$K,B51,$I:$I,$U$32,$L:$L,"<3.5")-F51-C51-D51-E51 -> 293 | H51: =COUNTIFS($G:$G,"DC",$K:$K,B51,$I:$I,$U$32,$L:$L,"<=4")-F51-C51-D51-G51-E51 -> 20 | I51: =H51-G51 -> 667 | J51: =K51/I51 -> 17.548726
B52: HK 2 | C52: =COUNTIFS($G:$G,"DC",$N:$N,B52,$I:$I,$U$32,$O:$O,"<1") -> 49 | D52: =COUNTIFS($G:$G,"DC",$N:$N,B52,$I:$I,$U$32,$O:$O,"<1.5")-C52 -> 49 | E52: =COUNTIFS($G:$G,"DC",$N:$N,B52,$I:$I,$U$32,$O:$O,"<2")-D52-C52 -> 94 | F52: =COUNTIFS($G:$G,"DC",$N:$N,B52,$I:$I,$U$32,$O:$O,"<2.5")-E52-C52-D52 -> 132 | G52: =COUNTIFS($G:$G,"DC",$N:$N,B52,$I:$I,$U$32,$O:$O,"<3.5")-F52-C52-D52-E52 -> 264 | H52: =COUNTIFS($G:$G,"DC",$N:$N,B52,$I:$I,$U$32,$O:$O,"<=4")-F52-C52-D52-G52-E52 -> 64 | I52: =H52-G52 -> 652 | J52: =K52/I52 -> 17.277607
A53: 2015-2016 | B53: HK 1 | C53: =COUNTIFS($G:$G,"DC",$K:$K,B53,$I:$I,$U$32,$L:$L,"<1") -> 69 | D53: =COUNTIFS($G:$G,"DC",$K:$K,B53,$I:$I,$U$32,$L:$L,"<1.5")-C53 -> 62 | E53: =COUNTIFS($G:$G,"DC",$K:$K,B53,$I:$I,$U$32,$L:$L,"<2")-C53-D53 -> 115 | F53: =COUNTIFS($G:$G,"DC",$K:$K,B53,$I:$I,$U$32,$L:$L,"<2.5")-D53-C53-E53 -> 158 | G53: =COUNTIFS($G:$G,"DC",$K:$K,B53,$I:$I,$U$32,$L:$L,"<3.5")-F53-C53-D53-E53 -> 334 | H53: =COUNTIFS($G:$G,"DC",$K:$K,B53,$I:$I,$U$32,$L:$L,"<=4")-F53-C53-D53-G53-E53 -> 54 | I53: =H53-G53 -> 792 | J53: =K53/I53 -> 17.871212
...

Sheet B9. SV Tot nghiep
A1: Bảng 9. Thống kê tỉ lệ sinh viên tốt nghiệp, thôi học của CTĐT Ngành KT Mỏ
A2: (cho chương trình đào tạo 05 năm)
A4: Khóa | B4: Tổng số sinh viên | C4: Tỷ lệ (%) sinh viên tốt nghiệp trong | F4: Tỷ lệ (%) sinh viên thôi học sau
C5: 4 năm (trước hạn) | D5: 5 năm (đúng hạn) | E5: > 5 năm (quá hạn) | F5: Năm 1 | G5: Năm 2 | H5: Năm 3 | I5: Năm 4 | J5: Năm 5 | K5: Tổng
A6: K55(2010-2015) | B6: 289 | D6: 202 | E6: 44 | F6: 11 | G6: 12 | H6: 7 | I6: 1 | J6: 5 | K6: =SUM(F6:J6) -> 36
C7: =C6/$B$6 -> 0 | D7: =D6/$B$6 -> 0.69896194 | E7: =E6/$B$6 -> 0.15224913 | F7: =F6/$B$6 -> 0.038062284 | G7: =G6/$B$6 -> 0.041522491 | H7: =H6/$B$6 -> 0.024221453 | I7: =I6/$B$6 -> 0.0034602076 | J7: =J6/$B$6 -> 0.017301038 | K7: =K6/$B$6 -> 0.12456747
A8: K56(2011-2016) | B8: 413 | C8: 1 | D8: 327 | E8: 18 | F8: 12 | G8: 21 | H8: 11 | I8: 5 | J8: 2 | K8: =SUM(F8:J8) -> 51
C9: =C8/$B$8 -> 0.0024213075 | D9: =D8/$B$8 -> 0.79176755 | E9: =E8/$B$8 -> 0.043583535 | F9: =F8/$B$8 -> 0.02905569 | G9: =G8/$B$8 -> 0.050847458 | H9: =H8/$B$8 -> 0.026634383 | I9: =I8/$B$8 -> 0.012106538 | J9: =J8/$B$8 -> 0.004842615 | K9: =K8/$B$8 -> 0.12348668
A10: K57(2012-2017) | B10: 317 | D10: 171 | E10: 57 | F10: 6 | G10: 35 | H10: 12 | I10: 3 | J10: 0 | K10: =SUM(F10:J10) -> 56
C11: =C10/$B$10 -> 0 | D11: =D10/$B$10 -> 0.53943218 | E11: =E10/$B$10 -> 0.17981073 | F11: =F10/$B$10 -> 0.018927445 | G11: =G10/$B$10 -> 0.11041009 | H11: =H10/$B$10 -> 0.03785489 | I11: =I10/$B$10 -> 0.0094637224 | J11: =J10/$B$10 -> 0 | K11: =K10/$B$10 -> 0.17665615
A12: K58(2013-2018) | B12: 335 | C12: 3 | D12: 201 | E12: 15 | F12: 21 | G12: 40 | H12: 9 | I12: 0 | J12: 0 | K12: =SUM(F12:J12) -> 70
C13: =C12/$B$12 -> 0.0089552239 | D13: =D12/$B$12 -> 0.6 | E13: =E12/$B$12 -> 0.044776119 | F13: =F12/$B$12 -> 0.062686567 | G13: =G12/$B$12 -> 0.11940299 | H13: =H12/$B$12 -> 0.026865672 | I13: =I12/$B$12 -> 0 | J13: =J12/$B$12 -> 0 | K13: =K12/$B$12 -> 0.20895522
A14: K59(2014-2019) | B14: 291 | C14: 3 | D14: 160 | F14: 14 | G14: 24 | H14: 0 | I14: 0 | J14: 0 | K14: =SUM(F14:J14) -> 38
C15: =C14/$B$14 -> 0.010309278 | D15: =D14/$B$14 -> 0.54982818 | E15: =E14/$B$14 -> 0 | F15: =F14/$B$14 -> 0.048109966 | G15: =G14/$B$14 -> 0.082474227 | H15: =H14/$B$14 -> 0 | I15: =I14/$B$14 -> 0 | J15: =J14/$B$14 -> 0 | K15: =K14/$B$14 -> 0.13058419
A19: Bảng 9. Thống kê tỉ lệ sinh viên tốt nghiệp, thôi học của CTĐT Ngành KT Tuyển khoáng
A20: (cho chương trình đào tạo 05 năm)
A22: Khóa | B22: Tổng số sinh viên | C22: Tỷ lệ (%) sinh viên tốt nghiệp trong | F22: Tỷ lệ (%) sinh viên thôi học sau
C23: 4 năm (trước hạn) | D23: 5 năm (đúng hạn) | E23: > 5 năm (quá hạn) | F23: Năm 1 | G23: Năm 2 | H23: Năm 3 | I23: Năm 4 | J23: Năm 5 | K23: Tổng
A24: K55(2010-2015) | B24: 72 | D24: 45 | E24: 8 | F24: 0 | G24: 4 | H24: 1 | I24: 1 | J24: 1 | K24: =SUM(F24:J24) -> 7
C25: =C24/$B$24 -> 0 | D25: =D24/$B$24 -> 0.625 | E25: =E24/$B$24 -> 0.11111111 | F25: =F24/$B$24 -> 0 | G25: =G24/$B$24 -> 0.055555556 | H25: =H24/$B$24 -> 0.013888889 | I25: =I24/$B$24 -> 0.013888889 | J25: =J24/$B$24 -> 0.013888889 | K25: =K24/$B$24 -> 0.097222222
A26: K56(2011-2016) | B26: 53 | D26: 37 | E26: 1 | F26: 1 | G26: 5 | H26: 2 | I26: 2 | J26: 0 | K26: =SUM(F26:J26) -> 10
C27: =C26/$B$26 -> 0 | D27: =D26/$B$26 -> 0.69811321 | E27: =E26/$B$26 -> 0.018867925 | F27: =F26/$B$26 -> 0.018867925 | G27: =G26/$B$26 -> 0.094339623 | H27: =H26/$B$26 -> 0.037735849 | I27: =I26/$B$26 -> 0.037735849 | J27: =J26/$B$26 -> 0 | K27: =K26/$B$26 -> 0.18867925
A28: K57(2012-2017) | B28: 101 | D28: 55 | E28: 15 | F28: 1 | G28: 12 | H28: 3 | I28: 2 | J28: 0 | K28: =SUM(F28:J28) -> 18
C29: =C28/$B$28 -> 0 | D29: =D28/$B$28 -> 0.54455446 | E29: =E28/$B$28 -> 0.14851485 | F29: =F28/$B$28 -> 0.0099009901 | G29: =G28/$B$28 -> 0.11881188 | H29: =H28/$B$28 -> 0.02970297 | I29: =I28/$B$28 -> 0.01980198 | J29: =J28/$B$28 -> 0 | K29: =K28/$B$28 -> 0.17821782
A30: K58(2013-2018) | B30: 106 | D30: 75 | E30: 1 | F30: 5 | G30: 10 | H30: 0 | I30: 1 | J30: 0 | K30: =SUM(F30:J30) -> 16
C31: =C30/$B$30 -> 0 | D31: =D30/$B$30 -> 0.70754717 | E31: =E30/$B$30 -> 0.0094339623 | F31: =F30/$B$30 -> 0.047169811 | G31: =G30/$B$30 -> 0.094339623 | H31: =H30/$B$30 -> 0 | I31: =I30/$B$30 -> 0.0094339623 | J31: =J30/$B$30 -> 0 | K31: =K30/$B$30 -> 0.1509434
A32: K59(2014-2019) | B32: 146 | D32: 97 | F32: 6 | G32: 9 | H32: 0 | I32: 1 | J32: 0 | K32: =SUM(F32:J32) -> 16
C33: =C32/$B$32 -> 0 | D33: =D32/$B$32 -> 0.66438356 | E33: =E32/$B$32 -> 0 | F33: =F32/$B$32 -> 0.04109589 | G33: =G32/$B$32 -> 0.061643836 | H33: =H32/$B$32 -> 0 | I33: =I32/$B$32 -> 0.0068493151 | J33: =J32/$B$32 -> 0 | K33: =K32/$B$32 -> 0.10958904
A35: Bảng 9. Thống kê tỉ lệ sinh viên tốt nghiệp, thôi học của CTĐT Ngành Trắc địa
A36: (cho chương trình đào tạo 05 năm)
A38: Khóa | B38: Tổng số sinh viên | C38: Tỷ lệ (%) sinh viên tốt nghiệp trong | F38: Tỷ lệ (%) sinh viên thôi học sau
C39: 4 năm (trước hạn) | D39: 5 năm (đúng hạn) | E39: > 5 năm (quá hạn) | F39: Năm 1 | G39: Năm 2 | H39: Năm 3 | I39: Năm 4 | J39: Năm 5 | K39: Tổng
A40: K55(2010-2015) | B40: 368 | D40: 241 | E40: 59 | F40: 10 | G40: 17 | H40: 9 | I40: 4 | J40: 0 | K40: =SUM(F40:J40) -> 40
C41: =C40/$B$40 -> 0 | D41: =D40/$B$40 -> 0.6548913 | E41: =E40/$B$40 -> 0.16032609 | F41: =F40/$B$40 -> 0.027173913 | G41: =G40/$B$40 -> 0.046195652 | H41: =H40/$B$40 -> 0.024456522 | I41: =I40/$B$40 -> 0.010869565 | J41: =J40/$B$40 -> 0 | K41: =K40/$B$40 -> 0.10869565
A42: K56(2011-2016) | B42: 416 | C42: 1 | D42: 269 | E42: 9 | F42: 13 | G42: 49 | H42: 15 | I42: 8 | J42: 0 | K42: =SUM(F42:J42) -> 85
C43: =C42/$B$42 -> 0.0024038462 | D43: =D42/$B$42 -> 0.64663462 | E43: =E42/$B$42 -> 0.021634615 | F43: =F42/$B$42 -> 0.03125 | G43: =G42/$B$42 -> 0.11778846 | H43: =H42/$B$42 -> 0.036057692 | I43: =I42/$B$42 -> 0.019230769 | J43: =J42/$B$42 -> 0 | K43: =K42/$B$42 -> 0.20432692
A44: K57(2012-2017) | B44: 354 | C44: 1 | D44: 208 | E44: 43 | F44: 8 | G44: 32 | H44: 12 | I44: 3 | J44: 0 | K44: =SUM(F44:J44) -> 55
C45: =C44/$B$44 -> 0.0028248588 | D45: =D44/$B$44 -> 0.58757062 | E45: =E44/$B$44 -> 0.12146893 | F45: =F44/$B$44 -> 0.02259887 | G45: =G44/$B$44 -> 0.09039548 | H45: =H44/$B$44 -> 0.033898305 | I45: =I44/$B$44 -> 0.0084745763 | J45: =J44/$B$44 -> 0 | K45: =K44/$B$44 -> 0.15536723
A46: K58(2013-2018) | B46: 606 | C46: 1 | D46: 354 | E46: 38 | F46: 25 | G46: 71 | H46: 10 | I46: 0 | J46: 0 | K46: =SUM(F46:J46) -> 106
C47: =C46/$B$46 -> 0.001650165 | D47: =D46/$B$46 -> 0.58415842 | E47: =E46/$B$46 -> 0.062706271 | F47: =F46/$B$46 -> 0.041254125 | G47: =G46/$B$46 -> 0.11716172 | H47: =H46/$B$46 -> 0.01650165 | I47: =I46/$B$46 -> 0 | J47: =J46/$B$46 -> 0 | K47: =K46/$B$46 -> 0.17491749
...

Sheet B10.1. Tình trạng VL
A1: Bảng 10.1*. Thống kê số lượng sinh viên khảo sát việc làm ngành Kĩ thuật mỏ
A3: Năm tốt nghiệp | C3: 2015(K55) | D3: 2016(K56) | E3: 2017(K57) | F3: 2018(K58) | G3: 2019(K59)
A4: Tổng số SV đầu vào | C4: 289 | D4: 413 | E4: 317 | F4: 335 | G4: 291
A5: Tổng số SV tốt nghiệp | C5: 246 | D5: 346 | E5: 228 | F5: 219 | G5: 163
A6: Tổng số SV tham gia khảo sát
A7: Tổng số phản hồi
A8: Tổng SV có việc làm
A9: Tổng SV có việc làm < 6 tháng
A10: Tổng SV có việc làm > 6 tháng -1 năm
A11: Tổng SV có việc làm > 1năm
A15: Bảng 10.1*. Thống kê số lượng sinh viên khảo sát việc làm ngành Kĩ thuật Tuyển khoáng
A17: Năm tốt nghiệp | C17: 2015(K55) | D17: 2016(K56) | E17: 2017(K57) | F17: 2018(K58) | G17: 2019(K59)
A18: Tổng số SV đầu vào | C18: 72 | D18: 53 | E18: 101 | F18: 106 | G18: 146
A19: Tổng số SV tốt nghiệp | C19: 53 | D19: 38 | E19: 70 | F19: 76 | G19: 97
A20: Tổng số SV tham gia khảo sát
A21: Tổng số phản hồi
A22: Tổng SV có việc làm
A23: Tổng SV có việc làm < 6 tháng
A24: Tổng SV có việc làm > 6 tháng -1 năm
A25: Tổng SV có việc làm > 1năm
A28: Bảng 10.1*. Thống kê số lượng sinh viên khảo sát việc làm ngành Trắc địa
A30: Năm tốt nghiệp | C30: 2015(K55) | D30: 2016(K56) | E30: 2017(K57) | F30: 2018(K58) | G30: 2019(K59)
A31: Tổng số SV đầu vào | C31: 368 | D31: 416 | E31: 354 | F31: 606 | G31: 390
A32: Tổng số SV tốt nghiệp | C32: 300 | D32: 279 | E32: 252 | F32: 393 | G32: 198
A33: Tổng số SV tham gia khảo sát
A34: Tổng số phản hồi
A35: Tổng SV có việc làm
A36: Tổng SV có việc làm < 6 tháng
A37: Tổng SV có việc làm > 6 tháng -1 năm
A38: Tổng SV có việc làm > 1năm
A41: Bảng 10.1*. Thống kê số lượng sinh viên khảo sát việc làm ngành KT Dầu khí
A43: Năm tốt nghiệp | C43: 2015(K55) | D43: 2016(K56) | E43: 2017(K57) | F43: 2018(K58) | G43: 2019(K59)
A44: Tổng số SV đầu vào | C44: 325 | D44: 308 | E44: 355 | F44: 302 | G44: 276
A45: Tổng số SV tốt nghiệp | C45: 273 | D45: 266 | E45: 277 | F45: 233 | G45: 192
A46: Tổng số SV tham gia khảo sát
A47: Tổng số phản hồi
A48: Tổng SV có việc làm
A49: Tổng SV có việc làm < 6 tháng
A50: Tổng SV có việc làm > 6 tháng -1 năm
A51: Tổng SV có việc làm > 1năm
...

Sheet B12. Doi sanh SVTN
A1: Bảng 12. Đối sánh tỷ lệ SV tốt nghiệp, tỷ lệ SV thôi học, thời gian tốt nghiệp trung bình
A2: NGÀNH KĨ THUẬT MỎ
A4: Khóa tốt nghiệp | B4: Tổng số sinh viên | C4: Tỷ lệ (%) sinh viên tốt nghiệp | G4: Tỷ lệ (%) sinh viên thôi học | K4: Thời gian tốt ngiệp trung bình*
C5: CTĐT được đánh giá | D5: CTĐT của Trường | E5: CTĐT của Trường trong nước | F5: CTĐT của Trường ngoài nước | G5: CTĐT được đánh giá | H5: CTĐT của Trường | I5: CTĐT của Trường trong nước | J5: CTĐT của Trường ngoài nước | K5: CTĐT được đánh giá | L5: CTĐT của Trường | M5: CTĐT của Trường trong nước | N5: CTĐT của Trường ngoài nước
A6: K55 | B6: 289 | C6: =SUM('B9. SV Tot nghiep'!C7:E7) -> 0.85121107 | D6: 0.81 | G6: ='B9. SV Tot nghiep'!K7 -> 0.12456747 | H6: 0.11541193 | K6: 5.2804878 | L6: 5.28
A7: K65 | B7: 413 | C7: =SUM('B9. SV Tot nghiep'!C9:E9) -> 0.8377724 | D7: 0.7887 | G7: ='B9. SV Tot nghiep'!K9 -> 0.12348668 | H7: 0.16921473 | K7: 5.0751445 | L7: 5.09
A8: K57 | B8: 317 | C8: =SUM('B9. SV Tot nghiep'!C11:E11) -> 0.7192429 | D8: 0.6915 | G8: ='B9. SV Tot nghiep'!K11 -> 0.17665615 | H8: 0.17510809 | K8: 5.3114035 | L8: 5.18
A9: K58 | B9: 335 | C9: =SUM('B9. SV Tot nghiep'!C13:E13) -> 0.65373134 | D9: 0.6418 | G9: ='B9. SV Tot nghiep'!K13 -> 0.20895522 | H9: 0.19892038 | K9: 5.0547945 | L9: 5.07
A10: K59 | B10: 291 | C10: =SUM('B9. SV Tot nghiep'!C15:E15) -> 0.56013746 | D10: 0.6723 | G10: ='B9. SV Tot nghiep'!K15 -> 0.13058419 | H10: 0.13286713 | K10: 4.9815951 | L10: 4.99
A14: Bảng 12. Đối sánh tỷ lệ SV tốt nghiệp, tỷ lệ SV thôi học, thời gian tốt nghiệp trung bình
A15: NGÀNH KĨ THUẬT TUYỂN KHOÁNG
A17: Khóa tốt nghiệp | B17: Tổng số sinh viên | C17: Tỷ lệ (%) sinh viên tốt nghiệp | G17: Tỷ lệ (%) sinh viên thôi học | K17: Thời gian tốt ngiệp trung bình*
C18: CTĐT được đánh giá | D18: CTĐT của Trường | E18: CTĐT của Trường trong nước | F18: CTĐT của Trường ngoài nước | G18: CTĐT được đánh giá | H18: CTĐT của Trường | I18: CTĐT của Trường trong nước | J18: CTĐT của Trường ngoài nước | K18: CTĐT được đánh giá | L18: CTĐT của Trường | M18: CTĐT của Trường trong nước | N18: CTĐT của Trường ngoài nước
A19: K55 | B19: 72 | C19: =SUM('B9. SV Tot nghiep'!C25:E25) -> 0.73611111 | D19: 0.81 | G19: ='B9. SV Tot nghiep'!K25 -> 0.097222222 | H19: 0.11541193 | K19: 5.2075472 | L19: 5.28
A20: K65 | B20: 53 | C20: =SUM('B9. SV Tot nghiep'!C27:E27) -> 0.71698113 | D20: 0.7887 | G20: ='B9. SV Tot nghiep'!K27 -> 0.18867925 | H20: 0.16921473 | K20: 5.0263158 | L20: 5.09
A21: K57 | B21: 101 | C21: =SUM('B9. SV Tot nghiep'!C29:E29) -> 0.69306931 | D21: 0.6915 | G21: ='B9. SV Tot nghiep'!K29 -> 0.17821782 | H21: 0.17510809 | K21: 5.2714286 | L21: 5.18
A22: K58 | B22: 106 | C22: =SUM('B9. SV Tot nghiep'!C31:E31) -> 0.71698113 | D22: 0.6418 | G22: ='B9. SV Tot nghiep'!K31 -> 0.1509434 | H22: 0.19892038 | K22: 5.0131579 | L22: 5.07
A23: K59 | B23: 146 | C23: =SUM('B9. SV Tot nghiep'!C33:E33) -> 0.66438356 | D23: 0.6723 | G23: ='B9. SV Tot nghiep'!K33 -> 0.10958904 | H23: 0.13286713 | K23: 5 | L23: 4.99
A28: Bảng 12. Đối sánh tỷ lệ SV tốt nghiệp, tỷ lệ SV thôi học, thời gian tốt nghiệp trung bình
A29: NGÀNH TRẮC ĐỊA
A31: Khóa tốt nghiệp | B31: Tổng số sinh viên | C31: Tỷ lệ (%) sinh viên tốt nghiệp | G31: Tỷ lệ (%) sinh viên thôi học | K31: Thời gian tốt ngiệp trung bình*
C32: CTĐT được đánh giá | D32: CTĐT của Trường | E32: CTĐT của Trường trong nước | F32: CTĐT của Trường ngoài nước | G32: CTĐT được đánh giá | H32: CTĐT của Trường | I32: CTĐT của Trường trong nước | J32: CTĐT của Trường ngoài nước | K32: CTĐT được đánh giá | L32: CTĐT của Trường | M32: CTĐT của Trường trong nước | N32: CTĐT của Trường ngoài nước
A33: K55 | B33: 368 | C33: =SUM('B9. SV Tot nghiep'!C41:E41) -> 0.81521739 | D33: 0.81 | G33: ='B9. SV Tot nghiep'!K41 -> 0.10869565 | H33: 0.11541193 | K33: 5.28 | L33: 5.28
A34: K65 | B34: 416 | C34: =SUM('B9. SV Tot nghiep'!C43:E43) -> 0.67067308 | D34: 0.7887 | G34: ='B9. SV Tot nghiep'!K43 -> 0.20432692 | H34: 0.16921473 | K34: 5.0501792 | L34: 5.09
A35: K57 | B35: 354 | C35: =SUM('B9. SV Tot nghiep'!C45:E45) -> 0.71186441 | D35: 0.6915 | G35: ='B9. SV Tot nghiep'!K45 -> 0.15536723 | H35: 0.17510809 | K35: 5.1904762 | L35: 5.18
A36: K58 | B36: 606 | C36: =SUM('B9. SV Tot nghiep'!C47:E47) -> 0.64851485 | D36: 0.6418 | G36: ='B9. SV Tot nghiep'!K47 -> 0.17491749 | H36: 0.19892038 | K36: 5.0941476 | L36: 5.07
A37: K59 | B37: 390 | C37: =SUM('B9. SV Tot nghiep'!C49:E49) -> 0.50769231 | D37: 0.6723 | G37: ='B9. SV Tot nghiep'!K49 -> 0.1 | H37: 0.13286713 | K37: 4.989899 | L37: 4.99
A41: Bảng 12. Đối sánh tỷ lệ SV tốt nghiệp, tỷ lệ SV thôi học, thời gian tốt nghiệp trung bình
A42: NGÀNH KT DẦU KHÍ
A44: Khóa tốt nghiệp | B44: Tổng số sinh viên | C44: Tỷ lệ (%) sinh viên tốt nghiệp | G44: Tỷ lệ (%) sinh viên thôi học | K44: Thời gian tốt ngiệp trung bình*
C45: CTĐT được đánh giá | D45: CTĐT của Trường | E45: CTĐT của Trường trong nước | F45: CTĐT của Trường ngoài nước | G45: CTĐT được đánh giá | H45: CTĐT của Trường | I45: CTĐT của Trường trong nước | J45: CTĐT của Trường ngoài nước | K45: CTĐT được đánh giá | L45: CTĐT của Trường | M45: CTĐT của Trường trong nước | N45: CTĐT của Trường ngoài nước
A46: K55 | B46: 325 | C46: =SUM('B9. SV Tot nghiep'!C59:E59) -> 0.84 | D46: 0.81 | G46: ='B9. SV Tot nghiep'!K59 -> 0.15076923 | H46: 0.11541193 | K46: 5.1648352 | L46: 5.28
A47: K65 | B47: 308 | C47: =SUM('B9. SV Tot nghiep'!C61:E61) -> 0.86363636 | D47: 0.7887 | G47: ='B9. SV Tot nghiep'!K61 -> 0.10064935 | H47: 0.16921473 | K47: 5.1165414 | L47: 5.09
A48: K57 | B48: 355 | C48: =SUM('B9. SV Tot nghiep'!C63:E63) -> 0.78028169 | D48: 0.6915 | G48: ='B9. SV Tot nghiep'!K63 -> 0.16056338 | H48: 0.17510809 | K48: 5.2166065 | L48: 5.18
A49: K58 | B49: 302 | C49: =SUM('B9. SV Tot nghiep'!C65:E65) -> 0.77152318 | D49: 0.6418 | G49: ='B9. SV Tot nghiep'!K65 -> 0.16225166 | H49: 0.19892038 | K49: 5.0729614 | L49: 5.07
A50: K59 | B50: 276 | C50: =SUM('B9. SV Tot nghiep'!C67:E67) -> 0.69565217 | D50: 0.6723 | G50: ='B9. SV Tot nghiep'!K67 -> 0.086956522 | H50: 0.13286713 | K50: 5 | L50: 4.99
A53: Bảng 12. Đối sánh tỷ lệ SV tốt nghiệp, tỷ lệ SV thôi học, thời gian tốt nghiệp trung bình
A54: NGÀNH KT MÔI TRƯỜNG
A56: Khóa tốt nghiệp | B56: Tổng số sinh viên | C56: Tỷ lệ (%) sinh viên tốt nghiệp | G56: Tỷ lệ (%) sinh viên thôi học | K56: Thời gian tốt ngiệp trung bình*
C57: CTĐT được đánh giá | D57: CTĐT của Trường | E57: CTĐT của Trường trong nước | F57: CTĐT của Trường ngoài nước | G57: CTĐT được đánh giá | H57: CTĐT của Trường | I57: CTĐT của Trường trong nước | J57: CTĐT của Trường ngoài nước | K57: CTĐT được đánh giá | L57: CTĐT của Trường | M57: CTĐT của Trường trong nước | N57: CTĐT của Trường ngoài nước
...

Sheet  B12.1 Thống kê sô SVĐH,QH,TGTN
A1: Bảng 12.1. Thống kê số lượng sinh viên tốt nghiệp đúng hạn, quá hạn; thời gian tốt nghiệp
A2: Ngành kĩ thuật mỏ
A4: Khóa học | B4: Tổng số SV tốt nghiệp | C4: Số lượng sinh viên tốt nghiệp trong
C5: 4 năm (trước hạn) | D5: 5 năm (đúng hạn) | E5: > 5 năm
E6: (quá hạn)
D7: Lần 1 | E7: Lần 2 | F7: Lần 3 | G7: Lần 4 | H7: Lần 5
A8: K55 | B8: =SUM(C8:H8) -> 246 | D8: 202 | E8: 28 | F8: 9 | G8: 5 | H8: 2
A9: K56 | B9: =SUM(C9:H9) -> 346 | C9: 1 | D9: 327 | E9: 11 | F9: 5 | G9: 2
A10: K57 | B10: =SUM(C10:H10) -> 228 | D10: 171 | E10: 43 | F10: 14
A11: K58 | B11: =SUM(C11:H11) -> 219 | C11: 3 | D11: 201 | E11: 15
A12: K59 | B12: =SUM(C12:H12) -> 163 | C12: 3 | D12: 160
A16: Bảng 12.1. Thống kê số lượng sinh viên tốt nghiệp đúng hạn, quá hạn; thời gian tốt nghiệp
A17: Ngành kt tuyển khoáng
A19: Khóa học | B19: Tổng số SV tốt nghiệp | C19: Số lượng sinh viên tốt nghiệp trong
C20: 4 năm (trước hạn) | D20: 5 năm (đúng hạn) | E20: > 5 năm
E21: (quá hạn)
D22: Lần 1 | E22: Lần 2 | F22: Lần 3 | G22: Lần 4 | H22: Lần 5
A23: K55 | B23: =SUM(C23:H23) -> 53 | D23: 45 | E23: 6 | F23: 1 | G23: 1
A24: K56 | B24: =SUM(C24:H24) -> 38 | D24: 37 | E24: 1
A25: K57 | B25: =SUM(C25:H25) -> 70 | D25: 55 | E25: 11 | F25: 4
A26: K58 | B26: =SUM(C26:H26) -> 76 | D26: 75 | E26: 1
A27: K59 | B27: =SUM(C27:H27) -> 97 | D27: 97
A30: Bảng 12.1. Thống kê số lượng sinh viên tốt nghiệp đúng hạn, quá hạn; thời gian tốt nghiệp
A31: Ngành Trắc địa
A33: Khóa học | B33: Tổng số SV tốt nghiệp | C33: Số lượng sinh viên tốt nghiệp trong
C34: 4 năm (trước hạn) | D34: 5 năm (đúng hạn) | E34: > 5 năm
E35: (quá hạn)
D36: Lần 1 | E36: Lần 2 | F36: Lần 3 | G36: Lần 4 | H36: Lần 5
A37: K55 | B37: =SUM(C37:H37) -> 300 | D37: 241 | E37: 42 | F37: 10 | G37: 6 | H37: 1
A38: K56 | B38: =SUM(C38:H38) -> 279 | C38: 1 | D38: 269 | E38: 4 | F38: 4 | G38: 1
A39: K57 | B39: =SUM(C39:H39) -> 252 | C39: 1 | D39: 208 | E39: 37 | F39: 6
A40: K58 | B40: =SUM(C40:H40) -> 393 | C40: 1 | D40: 354 | E40: 38
A41: K59 | B41: =SUM(C41:H41) -> 198 | C41: 2 | D41: 196
A44: Bảng 12.1. Thống kê số lượng sinh viên tốt nghiệp đúng hạn, quá hạn; thời gian tốt nghiệp
A45: Ngành dầu khí
A47: Khóa học | B47: Tổng số SV tốt nghiệp | C47: Số lượng sinh viên tốt nghiệp trong
C48: 4 năm (trước hạn) | D48: 5 năm (đúng hạn) | E48: > 5 năm
E49: (quá hạn)
D50: Lần 1 | E50: Lần 2 | F50: Lần 3 | G50: Lần 4 | H50: Lần 5
A51: K55 | B51: =SUM(C51:H51) -> 273 | D51: 243 | E51: 21 | F51: 3 | G51: 6
...

Sheet B13. Đối sánh SVTN,NCKH
A1: Bảng 13. Đối sánh tỷ lệ SV tốt nghiệp có việc làm, tham gia hoạt động NCKH, số lượng các loại hình hoạt động NCKH Ngành Kĩ thuật Mỏ
A2: Cần ghi chú ghi rõ các loại hình hoạt động NCKH mà Nhà trường phân chia
A4: Khóa tốt nghiệp | B4: Tổng số sinh viên Tốt nghiệp | C4: Tỷ lệ (%) SV tốt nghiệp có việc làm | G4: Tỷ lệ (%) SV tham gia hoạt động NCKH | K4: Số lượng các loại hình hoạt động NCKH của SV
C5: CTĐT được đánh giá | D5: CTĐT của Trường | E5: CTĐT của Trường trong nước | F5: CTĐT của Trường ngoài nước | G5: CTĐT được đánh giá | H5: CTĐT của Trường | I5: CTĐT của Trường trong nước | J5: CTĐT của Trường ngoài nước | K5: CTĐT được đánh giá | L5: CTĐT của Trường | M5: CTĐT của Trường trong nước | N5: CTĐT của Trường ngoài nước
A6: 2010-2015 | B6: 246
A7: 2011-2016 | B7: 346
A8: 2012-2017 | B8: 228
A9: 2013-2018 | B9: 219
A10: 2014-2019 | B10: 163
A13: Bảng 13. Đối sánh tỷ lệ SV tốt nghiệp có việc làm, tham gia hoạt động NCKH, số lượng các loại hình hoạt động NCKH Ngành Kĩ thuật Tuyển Khoáng
A14: Cần ghi chú ghi rõ các loại hình hoạt động NCKH mà Nhà trường phân chia
A16: Khóa tốt nghiệp | B16: Tổng số sinh viên Tốt nghiệp | C16: Tỷ lệ (%) SV tốt nghiệp có việc làm | G16: Tỷ lệ (%) SV tham gia hoạt động NCKH | K16: Số lượng các loại hình hoạt động NCKH của SV
C17: CTĐT được đánh giá | D17: CTĐT của Trường | E17: CTĐT của Trường trong nước | F17: CTĐT của Trường ngoài nước | G17: CTĐT được đánh giá | H17: CTĐT của Trường | I17: CTĐT của Trường trong nước | J17: CTĐT của Trường ngoài nước | K17: CTĐT được đánh giá | L17: CTĐT của Trường | M17: CTĐT của Trường trong nước | N17: CTĐT của Trường ngoài nước
A18: 2010-2015 | B18: 53
A19: 2011-2016 | B19: 38
A20: 2012-2017 | B20: 70
A21: 2013-2018 | B21: 76
A22: 2014-2019 | B22: 97
A26: Bảng 13. Đối sánh tỷ lệ SV tốt nghiệp có việc làm, tham gia hoạt động NCKH, số lượng các loại hình hoạt động NCKH Ngành Trắc địa
A27: Cần ghi chú ghi rõ các loại hình hoạt động NCKH mà Nhà trường phân chia
A29: Khóa tốt nghiệp | B29: Tổng số sinh viên Tốt nghiệp | C29: Tỷ lệ (%) SV tốt nghiệp có việc làm | G29: Tỷ lệ (%) SV tham gia hoạt động NCKH | K29: Số lượng các loại hình hoạt động NCKH của SV
C30: CTĐT được đánh giá | D30: CTĐT của Trường | E30: CTĐT của Trường trong nước | F30: CTĐT của Trường ngoài nước | G30: CTĐT được đánh giá | H30: CTĐT của Trường | I30: CTĐT của Trường trong nước | J30: CTĐT của Trường ngoài nước | K30: CTĐT được đánh giá | L30: CTĐT của Trường | M30: CTĐT của Trường trong nước | N30: CTĐT của Trường ngoài nước
A31: 2010-2015 | B31: 300
A32: 2011-2016 | B32: 279
A33: 2012-2017 | B33: 252
A34: 2013-2018 | B34: 393
A35: 2014-2019 | B35: 198
A39: Bảng 13. Đối sánh tỷ lệ SV tốt nghiệp có việc làm, tham gia hoạt động NCKH, số lượng các loại hình hoạt động NCKH Ngành Dầu khí
A40: Cần ghi chú ghi rõ các loại hình hoạt động NCKH mà Nhà trường phân chia
A42: Khóa tốt nghiệp | B42: Tổng số sinh viên Tốt nghiệp | C42: Tỷ lệ (%) SV tốt nghiệp có việc làm | G42: Tỷ lệ (%) SV tham gia hoạt động NCKH | K42: Số lượng các loại hình hoạt động NCKH của SV
C43: CTĐT được đánh giá | D43: CTĐT của Trường | E43: CTĐT của Trường trong nước | F43: CTĐT của Trường ngoài nước | G43: CTĐT được đánh giá | H43: CTĐT của Trường | I43: CTĐT của Trường trong nước | J43: CTĐT của Trường ngoài nước | K43: CTĐT được đánh giá | L43: CTĐT của Trường | M43: CTĐT của Trường trong nước | N43: CTĐT của Trường ngoài nước
A44: 2010-2015 | B44: 273
A45: 2011-2016 | B45: 266
A46: 2012-2017 | B46: 277
A47: 2013-2018 | B47: 233
A48: 2014-2019 | B48: 192
A51: Bảng 13. Đối sánh tỷ lệ SV tốt nghiệp có việc làm, tham gia hoạt động NCKH, số lượng các loại hình hoạt động NCKH Ngành Môi Trường
A52: Cần ghi chú ghi rõ các loại hình hoạt động NCKH mà Nhà trường phân chia
A54: Khóa tốt nghiệp | B54: Tổng số sinh viên Tốt nghiệp | C54: Tỷ lệ (%) SV tốt nghiệp có việc làm | G54: Tỷ lệ (%) SV tham gia hoạt động NCKH | K54: Số lượng các loại hình hoạt động NCKH của SV
C55: CTĐT được đánh giá | D55: CTĐT của Trường | E55: CTĐT của Trường trong nước | F55: CTĐT của Trường ngoài nước | G55: CTĐT được đánh giá | H55: CTĐT của Trường | I55: CTĐT của Trường trong nước | J55: CTĐT của Trường ngoài nước | K55: CTĐT được đánh giá | L55: CTĐT của Trường | M55: CTĐT của Trường trong nước | N55: CTĐT của Trường ngoài nước
...

Sheet B14. Đối sánh mức độ hài lòng
A1: Bảng 14.Đối sánh mức độ hài lòng của các bên liên quan
A2: Cần ghi chú ghi rõ các phương pháp khảo sát các bên liên quan cụ thể
A4: Bảng 14.1. Đối sánh mức độ hài lòng của sinh viên tốt nghiệp ngành Kĩ thuật mỏ
A6: Khóa tốt nghiệp | B6: Tổng số sinh viên tốt nghiệp | C6: Tỷ lệ (%) hài lòng của các bên liên quan | G6: Tỷ lệ (%) không hài lòng của các bên liên quan | K6: Tỷ lệ (%) phản hồi của các bên liên quan
C7: CTĐT được đánh giá | D7: CTĐT của Trường | E7: CTĐT của Trường trong nước | F7: CTĐT của Trường ngoài nước | G7: CTĐT được đánh giá | H7: CTĐT của Trường | I7: CTĐT của Trường trong nước | J7: CTĐT của Trường ngoài nước | K7: CTĐT được đánh giá | L7: CTĐT của Trường | M7: CTĐT của Trường trong nước | N7: CTĐT của Trường ngoài nước
A8: 2010-2015 | B8: 246
A9: 2011-2016 | B9: 346
A10: 2012-2017 | B10: 228
A11: 2013-2018 | B11: 219
A12: 2014-2019 | B12: 163
A15: Bảng 14.2. Đối sánh mức độ hài lòng của cựu người học ngành kĩ thuật mỏ
A17: Khóa tốt nghiệp | B17: Tổng số sinh viên tốt nghiệp | C17: Tỷ lệ (%) hài lòng của các bên liên quan | G17: Tỷ lệ (%) không hài lòng của các bên liên quan | K17: Tỷ lệ (%) phản hồi của các bên liên quan
C18: CTĐT được đánh giá | D18: CTĐT của Trường | E18: CTĐT của Trường trong nước | F18: CTĐT của Trường ngoài nước | G18: CTĐT được đánh giá | H18: CTĐT của Trường | I18: CTĐT của Trường trong nước | J18: CTĐT của Trường ngoài nước | K18: CTĐT được đánh giá | L18: CTĐT của Trường | M18: CTĐT của Trường trong nước | N18: CTĐT của Trường ngoài nước
A19: 2010-2015 | B19: 246
A20: 2011-2016 | B20: 346
A21: 2012-2017 | B21: 228
A22: 2013-2018 | B22: 219
A23: 2014-2019 | B23: 163
A26: Bảng 14.3. Đối sánh mức độ hài lòng của các nhà tuyển dụng sinh viên ngành kĩ thuật mỏ
A28: Khóa tốt nghiệp | B28: Tổng số sinh viên tốt nghiệp | C28: Tỷ lệ (%) hài lòng của các bên liên quan | G28: Tỷ lệ (%) không hài lòng của các bên liên quan | K28: Tỷ lệ (%) phản hồi của các bên liên quan
C29: CTĐT được đánh giá | D29: CTĐT của Trường | E29: CTĐT của Trường trong nước | F29: CTĐT của Trường ngoài nước | G29: CTĐT được đánh giá | H29: CTĐT của Trường | I29: CTĐT của Trường trong nước | J29: CTĐT của Trường ngoài nước | K29: CTĐT được đánh giá | L29: CTĐT của Trường | M29: CTĐT của Trường trong nước | N29: CTĐT của Trường ngoài nước
A30: 2010-2015 | B30: 246
A31: 2011-2016 | B31: 346
A32: 2012-2017 | B32: 228
A33: 2013-2018 | B33: 219
A34: 2014-2019 | B34: 163
A39: Bảng 14.1. Đối sánh mức độ hài lòng của sinh viên tốt nghiệp ngành Kĩ thuật tuyển khoáng
A41: Khóa tốt nghiệp | B41: Tổng số sinh viên tốt nghiệp | C41: Tỷ lệ (%) hài lòng của các bên liên quan | G41: Tỷ lệ (%) không hài lòng của các bên liên quan | K41: Tỷ lệ (%) phản hồi của các bên liên quan
C42: CTĐT được đánh giá | D42: CTĐT của Trường | E42: CTĐT của Trường trong nước | F42: CTĐT của Trường ngoài nước | G42: CTĐT được đánh giá | H42: CTĐT của Trường | I42: CTĐT của Trường trong nước | J42: CTĐT của Trường ngoài nước | K42: CTĐT được đánh giá | L42: CTĐT của Trường | M42: CTĐT của Trường trong nước | N42: CTĐT của Trường ngoài nước
A43: 2010-2015 | B43: 53
A44: 2011-2016 | B44: 38
A45: 2012-2017 | B45: 70
A46: 2013-2018 | B46: 76
A47: 2014-2019 | B47: 97
A50: Bảng 14.2. Đối sánh mức độ hài lòng của cựu người học ngành kĩ thuật tuyển khoáng
A52: Khóa tốt nghiệp | B52: Tổng số sinh viên tốt nghiệp | C52: Tỷ lệ (%) hài lòng của các bên liên quan | G52: Tỷ lệ (%) không hài lòng của các bên liên quan | K52: Tỷ lệ (%) phản hồi của các bên liên quan
C53: CTĐT được đánh giá | D53: CTĐT của Trường | E53: CTĐT của Trường trong nước | F53: CTĐT của Trường ngoài nước | G53: CTĐT được đánh giá | H53: CTĐT của Trường | I53: CTĐT của Trường trong nước | J53: CTĐT của Trường ngoài nước | K53: CTĐT được đánh giá | L53: CTĐT của Trường | M53: CTĐT của Trường trong nước | N53: CTĐT của Trường ngoài nước
A54: 2010-2015 | B54: 53
A55: 2011-2016 | B55: 38
A56: 2012-2017 | B56: 70
...
