Workbook
Name _ftn1: 'B12. Doi sanh SVTN'!#REF!
Name _ftn2: 'B12. Doi sanh SVTN'!#REF!
Name _ftn3: 'B12. Doi sanh SVTN'!#REF!
Name _ftn4: 'B12. Doi sanh SVTN'!#REF!
Name _ftn5: 'B12. Doi sanh SVTN'!#REF!
Name _ftn6: 'B12. Doi sanh SVTN'!#REF!
Name _ftnref1: 'B12. Doi sanh SVTN'!$E$6
Name _ftnref2: 'B12. Doi sanh SVTN'!$F$6
Name _ftnref3: 'B12. Doi sanh SVTN'!$I$6
Name _ftnref4: 'B12. Doi sanh SVTN'!$J$6
Name _ftnref5: 'B12. Doi sanh SVTN'!$M$6
Name _ftnref6: 'B12. Doi sanh SVTN'!$N$6

Sheet B7. So SV theo ky
A1: Bảng 7. Thống kê số lượng sinh viên theo học kỳ
A2: NGÀNH KĨ THUẬT MỎ
A3: Năm học | B3: Số lượng sinh viên
B4: Năm 1 | D4: Năm 2 | F4: Năm 3 | H4: Năm 4 | J4: Năm 5
B5: HK1 | C5: HK2 | D5: HK1 | E5: HK2 | F5: HK1 | G5: HK2 | H5: HK1 | I5: HK2 | J5: HK1 | K5: HK2
A6: 2014-2015 | B6: 424(Mỏ+TK) | C6: 291 | D6: 316 | E6: 275 | F6: 277 | G6: 265 | H6: 387 | I6: 378 | J6: 281 | K6: 276
A7: 2015-2016 | B7: 244(Mỏ + TK) | C7: 140 | D7: 278 | E7: 254 | F7: 275 | G7: 268 | H7: 264 | I7: 261 | J7: 378 | K7: 376 | N7: 30 VT
A8: 2016-2017 | B8: 112(Mỏ+TK) | C8: 58 | D8: 140 | E8: 140 | F8: 253 | G8: 235 | H8: 268 | I8: 260 | J8: 261 | K8: 260
A9: 2017-2018 | B9: 81(Mỏ+TK) | C9: 42 | D9: 68 | E9: 58 | F9: 140 | G9: 138 | H9: 235 | I9: 235 | J9: 260 | K9: 257
A10: 2018-2019 | B10: 53 | C10: 47 | D10: 44 | E10: 42 | F10: 58 | G10: 58 | H10: 137 | I10: 137 | J10: 234 | K10: 232
A14: Bảng 7. Thống kê số lượng sinh viên theo học kỳ
A15: NGÀNH KĨ THUẬT TUYỂN KHOÁNG
A16: Năm học | B16: Số lượng sinh viên
B17: Năm 1 | D17: Năm 2 | F17: Năm 3 | H17: Năm 4 | J17: Năm 5
B18: HK1 | C18: HK2 | D18: HK1 | E18: HK2 | F18: HK1 | G18: HK2 | H18: HK1 | I18: HK2 | J18: HK1 | K18: HK2
A19: 2014-2015 | B19: 424(KTMỏ+TK) | C19: 146 | D19: 103 | E19: 93 | F19: 85 | G19: 82 | H19: 43 | I19: 41 | J19: 58 | K19: 58
A20: 2015-2016 | B20: 244(KTMỏ + TK) | C20: 97 | D20: 146 | E20: 146 | F20: 94 | G20: 94 | H20: 82 | I20: 81 | J20: 41 | K20: 41
A21: 2016-2017 | B21: 112(KTMỏ+TK) | C21: 32 | D21: 89 | E21: 77 | F21: 146 | G21: 136 | H21: 94 | I21: 90 | J21: 81 | K21: 78
A22: 2017-2018 | B22: 81(KTMỏ+TK) | C22: 22 | D22: 34 | E22: 32 | F22: 79 | G22: 77 | H22: 136 | I22: 135 | J22: 90 | K22: 90
A23: 2018-2019 | B23: 8 | C23: 8 | D23: 22 | E23: 22 | F23: 32 | G23: 32 | H23: 77 | I23: 77 | J23: 135 | K23: 135
A27: Bảng 7. Thống kê số lượng sinh viên theo học kỳ
A28: NGÀNH KĨ THUẬT DẦU KHÍ
A29: Năm học | B29: Số lượng sinh viên
B30: Năm 1 | D30: Năm 2 | F30: Năm 3 | H30: Năm 4 | J30: Năm 5
B31: HK1 | C31: HK2 | D31: HK1 | E31: HK2 | F31: HK1 | G31: HK2 | H31: HK1 | I31: HK2 | J31: HK1 | K31: HK2
A32: 2014-2015 | B32: Khoa DK350 | C32: 276 | D32: 300 | E32: 279 | F32: 333 | G32: 322 | H32: 290 | I32: 286 | J32: 304 | K32: 301
A33: 2015-2016 | B33: 315(KTDK+KTĐVL) | C33: 273 | D33: 276 | E33: 276 | F33: 279 | G33: 274 | H33: 322 | I33: 311 | J33: 282 | K33: 281
A34: 2016-2017 | B34: 199(KTDK+KTĐVL) | C34: 131 | D34: 264 | E34: 261 | F34: 274 | G34: 266 | H34: 274 | I34: 270 | J34: 310 | K34: 308
A35: 2017-2018 | B35: 75(KTDK+KTĐVL) | C35: 73 | D35: 131 | E35: 125 | F35: 261 | G35: 252 | H35: 264 | I35: 257 | J35: 270 | K35: 266
A36: 2018-2019 | B36: 74 | C36: 73 | D36: 73 | E36: 73 | F36: 113 | G36: 113 | H36: 252 | I36: 252 | J36: 257 | K36: 256
A39: Bảng 7. Thống kê số lượng sinh viên theo học kỳ
A40: NGÀNH MÔI TRƯỜNG
A41: Năm học | B41: Số lượng sinh viên
B42: Năm 1 | D42: Năm 2 | F42: Năm 3 | H42: Năm 4 | J42: Năm 5
B43: HK1 | C43: HK2 | D43: HK1 | E43: HK2 | F43: HK1 | G43: HK2 | H43: HK1 | I43: HK2 | J43: HK1 | K43: HK2
A44: 2014-2015 | B44: 254 | C44: 254 | D44: 176 | E44: 171 | F44: 122 | G44: 121 | H44: 73 | I44: 72 | J44: 39 | K44: 39
A45: 2015-2016 | B45: 181 | C45: 181 | D45: 254 | E45: 253 | F45: 171 | G45: 170 | H45: 120 | I45: 120 | J45: 73 | K45: 73
A46: 2016-2017 | B46: 101 | C46: 98 | D46: 181 | E46: 169 | F46: 253 | G46: 238 | H46: 170 | I46: 166 | J46: 120 | K46: 119
A47: 2017-2018 | B47: 28 | C47: 28 | D47: 98 | E47: 93 | F47: 169 | G47: 165 | H47: 238 | I47: 231 | J47: 166 | K47: 163
A48: 2018-2019 | B48: 29 | C48: 28 | D48: 28 | E48: 28 | F48: 93 | G48: 93 | H48: 165 | I48: 165 | J48: 231 | K48: 231
A52: Bảng 7. Thống kê số lượng sinh viên theo học kỳ
A53: NGÀNH XÂY DỰNG
A54: Năm học | B54: Số lượng sinh viên
B55: Năm 1 | D55: Năm 2 | F55: Năm 3 | H55: Năm 4 | J55: Năm 5
B56: HK1 | C56: HK2 | D56: HK1 | E56: HK2 | F56: HK1 | G56: HK2 | H56: HK1 | I56: HK2 | J56: HK1 | K56: HK2
A57: 2014-2015 | B57: 304 | C57: 293 | D57: 366 | E57: 321 | F57: 195 | G57: 187 | H57: 122 | I57: 121 | J57: 167 | K57: 165
A58: 2015-2016 | B58: 288 | C58: 286 | D58: 293 | E58: 273 | F58: 321 | G58: 314 | H58: 187 | I58: 183 | J58: 121 | K58: 121
A59: 2016-2017 | B59: 188 | C59: 184 | D59: 286 | E59: 258 | F59: 273 | G59: 249 | H59: 314 | I59: 308 | J59: 183 | K59: 180
A60: 2017-2018 | B60: 69 | C60: 69 | D60: 182 | E60: 178 | F60: 258 | G60: 249 | H60: 249 | I60: 249 | J60: 308 | K60: 305
A61: 2018-2019 | B61: 88 | C61: 88 | D61: 69 | E61: 69 | F61: 177 | G61: 177 | H61: 249 | I61: 249 | J61: 249 | K61: 245
A65: Bảng 7. Thống kê số lượng sinh viên theo học kỳ
A66: NGÀNH TRẮC ĐỊA
A67: Năm học | B67: Số lượng sinh viên
B68: Năm 1 | D68: Năm 2 | F68: Năm 3 | H68: Năm 4 | J68: Năm 5
B69: HK1 | C69: HK2 | D69: HK1 | E69: HK2 | F69: HK1 | G69: HK2 | H69: HK1 | I69: HK2 | J69: HK1 | K69: HK2
A70: 2014-2015 | B70: 390 | C70: 347 | D70: 567 | E70: 491 | F70: 303 | G70: 292 | H70: 323 | I70: 316 | J70: 326 | K70: 325
A71: 2015-2016 | B71: 190 | C71: 189 | D71: 343 | E71: 318 | F71: 491 | G71: 481 | H71: 291 | I71: 288 | J71: 316 | K71: 312
A72: 2016-2017 | B72: 96 | C72: 91 | D72: 184 | E72: 156 | F72: 318 | G72: 305 | H72: 481 | I72: 471 | J72: 288 | K72: 283
A73: 2017-2018 | B73: 65 | C73: 54 | D73: 89 | E73: 89 | F73: 156 | G73: 142 | H73: 305 | I73: 302 | J73: 471 | K73: 464
A74: 2018-2019 | B74: 59 | C74: 53 | D74: 51 | E74: 50 | F74: 77 | G74: 77 | H74: 142 | I74: 142 | J74: 302 | K74: 300
A78: Bảng 7. Thống kê số lượng sinh viên theo học kỳ
A79: NGÀNH CÔNG NGHỆ THÔNG TIN
A80: Năm học | B80: Số lượng sinh viên
B81: Năm 1 | D81: Năm 2 | F81: Năm 3 | H81: Năm 4 | J81: Năm 5
B82: HK1 | C82: HK2 | D82: HK1 | E82: HK2 | F82: HK1 | G82: HK2 | H82: HK1 | I82: HK2 | J82: HK1 | K82: HK2
A83: 2014-2015 | B83: 429 | C83: 392 | D83: 383 | E83: 326 | F83: 205 | G83: 197 | H83: 196 | I83: 192 | J83: 182 | K83: 180
A84: 2015-2016 | B84: 388 | C84: 381 | D84: 392 | E84: 352 | F84: 320 | G84: 316 | H84: 198 | I84: 196 | J84: 192 | K84: 194
A85: 2016-2017 | B85: 524 | C85: 508 | D85: 381 | E85: 341 | F85: 352 | G85: 315 | H85: 316 | I85: 306 | J85: 196 | K85: 196
A86: 2017-2018 | B86: 533 | C86: 516 | D86: 503 | E86: 471 | F86: 341 | G86: 310 | H86: 315 | I86: 291 | J86: 306 | K86: 300
A87: 2018-2019 | B87: 740 | C87: 740 | D87: 516 | E87: 516 | F87: 472 | G87: 472 | H87: 310 | I87: 310 | J87: 291 | K87: 286

Sheet B8. ĐTB theo hoc ky
A1: Bảng 8. Thống kê điểm trung bình của người học theo học kỳ
A2: (nếu có đào tạo theo tín chỉ và theo niên chế thì chia thành 2 bảng: Bảng 8.1 và Bảng 8.2)
A4: Bảng 8.1. Thống kê điểm trung bình của người học theo tín chỉ
A5: NGÀNH KĨ THUẬT MỎ
A7: Năm học | B7: Học kỳ | C7: Số sinh viên đạt điểm trung bình (GPA) | I7: Tổng số sinh viên trong học kỳ | J7: Tỷ lệ số tín chỉ trong học kỳ/tổng số SV
C8: theo thang điểm tín chỉ
C9: GPA<1 | D9: 1≤GPA<1.5 | E9: 1.5≤GPA<2 | F9: 2≤GPA<2.5 | G9: 2.5≤GPA<3.5 | H9: 3.5≤GPA<4.0
A10: 2014-2015 | B10: HK 1 | C10: 111 | D10: 162 | E10: 242 | F10: 181 | G10: 704 | H10: 93 | I10: 1493 | J10: 17.85
B11: HK 2 | C11: 111 | D11: 92 | E11: 190 | F11: 262 | G11: 564 | H11: 239 | I11: 1458 | J11: 18.02
A12: 2015-2016 | B12: HK 1 | C12: 99 | D12: 113 | E12: 153 | F12: 133 | G12: 676 | H12: 125 | I12: 1299 | J12: 17.69
B13: HK 2 | C13: 106 | D13: 80 | E13: 116 | F13: 179 | G13: 458 | H13: 344 | I13: 1283 | J13: 17.64
A14: 2016-2017 | B14: HK 1 | C14: 66 | D14: 69 | E14: 143 | F14: 100 | G14: 497 | H14: 139 | I14: 1014 | J14: 17.04
B15: HK 2 | C15: 61 | D15: 42 | E15: 81 | F15: 158 | G15: 384 | H15: 257 | I15: 983 | J15: 17.24
A16: 2017-2018 | B16: HK 1 | C16: 55 | D16: 38 | E16: 64 | F16: 59 | G16: 440 | H16: 86 | I16: 742 | J16: 17.44
B17: HK 2 | C17: 60 | D17: 41 | E17: 37 | F17: 62 | G17: 287 | H17: 228 | I17: 715 | J17: 17.98
A18: 2018-2019 | B18: HK 1 | C18: 41 | D18: 25 | E18: 54 | F18: 28 | G18: 272 | H18: 76 | I18: 496 | J18: 17.68
B19: HK 2 | C19: 68 | D19: 22 | E19: 28 | F19: 35 | G19: 168 | H19: 173 | I19: 494 | J19: 17.2
A25: Bảng 8.1. Thống kê điểm trung bình của người học theo tín chỉ
A26: NGÀNH KĨ THUẬT TUYỂN KHOÁNG
A28: Năm học | B28: Học kỳ | C28: Số sinh viên đạt điểm trung bình (GPA) | I28: Tổng số sinh viên trong học kỳ | J28: Tỷ lệ số tín chỉ trong học kỳ/tổng số SV
C29: theo thang điểm tín chỉ
C30: GPA<1 | D30: 1≤GPA<1.5 | E30: 1.5≤GPA<2 | F30: 2≤GPA<2.5 | G30: 2.5≤GPA<3.5 | H30: 3.5≤GPA<4.0
A31: 2014-2015 | B31: HK 1 | C31: =COUNTIFS($G:$G,"DC",$K:$K,B31,$I:$I,$U$19,$L:$L,"<1") -> 38 | D31: =COUNTIFS($G:$G,"DC",$K:$K,B31,$I:$I,$U$19,$L:$L,"<1.5")-C31 -> 74 | E31: =COUNTIFS($G:$G,"DC",$K:$K,B31,$I:$I,$U$19,$L:$L,"<2")-C31-D31 -> 93 | F31: =COUNTIFS($G:$G,"DC",$K:$K,B31,$I:$I,$U$19,$L:$L,"<2.5")-D31-C31-E31 -> 90 | G31: =COUNTIFS($G:$G,"DC",$K:$K,B31,$I:$I,$U$19,$L:$L,"<3.5")-F31-C31-D31-E31 -> 112 | H31: =COUNTIFS($G:$G,"DC",$K:$K,B31,$I:$I,$U$19,$L:$L,"<=4")-F31-C31-D31-G31-E31 -> 26 | I31: =H31-G31 -> 433 | J31: =K31/I31 -> 17.374134
B32: HK 2 | C32: =COUNTIFS($G:$G,"DC",$N:$N,B32,$I:$I,$U$19,$O:$O,"<1") -> 33 | D32: =COUNTIFS($G:$G,"DC",$N:$N,B32,$I:$I,$U$19,$O:$O,"<1.5")-C32 -> 65 | E32: =COUNTIFS($G:$G,"DC",$N:$N,B32,$I:$I,$U$19,$O:$O,"<2")-D32-C32 -> 76 | F32: =COUNTIFS($G:$G,"DC",$N:$N,B32,$I:$I,$U$19,$O:$O,"<2.5")-E32-C32-D32 -> 79 | G32: =COUNTIFS($G:$G,"DC",$N:$N,B32,$I:$I,$U$19,$O:$O,"<3.5")-F32-C32-D32-E32 -> 116 | H32: =COUNTIFS($G:$G,"DC",$N:$N,B32,$I:$I,$U$19,$O:$O,"<=4")-F32-C32-D32-G32-E32 -> 57 | I32: =H32-G32 -> 426 | J32: =K32/I32 -> 17.43662
A33: 2015-2016 | B33: HK 1 | C33: =COUNTIFS($G:$G,"DC",$K:$K,B33,$I:$I,$U$19,$L:$L,"<1") -> 63 | D33: =COUNTIFS($G:$G,"DC",$K:$K,B33,$I:$I,$U$19,$L:$L,"<1.5")-C33 -> 61 | E33: =COUNTIFS($G:$G,"DC",$K:$K,B33,$I:$I,$U$19,$L:$L,"<2")-C33-D33 -> 81 | F33: =COUNTIFS($G:$G,"DC",$K:$K,B33,$I:$I,$U$19,$L:$L,"<2.5")-D33-C33-E33 -> 83 | G33: =COUNTIFS($G:$G,"DC",$K:$K,B33,$I:$I,$U$19,$L:$L,"<3.5")-F33-C33-D33-E33 -> 108 | H33: =COUNTIFS($G:$G,"DC",$K:$K,B33,$I:$I,$U$19,$L:$L,"<=4")-F33-C33-D33-G33-E33 -> 51 | I33: =H33-G33 -> 447 | J33: =K33/I33 -> 17.642058
B34: HK 2 | C34: =COUNTIFS($G:$G,"DC",$N:$N,B34,$I:$I,$U$19,$O:$O,"<1") -> 42 | D34: =COUNTIFS($G:$G,"DC",$N:$N,B34,$I:$I,$U$19,$O:$O,"<1.5")-C34 -> 52 | E34: =COUNTIFS($G:$G,"DC",$N:$N,B34,$I:$I,$U$19,$O:$O,"<2")-D34-C34 -> 61 | F34: =COUNTIFS($G:$G,"DC",$N:$N,B34,$I:$I,$U$19,$O:$O,"<2.5")-E34-C34-D34 -> 91 | G34: =COUNTIFS($G:$G,"DC",$N:$N,B34,$I:$I,$U$19,$O:$O,"<3.5")-F34-C34-D34-E34 -> 119 | H34: =COUNTIFS($G:$G,"DC",$N:$N,B34,$I:$I,$U$19,$O:$O,"<=4")-F34-C34-D34-G34-E34 -> 80 | I34: =H34-G34 -> 445 | J34: =K34/I34 -> 17.689888
A35: 2016-2017 | B35: HK 1 | C35: =COUNTIFS($G:$G,"DC",$K:$K,B35,$I:$I,$U$19,$L:$L,"<1") -> 33 | D35: =COUNTIFS($G:$G,"DC",$K:$K,B35,$I:$I,$U$19,$L:$L,"<1.5")-C35 -> 24 | E35: =COUNTIFS($G:$G,"DC",$K:$K,B35,$I:$I,$U$19,$L:$L,"<2")-C35-D35 -> 49 | F35: =COUNTIFS($G:$G,"DC",$K:$K,B35,$I:$I,$U$19,$L:$L,"<2.5")-D35-C35-E35 -> 68 | G35: =COUNTIFS($G:$G,"DC",$K:$K,B35,$I:$I,$U$19,$L:$L,"<3.5")-F35-C35-D35-E35 -> 159 | H35: =COUNTIFS($G:$G,"DC",$K:$K,B35,$I:$I,$U$19,$L:$L,"<=4")-F35-C35-D35-G35-E35 -> 46 | I35: =H35-G35 -> 379 | J35: =K35/I35 -> 17.229551
B36: HK 2 | C36: =COUNTIFS($G:$G,"DC",$N:$N,B36,$I:$I,$U$19,$O:$O,"<1") -> 24 | D36: =COUNTIFS($G:$G,"DC",$N:$N,B36,$I:$I,$U$19,$O:$O,"<1.5")-C36 -> 15 | E36: =COUNTIFS($G:$G,"DC",$N:$N,B36,$I:$I,$U$19,$O:$O,"<2")-D36-C36 -> 34 | F36: =COUNTIFS($G:$G,"DC",$N:$N,B36,$I:$I,$U$19,$O:$O,"<2.5")-E36-C36-D36 -> 56 | G36: =COUNTIFS($G:$G,"DC",$N:$N,B36,$I:$I,$U$19,$O:$O,"<3.5")-F36-C36-D36-E36 -> 151 | H36: =COUNTIFS($G:$G,"DC",$N:$N,B36,$I:$I,$U$19,$O:$O,"<=4")-F36-C36-D36-G36-E36 -> 92 | I36: =H36-G36 -> 372 | J36: =K36/I36 -> 18.215054
A37: 2017-2018 | B37: HK 1 | C37: =COUNTIFS($G:$G,"DC",$K:$K,B37,$I:$I,$U$19,$L:$L,"<1") -> 32 | D37: =COUNTIFS($G:$G,"DC",$K:$K,B37,$I:$I,$U$19,$L:$L,"<1.5")-C37 -> 25 | E37: =COUNTIFS($G:$G,"DC",$K:$K,B37,$I:$I,$U$19,$L:$L,"<2")-C37-D37 -> 32 | F37: =COUNTIFS($G:$G,"DC",$K:$K,B37,$I:$I,$U$19,$L:$L,"<2.5")-D37-C37-E37 -> 61 | G37: =COUNTIFS($G:$G,"DC",$K:$K,B37,$I:$I,$U$19,$L:$L,"<3.5")-F37-C37-D37-E37 -> 163 | H37: =COUNTIFS($G:$G,"DC",$K:$K,B37,$I:$I,$U$19,$L:$L,"<=4")-F37-C37-D37-G37-E37 -> 43 | I37: =H37-G37 -> 356 | J37: =K37/I37 -> 17.691011
B38: HK 2 | C38: =COUNTIFS($G:$G,"DC",$N:$N,B38,$I:$I,$U$19,$O:$O,"<1") -> 23 | D38: =COUNTIFS($G:$G,"DC",$N:$N,B38,$I:$I,$U$19,$O:$O,"<1.5")-C38 -> 7 | E38: =COUNTIFS($G:$G,"DC",$N:$N,B38,$I:$I,$U$19,$O:$O,"<2")-D38-C38 -> 33 | F38: =COUNTIFS($G:$G,"DC",$N:$N,B38,$I:$I,$U$19,$O:$O,"<2.5")-E38-C38-D38 -> 39 | G38: =COUNTIFS($G:$G,"DC",$N:$N,B38,$I:$I,$U$19,$O:$O,"<3.5")-F38-C38-D38-E38 -> 135 | H38: =COUNTIFS($G:$G,"DC",$N:$N,B38,$I:$I,$U$19,$O:$O,"<=4")-F38-C38-D38-G38-E38 -> 102 | I38: =H38-G38 -> 339 | J38: =K38/I38 -> 18.442478
A39: 2018-2019 | B39: HK 1 | C39: =COUNTIFS($G:$G,"DC",$K:$K,B39,$I:$I,$U$19,$L:$L,"<1") -> 13 | D39: =COUNTIFS($G:$G,"DC",$K:$K,B39,$I:$I,$U$19,$L:$L,"<1.5")-C39 -> 7 | E39: =COUNTIFS($G:$G,"DC",$K:$K,B39,$I:$I,$U$19,$L:$L,"<2")-C39-D39 -> 23 | F39: =COUNTIFS($G:$G,"DC",$K:$K,B39,$I:$I,$U$19,$L:$L,"<2.5")-D39-C39-E39 -> 42 | G39: =COUNTIFS($G:$G,"DC",$K:$K,B39,$I:$I,$U$19,$L:$L,"<3.5")-F39-C39-D39-E39 -> 136 | H39: =COUNTIFS($G:$G,"DC",$K:$K,B39,$I:$I,$U$19,$L:$L,"<=4")-F39-C39-D39-G39-E39 -> 27 | I39: =H39-G39 -> 248 | J39: =K39/I39 -> 18.487903
B40: HK 2 | C40: =COUNTIFS($G:$G,"DC",$N:$N,B40,$I:$I,$U$19,$O:$O,"<1") -> 17 | D40: =COUNTIFS($G:$G,"DC",$N:$N,B40,$I:$I,$U$19,$O:$O,"<1.5")-C40 -> 6 | E40: =COUNTIFS($G:$G,"DC",$N:$N,B40,$I:$I,$U$19,$O:$O,"<2")-D40-C40 -> 16 | F40: =COUNTIFS($G:$G,"DC",$N:$N,B40,$I:$I,$U$19,$O:$O,"<2.5")-E40-C40-D40 -> 33 | G40: =COUNTIFS($G:$G,"DC",$N:$N,B40,$I:$I,$U$19,$O:$O,"<3.5")-F40-C40-D40-E40 -> 83 | H40: =COUNTIFS($G:$G,"DC",$N:$N,B40,$I:$I,$U$19,$O:$O,"<=4")-F40-C40-D40-G40-E40 -> 88 | I40: =H40-G40 -> 243 | J40: =K40/I40 -> 17.152263
A45: Bảng 8.1. Thống kê điểm trung bình của người học theo tín chỉ
A46: NGÀNH KĨ THUẬT MÔI TRƯỜNG
A48: Năm học | B48: Học kỳ | C48: Số sinh viên đạt điểm trung bình (GPA) | I48: Tổng số sinh viên trong học kỳ | J48: Tỷ lệ số tín chỉ trong học kỳ/tổng số SV
C49: theo thang điểm tín chỉ
C50: GPA<1 | D50: 1≤GPA<1.5 | E50: 1.5≤GPA<2 | F50: 2≤GPA<2.5 | G50: 2.5≤GPA<3.5 | H50: 3.5≤GPA<4.0
A51: 2014-2015 | B51: HK 1 | C51: =COUNTIFS($G:$G,"DC",$K:$K,B51,$I:$I,$U$32,$L:$L,"<1") -> 19 | D51: =COUNTIFS($G:$G,"DC",$K:$K,B51,$I:$I,$U$32,$L:$L,"<1.5")-C51 -> 58 | E51: =COUNTIFS($G:$G,"DC",$K:$K,B51,$I:$I,$U$32,$L:$L,"<2")-C51-D51 -> 128 | F51: =COUNTIFS($G:$G,"DC",$K:$K,B51,$I:$I,$U$32,$L:$L,"<2.5")-D51-C51-E51 -> 149 | G51: =COUNTIFS($G:$G,"DC",$K:$K,B51,$I:$I,$U$32,$L:$L,"<3.5")-F51-C51-D51-E51 -> 293 | H51: =COUNTIFS($G:$G,"DC",$K:$K,B51,$I:$I,$U$32,$L:$L,"<=4")-F51-C51-D51-G51-E51 -> 20 | I51: =H51-G51 -> 667 | J51: =K51/I51 -> 17.548726
B52: HK 2 | C52: =COUNTIFS($G:$G,"DC",$N:$N,B52,$I:$I,$U$32,$O:$O,"<1") -> 49 | D52: =COUNTIFS($G:$G,"DC",$N:$N,B52,$I:$I,$U$32,$O:$O,"<1.5")-C52 -> 49 | E52: =COUNTIFS($G:$G,"DC",$N:$N,B52,$I:$I,$U$32,$O:$O,"<2")-D52-C52 -> 94 | F52: =COUNTIFS($G:$G,"DC",$N:$N,B52,$I:$I,$U$32,$O:$O,"<2.5")-E52-C52-D52 -> 132 | G52: =COUNTIFS($G:$G,"DC",$N:$N,B52,$I:$I,$U$32,$O:$O,"<3.5")-F52-C52-D52-E52 -> 264 | H52: =COUNTIFS($G:$G,"DC",$N:$N,B52,$I:$I,$U$32,$O:$O,"<=4")-F52-C52-D52-G52-E52 -> 64 | I52: =H52-G52 -> 652 | J52: =K52/I52 -> 17.277607
A53: 2015-2016 | B53: HK 1 | C53: =COUNTIFS($G:$G,"DC",$K:$K,B53,$I:$I,$U$32,$L:$L,"<1") -> 69 | D53: =COUNTIFS($G:$G,"DC",$K:$K,B53,$I:$I,$U$32,$L:$L,"<1.5")-C53 -> 62 | E53: =COUNTIFS($G:$G,"DC",$K:$K,B53,$I:$I,$U$32,$L:$L,"<2")-C53-D53 -> 115 | F53: =COUNTIFS($G:$G,"DC",$K:$K,B53,$I:$I,$U$32,$L:$L,"<2.5")-D53-C53-E53 -> 158 | G53: =COUNTIFS($G:$G,"DC",$K:$K,B53,$I:$I,$U$32,$L:$L,"<3.5")-F53-C53-D53-E53 -> 334 | H53: =COUNTIFS($G:$G,"DC",$K:$K,B53,$I:$I,$U$32,$L:$L,"<=4")-F53-C53-D53-G53-E53 -> 54 | I53: =H53-G53 -> 792 | J53: =K53/I53 -> 17.871212
B54: HK 2 | C54: =COUNTIFS($G:$G,"DC",$N:$N,B54,$I:$I,$U$32,$O:$O,"<1") -> 63 | D54: =COUNTIFS($G:$G,"DC",$N:$N,B54,$I:$I,$U$32,$O:$O,"<1.5")-C54 -> 59 | E54: =COUNTIFS($G:$G,"DC",$N:$N,B54,$I:$I,$U$32,$O:$O,"<2")-D54-C54 -> 106 | F54: =COUNTIFS($G:$G,"DC",$N:$N,B54,$I:$I,$U$32,$O:$O,"<2.5")-E54-C54-D54 -> 124 | G54: =COUNTIFS($G:$G,"DC",$N:$N,B54,$I:$I,$U$32,$O:$O,"<3.5")-F54-C54-D54-E54 -> 312 | H54: =COUNTIFS($G:$G,"DC",$N:$N,B54,$I:$I,$U$32,$O:$O,"<=4")-F54-C54-D54-G54-E54 -> 115 | I54: =H54-G54 -> 779 | J54: =K54/I54 -> 17.620026
A55: 2016-2017 | B55: HK 1 | C55: =COUNTIFS($G:$G,"DC",$K:$K,B55,$I:$I,$U$32,$L:$L,"<1") -> 39 | D55: =COUNTIFS($G:$G,"DC",$K:$K,B55,$I:$I,$U$32,$L:$L,"<1.5")-C55 -> 39 | E55: =COUNTIFS($G:$G,"DC",$K:$K,B55,$I:$I,$U$32,$L:$L,"<2")-C55-D55 -> 89 | F55: =COUNTIFS($G:$G,"DC",$K:$K,B55,$I:$I,$U$32,$L:$L,"<2.5")-D55-C55-E55 -> 149 | G55: =COUNTIFS($G:$G,"DC",$K:$K,B55,$I:$I,$U$32,$L:$L,"<3.5")-F55-C55-D55-E55 -> 369 | H55: =COUNTIFS($G:$G,"DC",$K:$K,B55,$I:$I,$U$32,$L:$L,"<=4")-F55-C55-D55-G55-E55 -> 103 | I55: =H55-G55 -> 788 | J55: =K55/I55 -> 16.57868
B56: HK 2 | C56: =COUNTIFS($G:$G,"DC",$N:$N,B56,$I:$I,$U$32,$O:$O,"<1") -> 26 | D56: =COUNTIFS($G:$G,"DC",$N:$N,B56,$I:$I,$U$32,$O:$O,"<1.5")-C56 -> 35 | E56: =COUNTIFS($G:$G,"DC",$N:$N,B56,$I:$I,$U$32,$O:$O,"<2")-D56-C56 -> 58 | F56: =COUNTIFS($G:$G,"DC",$N:$N,B56,$I:$I,$U$32,$O:$O,"<2.5")-E56-C56-D56 -> 108 | G56: =COUNTIFS($G:$G,"DC",$N:$N,B56,$I:$I,$U$32,$O:$O,"<3.5")-F56-C56-D56-E56 -> 354 | H56: =COUNTIFS($G:$G,"DC",$N:$N,B56,$I:$I,$U$32,$O:$O,"<=4")-F56-C56-D56-G56-E56 -> 190 | I56: =H56-G56 -> 771 | J56: =K56/I56 -> 16.638132
A57: 2017-2018 | B57: HK 1 | C57: =COUNTIFS($G:$G,"DC",$K:$K,B57,$I:$I,$U$32,$L:$L,"<1") -> 28 | D57: =COUNTIFS($G:$G,"DC",$K:$K,B57,$I:$I,$U$32,$L:$L,"<1.5")-C57 -> 33 | E57: =COUNTIFS($G:$G,"DC",$K:$K,B57,$I:$I,$U$32,$L:$L,"<2")-C57-D57 -> 57 | F57: =COUNTIFS($G:$G,"DC",$K:$K,B57,$I:$I,$U$32,$L:$L,"<2.5")-D57-C57-E57 -> 83 | G57: =COUNTIFS($G:$G,"DC",$K:$K,B57,$I:$I,$U$32,$L:$L,"<3.5")-F57-C57-D57-E57 -> 333 | H57: =COUNTIFS($G:$G,"DC",$K:$K,B57,$I:$I,$U$32,$L:$L,"<=4")-F57-C57-D57-G57-E57 -> 143 | I57: =H57-G57 -> 677 | J57: =K57/I57 -> 18.305761
B58: HK 2 | C58: =COUNTIFS($G:$G,"DC",$N:$N,B58,$I:$I,$U$32,$O:$O,"<1") -> 27 | D58: =COUNTIFS($G:$G,"DC",$N:$N,B58,$I:$I,$U$32,$O:$O,"<1.5")-C58 -> 12 | E58: =COUNTIFS($G:$G,"DC",$N:$N,B58,$I:$I,$U$32,$O:$O,"<2")-D58-C58 -> 28 | F58: =COUNTIFS($G:$G,"DC",$N:$N,B58,$I:$I,$U$32,$O:$O,"<2.5")-E58-C58-D58 -> 82 | G58: =COUNTIFS($G:$G,"DC",$N:$N,B58,$I:$I,$U$32,$O:$O,"<3.5")-F58-C58-D58-E58 -> 283 | H58: =COUNTIFS($G:$G,"DC",$N:$N,B58,$I:$I,$U$32,$O:$O,"<=4")-F58-C58-D58-G58-E58 -> 228 | I58: =H58-G58 -> 660 | J58: =K58/I58 -> 20.039394
A59: 2018-2019 | B59: HK 1 | C59: =COUNTIFS($G:$G,"DC",$K:$K,B59,$I:$I,$U$32,$L:$L,"<1") -> 33 | D59: =COUNTIFS($G:$G,"DC",$K:$K,B59,$I:$I,$U$32,$L:$L,"<1.5")-C59 -> 24 | E59: =COUNTIFS($G:$G,"DC",$K:$K,B59,$I:$I,$U$32,$L:$L,"<2")-C59-D59 -> 18 | F59: =COUNTIFS($G:$G,"DC",$K:$K,B59,$I:$I,$U$32,$L:$L,"<2.5")-D59-C59-E59 -> 80 | G59: =COUNTIFS($G:$G,"DC",$K:$K,B59,$I:$I,$U$32,$L:$L,"<3.5")-F59-C59-D59-E59 -> 228 | H59: =COUNTIFS($G:$G,"DC",$K:$K,B59,$I:$I,$U$32,$L:$L,"<=4")-F59-C59-D59-G59-E59 -> 141 | I59: =H59-G59 -> 524 | J59: =K59/I59 -> 17.622137
B60: HK 2 | C60: =COUNTIFS($G:$G,"DC",$N:$N,B60,$I:$I,$U$32,$O:$O,"<1") -> 38 | D60: =COUNTIFS($G:$G,"DC",$N:$N,B60,$I:$I,$U$32,$O:$O,"<1.5")-C60 -> 22 | E60: =COUNTIFS($G:$G,"DC",$N:$N,B60,$I:$I,$U$32,$O:$O,"<2")-D60-C60 -> 21 | F60: =COUNTIFS($G:$G,"DC",$N:$N,B60,$I:$I,$U$32,$O:$O,"<2.5")-E60-C60-D60 -> 48 | G60: =COUNTIFS($G:$G,"DC",$N:$N,B60,$I:$I,$U$32,$O:$O,"<3.5")-F60-C60-D60-E60 -> 182 | H60: =COUNTIFS($G:$G,"DC",$N:$N,B60,$I:$I,$U$32,$O:$O,"<=4")-F60-C60-D60-G60-E60 -> 118 | I60: =H60-G60 -> 429 | J60: =K60/I60 -> 18.717949
A64: Bảng 8.1. Thống kê điểm trung bình của người học theo tín chỉ
A65: NGÀNH KĨ THUẬT DẦU KHÍ
A67: Năm học | B67: Học kỳ | C67: Số sinh viên đạt điểm trung bình (GPA) | I67: Tổng số sinh viên trong học kỳ | J67: Tỷ lệ số tín chỉ trong học kỳ/tổng số SV
C68: theo thang điểm tín chỉ
C69: GPA<1 | D69: 1≤GPA<1.5 | E69: 1.5≤GPA<2 | F69: 2≤GPA<2.5 | G69: 2.5≤GPA<3.5 | H69: 3.5≤GPA<4.0
A70: 2014-2015 | B70: HK 1 | C70: =COUNTIFS($G:$G,"DC",$K:$K,B70,$I:$I,$U$45,$L:$L,"<1") -> 95 | D70: =COUNTIFS($G:$G,"DC",$K:$K,B70,$I:$I,$U$45,$L:$L,"<1.5")-C70 -> 118 | E70: =COUNTIFS($G:$G,"DC",$K:$K,B70,$I:$I,$U$45,$L:$L,"<2")-C70-D70 -> 207 | F70: =COUNTIFS($G:$G,"DC",$K:$K,B70,$I:$I,$U$45,$L:$L,"<2.5")-D70-C70-E70 -> 269 | G70: =COUNTIFS($G:$G,"DC",$K:$K,B70,$I:$I,$U$45,$L:$L,"<3.5")-F70-C70-D70-E70 -> 638 | H70: =COUNTIFS($G:$G,"DC",$K:$K,B70,$I:$I,$U$45,$L:$L,"<=4")-F70-C70-D70-G70-E70 -> 107 | I70: =H70-G70 -> 1434 | J70: =K70/I70 -> 17.495816
B71: HK 2 | C71: =COUNTIFS($G:$G,"DC",$N:$N,B71,$I:$I,$U$45,$O:$O,"<1") -> 70 | D71: =COUNTIFS($G:$G,"DC",$N:$N,B71,$I:$I,$U$45,$O:$O,"<1.5")-C71 -> 62 | E71: =COUNTIFS($G:$G,"DC",$N:$N,B71,$I:$I,$U$45,$O:$O,"<2")-D71-C71 -> 151 | F71: =COUNTIFS($G:$G,"DC",$N:$N,B71,$I:$I,$U$45,$O:$O,"<2.5")-E71-C71-D71 -> 231 | G71: =COUNTIFS($G:$G,"DC",$N:$N,B71,$I:$I,$U$45,$O:$O,"<3.5")-F71-C71-D71-E71 -> 563 | H71: =COUNTIFS($G:$G,"DC",$N:$N,B71,$I:$I,$U$45,$O:$O,"<=4")-F71-C71-D71-G71-E71 -> 316 | I71: =H71-G71 -> 1393 | J71: =K71/I71 -> 16.671931
A72: 2015-2016 | B72: HK 1 | C72: =COUNTIFS($G:$G,"DC",$K:$K,B72,$I:$I,$U$45,$L:$L,"<1") -> 84 | D72: =COUNTIFS($G:$G,"DC",$K:$K,B72,$I:$I,$U$45,$L:$L,"<1.5")-C72 -> 118 | E72: =COUNTIFS($G:$G,"DC",$K:$K,B72,$I:$I,$U$45,$L:$L,"<2")-C72-D72 -> 193 | F72: =COUNTIFS($G:$G,"DC",$K:$K,B72,$I:$I,$U$45,$L:$L,"<2.5")-D72-C72-E72 -> 268 | G72: =COUNTIFS($G:$G,"DC",$K:$K,B72,$I:$I,$U$45,$L:$L,"<3.5")-F72-C72-D72-E72 -> 585 | H72: =COUNTIFS($G:$G,"DC",$K:$K,B72,$I:$I,$U$45,$L:$L,"<=4")-F72-C72-D72-G72-E72 -> 133 | I72: =H72-G72 -> 1381 | J72: =K72/I72 -> 16.93845
B73: HK 2 | C73: =COUNTIFS($G:$G,"DC",$N:$N,B73,$I:$I,$U$45,$O:$O,"<1") -> 109 | D73: =COUNTIFS($G:$G,"DC",$N:$N,B73,$I:$I,$U$45,$O:$O,"<1.5")-C73 -> 103 | E73: =COUNTIFS($G:$G,"DC",$N:$N,B73,$I:$I,$U$45,$O:$O,"<2")-D73-C73 -> 148 | F73: =COUNTIFS($G:$G,"DC",$N:$N,B73,$I:$I,$U$45,$O:$O,"<2.5")-E73-C73-D73 -> 188 | G73: =COUNTIFS($G:$G,"DC",$N:$N,B73,$I:$I,$U$45,$O:$O,"<3.5")-F73-C73-D73-E73 -> 542 | H73: =COUNTIFS($G:$G,"DC",$N:$N,B73,$I:$I,$U$45,$O:$O,"<=4")-F73-C73-D73-G73-E73 -> 277 | I73: =H73-G73 -> 1367 | J73: =K73/I73 -> 16.654718
A74: 2016-2017 | B74: HK 1 | C74: =COUNTIFS($G:$G,"DC",$K:$K,B74,$I:$I,$U$45,$L:$L,"<1") -> 91 | D74: =COUNTIFS($G:$G,"DC",$K:$K,B74,$I:$I,$U$45,$L:$L,"<1.5")-C74 -> 105 | E74: =COUNTIFS($G:$G,"DC",$K:$K,B74,$I:$I,$U$45,$L:$L,"<2")-C74-D74 -> 176 | F74: =COUNTIFS($G:$G,"DC",$K:$K,B74,$I:$I,$U$45,$L:$L,"<2.5")-D74-C74-E74 -> 226 | G74: =COUNTIFS($G:$G,"DC",$K:$K,B74,$I:$I,$U$45,$L:$L,"<3.5")-F74-C74-D74-E74 -> 533 | H74: =COUNTIFS($G:$G,"DC",$K:$K,B74,$I:$I,$U$45,$L:$L,"<=4")-F74-C74-D74-G74-E74 -> 157 | I74: =H74-G74 -> 1288 | J74: =K74/I74 -> 16.142081
B75: HK 2 | C75: =COUNTIFS($G:$G,"DC",$N:$N,B75,$I:$I,$U$45,$O:$O,"<1") -> 97 | D75: =COUNTIFS($G:$G,"DC",$N:$N,B75,$I:$I,$U$45,$O:$O,"<1.5")-C75 -> 66 | E75: =COUNTIFS($G:$G,"DC",$N:$N,B75,$I:$I,$U$45,$O:$O,"<2")-D75-C75 -> 119 | F75: =COUNTIFS($G:$G,"DC",$N:$N,B75,$I:$I,$U$45,$O:$O,"<2.5")-E75-C75-D75 -> 168 | G75: =COUNTIFS($G:$G,"DC",$N:$N,B75,$I:$I,$U$45,$O:$O,"<3.5")-F75-C75-D75-E75 -> 440 | H75: =COUNTIFS($G:$G,"DC",$N:$N,B75,$I:$I,$U$45,$O:$O,"<=4")-F75-C75-D75-G75-E75 -> 356 | I75: =H75-G75 -> 1246 | J75: =K75/I75 -> 16.545746
A76: 2017-2018 | B76: HK 1 | C76: =COUNTIFS($G:$G,"DC",$K:$K,B76,$I:$I,$U$45,$L:$L,"<1") -> 96 | D76: =COUNTIFS($G:$G,"DC",$K:$K,B76,$I:$I,$U$45,$L:$L,"<1.5")-C76 -> 52 | E76: =COUNTIFS($G:$G,"DC",$K:$K,B76,$I:$I,$U$45,$L:$L,"<2")-C76-D76 -> 96 | F76: =COUNTIFS($G:$G,"DC",$K:$K,B76,$I:$I,$U$45,$L:$L,"<2.5")-D76-C76-E76 -> 172 | G76: =COUNTIFS($G:$G,"DC",$K:$K,B76,$I:$I,$U$45,$L:$L,"<3.5")-F76-C76-D76-E76 -> 439 | H76: =COUNTIFS($G:$G,"DC",$K:$K,B76,$I:$I,$U$45,$L:$L,"<=4")-F76-C76-D76-G76-E76 -> 141 | I76: =H76-G76 -> 996 | J76: =K76/I76 -> 17.355422
B77: HK 2 | C77: =COUNTIFS($G:$G,"DC",$N:$N,B77,$I:$I,$U$45,$O:$O,"<1") -> 61 | D77: =COUNTIFS($G:$G,"DC",$N:$N,B77,$I:$I,$U$45,$O:$O,"<1.5")-C77 -> 32 | E77: =COUNTIFS($G:$G,"DC",$N:$N,B77,$I:$I,$U$45,$O:$O,"<2")-D77-C77 -> 62 | F77: =COUNTIFS($G:$G,"DC",$N:$N,B77,$I:$I,$U$45,$O:$O,"<2.5")-E77-C77-D77 -> 127 | G77: =COUNTIFS($G:$G,"DC",$N:$N,B77,$I:$I,$U$45,$O:$O,"<3.5")-F77-C77-D77-E77 -> 399 | H77: =COUNTIFS($G:$G,"DC",$N:$N,B77,$I:$I,$U$45,$O:$O,"<=4")-F77-C77-D77-G77-E77 -> 278 | I77: =H77-G77 -> 959 | J77: =K77/I77 -> 17.854015
A78: 2018-2019 | B78: HK 1 | C78: =COUNTIFS($G:$G,"DC",$K:$K,B78,$I:$I,$U$45,$L:$L,"<1") -> 57 | D78: =COUNTIFS($G:$G,"DC",$K:$K,B78,$I:$I,$U$45,$L:$L,"<1.5")-C78 -> 29 | E78: =COUNTIFS($G:$G,"DC",$K:$K,B78,$I:$I,$U$45,$L:$L,"<2")-C78-D78 -> 63 | F78: =COUNTIFS($G:$G,"DC",$K:$K,B78,$I:$I,$U$45,$L:$L,"<2.5")-D78-C78-E78 -> 135 | G78: =COUNTIFS($G:$G,"DC",$K:$K,B78,$I:$I,$U$45,$L:$L,"<3.5")-F78-C78-D78-E78 -> 341 | H78: =COUNTIFS($G:$G,"DC",$K:$K,B78,$I:$I,$U$45,$L:$L,"<=4")-F78-C78-D78-G78-E78 -> 118 | I78: =H78-G78 -> 743 | J78: =K78/I78 -> 19.487214
B79: HK 2 | C79: =COUNTIFS($G:$G,"DC",$N:$N,B79,$I:$I,$U$45,$O:$O,"<1") -> 82 | D79: =COUNTIFS($G:$G,"DC",$N:$N,B79,$I:$I,$U$45,$O:$O,"<1.5")-C79 -> 31 | E79: =COUNTIFS($G:$G,"DC",$N:$N,B79,$I:$I,$U$45,$O:$O,"<2")-D79-C79 -> 41 | F79: =COUNTIFS($G:$G,"DC",$N:$N,B79,$I:$I,$U$45,$O:$O,"<2.5")-E79-C79-D79 -> 86 | G79: =COUNTIFS($G:$G,"DC",$N:$N,B79,$I:$I,$U$45,$O:$O,"<3.5")-F79-C79-D79-E79 -> 269 | H79: =COUNTIFS($G:$G,"DC",$N:$N,B79,$I:$I,$U$45,$O:$O,"<=4")-F79-C79-D79-G79-E79 -> 228 | I79: =H79-G79 -> 737 | J79: =K79/I79 -> 17.295794
A84: Bảng 8.1. Thống kê điểm trung bình của người học theo tín chỉ
A85: NGÀNH XÂY DỰNG
A87: Năm học | B87: Học kỳ | C87: Số sinh viên đạt điểm trung bình (GPA) | I87: Tổng số sinh viên trong học kỳ | J87: Tỷ lệ số tín chỉ trong học kỳ/tổng số SV
C88: theo thang điểm tín chỉ
C89: GPA<1 | D89: 1≤GPA<1.5 | E89: 1.5≤GPA<2 | F89: 2≤GPA<2.5 | G89: 2.5≤GPA<3.5 | H89: 3.5≤GPA<4.0
A90: 2014-2015 | B90: HK 1 | C90: =COUNTIFS($G:$G,"DC",$K:$K,B90,$I:$I,$U$60,$L:$L,"<1") -> 147 | D90: =COUNTIFS($G:$G,"DC",$K:$K,B90,$I:$I,$U$60,$L:$L,"<1.5")-C90 -> 220 | E90: =COUNTIFS($G:$G,"DC",$K:$K,B90,$I:$I,$U$60,$L:$L,"<2")-C90-D90 -> 277 | F90: =COUNTIFS($G:$G,"DC",$K:$K,B90,$I:$I,$U$60,$L:$L,"<2.5")-D90-C90-E90 -> 186 | G90: =COUNTIFS($G:$G,"DC",$K:$K,B90,$I:$I,$U$60,$L:$L,"<3.5")-F90-C90-D90-E90 -> 271 | H90: =COUNTIFS($G:$G,"DC",$K:$K,B90,$I:$I,$U$60,$L:$L,"<=4")-F90-C90-D90-G90-E90 -> 22 | I90: =H90-G90 -> 1123 | J90: =K90/I90 -> 17.257346
B91: HK 2 | C91: =COUNTIFS($G:$G,"DC",$N:$N,B91,$I:$I,$U$60,$O:$O,"<1") -> 122 | D91: =COUNTIFS($G:$G,"DC",$N:$N,B91,$I:$I,$U$60,$O:$O,"<1.5")-C91 -> 145 | E91: =COUNTIFS($G:$G,"DC",$N:$N,B91,$I:$I,$U$60,$O:$O,"<2")-D91-C91 -> 212 | F91: =COUNTIFS($G:$G,"DC",$N:$N,B91,$I:$I,$U$60,$O:$O,"<2.5")-E91-C91-D91 -> 233 | G91: =COUNTIFS($G:$G,"DC",$N:$N,B91,$I:$I,$U$60,$O:$O,"<3.5")-F91-C91-D91-E91 -> 227 | H91: =COUNTIFS($G:$G,"DC",$N:$N,B91,$I:$I,$U$60,$O:$O,"<=4")-F91-C91-D91-G91-E91 -> 151 | I91: =H91-G91 -> 1090 | J91: =K91/I91 -> 17.344954
A92: 2015-2016 | B92: HK 1 | C92: =COUNTIFS($G:$G,"DC",$K:$K,B92,$I:$I,$U$60,$L:$L,"<1") -> 156 | D92: =COUNTIFS($G:$G,"DC",$K:$K,B92,$I:$I,$U$60,$L:$L,"<1.5")-C92 -> 180 | E92: =COUNTIFS($G:$G,"DC",$K:$K,B92,$I:$I,$U$60,$L:$L,"<2")-C92-D92 -> 230 | F92: =COUNTIFS($G:$G,"DC",$K:$K,B92,$I:$I,$U$60,$L:$L,"<2.5")-D92-C92-E92 -> 242 | G92: =COUNTIFS($G:$G,"DC",$K:$K,B92,$I:$I,$U$60,$L:$L,"<3.5")-F92-C92-D92-E92 -> 302 | H92: =COUNTIFS($G:$G,"DC",$K:$K,B92,$I:$I,$U$60,$L:$L,"<=4")-F92-C92-D92-G92-E92 -> 47 | I92: =H92-G92 -> 1157 | J92: =K92/I92 -> 18.72083
B93: HK 2 | C93: =COUNTIFS($G:$G,"DC",$N:$N,B93,$I:$I,$U$60,$O:$O,"<1") -> 167 | D93: =COUNTIFS($G:$G,"DC",$N:$N,B93,$I:$I,$U$60,$O:$O,"<1.5")-C93 -> 154 | E93: =COUNTIFS($G:$G,"DC",$N:$N,B93,$I:$I,$U$60,$O:$O,"<2")-D93-C93 -> 213 | F93: =COUNTIFS($G:$G,"DC",$N:$N,B93,$I:$I,$U$60,$O:$O,"<2.5")-E93-C93-D93 -> 216 | G93: =COUNTIFS($G:$G,"DC",$N:$N,B93,$I:$I,$U$60,$O:$O,"<3.5")-F93-C93-D93-E93 -> 268 | H93: =COUNTIFS($G:$G,"DC",$N:$N,B93,$I:$I,$U$60,$O:$O,"<=4")-F93-C93-D93-G93-E93 -> 105 | I93: =H93-G93 -> 1123 | J93: =K93/I93 -> 17.626892
A94: 2016-2017 | B94: HK 1 | C94: =COUNTIFS($G:$G,"DC",$K:$K,B94,$I:$I,$U$60,$L:$L,"<1") -> 142 | D94: =COUNTIFS($G:$G,"DC",$K:$K,B94,$I:$I,$U$60,$L:$L,"<1.5")-C94 -> 187 | E94: =COUNTIFS($G:$G,"DC",$K:$K,B94,$I:$I,$U$60,$L:$L,"<2")-C94-D94 -> 203 | F94: =COUNTIFS($G:$G,"DC",$K:$K,B94,$I:$I,$U$60,$L:$L,"<2.5")-D94-C94-E94 -> 201 | G94: =COUNTIFS($G:$G,"DC",$K:$K,B94,$I:$I,$U$60,$L:$L,"<3.5")-F94-C94-D94-E94 -> 395 | H94: =COUNTIFS($G:$G,"DC",$K:$K,B94,$I:$I,$U$60,$L:$L,"<=4")-F94-C94-D94-G94-E94 -> 47 | I94: =H94-G94 -> 1175 | J94: =K94/I94 -> 17.597447
B95: HK 2 | C95: =COUNTIFS($G:$G,"DC",$N:$N,B95,$I:$I,$U$60,$O:$O,"<1") -> 108 | D95: =COUNTIFS($G:$G,"DC",$N:$N,B95,$I:$I,$U$60,$O:$O,"<1.5")-C95 -> 124 | E95: =COUNTIFS($G:$G,"DC",$N:$N,B95,$I:$I,$U$60,$O:$O,"<2")-D95-C95 -> 179 | F95: =COUNTIFS($G:$G,"DC",$N:$N,B95,$I:$I,$U$60,$O:$O,"<2.5")-E95-C95-D95 -> 228 | G95: =COUNTIFS($G:$G,"DC",$N:$N,B95,$I:$I,$U$60,$O:$O,"<3.5")-F95-C95-D95-E95 -> 342 | H95: =COUNTIFS($G:$G,"DC",$N:$N,B95,$I:$I,$U$60,$O:$O,"<=4")-F95-C95-D95-G95-E95 -> 164 | I95: =H95-G95 -> 1145 | J95: =K95/I95 -> 17.217467
A96: 2017-2018 | B96: HK 1 | C96: =COUNTIFS($G:$G,"DC",$K:$K,B96,$I:$I,$U$60,$L:$L,"<1") -> 119 | D96: =COUNTIFS($G:$G,"DC",$K:$K,B96,$I:$I,$U$60,$L:$L,"<1.5")-C96 -> 96 | E96: =COUNTIFS($G:$G,"DC",$K:$K,B96,$I:$I,$U$60,$L:$L,"<2")-C96-D96 -> 134 | F96: =COUNTIFS($G:$G,"DC",$K:$K,B96,$I:$I,$U$60,$L:$L,"<2.5")-D96-C96-E96 -> 168 | G96: =COUNTIFS($G:$G,"DC",$K:$K,B96,$I:$I,$U$60,$L:$L,"<3.5")-F96-C96-D96-E96 -> 450 | H96: =COUNTIFS($G:$G,"DC",$K:$K,B96,$I:$I,$U$60,$L:$L,"<=4")-F96-C96-D96-G96-E96 -> 55 | I96: =H96-G96 -> 1022 | J96: =K96/I96 -> 18.449119
B97: HK 2 | C97: =COUNTIFS($G:$G,"DC",$N:$N,B97,$I:$I,$U$60,$O:$O,"<1") -> 80 | D97: =COUNTIFS($G:$G,"DC",$N:$N,B97,$I:$I,$U$60,$O:$O,"<1.5")-C97 -> 56 | E97: =COUNTIFS($G:$G,"DC",$N:$N,B97,$I:$I,$U$60,$O:$O,"<2")-D97-C97 -> 115 | F97: =COUNTIFS($G:$G,"DC",$N:$N,B97,$I:$I,$U$60,$O:$O,"<2.5")-E97-C97-D97 -> 183 | G97: =COUNTIFS($G:$G,"DC",$N:$N,B97,$I:$I,$U$60,$O:$O,"<3.5")-F97-C97-D97-E97 -> 357 | H97: =COUNTIFS($G:$G,"DC",$N:$N,B97,$I:$I,$U$60,$O:$O,"<=4")-F97-C97-D97-G97-E97 -> 189 | I97: =H97-G97 -> 980 | J97: =K97/I97 -> 17.937755
A98: 2018-2019 | B98: HK 1 | C98: =COUNTIFS($G:$G,"DC",$K:$K,B98,$I:$I,$U$60,$L:$L,"<1") -> 92 | D98: =COUNTIFS($G:$G,"DC",$K:$K,B98,$I:$I,$U$60,$L:$L,"<1.5")-C98 -> 81 | E98: =COUNTIFS($G:$G,"DC",$K:$K,B98,$I:$I,$U$60,$L:$L,"<2")-C98-D98 -> 110 | F98: =COUNTIFS($G:$G,"DC",$K:$K,B98,$I:$I,$U$60,$L:$L,"<2.5")-D98-C98-E98 -> 124 | G98: =COUNTIFS($G:$G,"DC",$K:$K,B98,$I:$I,$U$60,$L:$L,"<3.5")-F98-C98-D98-E98 -> 330 | H98: =COUNTIFS($G:$G,"DC",$K:$K,B98,$I:$I,$U$60,$L:$L,"<=4")-F98-C98-D98-G98-E98 -> 39 | I98: =H98-G98 -> 776 | J98: =K98/I98 -> 18.510309
B99: HK 2 | C99: =COUNTIFS($G:$G,"DC",$N:$N,B99,$I:$I,$U$60,$O:$O,"<1") -> 116 | D99: =COUNTIFS($G:$G,"DC",$N:$N,B99,$I:$I,$U$60,$O:$O,"<1.5")-C99 -> 46 | E99: =COUNTIFS($G:$G,"DC",$N:$N,B99,$I:$I,$U$60,$O:$O,"<2")-D99-C99 -> 92 | F99: =COUNTIFS($G:$G,"DC",$N:$N,B99,$I:$I,$U$60,$O:$O,"<2.5")-E99-C99-D99 -> 134 | G99: =COUNTIFS($G:$G,"DC",$N:$N,B99,$I:$I,$U$60,$O:$O,"<3.5")-F99-C99-D99-E99 -> 215 | H99: =COUNTIFS($G:$G,"DC",$N:$N,B99,$I:$I,$U$60,$O:$O,"<=4")-F99-C99-D99-G99-E99 -> 155 | I99: =H99-G99 -> 758 | J99: =K99/I99 -> 18.766491
A104: Bảng 8.1. Thống kê điểm trung bình của người học theo tín chỉ
A105: NGÀNH TRẮC ĐỊA
A107: Năm học | B107: Học kỳ | C107: Số sinh viên đạt điểm trung bình (GPA) | I107: Tổng số sinh viên trong học kỳ | J107: Tỷ lệ số tín chỉ trong học kỳ/tổng số SV
C108: theo thang điểm tín chỉ
C109: GPA<1 | D109: 1≤GPA<1.5 | E109: 1.5≤GPA<2 | F109: 2≤GPA<2.5 | G109: 2.5≤GPA<3.5 | H109: 3.5≤GPA<4.0
A110: 2014-2015 | B110: HK 1 | C110: 127 | D110: 206 | E110: 310 | F110: 341 | G110: 697 | H110: 129 | I110: 1810 | J110: 16.818785
B111: HK 2 | C111: 134 | D111: 164 | E111: 254 | F111: 324 | G111: 579 | H111: 326 | I111: 1781 | J111: 17.793936
A112: 2015-2016 | B112: HK 1 | C112: 107 | D112: 128 | E112: 178 | F112: 275 | G112: 750 | H112: 140 | I112: 1578 | J112: 13.726236
B113: HK 2 | C113: 134 | D113: 85 | E113: 147 | F113: 239 | G113: 586 | H113: 361 | I113: 1552 | J113: 17.778995
A114: 2016-2017 | B114: HK 1 | C114: 63 | D114: 49 | E114: 109 | F114: 195 | G114: 699 | H114: 196 | I114: 1156 | J114: 17.886678
B115: HK 2 | C115: 78 | D115: 65 | E115: 78 | F115: 152 | G115: 527 | H115: 387 | I115: 1287 | J115: 17.303807
A116: 2017-2018 | B116: HK 1 | C116: 58 | D116: 40 | E116: 70 | F116: 133 | G116: 567 | H116: 194 | I116: 1014 | J116: 18.594675
B117: HK 2 | C117: 79 | D117: 38 | E117: 39 | F117: 86 | G117: 361 | H117: 416 | I117: 1019 | J117: 18.683023
A118: 2018-2019 | B118: HK 1 | C118: 42 | D118: 21 | E118: 43 | F118: 78 | G118: 292 | H118: 161 | I118: 765 | J118: 18.776471
B119: HK 2 | C119: 85 | D119: 31 | E119: 35 | F119: 52 | G119: 169 | H119: 252 | I119: 624 | J119: 16.679487
A123: Bảng 8.1. Thống kê điểm trung bình của người học theo tín chỉ
A124: NGÀNH CÔNG NGHỆ THÔNG TIN
A126: Năm học | B126: Học kỳ | C126: Số sinh viên đạt điểm trung bình (GPA) | I126: Tổng số sinh viên trong học kỳ | J126: Tỷ lệ số tín chỉ trong học kỳ/tổng số SV
C127: theo thang điểm tín chỉ
C128: GPA<1 | D128: 1≤GPA<1.5 | E128: 1.5≤GPA<2 | F128: 2≤GPA<2.5 | G128: 2.5≤GPA<3.5 | H128: 3.5≤GPA<4.0
A129: 2014-2015 | B129: HK 1 | C129: =COUNTIFS($G:$G,"DC",$K:$K,B129,$I:$I,$U$86,$L:$L,"<1") -> 139 | D129: =COUNTIFS($G:$G,"DC",$K:$K,B129,$I:$I,$U$86,$L:$L,"<1.5")-C129 -> 190 | E129: =COUNTIFS($G:$G,"DC",$K:$K,B129,$I:$I,$U$86,$L:$L,"<2")-C129-D129 -> 282 | F129: =COUNTIFS($G:$G,"DC",$K:$K,B129,$I:$I,$U$86,$L:$L,"<2.5")-D129-C129-E129 -> 244 | G129: =COUNTIFS($G:$G,"DC",$K:$K,B129,$I:$I,$U$86,$L:$L,"<3.5")-F129-C129-D129-E129 -> 413 | H129: =COUNTIFS($G:$G,"DC",$K:$K,B129,$I:$I,$U$86,$L:$L,"<=4")-F129-C129-D129-G129-E129 -> 60 | I129: =H129-G129 -> 1328 | J129: =K129/I129 -> 17.34262
B130: HK 2 | C130: =COUNTIFS($G:$G,"DC",$N:$N,B130,$I:$I,$U$86,$O:$O,"<1") -> 137 | D130: =COUNTIFS($G:$G,"DC",$N:$N,B130,$I:$I,$U$86,$O:$O,"<1.5")-C130 -> 117 | E130: =COUNTIFS($G:$G,"DC",$N:$N,B130,$I:$I,$U$86,$O:$O,"<2")-D130-C130 -> 221 | F130: =COUNTIFS($G:$G,"DC",$N:$N,B130,$I:$I,$U$86,$O:$O,"<2.5")-E130-C130-D130 -> 257 | G130: =COUNTIFS($G:$G,"DC",$N:$N,B130,$I:$I,$U$86,$O:$O,"<3.5")-F130-C130-D130-E130 -> 374 | H130: =COUNTIFS($G:$G,"DC",$N:$N,B130,$I:$I,$U$86,$O:$O,"<=4")-F130-C130-D130-G130-E130 -> 164 | I130: =H130-G130 -> 1270 | J130: =K130/I130 -> 17.944882
A131: 2015-2016 | B131: HK 1 | C131: =COUNTIFS($G:$G,"DC",$K:$K,B131,$I:$I,$U$86,$L:$L,"<1") -> 166 | D131: =COUNTIFS($G:$G,"DC",$K:$K,B131,$I:$I,$U$86,$L:$L,"<1.5")-C131 -> 166 | E131: =COUNTIFS($G:$G,"DC",$K:$K,B131,$I:$I,$U$86,$L:$L,"<2")-C131-D131 -> 247 | F131: =COUNTIFS($G:$G,"DC",$K:$K,B131,$I:$I,$U$86,$L:$L,"<2.5")-D131-C131-E131 -> 264 | G131: =COUNTIFS($G:$G,"DC",$K:$K,B131,$I:$I,$U$86,$L:$L,"<3.5")-F131-C131-D131-E131 -> 473 | H131: =COUNTIFS($G:$G,"DC",$K:$K,B131,$I:$I,$U$86,$L:$L,"<=4")-F131-C131-D131-G131-E131 -> 112 | I131: =H131-G131 -> 1428 | J131: =K131/I131 -> 17.581232
...

Sheet B9. SV Tot nghiep
A1: Bảng 9. Thống kê tỉ lệ sinh viên tốt nghiệp, thôi học của CTĐT Ngành KT Mỏ
A2: (cho chương trình đào tạo 05 năm)
A4: Khóa | B4: Tổng số sinh viên | C4: Tỷ lệ (%) sinh viên tốt nghiệp trong | F4: Tỷ lệ (%) sinh viên thôi học sau
C5: 4 năm (trước hạn) | D5: 5 năm (đúng hạn) | E5: > 5 năm (quá hạn) | F5: Năm 1 | G5: Năm 2 | H5: Năm 3 | I5: Năm 4 | J5: Năm 5 | K5: Tổng
A6: K55(2010-2015) | B6: 289 | D6: 202 | E6: 44 | F6: 11 | G6: 12 | H6: 7 | I6: 1 | J6: 5 | K6: =SUM(F6:J6) -> 36
C7: =C6/$B$6 -> 0 | D7: =D6/$B$6 -> 0.69896194 | E7: =E6/$B$6 -> 0.15224913 | F7: =F6/$B$6 -> 0.038062284 | G7: =G6/$B$6 -> 0.041522491 | H7: =H6/$B$6 -> 0.024221453 | I7: =I6/$B$6 -> 0.0034602076 | J7: =J6/$B$6 -> 0.017301038 | K7: =K6/$B$6 -> 0.12456747
A8: K56(2011-2016) | B8: 413 | C8: 1 | D8: 327 | E8: 18 | F8: 12 | G8: 21 | H8: 11 | I8: 5 | J8: 2 | K8: =SUM(F8:J8) -> 51
C9: =C8/$B$8 -> 0.0024213075 | D9: =D8/$B$8 -> 0.79176755 | E9: =E8/$B$8 -> 0.043583535 | F9: =F8/$B$8 -> 0.02905569 | G9: =G8/$B$8 -> 0.050847458 | H9: =H8/$B$8 -> 0.026634383 | I9: =I8/$B$8 -> 0.012106538 | J9: =J8/$B$8 -> 0.004842615 | K9: =K8/$B$8 -> 0.12348668
A10: K57(2012-2017) | B10: 317 | D10: 171 | E10: 57 | F10: 6 | G10: 35 | H10: 12 | I10: 3 | J10: 0 | K10: =SUM(F10:J10) -> 56
C11: =C10/$B$10 -> 0 | D11: =D10/$B$10 -> 0.53943218 | E11: =E10/$B$10 -> 0.17981073 | F11: =F10/$B$10 -> 0.018927445 | G11: =G10/$B$10 -> 0.11041009 | H11: =H10/$B$10 -> 0.03785489 | I11: =I10/$B$10 -> 0.0094637224 | J11: =J10/$B$10 -> 0 | K11: =K10/$B$10 -> 0.17665615
A12: K58(2013-2018) | B12: 335 | C12: 3 | D12: 201 | E12: 15 | F12: 21 | G12: 40 | H12: 9 | I12: 0 | J12: 0 | K12: =SUM(F12:J12) -> 70
C13: =C12/$B$12 -> 0.0089552239 | D13: =D12/$B$12 -> 0.6 | E13: =E12/$B$12 -> 0.044776119 | F13: =F12/$B$12 -> 0.062686567 | G13: =G12/$B$12 -> 0.11940299 | H13: =H12/$B$12 -> 0.026865672 | I13: =I12/$B$12 -> 0 | J13: =J12/$B$12 -> 0 | K13: =K12/$B$12 -> 0.20895522
A14: K59(2014-2019) | B14: 291 | C14: 3 | D14: 160 | F14: 14 | G14: 24 | H14: 0 | I14: 0 | J14: 0 | K14: =SUM(F14:J14) -> 38
C15: =C14/$B$14 -> 0.010309278 | D15: =D14/$B$14 -> 0.54982818 | E15: =E14/$B$14 -> 0 | F15: =F14/$B$14 -> 0.048109966 | G15: =G14/$B$14 -> 0.082474227 | H15: =H14/$B$14 -> 0 | I15: =I14/$B$14 -> 0 | J15: =J14/$B$14 -> 0 | K15: =K14/$B$14 -> 0.13058419
A19: Bảng 9. Thống kê tỉ lệ sinh viên tốt nghiệp, thôi học của CTĐT Ngành KT Tuyển khoáng
A20: (cho chương trình đào tạo 05 năm)
A22: Khóa | B22: Tổng số sinh viên | C22: Tỷ lệ (%) sinh viên tốt nghiệp trong | F22: Tỷ lệ (%) sinh viên thôi học sau
C23: 4 năm (trước hạn) | D23: 5 năm (đúng hạn) | E23: > 5 năm (quá hạn) | F23: Năm 1 | G23: Năm 2 | H23: Năm 3 | I23: Năm 4 | J23: Năm 5 | K23: Tổng
A24: K55(2010-2015) | B24: 72 | D24: 45 | E24: 8 | F24: 0 | G24: 4 | H24: 1 | I24: 1 | J24: 1 | K24: =SUM(F24:J24) -> 7
C25: =C24/$B$24 -> 0 | D25: =D24/$B$24 -> 0.625 | E25: =E24/$B$24 -> 0.11111111 | F25: =F24/$B$24 -> 0 | G25: =G24/$B$24 -> 0.055555556 | H25: =H24/$B$24 -> 0.013888889 | I25: =I24/$B$24 -> 0.013888889 | J25: =J24/$B$24 -> 0.013888889 | K25: =K24/$B$24 -> 0.097222222
A26: K56(2011-2016) | B26: 53 | D26: 37 | E26: 1 | F26: 1 | G26: 5 | H26: 2 | I26: 2 | J26: 0 | K26: =SUM(F26:J26) -> 10
C27: =C26/$B$26 -> 0 | D27: =D26/$B$26 -> 0.69811321 | E27: =E26/$B$26 -> 0.018867925 | F27: =F26/$B$26 -> 0.018867925 | G27: =G26/$B$26 -> 0.094339623 | H27: =H26/$B$26 -> 0.037735849 | I27: =I26/$B$26 -> 0.037735849 | J27: =J26/$B$26 -> 0 | K27: =K26/$B$26 -> 0.18867925
A28: K57(2012-2017) | B28: 101 | D28: 55 | E28: 15 | F28: 1 | G28: 12 | H28: 3 | I28: 2 | J28: 0 | K28: =SUM(F28:J28) -> 18
C29: =C28/$B$28 -> 0 | D29: =D28/$B$28 -> 0.54455446 | E29: =E28/$B$28 -> 0.14851485 | F29: =F28/$B$28 -> 0.0099009901 | G29: =G28/$B$28 -> 0.11881188 | H29: =H28/$B$28 -> 0.02970297 | I29: =I28/$B$28 -> 0.01980198 | J29: =J28/$B$28 -> 0 | K29: =K28/$B$28 -> 0.17821782
A30: K58(2013-2018) | B30: 106 | D30: 75 | E30: 1 | F30: 5 | G30: 10 | H30: 0 | I30: 1 | J30: 0 | K30: =SUM(F30:J30) -> 16
C31: =C30/$B$30 -> 0 | D31: =D30/$B$30 -> 0.70754717 | E31: =E30/$B$30 -> 0.0094339623 | F31: =F30/$B$30 -> 0.047169811 | G31: =G30/$B$30 -> 0.094339623 | H31: =H30/$B$30 -> 0 | I31: =I30/$B$30 -> 0.0094339623 | J31: =J30/$B$30 -> 0 | K31: =K30/$B$30 -> 0.1509434
A32: K59(2014-2019) | B32: 146 | D32: 97 | F32: 6 | G32: 9 | H32: 0 | I32: 1 | J32: 0 | K32: =SUM(F32:J32) -> 16
C33: =C32/$B$32 -> 0 | D33: =D32/$B$32 -> 0.66438356 | E33: =E32/$B$32 -> 0 | F33: =F32/$B$32 -> 0.04109589 | G33: =G32/$B$32 -> 0.061643836 | H33: =H32/$B$32 -> 0 | I33: =I32/$B$32 -> 0.0068493151 | J33: =J32/$B$32 -> 0 | K33: =K32/$B$32 -> 0.10958904
A35: Bảng 9. Thống kê tỉ lệ sinh viên tốt nghiệp, thôi học của CTĐT Ngành Trắc địa
A36: (cho chương trình đào tạo 05 năm)
A38: Khóa | B38: Tổng số sinh viên | C38: Tỷ lệ (%) sinh viên tốt nghiệp trong | F38: Tỷ lệ (%) sinh viên thôi học sau
C39: 4 năm (trước hạn) | D39: 5 năm (đúng hạn) | E39: > 5 năm (quá hạn) | F39: Năm 1 | G39: Năm 2 | H39: Năm 3 | I39: Năm 4 | J39: Năm 5 | K39: Tổng
A40: K55(2010-2015) | B40: 368 | D40: 241 | E40: 59 | F40: 10 | G40: 17 | H40: 9 | I40: 4 | J40: 0 | K40: =SUM(F40:J40) -> 40
C41: =C40/$B$40 -> 0 | D41: =D40/$B$40 -> 0.6548913 | E41: =E40/$B$40 -> 0.16032609 | F41: =F40/$B$40 -> 0.027173913 | G41: =G40/$B$40 -> 0.046195652 | H41: =H40/$B$40 -> 0.024456522 | I41: =I40/$B$40 -> 0.010869565 | J41: =J40/$B$40 -> 0 | K41: =K40/$B$40 -> 0.10869565
A42: K56(2011-2016) | B42: 416 | C42: 1 | D42: 269 | E42: 9 | F42: 13 | G42: 49 | H42: 15 | I42: 8 | J42: 0 | K42: =SUM(F42:J42) -> 85
C43: =C42/$B$42 -> 0.0024038462 | D43: =D42/$B$42 -> 0.64663462 | E43: =E42/$B$42 -> 0.021634615 | F43: =F42/$B$42 -> 0.03125 | G43: =G42/$B$42 -> 0.11778846 | H43: =H42/$B$42 -> 0.036057692 | I43: =I42/$B$42 -> 0.019230769 | J43: =J42/$B$42 -> 0 | K43: =K42/$B$42 -> 0.20432692
A44: K57(2012-2017) | B44: 354 | C44: 1 | D44: 208 | E44: 43 | F44: 8 | G44: 32 | H44: 12 | I44: 3 | J44: 0 | K44: =SUM(F44:J44) -> 55
C45: =C44/$B$44 -> 0.0028248588 | D45: =D44/$B$44 -> 0.58757062 | E45: =E44/$B$44 -> 0.12146893 | F45: =F44/$B$44 -> 0.02259887 | G45: =G44/$B$44 -> 0.09039548 | H45: =H44/$B$44 -> 0.033898305 | I45: =I44/$B$44 -> 0.0084745763 | J45: =J44/$B$44 -> 0 | K45: =K44/$B$44 -> 0.15536723
A46: K58(2013-2018) | B46: 606 | C46: 1 | D46: 354 | E46: 38 | F46: 25 | G46: 71 | H46: 10 | I46: 0 | J46: 0 | K46: =SUM(F46:J46) -> 106
C47: =C46/$B$46 -> 0.001650165 | D47: =D46/$B$46 -> 0.58415842 | E47: =E46/$B$46 -> 0.062706271 | F47: =F46/$B$46 -> 0.041254125 | G47: =G46/$B$46 -> 0.11716172 | H47: =H46/$B$46 -> 0.01650165 | I47: =I46/$B$46 -> 0 | J47: =J46/$B$46 -> 0 | K47: =K46/$B$46 -> 0.17491749
A48: K59(2014-2019) | B48: 390 | C48: 2 | D48: 196 | F48: 17 | G48: 19 | H48: 0 | I48: 3 | J48: 0 | K48: =SUM(F48:J48) -> 39
C49: =C48/$B$48 -> 0.0051282051 | D49: =D48/$B$48 -> 0.5025641 | E49: =E48/$B$48 -> 0 | F49: =F48/$B$48 -> 0.043589744 | G49: =G48/$B$48 -> 0.048717949 | H49: =H48/$B$48 -> 0 | I49: =I48/$B$48 -> 0.0076923077 | J49: =J48/$B$48 -> 0 | K49: =K48/$B$48 -> 0.1
A53: Bảng 9. Thống kê tỉ lệ sinh viên tốt nghiệp, thôi học của CTĐT Ngành KT Dầu khí
A54: (cho chương trình đào tạo 05 năm)
A56: Khóa | B56: Tổng số sinh viên | C56: Tỷ lệ (%) sinh viên tốt nghiệp trong | F56: Tỷ lệ (%) sinh viên thôi học sau
C57: 4 năm (trước hạn) | D57: 5 năm (đúng hạn) | E57: > 5 năm (quá hạn) | F57: Năm 1 | G57: Năm 2 | H57: Năm 3 | I57: Năm 4 | J57: Năm 5 | K57: Tổng
A58: K55(2010-2015) | B58: 325 | D58: 243 | E58: 30 | F58: 25 | G58: 7 | H58: 9 | I58: 6 | J58: 2 | K58: =SUM(F58:J58) -> 49
C59: =C58/$B$58 -> 0 | D59: =D58/$B$58 -> 0.74769231 | E59: =E58/$B$58 -> 0.092307692 | F59: =F58/$B$58 -> 0.076923077 | G59: =G58/$B$58 -> 0.021538462 | H59: =H58/$B$58 -> 0.027692308 | I59: =I58/$B$58 -> 0.018461538 | J59: =J58/$B$58 -> 0.0061538462 | K59: =K58/$B$58 -> 0.15076923
A60: K56(2011-2016) | B60: 308 | C60: 4 | D60: 244 | E60: 18 | F60: 4 | G60: 14 | H60: 9 | I60: 4 | J60: 0 | K60: =SUM(F60:J60) -> 31
C61: =C60/$B$60 -> 0.012987013 | D61: =D60/$B$60 -> 0.79220779 | E61: =E60/$B$60 -> 0.058441558 | F61: =F60/$B$60 -> 0.012987013 | G61: =G60/$B$60 -> 0.045454545 | H61: =H60/$B$60 -> 0.029220779 | I61: =I60/$B$60 -> 0.012987013 | J61: =J60/$B$60 -> 0 | K61: =K60/$B$60 -> 0.10064935
A62: K57(2012-2017) | B62: 355 | C62: 1 | D62: 227 | E62: 49 | F62: 10 | G62: 27 | H62: 17 | I62: 3 | J62: 0 | K62: =SUM(F62:J62) -> 57
C63: =C62/$B$62 -> 0.0028169014 | D63: =D62/$B$62 -> 0.63943662 | E63: =E62/$B$62 -> 0.13802817 | F63: =F62/$B$62 -> 0.028169014 | G63: =G62/$B$62 -> 0.076056338 | H63: =H62/$B$62 -> 0.047887324 | I63: =I62/$B$62 -> 0.0084507042 | J63: =J62/$B$62 -> 0 | K63: =K62/$B$62 -> 0.16056338
A64: K58(2013-2018) | B64: 302 | C64: 3 | D64: 210 | E64: 20 | F64: 17 | G64: 25 | H64: 4 | I64: 1 | J64: 2 | K64: =SUM(F64:J64) -> 49
C65: =C64/$B$64 -> 0.0099337748 | D65: =D64/$B$64 -> 0.69536424 | E65: =E64/$B$64 -> 0.066225166 | F65: =F64/$B$64 -> 0.056291391 | G65: =G64/$B$64 -> 0.082781457 | H65: =H64/$B$64 -> 0.013245033 | I65: =I64/$B$64 -> 0.0033112583 | J65: =J64/$B$64 -> 0.0066225166 | K65: =K64/$B$64 -> 0.16225166
A66: K59(2014-2019) | B66: 276 | D66: 192 | F66: 7 | G66: 9 | H66: 1 | I66: 6 | J66: 1 | K66: =SUM(F66:J66) -> 24
C67: =C66/$B$66 -> 0 | D67: =D66/$B$66 -> 0.69565217 | E67: =E66/$B$66 -> 0 | F67: =F66/$B$66 -> 0.025362319 | G67: =G66/$B$66 -> 0.032608696 | H67: =H66/$B$66 -> 0.0036231884 | I67: =I66/$B$66 -> 0.02173913 | J67: =J66/$B$66 -> 0.0036231884 | K67: =K66/$B$66 -> 0.086956522
A71: Bảng 9. Thống kê tỉ lệ sinh viên tốt nghiệp, thôi học của CTĐT Ngành KT Môi Trường
A72: (cho chương trình đào tạo 05 năm)
A74: Khóa | B74: Tổng số sinh viên | C74: Tỷ lệ (%) sinh viên tốt nghiệp trong | F74: Tỷ lệ (%) sinh viên thôi học sau
C75: 4 năm (trước hạn) | D75: 5 năm (đúng hạn) | E75: > 5 năm (quá hạn) | F75: Năm 1 | G75: Năm 2 | H75: Năm 3 | I75: Năm 4 | J75: Năm 5 | K75: Tổng
A76: K55(2010-2015) | B76: 46 | D76: 21 | E76: 7 | F76: 1 | G76: 2 | H76: 0 | I76: 0 | J76: 0 | K76: =SUM(F76:J76) -> 3
C77: =C76/$B$76 -> 0 | D77: =D76/$B$76 -> 0.45652174 | E77: =E76/$B$76 -> 0.15217391 | F77: =F76/$B$76 -> 0.02173913 | G77: =G76/$B$76 -> 0.043478261 | H77: =H76/$B$76 -> 0 | I77: =I76/$B$76 -> 0 | J77: =J76/$B$76 -> 0 | K77: =K76/$B$76 -> 0.065217391
A78: K56(2011-2016) | B78: 84 | D78: 65 | E78: 4 | F78: 0 | G78: 7 | H78: 3 | I78: 1 | J78: 0 | K78: =SUM(F78:J78) -> 11
C79: =C78/$B$78 -> 0 | D79: =D78/$B$78 -> 0.77380952 | E79: =E78/$B$78 -> 0.047619048 | F79: =F78/$B$78 -> 0 | G79: =G78/$B$78 -> 0.083333333 | H79: =H78/$B$78 -> 0.035714286 | I79: =I78/$B$78 -> 0.011904762 | J79: =J78/$B$78 -> 0 | K79: =K78/$B$78 -> 0.13095238
A80: K57(2012-2017) | B80: 125 | D80: 92 | E80: 19 | F80: 5 | G80: 5 | H80: 1 | I80: 0 | J80: 0 | K80: =SUM(F80:J80) -> 11
C81: =C80/$B$80 -> 0 | D81: =D80/$B$80 -> 0.736 | E81: =E80/$B$80 -> 0.152 | F81: =F80/$B$80 -> 0.04 | G81: =G80/$B$80 -> 0.04 | H81: =H80/$B$80 -> 0.008 | I81: =I80/$B$80 -> 0 | J81: =J80/$B$80 -> 0 | K81: =K80/$B$80 -> 0.088
A82: K58(2013-2018) | B82: 176 | C82: 3 | D82: 144 | E82: 8 | F82: 6 | G82: 8 | H82: 1 | I82: 1 | J82: 0 | K82: =SUM(F82:J82) -> 16
C83: =C82/$B$82 -> 0.017045455 | D83: =D82/$B$82 -> 0.81818182 | E83: =E82/$B$82 -> 0.045454545 | F83: =F82/$B$82 -> 0.034090909 | G83: =G82/$B$82 -> 0.045454545 | H83: =H82/$B$82 -> 0.0056818182 | I83: =I82/$B$82 -> 0.0056818182 | J83: =J82/$B$82 -> 0 | K83: =K82/$B$82 -> 0.090909091
A84: K59(2014-2019) | B84: 254 | D84: 175 | F84: 2 | G84: 14 | H84: 1 | I84: 8 | J84: 0 | K84: =SUM(F84:J84) -> 25
C85: =C84/$B$84 -> 0 | D85: =D84/$B$84 -> 0.68897638 | E85: =E84/$B$84 -> 0 | F85: =F84/$B$84 -> 0.0078740157 | G85: =G84/$B$84 -> 0.05511811 | H85: =H84/$B$84 -> 0.0039370079 | I85: =I84/$B$84 -> 0.031496063 | J85: =J84/$B$84 -> 0 | K85: =K84/$B$84 -> 0.098425197
A89: Bảng 9. Thống kê tỉ lệ sinh viên tốt nghiệp, thôi học của CTĐT Ngành Xây dựng
A90: (cho chương trình đào tạo 05 năm)
A92: Khóa | B92: Tổng số sinh viên | C92: Tỷ lệ (%) sinh viên tốt nghiệp trong | F92: Tỷ lệ (%) sinh viên thôi học sau
C93: 4 năm (trước hạn) | D93: 5 năm (đúng hạn) | E93: > 5 năm (quá hạn) | F93: Năm 1 | G93: Năm 2 | H93: Năm 3 | I93: Năm 4 | J93: Năm 5 | K93: Tổng
A94: K55(2010-2015) | B94: 191 | D94: 117 | E94: 34 | F94: 1 | G94: 8 | H94: 6 | I94: 1 | J94: 1 | K94: =SUM(F94:J94) -> 17
C95: =C94/$B$94 -> 0 | D95: =D94/$B$94 -> 0.61256545 | E95: =E94/$B$94 -> 0.17801047 | F95: =F94/$B$94 -> 0.0052356021 | G95: =G94/$B$94 -> 0.041884817 | H95: =H94/$B$94 -> 0.031413613 | I95: =I94/$B$94 -> 0.0052356021 | J95: =J94/$B$94 -> 0.0052356021 | K95: =K94/$B$94 -> 0.089005236
A96: K56(2011-2016) | B96: 144 | D96: 103 | E96: 10 | F96: 4 | G96: 12 | H96: 4 | I96: 1 | J96: 0 | K96: =SUM(F96:J96) -> 21
C97: =C96/$B$96 -> 0 | D97: =D96/$B$96 -> 0.71527778 | E97: =E96/$B$96 -> 0.069444444 | F97: =F96/$B$96 -> 0.027777778 | G97: =G96/$B$96 -> 0.083333333 | H97: =H96/$B$96 -> 0.027777778 | I97: =I96/$B$96 -> 0.0069444444 | J97: =J96/$B$96 -> 0 | K97: =K96/$B$96 -> 0.14583333
A98: K57(2012-2017) | B98: 229 | D98: 127 | E98: 36 | F98: 3 | G98: 29 | H98: 7 | I98: 4 | J98: 0 | K98: =SUM(F98:J98) -> 43
C99: =C98/$B$98 -> 0 | D99: =D98/$B$98 -> 0.55458515 | E99: =E98/$B$98 -> 0.15720524 | F99: =F98/$B$98 -> 0.013100437 | G99: =G98/$B$98 -> 0.12663755 | H99: =H98/$B$98 -> 0.030567686 | I99: =I98/$B$98 -> 0.017467249 | J99: =J98/$B$98 -> 0 | K99: =K98/$B$98 -> 0.18777293
A100: K58(2013-2018) | B100: 384 | D100: 227 | E100: 22 | F100: 18 | G100: 44 | H100: 6 | I100: 0 | J100: 2 | K100: =SUM(F100:J100) -> 70
C101: =C100/$B$100 -> 0 | D101: =D100/$B$100 -> 0.59114583 | E101: =E100/$B$100 -> 0.057291667 | F101: =F100/$B$100 -> 0.046875 | G101: =G100/$B$100 -> 0.11458333 | H101: =H100/$B$100 -> 0.015625 | I101: =I100/$B$100 -> 0 | J101: =J100/$B$100 -> 0.0052083333 | K101: =K100/$B$100 -> 0.18229167
A102: K59(2014-2019) | B102: 304 | C102: 3 | D102: 163 | F102: 16 | G102: 21 | H102: 0 | I102: 2 | J102: 0 | K102: =SUM(F102:J102) -> 39
C103: =C102/$B$102 -> 0.0098684211 | D103: =D102/$B$102 -> 0.53618421 | E103: =E102/$B$102 -> 0 | F103: =F102/$B$102 -> 0.052631579 | G103: =G102/$B$102 -> 0.069078947 | H103: =H102/$B$102 -> 0 | I103: =I102/$B$102 -> 0.0065789474 | J103: =J102/$B$102 -> 0 | K103: =K102/$B$102 -> 0.12828947
A107: Bảng 9. Thống kê tỉ lệ sinh viên tốt nghiệp, thôi học của CTĐT Ngành Công nghệ TT
A108: (cho chương trình đào tạo 05 năm)
A110: Khóa | B110: Tổng số sinh viên | C110: Tỷ lệ (%) sinh viên tốt nghiệp trong | F110: Tỷ lệ (%) sinh viên thôi học sau
C111: 4 năm (trước hạn) | D111: 5 năm (đúng hạn) | E111: > 5 năm (quá hạn) | F111: Năm 1 | G111: Năm 2 | H111: Năm 3 | I111: Năm 4 | J111: Năm 5 | K111: Tổng
A112: K55(2010-2015) | B112: 234 | D112: 135 | E112: 27 | F112: 6 | G112: 20 | H112: 8 | I112: 6 | J112: 2 | K112: =SUM(F112:J112) -> 42
C113: =C112/$B$112 -> 0 | D113: =D112/$B$112 -> 0.57692308 | E113: =E112/$B$112 -> 0.11538462 | F113: =F112/$B$112 -> 0.025641026 | G113: =G112/$B$112 -> 0.085470085 | H113: =H112/$B$112 -> 0.034188034 | I113: =I112/$B$112 -> 0.025641026 | J113: =J112/$B$112 -> 0.0085470085 | K113: =K112/$B$112 -> 0.17948718
A114: K56(2011-2016) | B114: 274 | D114: 160 | E114: 9 | F114: 14 | G114: 44 | H114: 11 | I114: 2 | J114: 0 | K114: =SUM(F114:J114) -> 71
C115: =C114/$B$114 -> 0 | D115: =D114/$B$114 -> 0.58394161 | E115: =E114/$B$114 -> 0.032846715 | F115: =F114/$B$114 -> 0.051094891 | G115: =G114/$B$114 -> 0.16058394 | H115: =H114/$B$114 -> 0.040145985 | I115: =I114/$B$114 -> 0.0072992701 | J115: =J114/$B$114 -> 0 | K115: =K114/$B$114 -> 0.25912409
A116: K57(2012-2017) | B116: 276 | D116: 127 | E116: 44 | F116: 11 | G116: 47 | H116: 7 | I116: 1 | J116: 0 | K116: =SUM(F116:J116) -> 66
C117: =C116/$B$116 -> 0 | D117: =D116/$B$116 -> 0.46014493 | E117: =E116/$B$116 -> 0.15942029 | F117: =F116/$B$116 -> 0.039855072 | G117: =G116/$B$116 -> 0.17028986 | H117: =H116/$B$116 -> 0.025362319 | I117: =I116/$B$116 -> 0.0036231884 | J117: =J116/$B$116 -> 0 | K117: =K116/$B$116 -> 0.23913043
A118: K58(2013-2018) | B118: 413 | C118: 2 | D118: 193 | E118: 32 | F118: 27 | G118: 64 | H118: 5 | I118: 0 | J118: 4 | K118: =SUM(F118:J118) -> 100
C119: =C118/$B$118 -> 0.004842615 | D119: =D118/$B$118 -> 0.46731235 | E119: =E118/$B$118 -> 0.07748184 | F119: =F118/$B$118 -> 0.065375303 | G119: =G118/$B$118 -> 0.15496368 | H119: =H118/$B$118 -> 0.012106538 | I119: =I118/$B$118 -> 0 | J119: =J118/$B$118 -> 0.00968523 | K119: =K118/$B$118 -> 0.24213075
A120: K59(2014-2019) | B120: 429 | C120: 5 | D120: 147 | F120: 26 | G120: 37 | H120: 2 | I120: 24 | J120: 0 | K120: =SUM(F120:J120) -> 89
C121: =C120/$B$120 -> 0.011655012 | D121: =D120/$B$120 -> 0.34265734 | E121: =E120/$B$120 -> 0 | F121: =F120/$B$120 -> 0.060606061 | G121: =G120/$B$120 -> 0.086247086 | H121: =H120/$B$120 -> 0.0046620047 | I121: =I120/$B$120 -> 0.055944056 | J121: =J120/$B$120 -> 0 | K121: =K120/$B$120 -> 0.20745921

Sheet B10.1. Tình trạng VL
A1: Bảng 10.1*. Thống kê số lượng sinh viên khảo sát việc làm ngành Kĩ thuật mỏ
A3: Năm tốt nghiệp | C3: 2015(K55) | D3: 2016(K56) | E3: 2017(K57) | F3: 2018(K58) | G3: 2019(K59)
A4: Tổng số SV đầu vào | C4: 289 | D4: 413 | E4: 317 | F4: 335 | G4: 291
A5: Tổng số SV tốt nghiệp | C5: 246 | D5: 346 | E5: 228 | F5: 219 | G5: 163
A6: Tổng số SV tham gia khảo sát
A7: Tổng số phản hồi
A8: Tổng SV có việc làm
A9: Tổng SV có việc làm < 6 tháng
A10: Tổng SV có việc làm > 6 tháng -1 năm
A11: Tổng SV có việc làm > 1năm
A15: Bảng 10.1*. Thống kê số lượng sinh viên khảo sát việc làm ngành Kĩ thuật Tuyển khoáng
A17: Năm tốt nghiệp | C17: 2015(K55) | D17: 2016(K56) | E17: 2017(K57) | F17: 2018(K58) | G17: 2019(K59)
A18: Tổng số SV đầu vào | C18: 72 | D18: 53 | E18: 101 | F18: 106 | G18: 146
A19: Tổng số SV tốt nghiệp | C19: 53 | D19: 38 | E19: 70 | F19: 76 | G19: 97
A20: Tổng số SV tham gia khảo sát
A21: Tổng số phản hồi
A22: Tổng SV có việc làm
A23: Tổng SV có việc làm < 6 tháng
A24: Tổng SV có việc làm > 6 tháng -1 năm
A25: Tổng SV có việc làm > 1năm
A28: Bảng 10.1*. Thống kê số lượng sinh viên khảo sát việc làm ngành Trắc địa
A30: Năm tốt nghiệp | C30: 2015(K55) | D30: 2016(K56) | E30: 2017(K57) | F30: 2018(K58) | G30: 2019(K59)
A31: Tổng số SV đầu vào | C31: 368 | D31: 416 | E31: 354 | F31: 606 | G31: 390
A32: Tổng số SV tốt nghiệp | C32: 300 | D32: 279 | E32: 252 | F32: 393 | G32: 198
A33: Tổng số SV tham gia khảo sát
A34: Tổng số phản hồi
A35: Tổng SV có việc làm
A36: Tổng SV có việc làm < 6 tháng
A37: Tổng SV có việc làm > 6 tháng -1 năm
A38: Tổng SV có việc làm > 1năm
A41: Bảng 10.1*. Thống kê số lượng sinh viên khảo sát việc làm ngành KT Dầu khí
A43: Năm tốt nghiệp | C43: 2015(K55) | D43: 2016(K56) | E43: 2017(K57) | F43: 2018(K58) | G43: 2019(K59)
A44: Tổng số SV đầu vào | C44: 325 | D44: 308 | E44: 355 | F44: 302 | G44: 276
A45: Tổng số SV tốt nghiệp | C45: 273 | D45: 266 | E45: 277 | F45: 233 | G45: 192
A46: Tổng số SV tham gia khảo sát
A47: Tổng số phản hồi
A48: Tổng SV có việc làm
A49: Tổng SV có việc làm < 6 tháng
A50: Tổng SV có việc làm > 6 tháng -1 năm
A51: Tổng SV có việc làm > 1năm
A56: Bảng 10.1*. Thống kê số lượng sinh viên khảo sát việc làm ngành KT Môi trường
A58: Năm tốt nghiệp | C58: 2015(K55) | D58: 2016(K56) | E58: 2017(K57) | F58: 2018(K58) | G58: 2019(K59)
A59: Tổng số SV đầu vào | C59: 46 | D59: 84 | E59: 125 | F59: 176 | G59: 254
A60: Tổng số SV tốt nghiệp | C60: 28 | D60: 69 | E60: 111 | F60: 155 | G60: 175
A61: Tổng số SV tham gia khảo sát
A62: Tổng số phản hồi
A63: Tổng SV có việc làm
A64: Tổng SV có việc làm < 6 tháng
A65: Tổng SV có việc làm > 6 tháng -1 năm
A66: Tổng SV có việc làm > 1năm
A69: Bảng 10.1*. Thống kê số lượng sinh viên khảo sát việc làm ngành Xây dựng
A71: Năm tốt nghiệp | C71: 2015(K55) | D71: 2016(K56) | E71: 2017(K57) | F71: 2018(K58) | G71: 2019(K59)
A72: Tổng số SV đầu vào | C72: 191 | D72: 144 | E72: 229 | F72: 384 | G72: 304
A73: Tổng số SV tốt nghiệp | C73: 151 | D73: 113 | E73: 163 | F73: 249 | G73: 166
A74: Tổng số SV tham gia khảo sát
A75: Tổng số phản hồi
A76: Tổng SV có việc làm
A77: Tổng SV có việc làm < 6 tháng
A78: Tổng SV có việc làm > 6 tháng -1 năm
A79: Tổng SV có việc làm > 1năm
A82: Bảng 10.1*. Thống kê số lượng sinh viên khảo sát việc làm ngành Công nghệ thông tin
A84: Năm tốt nghiệp | C84: 2015(K55) | D84: 2016(K56) | E84: 2017(K57) | F84: 2018(K58) | G84: 2019(K59)
A85: Tổng số SV đầu vào | C85: 234 | D85: 274 | E85: 276 | F85: 413 | G85: 429
A86: Tổng số SV tốt nghiệp | C86: 162 | D86: 169 | E86: 171 | F86: 227 | G86: 152
A87: Tổng số SV tham gia khảo sát
A88: Tổng số phản hồi
A89: Tổng SV có việc làm
A90: Tổng SV có việc làm < 6 tháng
A91: Tổng SV có việc làm > 6 tháng -1 năm
A92: Tổng SV có việc làm > 1năm

Sheet B12. Doi sanh SVTN
A1: Bảng 12. Đối sánh tỷ lệ SV tốt nghiệp, tỷ lệ SV thôi học, thời gian tốt nghiệp trung bình
A2: NGÀNH KĨ THUẬT MỎ
A4: Khóa tốt nghiệp | B4: Tổng số sinh viên | C4: Tỷ lệ (%) sinh viên tốt nghiệp | G4: Tỷ lệ (%) sinh viên thôi học | K4: Thời gian tốt ngiệp trung bình*
C5: CTĐT được đánh giá | D5: CTĐT của Trường | E5: CTĐT của Trường trong nước | F5: CTĐT của Trường ngoài nước | G5: CTĐT được đánh giá | H5: CTĐT của Trường | I5: CTĐT của Trường trong nước | J5: CTĐT của Trường ngoài nước | K5: CTĐT được đánh giá | L5: CTĐT của Trường | M5: CTĐT của Trường trong nước | N5: CTĐT của Trường ngoài nước
A6: K55 | B6: 289 | C6: =SUM('B9. SV Tot nghiep'!C7:E7) -> 0.85121107 | D6: 0.81 | G6: ='B9. SV Tot nghiep'!K7 -> 0.12456747 | H6: 0.11541193 | K6: 5.2804878 | L6: 5.28
A7: K65 | B7: 413 | C7: =SUM('B9. SV Tot nghiep'!C9:E9) -> 0.8377724 | D7: 0.7887 | G7: ='B9. SV Tot nghiep'!K9 -> 0.12348668 | H7: 0.16921473 | K7: 5.0751445 | L7: 5.09
A8: K57 | B8: 317 | C8: =SUM('B9. SV Tot nghiep'!C11:E11) -> 0.7192429 | D8: 0.6915 | G8: ='B9. SV Tot nghiep'!K11 -> 0.17665615 | H8: 0.17510809 | K8: 5.3114035 | L8: 5.18
A9: K58 | B9: 335 | C9: =SUM('B9. SV Tot nghiep'!C13:E13) -> 0.65373134 | D9: 0.6418 | G9: ='B9. SV Tot nghiep'!K13 -> 0.20895522 | H9: 0.19892038 | K9: 5.0547945 | L9: 5.07
A10: K59 | B10: 291 | C10: =SUM('B9. SV Tot nghiep'!C15:E15) -> 0.56013746 | D10: 0.6723 | G10: ='B9. SV Tot nghiep'!K15 -> 0.13058419 | H10: 0.13286713 | K10: 4.9815951 | L10: 4.99
A14: Bảng 12. Đối sánh tỷ lệ SV tốt nghiệp, tỷ lệ SV thôi học, thời gian tốt nghiệp trung bình
A15: NGÀNH KĨ THUẬT TUYỂN KHOÁNG
A17: Khóa tốt nghiệp | B17: Tổng số sinh viên | C17: Tỷ lệ (%) sinh viên tốt nghiệp | G17: Tỷ lệ (%) sinh viên thôi học | K17: Thời gian tốt ngiệp trung bình*
C18: CTĐT được đánh giá | D18: CTĐT của Trường | E18: CTĐT của Trường trong nước | F18: CTĐT của Trường ngoài nước | G18: CTĐT được đánh giá | H18: CTĐT của Trường | I18: CTĐT của Trường trong nước | J18: CTĐT của Trường ngoài nước | K18: CTĐT được đánh giá | L18: CTĐT của Trường | M18: CTĐT của Trường trong nước | N18: CTĐT của Trường ngoài nước
A19: K55 | B19: 72 | C19: =SUM('B9. SV Tot nghiep'!C25:E25) -> 0.73611111 | D19: 0.81 | G19: ='B9. SV Tot nghiep'!K25 -> 0.097222222 | H19: 0.11541193 | K19: 5.2075472 | L19: 5.28
A20: K65 | B20: 53 | C20: =SUM('B9. SV Tot nghiep'!C27:E27) -> 0.71698113 | D20: 0.7887 | G20: ='B9. SV Tot nghiep'!K27 -> 0.18867925 | H20: 0.16921473 | K20: 5.0263158 | L20: 5.09
A21: K57 | B21: 101 | C21: =SUM('B9. SV Tot nghiep'!C29:E29) -> 0.69306931 | D21: 0.6915 | G21: ='B9. SV Tot nghiep'!K29 -> 0.17821782 | H21: 0.17510809 | K21: 5.2714286 | L21: 5.18
A22: K58 | B22: 106 | C22: =SUM('B9. SV Tot nghiep'!C31:E31) -> 0.71698113 | D22: 0.6418 | G22: ='B9. SV Tot nghiep'!K31 -> 0.1509434 | H22: 0.19892038 | K22: 5.0131579 | L22: 5.07
A23: K59 | B23: 146 | C23: =SUM('B9. SV Tot nghiep'!C33:E33) -> 0.66438356 | D23: 0.6723 | G23: ='B9. SV Tot nghiep'!K33 -> 0.10958904 | H23: 0.13286713 | K23: 5 | L23: 4.99
A28: Bảng 12. Đối sánh tỷ lệ SV tốt nghiệp, tỷ lệ SV thôi học, thời gian tốt nghiệp trung bình
A29: NGÀNH TRẮC ĐỊA
A31: Khóa tốt nghiệp | B31: Tổng số sinh viên | C31: Tỷ lệ (%) sinh viên tốt nghiệp | G31: Tỷ lệ (%) sinh viên thôi học | K31: Thời gian tốt ngiệp trung bình*
C32: CTĐT được đánh giá | D32: CTĐT của Trường | E32: CTĐT của Trường trong nước | F32: CTĐT của Trường ngoài nước | G32: CTĐT được đánh giá | H32: CTĐT của Trường | I32: CTĐT của Trường trong nước | J32: CTĐT của Trường ngoài nước | K32: CTĐT được đánh giá | L32: CTĐT của Trường | M32: CTĐT của Trường trong nước | N32: CTĐT của Trường ngoài nước
A33: K55 | B33: 368 | C33: =SUM('B9. SV Tot nghiep'!C41:E41) -> 0.81521739 | D33: 0.81 | G33: ='B9. SV Tot nghiep'!K41 -> 0.10869565 | H33: 0.11541193 | K33: 5.28 | L33: 5.28
A34: K65 | B34: 416 | C34: =SUM('B9. SV Tot nghiep'!C43:E43) -> 0.67067308 | D34: 0.7887 | G34: ='B9. SV Tot nghiep'!K43 -> 0.20432692 | H34: 0.16921473 | K34: 5.0501792 | L34: 5.09
A35: K57 | B35: 354 | C35: =SUM('B9. SV Tot nghiep'!C45:E45) -> 0.71186441 | D35: 0.6915 | G35: ='B9. SV Tot nghiep'!K45 -> 0.15536723 | H35: 0.17510809 | K35: 5.1904762 | L35: 5.18
A36: K58 | B36: 606 | C36: =SUM('B9. SV Tot nghiep'!C47:E47) -> 0.64851485 | D36: 0.6418 | G36: ='B9. SV Tot nghiep'!K47 -> 0.17491749 | H36: 0.19892038 | K36: 5.0941476 | L36: 5.07
A37: K59 | B37: 390 | C37: =SUM('B9. SV Tot nghiep'!C49:E49) -> 0.50769231 | D37: 0.6723 | G37: ='B9. SV Tot nghiep'!K49 -> 0.1 | H37: 0.13286713 | K37: 4.989899 | L37: 4.99
A41: Bảng 12. Đối sánh tỷ lệ SV tốt nghiệp, tỷ lệ SV thôi học, thời gian tốt nghiệp trung bình
A42: NGÀNH KT DẦU KHÍ
A44: Khóa tốt nghiệp | B44: Tổng số sinh viên | C44: Tỷ lệ (%) sinh viên tốt nghiệp | G44: Tỷ lệ (%) sinh viên thôi học | K44: Thời gian tốt ngiệp trung bình*
C45: CTĐT được đánh giá | D45: CTĐT của Trường | E45: CTĐT của Trường trong nước | F45: CTĐT của Trường ngoài nước | G45: CTĐT được đánh giá | H45: CTĐT của Trường | I45: CTĐT của Trường trong nước | J45: CTĐT của Trường ngoài nước | K45: CTĐT được đánh giá | L45: CTĐT của Trường | M45: CTĐT của Trường trong nước | N45: CTĐT của Trường ngoài nước
A46: K55 | B46: 325 | C46: =SUM('B9. SV Tot nghiep'!C59:E59) -> 0.84 | D46: 0.81 | G46: ='B9. SV Tot nghiep'!K59 -> 0.15076923 | H46: 0.11541193 | K46: 5.1648352 | L46: 5.28
A47: K65 | B47: 308 | C47: =SUM('B9. SV Tot nghiep'!C61:E61) -> 0.86363636 | D47: 0.7887 | G47: ='B9. SV Tot nghiep'!K61 -> 0.10064935 | H47: 0.16921473 | K47: 5.1165414 | L47: 5.09
A48: K57 | B48: 355 | C48: =SUM('B9. SV Tot nghiep'!C63:E63) -> 0.78028169 | D48: 0.6915 | G48: ='B9. SV Tot nghiep'!K63 -> 0.16056338 | H48: 0.17510809 | K48: 5.2166065 | L48: 5.18
A49: K58 | B49: 302 | C49: =SUM('B9. SV Tot nghiep'!C65:E65) -> 0.77152318 | D49: 0.6418 | G49: ='B9. SV Tot nghiep'!K65 -> 0.16225166 | H49: 0.19892038 | K49: 5.0729614 | L49: 5.07
A50: K59 | B50: 276 | C50: =SUM('B9. SV Tot nghiep'!C67:E67) -> 0.69565217 | D50: 0.6723 | G50: ='B9. SV Tot nghiep'!K67 -> 0.086956522 | H50: 0.13286713 | K50: 5 | L50: 4.99
A53: Bảng 12. Đối sánh tỷ lệ SV tốt nghiệp, tỷ lệ SV thôi học, thời gian tốt nghiệp trung bình
A54: NGÀNH KT MÔI TRƯỜNG
A56: Khóa tốt nghiệp | B56: Tổng số sinh viên | C56: Tỷ lệ (%) sinh viên tốt nghiệp | G56: Tỷ lệ (%) sinh viên thôi học | K56: Thời gian tốt ngiệp trung bình*
C57: CTĐT được đánh giá | D57: CTĐT của Trường | E57: CTĐT của Trường trong nước | F57: CTĐT của Trường ngoài nước | G57: CTĐT được đánh giá | H57: CTĐT của Trường | I57: CTĐT của Trường trong nước | J57: CTĐT của Trường ngoài nước | K57: CTĐT được đánh giá | L57: CTĐT của Trường | M57: CTĐT của Trường trong nước | N57: CTĐT của Trường ngoài nước
A58: K55 | B58: 46 | C58: =SUM('B9. SV Tot nghiep'!C77:E77) -> 0.60869565 | D58: 0.81 | G58: ='B9. SV Tot nghiep'!K77 -> 0.065217391 | H58: 0.11541193 | K58: 5.5 | L58: 5.28
A59: K65 | B59: 84 | C59: =SUM('B9. SV Tot nghiep'!C79:E79) -> 0.82142857 | D59: 0.7887 | G59: ='B9. SV Tot nghiep'!K79 -> 0.13095238 | H59: 0.16921473 | K59: 5.057971 | L59: 5.09
A60: K57 | B60: 125 | C60: =SUM('B9. SV Tot nghiep'!C81:E81) -> 0.888 | D60: 0.6915 | G60: ='B9. SV Tot nghiep'!K81 -> 0.088 | H60: 0.17510809 | K60: 5.2252252 | L60: 5.18
A61: K58 | B61: 176 | C61: =SUM('B9. SV Tot nghiep'!C83:E83) -> 0.88068182 | D61: 0.6418 | G61: ='B9. SV Tot nghiep'!K83 -> 0.090909091 | H61: 0.19892038 | K61: 5.0322581 | L61: 5.07
A62: K59 | B62: 254 | C62: =SUM('B9. SV Tot nghiep'!C85:E85) -> 0.68897638 | D62: 0.6723 | G62: ='B9. SV Tot nghiep'!K85 -> 0.098425197 | H62: 0.13286713 | K62: 5 | L62: 4.99
A65: Bảng 12. Đối sánh tỷ lệ SV tốt nghiệp, tỷ lệ SV thôi học, thời gian tốt nghiệp trung bình
A66: NGÀNH XÂY DỰNG
A68: Khóa tốt nghiệp | B68: Tổng số sinh viên | C68: Tỷ lệ (%) sinh viên tốt nghiệp | G68: Tỷ lệ (%) sinh viên thôi học | K68: Thời gian tốt ngiệp trung bình*
C69: CTĐT được đánh giá | D69: CTĐT của Trường | E69: CTĐT của Trường trong nước | F69: CTĐT của Trường ngoài nước | G69: CTĐT được đánh giá | H69: CTĐT của Trường | I69: CTĐT của Trường trong nước | J69: CTĐT của Trường ngoài nước | K69: CTĐT được đánh giá | L69: CTĐT của Trường | M69: CTĐT của Trường trong nước | N69: CTĐT của Trường ngoài nước
A70: K55 | B70: 191 | C70: =SUM('B9. SV Tot nghiep'!C95:E95) -> 0.79057592 | D70: 0.81 | G70: ='B9. SV Tot nghiep'!K95 -> 0.089005236 | H70: 0.11541193 | K70: 5.3178808 | L70: 5.28
A71: K65 | B71: 144 | C71: =SUM('B9. SV Tot nghiep'!C97:E97) -> 0.78472222 | D71: 0.7887 | G71: ='B9. SV Tot nghiep'!K97 -> 0.14583333 | H71: 0.16921473 | K71: 5.1681416 | L71: 5.09
A72: K57 | B72: 229 | C72: =SUM('B9. SV Tot nghiep'!C99:E99) -> 0.71179039 | D72: 0.6915 | G72: ='B9. SV Tot nghiep'!K99 -> 0.18777293 | H72: 0.17510809 | K72: 5.2638037 | L72: 5.18
A73: K58 | B73: 384 | C73: =SUM('B9. SV Tot nghiep'!C101:E101) -> 0.6484375 | D73: 0.6418 | G73: ='B9. SV Tot nghiep'!K101 -> 0.18229167 | H73: 0.19892038 | K73: 5.0883534 | L73: 5.07
A74: K59 | B74: 304 | C74: =SUM('B9. SV Tot nghiep'!C103:E103) -> 0.54605263 | D74: 0.6723 | G74: ='B9. SV Tot nghiep'!K103 -> 0.12828947 | H74: 0.13286713 | K74: 4.9819277 | L74: 4.99
A78: Bảng 12. Đối sánh tỷ lệ SV tốt nghiệp, tỷ lệ SV thôi học, thời gian tốt nghiệp trung bình
A79: NGÀNH CÔNG NGHỆ THÔNG TIN
A81: Khóa tốt nghiệp | B81: Tổng số sinh viên | C81: Tỷ lệ (%) sinh viên tốt nghiệp | G81: Tỷ lệ (%) sinh viên thôi học | K81: Thời gian tốt ngiệp trung bình*
C82: CTĐT được đánh giá | D82: CTĐT của Trường | E82: CTĐT của Trường trong nước | F82: CTĐT của Trường ngoài nước | G82: CTĐT được đánh giá | H82: CTĐT của Trường | I82: CTĐT của Trường trong nước | J82: CTĐT của Trường ngoài nước | K82: CTĐT được đánh giá | L82: CTĐT của Trường | M82: CTĐT của Trường trong nước | N82: CTĐT của Trường ngoài nước
A83: K55 | B83: 234 | C83: =SUM('B9. SV Tot nghiep'!C113:E113) -> 0.69230769 | D83: 0.81 | G83: ='B9. SV Tot nghiep'!K113 -> 0.17948718 | H83: 0.11541193 | K83: 5.2654321 | L83: 5.28
A84: K65 | B84: 274 | C84: =SUM('B9. SV Tot nghiep'!C115:E115) -> 0.61678832 | D84: 0.7887 | G84: ='B9. SV Tot nghiep'!K115 -> 0.25912409 | H84: 0.16921473 | K84: 5.112426 | L84: 5.09
A85: K57 | B85: 276 | C85: =SUM('B9. SV Tot nghiep'!C117:E117) -> 0.61956522 | D85: 0.6915 | G85: ='B9. SV Tot nghiep'!K117 -> 0.23913043 | H85: 0.17510809 | K85: 5.2923977 | L85: 5.18
A86: K58 | B86: 413 | C86: =SUM('B9. SV Tot nghiep'!C119:E119) -> 0.5496368 | D86: 0.6418 | G86: ='B9. SV Tot nghiep'!K119 -> 0.24213075 | H86: 0.19892038 | K86: 5.1321586 | L86: 5.07
A87: K59 | B87: 429 | C87: =SUM('B9. SV Tot nghiep'!C121:E121) -> 0.35431235 | D87: 0.6723 | G87: ='B9. SV Tot nghiep'!K121 -> 0.20745921 | H87: 0.13286713 | K87: 4.9671053 | L87: 4.99

Sheet  B12.1 Thống kê sô SVĐH,QH,TGTN
A1: Bảng 12.1. Thống kê số lượng sinh viên tốt nghiệp đúng hạn, quá hạn; thời gian tốt nghiệp
A2: Ngành kĩ thuật mỏ
A4: Khóa học | B4: Tổng số SV tốt nghiệp | C4: Số lượng sinh viên tốt nghiệp trong
C5: 4 năm (trước hạn) | D5: 5 năm (đúng hạn) | E5: > 5 năm
E6: (quá hạn)
D7: Lần 1 | E7: Lần 2 | F7: Lần 3 | G7: Lần 4 | H7: Lần 5
A8: K55 | B8: =SUM(C8:H8) -> 246 | D8: 202 | E8: 28 | F8: 9 | G8: 5 | H8: 2
A9: K56 | B9: =SUM(C9:H9) -> 346 | C9: 1 | D9: 327 | E9: 11 | F9: 5 | G9: 2
A10: K57 | B10: =SUM(C10:H10) -> 228 | D10: 171 | E10: 43 | F10: 14
A11: K58 | B11: =SUM(C11:H11) -> 219 | C11: 3 | D11: 201 | E11: 15
A12: K59 | B12: =SUM(C12:H12) -> 163 | C12: 3 | D12: 160
A16: Bảng 12.1. Thống kê số lượng sinh viên tốt nghiệp đúng hạn, quá hạn; thời gian tốt nghiệp
A17: Ngành kt tuyển khoáng
A19: Khóa học | B19: Tổng số SV tốt nghiệp | C19: Số lượng sinh viên tốt nghiệp trong
C20: 4 năm (trước hạn) | D20: 5 năm (đúng hạn) | E20: > 5 năm
E21: (quá hạn)
D22: Lần 1 | E22: Lần 2 | F22: Lần 3 | G22: Lần 4 | H22: Lần 5
A23: K55 | B23: =SUM(C23:H23) -> 53 | D23: 45 | E23: 6 | F23: 1 | G23: 1
A24: K56 | B24: =SUM(C24:H24) -> 38 | D24: 37 | E24: 1
A25: K57 | B25: =SUM(C25:H25) -> 70 | D25: 55 | E25: 11 | F25: 4
A26: K58 | B26: =SUM(C26:H26) -> 76 | D26: 75 | E26: 1
A27: K59 | B27: =SUM(C27:H27) -> 97 | D27: 97
A30: Bảng 12.1. Thống kê số lượng sinh viên tốt nghiệp đúng hạn, quá hạn; thời gian tốt nghiệp
A31: Ngành Trắc địa
A33: Khóa học | B33: Tổng số SV tốt nghiệp | C33: Số lượng sinh viên tốt nghiệp trong
C34: 4 năm (trước hạn) | D34: 5 năm (đúng hạn) | E34: > 5 năm
E35: (quá hạn)
D36: Lần 1 | E36: Lần 2 | F36: Lần 3 | G36: Lần 4 | H36: Lần 5
A37: K55 | B37: =SUM(C37:H37) -> 300 | D37: 241 | E37: 42 | F37: 10 | G37: 6 | H37: 1
A38: K56 | B38: =SUM(C38:H38) -> 279 | C38: 1 | D38: 269 | E38: 4 | F38: 4 | G38: 1
A39: K57 | B39: =SUM(C39:H39) -> 252 | C39: 1 | D39: 208 | E39: 37 | F39: 6
A40: K58 | B40: =SUM(C40:H40) -> 393 | C40: 1 | D40: 354 | E40: 38
A41: K59 | B41: =SUM(C41:H41) -> 198 | C41: 2 | D41: 196
A44: Bảng 12.1. Thống kê số lượng sinh viên tốt nghiệp đúng hạn, quá hạn; thời gian tốt nghiệp
A45: Ngành dầu khí
A47: Khóa học | B47: Tổng số SV tốt nghiệp | C47: Số lượng sinh viên tốt nghiệp trong
C48: 4 năm (trước hạn) | D48: 5 năm (đúng hạn) | E48: > 5 năm
E49: (quá hạn)
D50: Lần 1 | E50: Lần 2 | F50: Lần 3 | G50: Lần 4 | H50: Lần 5
A51: K55 | B51: =SUM(C51:H51) -> 273 | D51: 243 | E51: 21 | F51: 3 | G51: 6
A52: K56 | B52: =SUM(C52:H52) -> 266 | C52: 4 | D52: 244 | E52: 4 | F52: 11 | G52: 3
A53: K57 | B53: =SUM(C53:H53) -> 277 | C53: 1 | D53: 227 | E53: 37 | F53: 12
A54: K58 | B54: =SUM(C54:H54) -> 233 | C54: 3 | D54: 210 | E54: 20
A55: K59 | B55: =SUM(C55:H55) -> 192 | D55: 192
A58: Bảng 12.1. Thống kê số lượng sinh viên tốt nghiệp đúng hạn, quá hạn; thời gian tốt nghiệp
A59: Ngành Môi Trường
A61: Khóa học | B61: Tổng số SV tốt nghiệp | C61: Số lượng sinh viên tốt nghiệp trong
C62: 4 năm (trước hạn) | D62: 5 năm (đúng hạn) | E62: > 5 năm
E63: (quá hạn)
D64: Lần 1 | E64: Lần 2 | F64: Lần 3 | G64: Lần 4 | H64: Lần 5
A65: K55 | B65: =SUM(C65:H65) -> 28 | D65: 21 | E65: 2 | F65: 3 | G65: 2
A66: K56 | B66: =SUM(C66:H66) -> 69 | D66: 65 | E66: 4
A67: K57 | B67: =SUM(C67:H67) -> 111 | D67: 92 | E67: 13 | F67: 6
A68: K58 | B68: =SUM(C68:H68) -> 155 | C68: 3 | D68: 144 | E68: 8
A69: K59 | B69: =SUM(C69:H69) -> 175 | D69: 175
A73: Bảng 12.1. Thống kê số lượng sinh viên tốt nghiệp đúng hạn, quá hạn; thời gian tốt nghiệp
A74: Ngành Xây dựng
A76: Khóa học | B76: Tổng số SV tốt nghiệp | C76: Số lượng sinh viên tốt nghiệp trong
C77: 4 năm (trước hạn) | D77: 5 năm (đúng hạn) | E77: > 5 năm
E78: (quá hạn)
D79: Lần 1 | E79: Lần 2 | F79: Lần 3 | G79: Lần 4 | H79: Lần 5
A80: K55 | B80: =SUM(C80:H80) -> 151 | D80: 117 | E80: 24 | F80: 6 | G80: 4
A81: K56 | B81: =SUM(C81:H81) -> 113 | D81: 103 | E81: 4 | F81: 3 | G81: 3
A82: K57 | B82: =SUM(C82:H82) -> 163 | D82: 127 | E82: 29 | F82: 7
A83: K58 | B83: =SUM(C83:H83) -> 249 | D83: 227 | E83: 22
A84: K59 | B84: =SUM(C84:H84) -> 166 | C84: 3 | D84: 163
A87: Bảng 12.1. Thống kê số lượng sinh viên tốt nghiệp đúng hạn, quá hạn; thời gian tốt nghiệp
A88: Ngành Công nghệ thông tin
A90: Khóa học | B90: Tổng số SV tốt nghiệp | C90: Số lượng sinh viên tốt nghiệp trong
C91: 4 năm (trước hạn) | D91: 5 năm (đúng hạn) | E91: > 5 năm
E92: (quá hạn)
D93: Lần 1 | E93: Lần 2 | F93: Lần 3 | G93: Lần 4 | H93: Lần 5
A94: K55 | B94: =SUM(C94:H94) -> 162 | D94: 135 | E94: 18 | F94: 2 | G94: 7
A95: K56 | B95: =SUM(C95:H95) -> 169 | D95: 160 | E95: 3 | F95: 2 | G95: 4
A96: K57 | B96: =SUM(C96:H96) -> 171 | D96: 127 | E96: 38 | F96: 6
A97: K58 | B97: =SUM(C97:H97) -> 227 | C97: 2 | D97: 193 | E97: 32
A98: K59 | B98: =SUM(C98:H98) -> 152 | C98: 5 | D98: 147

Sheet B13. Đối sánh SVTN,NCKH
A1: Bảng 13. Đối sánh tỷ lệ SV tốt nghiệp có việc làm, tham gia hoạt động NCKH, số lượng các loại hình hoạt động NCKH Ngành Kĩ thuật Mỏ
A2: Cần ghi chú ghi rõ các loại hình hoạt động NCKH mà Nhà trường phân chia
A4: Khóa tốt nghiệp | B4: Tổng số sinh viên Tốt nghiệp | C4: Tỷ lệ (%) SV tốt nghiệp có việc làm | G4: Tỷ lệ (%) SV tham gia hoạt động NCKH | K4: Số lượng các loại hình hoạt động NCKH của SV
C5: CTĐT được đánh giá | D5: CTĐT của Trường | E5: CTĐT của Trường trong nước | F5: CTĐT của Trường ngoài nước | G5: CTĐT được đánh giá | H5: CTĐT của Trường | I5: CTĐT của Trường trong nước | J5: CTĐT của Trường ngoài nước | K5: CTĐT được đánh giá | L5: CTĐT của Trường | M5: CTĐT của Trường trong nước | N5: CTĐT của Trường ngoài nước
A6: 2010-2015 | B6: 246
A7: 2011-2016 | B7: 346
A8: 2012-2017 | B8: 228
A9: 2013-2018 | B9: 219
A10: 2014-2019 | B10: 163
A13: Bảng 13. Đối sánh tỷ lệ SV tốt nghiệp có việc làm, tham gia hoạt động NCKH, số lượng các loại hình hoạt động NCKH Ngành Kĩ thuật Tuyển Khoáng
A14: Cần ghi chú ghi rõ các loại hình hoạt động NCKH mà Nhà trường phân chia
A16: Khóa tốt nghiệp | B16: Tổng số sinh viên Tốt nghiệp | C16: Tỷ lệ (%) SV tốt nghiệp có việc làm | G16: Tỷ lệ (%) SV tham gia hoạt động NCKH | K16: Số lượng các loại hình hoạt động NCKH của SV
C17: CTĐT được đánh giá | D17: CTĐT của Trường | E17: CTĐT của Trường trong nước | F17: CTĐT của Trường ngoài nước | G17: CTĐT được đánh giá | H17: CTĐT của Trường | I17: CTĐT của Trường trong nước | J17: CTĐT của Trường ngoài nước | K17: CTĐT được đánh giá | L17: CTĐT của Trường | M17: CTĐT của Trường trong nước | N17: CTĐT của Trường ngoài nước
A18: 2010-2015 | B18: 53
A19: 2011-2016 | B19: 38
A20: 2012-2017 | B20: 70
A21: 2013-2018 | B21: 76
A22: 2014-2019 | B22: 97
A26: Bảng 13. Đối sánh tỷ lệ SV tốt nghiệp có việc làm, tham gia hoạt động NCKH, số lượng các loại hình hoạt động NCKH Ngành Trắc địa
A27: Cần ghi chú ghi rõ các loại hình hoạt động NCKH mà Nhà trường phân chia
A29: Khóa tốt nghiệp | B29: Tổng số sinh viên Tốt nghiệp | C29: Tỷ lệ (%) SV tốt nghiệp có việc làm | G29: Tỷ lệ (%) SV tham gia hoạt động NCKH | K29: Số lượng các loại hình hoạt động NCKH của SV
C30: CTĐT được đánh giá | D30: CTĐT của Trường | E30: CTĐT của Trường trong nước | F30: CTĐT của Trường ngoài nước | G30: CTĐT được đánh giá | H30: CTĐT của Trường | I30: CTĐT của Trường trong nước | J30: CTĐT của Trường ngoài nước | K30: CTĐT được đánh giá | L30: CTĐT của Trường | M30: CTĐT của Trường trong nước | N30: CTĐT của Trường ngoài nước
A31: 2010-2015 | B31: 300
A32: 2011-2016 | B32: 279
A33: 2012-2017 | B33: 252
A34: 2013-2018 | B34: 393
A35: 2014-2019 | B35: 198
A39: Bảng 13. Đối sánh tỷ lệ SV tốt nghiệp có việc làm, tham gia hoạt động NCKH, số lượng các loại hình hoạt động NCKH Ngành Dầu khí
A40: Cần ghi chú ghi rõ các loại hình hoạt động NCKH mà Nhà trường phân chia
A42: Khóa tốt nghiệp | B42: Tổng số sinh viên Tốt nghiệp | C42: Tỷ lệ (%) SV tốt nghiệp có việc làm | G42: Tỷ lệ (%) SV tham gia hoạt động NCKH | K42: Số lượng các loại hình hoạt động NCKH của SV
C43: CTĐT được đánh giá | D43: CTĐT của Trường | E43: CTĐT của Trường trong nước | F43: CTĐT của Trường ngoài nước | G43: CTĐT được đánh giá | H43: CTĐT của Trường | I43: CTĐT của Trường trong nước | J43: CTĐT của Trường ngoài nước | K43: CTĐT được đánh giá | L43: CTĐT của Trường | M43: CTĐT của Trường trong nước | N43: CTĐT của Trường ngoài nước
A44: 2010-2015 | B44: 273
A45: 2011-2016 | B45: 266
A46: 2012-2017 | B46: 277
A47: 2013-2018 | B47: 233
A48: 2014-2019 | B48: 192
A51: Bảng 13. Đối sánh tỷ lệ SV tốt nghiệp có việc làm, tham gia hoạt động NCKH, số lượng các loại hình hoạt động NCKH Ngành Môi Trường
A52: Cần ghi chú ghi rõ các loại hình hoạt động NCKH mà Nhà trường phân chia
A54: Khóa tốt nghiệp | B54: Tổng số sinh viên Tốt nghiệp | C54: Tỷ lệ (%) SV tốt nghiệp có việc làm | G54: Tỷ lệ (%) SV tham gia hoạt động NCKH | K54: Số lượng các loại hình hoạt động NCKH của SV
C55: CTĐT được đánh giá | D55: CTĐT của Trường | E55: CTĐT của Trường trong nước | F55: CTĐT của Trường ngoài nước | G55: CTĐT được đánh giá | H55: CTĐT của Trường | I55: CTĐT của Trường trong nước | J55: CTĐT của Trường ngoài nước | K55: CTĐT được đánh giá | L55: CTĐT của Trường | M55: CTĐT của Trường trong nước | N55: CTĐT của Trường ngoài nước
A56: 2010-2015 | B56: 28
A57: 2011-2016 | B57: 69
A58: 2012-2017 | B58: 111
A59: 2013-2018 | B59: 155
A60: 2014-2019 | B60: 175
A63: Bảng 13. Đối sánh tỷ lệ SV tốt nghiệp có việc làm, tham gia hoạt động NCKH, số lượng các loại hình hoạt động NCKH Ngành Xây Dựng
A64: Cần ghi chú ghi rõ các loại hình hoạt động NCKH mà Nhà trường phân chia
A66: Khóa tốt nghiệp | B66: Tổng số sinh viên Tốt nghiệp | C66: Tỷ lệ (%) SV tốt nghiệp có việc làm | G66: Tỷ lệ (%) SV tham gia hoạt động NCKH | K66: Số lượng các loại hình hoạt động NCKH của SV
C67: CTĐT được đánh giá | D67: CTĐT của Trường | E67: CTĐT của Trường trong nước | F67: CTĐT của Trường ngoài nước | G67: CTĐT được đánh giá | H67: CTĐT của Trường | I67: CTĐT của Trường trong nước | J67: CTĐT của Trường ngoài nước | K67: CTĐT được đánh giá | L67: CTĐT của Trường | M67: CTĐT của Trường trong nước | N67: CTĐT của Trường ngoài nước
A68: 2010-2015 | B68: 151
A69: 2011-2016 | B69: 113
A70: 2012-2017 | B70: 163
A71: 2013-2018 | B71: 249
A72: 2014-2019 | B72: 166
A75: Bảng 13. Đối sánh tỷ lệ SV tốt nghiệp có việc làm, tham gia hoạt động NCKH, số lượng các loại hình hoạt động NCKH Ngành Công nghệ thông tin
A76: Cần ghi chú ghi rõ các loại hình hoạt động NCKH mà Nhà trường phân chia
A78: Khóa tốt nghiệp | B78: Tổng số sinh viên Tốt nghiệp | C78: Tỷ lệ (%) SV tốt nghiệp có việc làm | G78: Tỷ lệ (%) SV tham gia hoạt động NCKH | K78: Số lượng các loại hình hoạt động NCKH của SV
C79: CTĐT được đánh giá | D79: CTĐT của Trường | E79: CTĐT của Trường trong nước | F79: CTĐT của Trường ngoài nước | G79: CTĐT được đánh giá | H79: CTĐT của Trường | I79: CTĐT của Trường trong nước | J79: CTĐT của Trường ngoài nước | K79: CTĐT được đánh giá | L79: CTĐT của Trường | M79: CTĐT của Trường trong nước | N79: CTĐT của Trường ngoài nước
A80: 2010-2015 | B80: 162
A81: 2011-2016 | B81: 169
A82: 2012-2017 | B82: 171
A83: 2013-2018 | B83: 227
A84: 2014-2019 | B84: 152

Sheet B14. Đối sánh mức độ hài lòng
A1: Bảng 14.Đối sánh mức độ hài lòng của các bên liên quan
A2: Cần ghi chú ghi rõ các phương pháp khảo sát các bên liên quan cụ thể
A4: Bảng 14.1. Đối sánh mức độ hài lòng của sinh viên tốt nghiệp ngành Kĩ thuật mỏ
A6: Khóa tốt nghiệp | B6: Tổng số sinh viên tốt nghiệp | C6: Tỷ lệ (%) hài lòng của các bên liên quan | G6: Tỷ lệ (%) không hài lòng của các bên liên quan | K6: Tỷ lệ (%) phản hồi của các bên liên quan
C7: CTĐT được đánh giá | D7: CTĐT của Trường | E7: CTĐT của Trường trong nước | F7: CTĐT của Trường ngoài nước | G7: CTĐT được đánh giá | H7: CTĐT của Trường | I7: CTĐT của Trường trong nước | J7: CTĐT của Trường ngoài nước | K7: CTĐT được đánh giá | L7: CTĐT của Trường | M7: CTĐT của Trường trong nước | N7: CTĐT của Trường ngoài nước
A8: 2010-2015 | B8: 246
A9: 2011-2016 | B9: 346
A10: 2012-2017 | B10: 228
A11: 2013-2018 | B11: 219
A12: 2014-2019 | B12: 163
A15: Bảng 14.2. Đối sánh mức độ hài lòng của cựu người học ngành kĩ thuật mỏ
A17: Khóa tốt nghiệp | B17: Tổng số sinh viên tốt nghiệp | C17: Tỷ lệ (%) hài lòng của các bên liên quan | G17: Tỷ lệ (%) không hài lòng của các bên liên quan | K17: Tỷ lệ (%) phản hồi của các bên liên quan
C18: CTĐT được đánh giá | D18: CTĐT của Trường | E18: CTĐT của Trường trong nước | F18: CTĐT của Trường ngoài nước | G18: CTĐT được đánh giá | H18: CTĐT của Trường | I18: CTĐT của Trường trong nước | J18: CTĐT của Trường ngoài nước | K18: CTĐT được đánh giá | L18: CTĐT của Trường | M18: CTĐT của Trường trong nước | N18: CTĐT của Trường ngoài nước
A19: 2010-2015 | B19: 246
A20: 2011-2016 | B20: 346
A21: 2012-2017 | B21: 228
A22: 2013-2018 | B22: 219
A23: 2014-2019 | B23: 163
A26: Bảng 14.3. Đối sánh mức độ hài lòng của các nhà tuyển dụng sinh viên ngành kĩ thuật mỏ
A28: Khóa tốt nghiệp | B28: Tổng số sinh viên tốt nghiệp | C28: Tỷ lệ (%) hài lòng của các bên liên quan | G28: Tỷ lệ (%) không hài lòng của các bên liên quan | K28: Tỷ lệ (%) phản hồi của các bên liên quan
C29: CTĐT được đánh giá | D29: CTĐT của Trường | E29: CTĐT của Trường trong nước | F29: CTĐT của Trường ngoài nước | G29: CTĐT được đánh giá | H29: CTĐT của Trường | I29: CTĐT của Trường trong nước | J29: CTĐT của Trường ngoài nước | K29: CTĐT được đánh giá | L29: CTĐT của Trường | M29: CTĐT của Trường trong nước | N29: CTĐT của Trường ngoài nước
A30: 2010-2015 | B30: 246
A31: 2011-2016 | B31: 346
A32: 2012-2017 | B32: 228
A33: 2013-2018 | B33: 219
A34: 2014-2019 | B34: 163
A39: Bảng 14.1. Đối sánh mức độ hài lòng của sinh viên tốt nghiệp ngành Kĩ thuật tuyển khoáng
A41: Khóa tốt nghiệp | B41: Tổng số sinh viên tốt nghiệp | C41: Tỷ lệ (%) hài lòng của các bên liên quan | G41: Tỷ lệ (%) không hài lòng của các bên liên quan | K41: Tỷ lệ (%) phản hồi của các bên liên quan
C42: CTĐT được đánh giá | D42: CTĐT của Trường | E42: CTĐT của Trường trong nước | F42: CTĐT của Trường ngoài nước | G42: CTĐT được đánh giá | H42: CTĐT của Trường | I42: CTĐT của Trường trong nước | J42: CTĐT của Trường ngoài nước | K42: CTĐT được đánh giá | L42: CTĐT của Trường | M42: CTĐT của Trường trong nước | N42: CTĐT của Trường ngoài nước
A43: 2010-2015 | B43: 53
A44: 2011-2016 | B44: 38
A45: 2012-2017 | B45: 70
A46: 2013-2018 | B46: 76
A47: 2014-2019 | B47: 97
A50: Bảng 14.2. Đối sánh mức độ hài lòng của cựu người học ngành kĩ thuật tuyển khoáng
A52: Khóa tốt nghiệp | B52: Tổng số sinh viên tốt nghiệp | C52: Tỷ lệ (%) hài lòng của các bên liên quan | G52: Tỷ lệ (%) không hài lòng của các bên liên quan | K52: Tỷ lệ (%) phản hồi của các bên liên quan
C53: CTĐT được đánh giá | D53: CTĐT của Trường | E53: CTĐT của Trường trong nước | F53: CTĐT của Trường ngoài nước | G53: CTĐT được đánh giá | H53: CTĐT của Trường | I53: CTĐT của Trường trong nước | J53: CTĐT của Trường ngoài nước | K53: CTĐT được đánh giá | L53: CTĐT của Trường | M53: CTĐT của Trường trong nước | N53: CTĐT của Trường ngoài nước
A54: 2010-2015 | B54: 53
A55: 2011-2016 | B55: 38
A56: 2012-2017 | B56: 70
A57: 2013-2018 | B57: 76
A58: 2014-2019 | B58: 97
A61: Bảng 14.3. Đối sánh mức độ hài lòng của các nhà tuyển dụng sinh viên ngành kĩ thuật tuyển khoáng
A63: Khóa tốt nghiệp | B63: Tổng số sinh viên tốt nghiệp | C63: Tỷ lệ (%) hài lòng của các bên liên quan | G63: Tỷ lệ (%) không hài lòng của các bên liên quan | K63: Tỷ lệ (%) phản hồi của các bên liên quan
C64: CTĐT được đánh giá | D64: CTĐT của Trường | E64: CTĐT của Trường trong nước | F64: CTĐT của Trường ngoài nước | G64: CTĐT được đánh giá | H64: CTĐT của Trường | I64: CTĐT của Trường trong nước | J64: CTĐT của Trường ngoài nước | K64: CTĐT được đánh giá | L64: CTĐT của Trường | M64: CTĐT của Trường trong nước | N64: CTĐT của Trường ngoài nước
A65: 2010-2015 | B65: 53
A66: 2011-2016 | B66: 38
A67: 2012-2017 | B67: 70
A68: 2013-2018 | B68: 76
A69: 2014-2019 | B69: 97
A73: Bảng 14.1. Đối sánh mức độ hài lòng của sinh viên tốt nghiệp ngành Trắc địa
A75: Khóa tốt nghiệp | B75: Tổng số sinh viên tốt nghiệp | C75: Tỷ lệ (%) hài lòng của các bên liên quan | G75: Tỷ lệ (%) không hài lòng của các bên liên quan | K75: Tỷ lệ (%) phản hồi của các bên liên quan
C76: CTĐT được đánh giá | D76: CTĐT của Trường | E76: CTĐT của Trường trong nước | F76: CTĐT của Trường ngoài nước | G76: CTĐT được đánh giá | H76: CTĐT của Trường | I76: CTĐT của Trường trong nước | J76: CTĐT của Trường ngoài nước | K76: CTĐT được đánh giá | L76: CTĐT của Trường | M76: CTĐT của Trường trong nước | N76: CTĐT của Trường ngoài nước
A77: 2010-2015 | B77: 300
A78: 2011-2016 | B78: 279
A79: 2012-2017 | B79: 252
A80: 2013-2018 | B80: 393
A81: 2014-2019 | B81: 198
A84: Bảng 14.2. Đối sánh mức độ hài lòng của cựu người học ngành Trắc địa
A86: Khóa tốt nghiệp | B86: Tổng số sinh viên tốt nghiệp | C86: Tỷ lệ (%) hài lòng của các bên liên quan | G86: Tỷ lệ (%) không hài lòng của các bên liên quan | K86: Tỷ lệ (%) phản hồi của các bên liên quan
C87: CTĐT được đánh giá | D87: CTĐT của Trường | E87: CTĐT của Trường trong nước | F87: CTĐT của Trường ngoài nước | G87: CTĐT được đánh giá | H87: CTĐT của Trường | I87: CTĐT của Trường trong nước | J87: CTĐT của Trường ngoài nước | K87: CTĐT được đánh giá | L87: CTĐT của Trường | M87: CTĐT của Trường trong nước | N87: CTĐT của Trường ngoài nước
A88: 2010-2015 | B88: 300
A89: 2011-2016 | B89: 279
A90: 2012-2017 | B90: 252
A91: 2013-2018 | B91: 393
A92: 2014-2019 | B92: 198
A95: Bảng 14.3. Đối sánh mức độ hài lòng của các nhà tuyển dụng sinh viên ngành Trắc địa
A97: Khóa tốt nghiệp | B97: Tổng số sinh viên tốt nghiệp | C97: Tỷ lệ (%) hài lòng của các bên liên quan | G97: Tỷ lệ (%) không hài lòng của các bên liên quan | K97: Tỷ lệ (%) phản hồi của các bên liên quan
C98: CTĐT được đánh giá | D98: CTĐT của Trường | E98: CTĐT của Trường trong nước | F98: CTĐT của Trường ngoài nước | G98: CTĐT được đánh giá | H98: CTĐT của Trường | I98: CTĐT của Trường trong nước | J98: CTĐT của Trường ngoài nước | K98: CTĐT được đánh giá | L98: CTĐT của Trường | M98: CTĐT của Trường trong nước | N98: CTĐT của Trường ngoài nước
A99: 2010-2015 | B99: 300
A100: 2011-2016 | B100: 279
A101: 2012-2017 | B101: 252
A102: 2013-2018 | B102: 393
A103: 2014-2019 | B103: 198
A107: Bảng 14.1. Đối sánh mức độ hài lòng của sinh viên tốt nghiệp ngành Dầu khí
A109: Khóa tốt nghiệp | B109: Tổng số sinh viên tốt nghiệp | C109: Tỷ lệ (%) hài lòng của các bên liên quan | G109: Tỷ lệ (%) không hài lòng của các bên liên quan | K109: Tỷ lệ (%) phản hồi của các bên liên quan
C110: CTĐT được đánh giá | D110: CTĐT của Trường | E110: CTĐT của Trường trong nước | F110: CTĐT của Trường ngoài nước | G110: CTĐT được đánh giá | H110: CTĐT của Trường | I110: CTĐT của Trường trong nước | J110: CTĐT của Trường ngoài nước | K110: CTĐT được đánh giá | L110: CTĐT của Trường | M110: CTĐT của Trường trong nước | N110: CTĐT của Trường ngoài nước
A111: 2010-2015 | B111: 273
A112: 2011-2016 | B112: 266
A113: 2012-2017 | B113: 277
A114: 2013-2018 | B114: 233
A115: 2014-2019 | B115: 192
A118: Bảng 14.2. Đối sánh mức độ hài lòng của cựu người học ngành Dầu khí
A120: Khóa tốt nghiệp | B120: Tổng số sinh viên tốt nghiệp | C120: Tỷ lệ (%) hài lòng của các bên liên quan | G120: Tỷ lệ (%) không hài lòng của các bên liên quan | K120: Tỷ lệ (%) phản hồi của các bên liên quan
C121: CTĐT được đánh giá | D121: CTĐT của Trường | E121: CTĐT của Trường trong nước | F121: CTĐT của Trường ngoài nước | G121: CTĐT được đánh giá | H121: CTĐT của Trường | I121: CTĐT của Trường trong nước | J121: CTĐT của Trường ngoài nước | K121: CTĐT được đánh giá | L121: CTĐT của Trường | M121: CTĐT của Trường trong nước | N121: CTĐT của Trường ngoài nước
A122: 2010-2015 | B122: 273
A123: 2011-2016 | B123: 266
A124: 2012-2017 | B124: 277
A125: 2013-2018 | B125: 233
A126: 2014-2019 | B126: 192
A129: Bảng 14.3. Đối sánh mức độ hài lòng của các nhà tuyển dụng sinh viên ngành Dầu khí
A131: Khóa tốt nghiệp | B131: Tổng số sinh viên tốt nghiệp | C131: Tỷ lệ (%) hài lòng của các bên liên quan | G131: Tỷ lệ (%) không hài lòng của các bên liên quan | K131: Tỷ lệ (%) phản hồi của các bên liên quan
C132: CTĐT được đánh giá | D132: CTĐT của Trường | E132: CTĐT của Trường trong nước | F132: CTĐT của Trường ngoài nước | G132: CTĐT được đánh giá | H132: CTĐT của Trường | I132: CTĐT của Trường trong nước | J132: CTĐT của Trường ngoài nước | K132: CTĐT được đánh giá | L132: CTĐT của Trường | M132: CTĐT của Trường trong nước | N132: CTĐT của Trường ngoài nước
A133: 2010-2015 | B133: 273
A134: 2011-2016 | B134: 266
A135: 2012-2017 | B135: 277
A136: 2013-2018 | B136: 233
A137: 2014-2019 | B137: 192
A142: Bảng 14.1. Đối sánh mức độ hài lòng của sinh viên tốt nghiệp ngành Môi Trường
A144: Khóa tốt nghiệp | B144: Tổng số sinh viên tốt nghiệp | C144: Tỷ lệ (%) hài lòng của các bên liên quan | G144: Tỷ lệ (%) không hài lòng của các bên liên quan | K144: Tỷ lệ (%) phản hồi của các bên liên quan
...
