Workbook
Name Khoa_: Sheet5!$O$1:$O$7

Sheet B1. Trichngang GV
A1: CƠ QUAN CHỦ QUẢN
A2: TRƯỜNG ………..
A4: DANH SÁCH TRÍCH NGANG ĐỘI NGŨ GIẢNG VIÊN THAM GIA THỰC HIỆN CHƯƠNG TRÌNH ĐÀO TẠO ………
A6: TT | B6: Họ và tên | C6: Ngày tháng năm sinh | E6: Trình độ chuyên môn | I6: Trình độ nghiệp vụ | N6: Chức vụ (từ Phó trưởng BM trở lên) | O6: Đơn vị công tác | P6: Phân loại giảng viên* | U6: Thời gian tham gia CTĐT | V6: Học phần giảng dạy trong CTĐT | W6: Số giờ thực tế/năm học | X6: Nhiệm vụ khác được phân công/kiêm nhiệm* | Y6: Số đề tài NCKH/bài báo KH/ấn phẩm KH ... trong 5 năm qua** | Z6: Các khóa BD về NVSP đã tham dự trong giai đoạn đánh giá** | AA6: Ghi chú
C7: Nam | D7: Nữ | E7: Học hàm/ học vị | F7: Chuyên ngành TN | G7: Năm TN | H7: Nơi TN | I7: NVSP | J7: QLNN | K7: LLCT | L7: Tin học | M7: Ngoại ngữ | P7: Biên chế | Q7: HĐ dài hạn | R7: Kiêm nhiệm | S7: Thỉnh giảng | T7: Quốc tế
A8: 1 | B8: 2 | C8: 3 | D8: 4 | E8: 5 | F8: 6 | G8: 7 | H8: 8 | I8: 9 | J8: 10 | K8: 11 | L8: 12 | M8: 13 | N8: 14 | O8: 15 | P8: 16 | Q8: 17 | R8: 18 | S8: 19 | T8: 20 | U8: 21 | V8: 22 | Z8: 29 | AA8: 30
A9: 1 | B9: Trần Thị Hòa | D9: 32056 | E9: Tiến sỹ | F9: Bản đồ | G9: 2019 | H9: Đào tạo ở nước ngoài | I9: x | L9: Tiến sỹ | M9: B1 | O9: Khoa CNTT | P9: x | W9: =SUMIF(Sheet6!A:A,B9&O9,Sheet6!I:I) -> 0
A10: 2 | B10: Bùi Thế Vinh | C10: 29109 | E10: Tiến sỹ | F10: Công nghệ thông tin | G10: 2016 | H10: Đào tạo ở nước ngoài | I10: x | L10: Tiến sỹ | M10: B1 | O10: Khoa CNTT | P10: x | W10: =SUMIF(Sheet6!A:A,B10&O10,Sheet6!I:I) -> 0
A11: 3 | B11: Bùi Thị ánh Nguyệt | D11: 24/01/1975 | E11: Thạc sỹ | F11: Công nghệ thông t in | G11: 2017 | H11: Viện ĐH Mở Hà nội | I11: x | L11: Thạc sỹ | M11: B1 | O11: Khoa CNTT | P11: x | W11: =SUMIF(Sheet6!A:A,B11&O11,Sheet6!I:I) -> 163.58
A12: 4 | B12: Bùi Thị Vân Anh | D12: 26730 | E12: Thạc sỹ | F12: Công nghệ thông tin | G12: 2006 | H12: Học viện Kỹ thuật quân sự | I12: x | L12: Thạc sỹ | M12: B1 | O12: Khoa CNTT | P12: x | W12: =SUMIF(Sheet6!A:A,B12&O12,Sheet6!I:I) -> 1680.76
A13: 5 | B13: Cảnh Chí Thanh | C13: 30/12/1955 | E13: Thạc sỹ | F13: Công nghệ thông tin | G13: 1985 | H13: Trường ĐH Mỏ địa chất Hà nội | I13: x | O13: Khoa CNTT | P13: x | W13: =SUMIF(Sheet6!A:A,B13&O13,Sheet6!I:I) -> 0
A14: 6 | B14: Diêm Công Hoàng | C14: 18/04/1982 | E14: Tiến sỹ | F14: Kỹ thuật truyền thông và tin học | G14: 2016 | H14: Đào tạo ở nước ngoài | I14: x | L14: Tiến sỹ | M14: B1 | N14: Phó GĐ Trung tâm | O14: Khoa CNTT | P14: x | W14: =SUMIF(Sheet6!A:A,B14&O14,Sheet6!I:I) -> 1501.38
A15: 7 | B15: Diêm Thị Thuỳ | D15: 24/10/1977 | E15: Thạc sỹ | F15: Bản đồ, viễn thám và hệ thông tin địa lý | G15: 2001 | H15: Trường ĐH Mỏ địa chất Hà nội | I15: x | L15: Thạc sỹ | M15: B1 | O15: Khoa CNTT | P15: x | W15: =SUMIF(Sheet6!A:A,B15&O15,Sheet6!I:I) -> 193.63
A16: 8 | B16: Dương Chí Thiện | C16: 27944 | E16: Thạc sỹ | F16: Công nghệ thông tin | G16: 2006 | H16: Trường ĐH Khoa học tự nhiên (ĐHQGHN) | I16: x | L16: Thạc sỹ | M16: B1 | O16: Khoa CNTT | P16: x | W16: =SUMIF(Sheet6!A:A,B16&O16,Sheet6!I:I) -> 1160.04
A17: 9 | B17: Dương Thị Hiền Thanh | D17: 22/05/1978 | E17: Tiến sỹ | F17: Công nghệ thông tin | G17: 2019 | H17: Trường ĐH Bách khoa Hà nội | I17: x | L17: Tiến sỹ | M17: B1 | N17: Trưởng Bộ môn | O17: Khoa CNTT | P17: x | W17: =SUMIF(Sheet6!A:A,B17&O17,Sheet6!I:I) -> 1117.2
A18: 10 | B18: Dương Thị Tâm | D18: 27008 | E18: Thạc sỹ | F18: Địa chất công trình | G18: 2003 | H18: Trường ĐH Mỏ địa chất Hà nội | I18: x | L18: Thạc sỹ | M18: B1 | O18: Khoa CNTT | P18: x | W18: =SUMIF(Sheet6!A:A,B18&O18,Sheet6!I:I) -> 205.1
A19: 11 | B19: Đào Anh Thư | D19: 29316 | E19: Thạc sỹ | F19: Hệ thống thông tin | G19: 2014 | H19: Trường ĐH Bách khoa Hà nội | I19: x | L19: Thạc sỹ | M19: B1 | O19: Khoa CNTT | P19: x | W19: =SUMIF(Sheet6!A:A,B19&O19,Sheet6!I:I) -> 1083.15
A20: 12 | B20: Đào THị Hồng Thắm | D20: 14/02/1986 | E20: Thạc sỹ | F20: Bản đồ, viễn thám và hệ thông tin địa lý | G20: 2018 | H20: Trường ĐH Mỏ địa chất Hà nội | I20: x | L20: Thạc sỹ | M20: B1 | O20: Khoa CNTT | P20: x | W20: =SUMIF(Sheet6!A:A,B20&O20,Sheet6!I:I) -> 0
A21: 13 | B21: Đào Thị Tuyết | D21: 27090 | E21: Thạc sỹ | F21: Công nghệ thông t in | G21: 2019 | H21: Trường ĐH Mỏ địa chất Hà nội | I21: x | L21: Thạc sỹ | M21: B1 | O21: Khoa CNTT | P21: x | W21: =SUMIF(Sheet6!A:A,B21&O21,Sheet6!I:I) -> 249
A22: 14 | B22: Đào Thị Thu Vân | D22: 18/11/1978 | E22: Tiến sỹ | F22: Quản lý giáo dục | G22: 2014 | H22: Đào tạo ở nước ngoài | I22: x | L22: Tiến sỹ | M22: B1 | N22: Phó Trưởng Bộ môn | O22: Khoa CNTT | P22: x | W22: =SUMIF(Sheet6!A:A,B22&O22,Sheet6!I:I) -> 1035.1
A23: 15 | B23: Đặng Hữu Nghị | C23: 19/10/1972 | E23: Thạc sỹ | F23: Tin học | G23: 2005 | H23: Trường ĐH Bách khoa Hà nội | I23: x | L23: Thạc sỹ | M23: B1 | O23: Khoa CNTT | P23: x | W23: =SUMIF(Sheet6!A:A,B23&O23,Sheet6!I:I) -> 1377
A24: 16 | B24: Đặng Quốc Trung | C24: 32600 | E24: Đại học | F24: Công nghệ thông tin | G24: 2011 | H24: Trường ĐH Mỏ địa chất Hà nội | I24: x | L24: Đại học | M24: B1 | O24: Khoa CNTT | P24: x | W24: =SUMIF(Sheet6!A:A,B24&O24,Sheet6!I:I) -> 1451.46
A25: 17 | B25: Đặng Văn Nam | C25: 31055 | E25: Thạc sỹ | F25: Hệ thống thông tin | G25: 2012 | H25: Đại học Công nghệ - Đại học Quốc gia Hà Nội | I25: x | L25: Thạc sỹ | M25: B1 | N25: Phó Trưởng Bộ môn | O25: Khoa CNTT | P25: x | W25: =SUMIF(Sheet6!A:A,B25&O25,Sheet6!I:I) -> 1590.5
A26: 18 | B26: Đặng Xuân Điệp | C26: 30933 | E26: Thạc sỹ | F26: Hệ thống thông tin | G26: 2013 | H26: Học viện CN Bưu chính Viễn thông | I26: x | L26: Thạc sỹ | M26: B1 | O26: Khoa CNTT | P26: x | W26: =SUMIF(Sheet6!A:A,B26&O26,Sheet6!I:I) -> 1096.99
A27: 19 | B27: Đinh Bảo Ngọc | C27: 16/12/1989 | E27: Thạc sỹ | F27: Tin học ứng dụng | G27: 2019 | H27: Đào tạo ở nước ngoài | I27: x | L27: Thạc sỹ | M27: B1 | O27: Khoa CNTT | P27: x | W27: =SUMIF(Sheet6!A:A,B27&O27,Sheet6!I:I) -> 131.42
A28: 20 | B28: Đoàn Khánh Hoàng | C28: 24/01/1981 | E28: Thạc sỹ | F28: Công nghệ thông tin | G28: 2012 | H28: Trường ĐH Bách khoa Hà nội | I28: x | L28: Thạc sỹ | M28: B1 | O28: Khoa CNTT | P28: x | W28: =SUMIF(Sheet6!A:A,B28&O28,Sheet6!I:I) -> 0
A29: 21 | B29: Đỗ Anh Tuấn | C29: 14/7/1982 | E29: Thạc sỹ | F29: Công nghệ thông tin | G29: 2009 | H29: Trường ĐH Mỏ địa chất Hà nội | I29: x | L29: Thạc sỹ | M29: B1 | O29: Khoa CNTT | P29: x | W29: =SUMIF(Sheet6!A:A,B29&O29,Sheet6!I:I) -> 622.18
A30: 22 | B30: Đỗ Như Hải | C30: 28226 | E30: Thạc sỹ | F30: Tin học | G30: 2002 | H30: Trường ĐH Khoa học tự nhiên (ĐHQGHN) | I30: x | L30: Thạc sỹ | M30: B1 | O30: Khoa CNTT | P30: x | W30: =SUMIF(Sheet6!A:A,B30&O30,Sheet6!I:I) -> 1216.03
A31: 23 | B31: Hoàng Anh Đức | C31: 17/03/1984 | E31: Thạc sỹ | F31: Tin học | G31: 2012 | H31: Đào tạo ở nước ngoài | I31: x | L31: Thạc sỹ | M31: B1 | N31: Phó Trưởng Bộ môn | O31: Khoa CNTT | P31: x | W31: =SUMIF(Sheet6!A:A,B31&O31,Sheet6!I:I) -> 3140.91
A32: 24 | B32: Hoàng Kim Bảng | C32: 17/02/1956 | E32: Thạc sỹ | F32: Công nghệ thông tin | G32: 1987 | H32: Trường ĐH Mỏ địa chất Hà nội | I32: x | O32: Khoa CNTT | P32: x | W32: =SUMIF(Sheet6!A:A,B32&O32,Sheet6!I:I) -> 0
A33: 25 | B33: Hồ Thị Thảo Trang | D33: 30600 | E33: Thạc sỹ | F33: Tin học | G33: 2009 | H33: Đào tạo ở nước ngoài | I33: x | L33: Thạc sỹ | M33: B1 | O33: Khoa CNTT | P33: x | W33: =SUMIF(Sheet6!A:A,B33&O33,Sheet6!I:I) -> 898.41
A34: 26 | B34: Lê Hồng Anh | C34: 17/10/1980 | E34: Tiến sỹ | F34: Công nghệ thông tin | G34: 2015 | H34: Trường ĐH Khoa học tự nhiên (ĐHQGHN) | I34: x | L34: Tiến sỹ | M34: B1 | N34: Trưởng Khoa | O34: Khoa CNTT | P34: x | W34: =SUMIF(Sheet6!A:A,B34&O34,Sheet6!I:I) -> 1058.44
A35: 27 | B35: Lê Thanh Huệ | D35: 15/09/1964 | E35: Phó Giáo sư/Tiến sỹ | F35: Toán Tin | G35: 2010 | H35: Trường ĐH Khoa học tự nhiên (ĐHQGHN) | I35: x | L35: Tiến sỹ | M35: B4 | N35: Phó Trưởng Khoa | O35: Khoa CNTT | P35: x | W35: =SUMIF(Sheet6!A:A,B35&O35,Sheet6!I:I) -> 1259.69
A36: 28 | B36: Lê Văn Hưng | C36: 26671 | E36: Phó Giáo sư/Tiến sỹ | F36: Công nghệ thông t in | G36: 2010 | H36: Đào tạo ở nước ngoài | I36: x | L36: Tiến sỹ | M36: B4 | N36: Giám đốc Trung tâm | O36: Khoa CNTT | P36: x | W36: =SUMIF(Sheet6!A:A,B36&O36,Sheet6!I:I) -> 2171.41
A37: 29 | B37: Nông Thị Oanh | D37: 29/10/1975 | E37: Thạc sỹ | F37: Công nghệ thông tin | G37: 2013 | H37: Trường ĐH Mỏ địa chất Hà nội | I37: x | L37: Thạc sỹ | M37: B1 | O37: Khoa CNTT | P37: x | W37: =SUMIF(Sheet6!A:A,B37&O37,Sheet6!I:I) -> 1004.4
A38: 30 | B38: Ngô Hùng Long | C38: 14/05/1976 | E38: Thạc sỹ | F38: Địa chất công trình | G38: 1999 | H38: Trường ĐH Mỏ địa chất Hà nội | I38: x | L38: Thạc sỹ | M38: B1 | O38: Khoa CNTT | P38: x | W38: =SUMIF(Sheet6!A:A,B38&O38,Sheet6!I:I) -> 265.83
A39: 31 | B39: Ngô Thị Phương Thảo | D39: 26/06/1978 | E39: Thạc sỹ | F39: Trắc địa | G39: 2007 | H39: Trường ĐH Mỏ địa chất Hà nội | I39: x | L39: Thạc sỹ | M39: B1 | O39: Khoa CNTT | P39: x | W39: =SUMIF(Sheet6!A:A,B39&O39,Sheet6!I:I) -> 458.06
A40: 32 | B40: Nguyễn Duy Huy | C40: 28986 | E40: Tiến sỹ | F40: Công nghệ thông tin | G40: 2017 | H40: Trường ĐH Mỏ địa chất Hà nội | I40: x | L40: Tiến sỹ | M40: B1 | N40: Phó Trưởng Khoa | O40: Khoa CNTT | P40: x | W40: =SUMIF(Sheet6!A:A,B40&O40,Sheet6!I:I) -> 1023.28
A41: 33 | B41: Nguyễn Hoàng Long | C41: 17/10/1984 | E41: Tiến sỹ | F41: Công nghệ thông tin | G41: 2019 | H41: Đào tạo ở nước ngoài | I41: x | L41: Tiến sỹ | M41: B1 | N41: Phó Trưởng Bộ môn | O41: Khoa CNTT | P41: x | W41: =SUMIF(Sheet6!A:A,B41&O41,Sheet6!I:I) -> 220.88
A42: 34 | B42: Nguyễn Quang Khánh | C42: 25/02/1978 | E42: Tiến sỹ | F42: Trắc địa | G42: 2011 | H42: Trường ĐH Mỏ địa chất Hà nội | I42: x | L42: Tiến sỹ | M42: B1 | O42: Khoa CNTT | P42: x | W42: =SUMIF(Sheet6!A:A,B42&O42,Sheet6!I:I) -> 799.7
A43: 35 | B43: Nguyễn Tuấn Anh | C43: 20/11/1976 | E43: Thạc sỹ | F43: Toán Tin | G43: 2000 | H43: Trường ĐH Dân lập Thăng long (HN) | I43: x | L43: Thạc sỹ | M43: B1 | O43: Khoa CNTT | P43: x | W43: =SUMIF(Sheet6!A:A,B43&O43,Sheet6!I:I) -> 245.65
A44: 36 | B44: Nguyễn Thế Bình | C44: 30990 | E44: Thạc sỹ | F44: Kinh tế công nghiệp | G44: 2010 | H44: Trường ĐH Mỏ địa chất Hà nội | I44: x | L44: Thạc sỹ | M44: B1 | O44: Khoa CNTT | P44: x | W44: =SUMIF(Sheet6!A:A,B44&O44,Sheet6!I:I) -> 1600.4
A45: 37 | B45: Nguyễn Thế Lộc | C45: 30/06/1982 | E45: Tiến sỹ | F45: Công nghệ thông tin | G45: 2018 | H45: Đào tạo ở nước ngoài | I45: x | L45: Tiến sỹ | M45: B1 | N45: Phó Trưởng phòng | O45: Khoa CNTT | P45: x | W45: =SUMIF(Sheet6!A:A,B45&O45,Sheet6!I:I) -> 321.68
A46: 38 | B46: Nguyễn Thị Hải Yến | D46: 22/12/1980 | E46: Thạc sỹ | F46: Địa chất công trình | G46: 2007 | H46: Trường ĐH Mỏ địa chất Hà nội | I46: x | L46: Thạc sỹ | M46: B1 | N46: Phó Trưởng Bộ môn | O46: Khoa CNTT | P46: x | W46: =SUMIF(Sheet6!A:A,B46&O46,Sheet6!I:I) -> 619.65
A47: 39 | B47: Nguyễn Thị Hữu Phương | C47: 26/12/1985 | E47: Thạc sỹ | F47: Tin học | G47: 2012 | H47: Trường ĐH Mỏ địa chất Hà nội | I47: x | L47: Thạc sỹ | M47: B1 | O47: Khoa CNTT | P47: x | W47: =SUMIF(Sheet6!A:A,B47&O47,Sheet6!I:I) -> 1839.29
A48: 40 | B48: Nguyễn Thị Mai Dung | D48: 29165 | E48: Tiến sỹ | F48: Bản đồ, viễn thám & hệ thông tin địa lý | G48: 2008 | H48: Đào tạo ở nước ngoài | I48: x | L48: Tiến sỹ | M48: B1 | N48: Phó Trưởng Khoa | O48: Khoa CNTT | P48: x | W48: =SUMIF(Sheet6!A:A,B48&O48,Sheet6!I:I) -> 1233.29
A49: 41 | B49: Nguyễn Thị Phấn | D49: 29194 | E49: Đại học | F49: Công nghệ thông t in | G49: 2017 | H49: Viện ĐH Mở Hà nội | I49: x | L49: Đại học | M49: B1 | O49: Khoa CNTT | P49: x | W49: =SUMIF(Sheet6!A:A,B49&O49,Sheet6!I:I) -> 0
A50: 42 | B50: Nguyễn Thị Phương Bắc | D50: 29224 | E50: Thạc sỹ | F50: Công nghệ thông tin | G50: 2019 | H50: Trường ĐH Bách khoa Hà nội | I50: x | L50: Thạc sỹ | M50: B1 | O50: Khoa CNTT | P50: x | W50: =SUMIF(Sheet6!A:A,B50&O50,Sheet6!I:I) -> 870.1
A51: 43 | B51: Nguyễn Thị Thanh | D51: 14/11/1986 | E51: Thạc sỹ | F51: Tin học | G51: 2010 | H51: Trường ĐH Bách khoa Hà nội | I51: x | L51: Thạc sỹ | M51: B1 | O51: Khoa CNTT | P51: x | W51: =SUMIF(Sheet6!A:A,B51&O51,Sheet6!I:I) -> 1527.82
A52: 44 | B52: Nguyễn Thu Hằng | D52: 29168 | E52: Thạc sỹ | F52: Kinh tế | G52: 2007 | H52: Trường ĐH Kinh tế Quốc dân | I52: x | L52: Thạc sỹ | M52: B1 | N52: Phó Trưởng Bộ môn | O52: Khoa CNTT | P52: x | W52: =SUMIF(Sheet6!A:A,B52&O52,Sheet6!I:I) -> 926.52
A53: 45 | B53: Nguyễn Thuỳ Dương | D53: 25/09/1978 | E53: Thạc sỹ | F53: Công nghệ thông tin | G53: 2010 | H53: Viện ĐH Mở Hà nội | I53: x | L53: Thạc sỹ | M53: B1 | O53: Khoa CNTT | P53: x | W53: =SUMIF(Sheet6!A:A,B53&O53,Sheet6!I:I) -> 255.81
A54: 46 | B54: Nguyễn Trường Linh | C54: 13/10/1989 | E54: Thạc sỹ | F54: Công nghệ thông tin | G54: 2017 | H54: Trường ĐH Mỏ địa chất Hà nội | I54: x | L54: Thạc sỹ | M54: B1 | O54: Khoa CNTT | P54: x | W54: =SUMIF(Sheet6!A:A,B54&O54,Sheet6!I:I) -> 102.73
A55: 47 | B55: Phạm An Cương | C55: 28/07/1973 | E55: Thạc sỹ | F55: Địa chất | G55: 2002 | H55: Trường ĐH Mỏ địa chất Hà nội | I55: x | L55: Thạc sỹ | M55: B1 | O55: Khoa CNTT | P55: x | W55: =SUMIF(Sheet6!A:A,B55&O55,Sheet6!I:I) -> 213.3
A56: 48 | B56: Phạm Đình Tân | C56: 29587 | E56: Thạc sỹ | F56: Điện - điện tử | G56: 2011 | H56: Đào tạo ở nước ngoài | I56: x | L56: Thạc sỹ | M56: B1 | O56: Khoa CNTT | P56: x | W56: =SUMIF(Sheet6!A:A,B56&O56,Sheet6!I:I) -> 1410.71
A57: 49 | B57: Phạm Đức Hậu | C57: 26/10/1969 | E57: Thạc sỹ | F57: Trắc địa | G57: 1991 | H57: Trường ĐH Mỏ địa chất Hà nội | I57: x | L57: Thạc sỹ | M57: B1 | O57: Khoa CNTT | P57: x | W57: =SUMIF(Sheet6!A:A,B57&O57,Sheet6!I:I) -> 1281.77
A58: 50 | B58: Phạm Hữu Lợi | C58: 19/09/1979 | E58: Thạc sỹ | F58: Kinh tế công nghiệp | G58: 2010 | H58: Trường ĐH Mỏ địa chất Hà nội | I58: x | L58: Thạc sỹ | M58: B1 | N58: Phó Trưởng phòng | O58: Khoa CNTT | P58: x | W58: =SUMIF(Sheet6!A:A,B58&O58,Sheet6!I:I) -> 0
A59: 51 | B59: Phạm Quang hiển | C59: 33122 | E59: Đại học | F59: Công nghệ thông tin | G59: 2013 | H59: Trường ĐH Mỏ địa chất Hà nội | I59: x | L59: Đại học | M59: B1 | O59: Khoa CNTT | P59: x | W59: =SUMIF(Sheet6!A:A,B59&O59,Sheet6!I:I) -> 1256.8
A60: 52 | B60: Phạm Thị Hải Vân | D60: 22/01/1980 | E60: Thạc sỹ | F60: Kế toán | G60: 2017 | H60: Học viện Tài chính Kế toán | I60: x | L60: Thạc sỹ | M60: B1 | O60: Khoa CNTT | P60: x | W60: =SUMIF(Sheet6!A:A,B60&O60,Sheet6!I:I) -> 210.23
A61: 53 | B61: Phạm Thị Nguyệt | D61: 28983 | E61: Thạc sỹ | F61: Kinh tế mỏ | G61: 2006 | H61: Trường ĐH Mỏ địa chất Hà nội | I61: x | L61: Thạc sỹ | M61: B1 | O61: Khoa CNTT | P61: x | W61: =SUMIF(Sheet6!A:A,B61&O61,Sheet6!I:I) -> 870.3
A62: 54 | B62: Phạm Văn Đồng | C62: 19/03/1982 | E62: Thạc sỹ | F62: Công nghệ thông tin | G62: 2010 | H62: Trường ĐH Bách khoa Hà nội | I62: x | L62: Thạc sỹ | M62: B1 | O62: Khoa CNTT | P62: x | W62: =SUMIF(Sheet6!A:A,B62&O62,Sheet6!I:I) -> 2001.08
A63: 55 | B63: Tạ Quang Chiểu | C63: 13/05/1977 | E63: Tiến sỹ | F63: Công nghệ thông tin | G63: 2016 | H63: Đào tạo ở nước ngoài | I63: x | L63: Tiến sỹ | M63: B1 | N63: Trưởng Bộ môn | O63: Khoa CNTT | P63: x | W63: =SUMIF(Sheet6!A:A,B63&O63,Sheet6!I:I) -> 1510.59
A64: 56 | B64: Trần Mai Hương | D64: 29292 | E64: Thạc sỹ | F64: Bản đồ, viễn thám và hệ thông tin địa lý | G64: 2012 | H64: Trường ĐH Mỏ địa chất Hà nội | I64: x | L64: Thạc sỹ | M64: B1 | O64: Khoa CNTT | P64: x | W64: =SUMIF(Sheet6!A:A,B64&O64,Sheet6!I:I) -> 847.39
A65: 57 | B65: Trần Thị Hải Vân | D65: 22/11/1979 | E65: Thạc sỹ | F65: Công nghệ thông tin | G65: 2014 | H65: Học viện Kỹ thuật quân sự | I65: x | L65: Thạc sỹ | M65: B1 | O65: Khoa CNTT | P65: x | W65: =SUMIF(Sheet6!A:A,B65&O65,Sheet6!I:I) -> 0
A66: 58 | B66: Trần Thị Như Hoa | D66: 27/02/1978 | E66: Thạc sỹ | F66: Tin học | G66: 2017 | H66: Trường ĐH Mỏ địa chất Hà nội | I66: x | L66: Thạc sỹ | M66: B1 | O66: Khoa CNTT | P66: x | W66: =SUMIF(Sheet6!A:A,B66&O66,Sheet6!I:I) -> 424.28
A67: 59 | B67: Trần Thị Thu Thuý | D67: 14/01/1981 | E67: Thạc sỹ | F67: Điện tử viễn thông | G67: 2007 | H67: Trường ĐH Bách khoa Hà nội | I67: x | L67: Thạc sỹ | M67: B1 | N67: Phó Trưởng Bộ môn | O67: Khoa CNTT | P67: x | W67: =SUMIF(Sheet6!A:A,B67&O67,Sheet6!I:I) -> 466.21
A68: 60 | B68: Trần Trung Chuyên | C68: 19/10/1977 | E68: Tiến sỹ | F68: Kỹ thuật trắc địa | G68: 2018 | H68: Trường ĐH Mỏ địa chất Hà nội | I68: x | L68: Tiến sỹ | M68: B1 | O68: Khoa CNTT | P68: x | W68: =SUMIF(Sheet6!A:A,B68&O68,Sheet6!I:I) -> 1079.71
A69: 61 | B69: Trần Trường Giang | C69: 18/01/1985 | E69: Thạc sỹ | F69: Khoa học địa thông tin và quan sát trái đất | G69: 2012 | H69: Đào tạo ở nước ngoài | I69: x | L69: Thạc sỹ | M69: B1 | O69: Khoa CNTT | P69: x | W69: =SUMIF(Sheet6!A:A,B69&O69,Sheet6!I:I) -> 0
A70: 62 | B70: Trương Xuân Bình | C70: 15/05/1984 | E70: Thạc sỹ | F70: Công nghệ thông tin | G70: 2015 | H70: Học viện Kỹ thuật quân sự | I70: x | L70: Thạc sỹ | M70: B1 | O70: Khoa CNTT | P70: x | W70: =SUMIF(Sheet6!A:A,B70&O70,Sheet6!I:I) -> 842.16
A71: 63 | B71: Trương Xuân Luận | C71: 20/05/1950 | E71: Giáo sư/Tiến sỹ | F71: Địa chất khoáng sản và thăm dò | G71: 1992 | H71: Trường ĐH Mỏ địa chất Hà nội | I71: x | L71: Tiến sỹ | M71: B4 | N71: Trưởng Bộ môn | O71: Khoa CNTT | P71: x | W71: =SUMIF(Sheet6!A:A,B71&O71,Sheet6!I:I) -> 1021.2
A72: 64 | B72: Võ Thị Thu Trang | D72: 15/01/1979 | E72: Thạc sỹ | F72: Kinh tế | G72: 2001 | H72: Trường ĐH Kinh tế Quốc dân | I72: x | L72: Thạc sỹ | M72: B1 | O72: Khoa CNTT | P72: x | W72: =SUMIF(Sheet6!A:A,B72&O72,Sheet6!I:I) -> 786.9
A73: 65 | B73: Vũ Lan Phương | C73: 30/10/1979 | E73: Thạc sỹ | F73: Công nghệ thông tin | G73: 2007 | H73: Trường ĐH Bách khoa Hà nội | I73: x | L73: Thạc sỹ | M73: B1 | O73: Khoa CNTT | P73: x | W73: =SUMIF(Sheet6!A:A,B73&O73,Sheet6!I:I) -> 979.53
A74: 66 | B74: Vũ Thị Kim Liên | D74: 19/09/1979 | E74: Thạc sỹ | F74: Kinh tế công nghiệp | G74: 2009 | H74: Trường ĐH Mỏ địa chất Hà nội | I74: x | L74: Thạc sỹ | M74: B1 | O74: Khoa CNTT | P74: x | W74: =SUMIF(Sheet6!A:A,B74&O74,Sheet6!I:I) -> 372.43
A75: 67 | B75: Vương Thị Như Quỳnh | D75: 20/10/1978 | E75: Thạc sỹ | F75: Công nghệ thông tin | G75: 2002 | H75: Trường ĐH Vinh | I75: x | L75: Thạc sỹ | M75: B1 | O75: Khoa CNTT | P75: x | W75: =SUMIF(Sheet6!A:A,B75&O75,Sheet6!I:I) -> 710.98
A76: 68 | B76: Bùi Thanh Bình | C76: 28/08/1985 | E76: Tiến sỹ | F76: Kỹ thuật dầu khí | G76: 2016 | H76: Đào tạo ở nước ngoài | I76: x | L76: Trình độ B | M76: Trình độ B1 | O76: Khoa Dầu khí | P76: x | W76: =SUMIF(Sheet6!A:A,B76&O76,Sheet6!I:I) -> 173
A77: 69 | B77: Bùi Thị Lệ Thuỷ | D77: 29/08/1971 | E77: Phó Giáo sư/Tiến sỹ | F77: Công nghệ hóa học | G77: 2007 | H77: Đào tạo ở nước ngoài | I77: x | L77: Trình độ B | M77: Trình độ B1 | O77: Khoa Dầu khí | P77: x | W77: =SUMIF(Sheet6!A:A,B77&O77,Sheet6!I:I) -> 585.7
A78: 70 | B78: Bùi Thị Ngân | D78: 32153 | E78: Thạc sỹ | F78: Địa chất dầu khí | G78: 2013 | H78: Đào tạo ở nước ngoài | I78: x | L78: Trình độ B | M78: Trình độ B1 | O78: Khoa Dầu khí | P78: x | W78: =SUMIF(Sheet6!A:A,B78&O78,Sheet6!I:I) -> 972.86
A79: 71 | B79: Công Ngọc Thắng | C79: 24/10/1975 | E79: Tiến sỹ | F79: Công nghệ hoá dầu và lọc dầu | G79: 2009 | H79: Đào tạo ở nước ngoài | I79: x | L79: Trình độ B | M79: Trình độ B1 | N79: Chánh Văn phòng | O79: Khoa Dầu khí | P79: x | W79: =SUMIF(Sheet6!A:A,B79&O79,Sheet6!I:I) -> 2742.64
A80: 72 | B80: Doãn Thị Trâm | D80: 16/11/1984 | E80: Thạc sỹ | F80: Công nghệ khoan - khai thác dầu khí | G80: 2010 | H80: Trường ĐH Mỏ địa chất Hà nội | I80: x | L80: Trình độ B | M80: Trình độ B1 | O80: Khoa Dầu khí | P80: x | W80: =SUMIF(Sheet6!A:A,B80&O80,Sheet6!I:I) -> 1664.7
A81: 73 | B81: Dương Văn Hào | C81: 31594 | E81: Tiến sỹ | F81: Địa vật lý | G81: 2018 | H81: Đào tạo ở nước ngoài | I81: x | L81: Trình độ B | M81: Trình độ B1 | O81: Khoa Dầu khí | P81: x | W81: =SUMIF(Sheet6!A:A,B81&O81,Sheet6!I:I) -> 268
A82: 74 | B82: Dương Viết Cường | C82: 21/04/1980 | E82: Tiến sỹ | F82: Lọc hóa dầu | G82: 2010 | H82: Trường ĐH Mỏ địa chất Hà nội | I82: x | L82: Trình độ B | M82: Trình độ B1 | O82: Khoa Dầu khí | P82: x | W82: =SUMIF(Sheet6!A:A,B82&O82,Sheet6!I:I) -> 0
A83: 75 | B83: Đào Thị Uyên | D83: 25/03/1984 | E83: Thạc sỹ | F83: Máy và thiết bị khai thác dầu khí | G83: 2010 | H83: Trường ĐH Mỏ địa chất Hà nội | I83: x | L83: Trình độ B | M83: Trình độ B1 | O83: Khoa Dầu khí | P83: x | W83: =SUMIF(Sheet6!A:A,B83&O83,Sheet6!I:I) -> 273.94
A84: 76 | B84: Đoàn Văn Huấn | C84: 20/03/1986 | E84: Tiến sỹ | F84: Lọc hoá dầu | G84: 2019 | H84: Đào tạo ở nước ngoài | I84: x | L84: Trình độ B | M84: Trình độ B1 | O84: Khoa Dầu khí | P84: x | W84: =SUMIF(Sheet6!A:A,B84&O84,Sheet6!I:I) -> 0
A85: 77 | B85: Đỗ Thành Sỹ | C85: 28104 | D85: 28136 | E85: Tiến sỹ | F85: Kỹ thuật dầu khí | G85: 2003 | H85: Trường ĐH Mỏ địa chất Hà nội | I85: x | L85: Trình độ B | M85: Trình độ B1 | O85: Khoa Dầu khí | P85: x | W85: =SUMIF(Sheet6!A:A,B85&O85,Sheet6!I:I) -> 0
A86: 78 | B86: Hoàng Anh Dũng | C86: 31/12/1975 | E86: Tiến sỹ | F86: Kỹ thuật dầu khí | G86: 2012 | H86: Đào tạo ở nước ngoài | I86: x | L86: Trình độ B | M86: Trình độ B1 | N86: Chánh Văn phòng | O86: Khoa Dầu khí | P86: x | W86: =SUMIF(Sheet6!A:A,B86&O86,Sheet6!I:I) -> 1261.16
A87: 79 | B87: Hồ Văn Sơn | C87: 31452 | E87: Thạc sỹ | F87: Công nghệ Hoá dầu | G87: 2014 | H87: Trường Đại học Bách khoa HN | I87: x | L87: Trình độ B | M87: Trình độ B1 | O87: Khoa Dầu khí | P87: x | W87: =SUMIF(Sheet6!A:A,B87&O87,Sheet6!I:I) -> 0
A88: 80 | B88: Kiều Duy Thông | C88: 20/09/1979 | E88: Tiến sỹ | F88: Địa vật lý thăm dò | G88: 2018 | H88: Đào tạo ở nước ngoài | I88: x | L88: Trình độ B | M88: Trình độ B1 | O88: Khoa Dầu khí | P88: x | W88: =SUMIF(Sheet6!A:A,B88&O88,Sheet6!I:I) -> 648.69
A89: 81 | B89: Lê Đình Chiển | C89: 1980 | E89: Tiến sĩ | F89: Công nghệ Hoá dầu | G89: 2012 | H89: Đào tạo ở nước ngoài | I89: x | L89: Trình độ B | M89: Trình độ B1 | O89: Khoa Dầu khí | P89: x | W89: =SUMIF(Sheet6!A:A,B89&O89,Sheet6!I:I) -> 0
A90: 82 | B90: Lê Đức Vinh | C90: 30/01/1972 | E90: Tiến sỹ | F90: Kỹ thuật dầu khí | G90: 2016 | H90: Trường ĐH Mỏ địa chất Hà nội | I90: x | L90: Trình độ B | M90: Trình độ B1 | N90: Giám đốc Trung tâm | O90: Khoa Dầu khí | P90: x | W90: =SUMIF(Sheet6!A:A,B90&O90,Sheet6!I:I) -> 1757.52
A91: 83 | B91: Lê Ngọc ánh | D91: 28218 | E91: Tiến sỹ | F91: Địa chất dầu khí | G91: 2012 | H91: Đào tạo ở nước ngoài | I91: x | L91: Trình độ B | M91: Trình độ B1 | N91: Phó Trưởng Bộ môn | O91: Khoa Dầu khí | P91: x | W91: =SUMIF(Sheet6!A:A,B91&O91,Sheet6!I:I) -> 1365.26
A92: 84 | B92: Lê Quang Duyến | C92: 20/10/1980 | E92: Tiến sỹ | F92: Kỹ thuật dầu khí | G92: 2014 | H92: Đào tạo ở nước ngoài | I92: x | L92: Trình độ B | M92: Trình độ B1 | N92: Phó Trưởng Khoa | O92: Khoa Dầu khí | P92: x | W92: =SUMIF(Sheet6!A:A,B92&O92,Sheet6!I:I) -> 2483.65
A93: 85 | B93: Lê văn Bình | C93: 1949 | E93: Thạc sĩ | F93: Kỹ thuật dầu khí | G93: 2006 | H93: Trường ĐH Mỏ địa chất Hà nội | I93: x | L93: Trình độ B | M93: Trình độ B1 | O93: Khoa Dầu khí | P93: x | W93: =SUMIF(Sheet6!A:A,B93&O93,Sheet6!I:I) -> 0
A94: 86 | B94: Lê Văn Nam | C94: 20/10/1965 | E94: Thạc sỹ | F94: Công nghệ khoan - khai thác dầu khí | G94: 2007 | H94: Trường ĐH Mỏ địa chất Hà nội | I94: x | L94: Trình độ B | M94: Trình độ B1 | O94: Khoa Dầu khí | P94: x | W94: =SUMIF(Sheet6!A:A,B94&O94,Sheet6!I:I) -> 441.68
A95: 87 | B95: Ngô Hà Sơn | C95: 31/10/1984 | E95: Tiến sỹ | F95: Lọc hoá dầu | G95: 2018 | H95: Đào tạo ở nước ngoài | I95: x | L95: Trình độ B | M95: Trình độ B1 | N95: Phó Trưởng Bộ môn | O95: Khoa Dầu khí | P95: x | W95: =SUMIF(Sheet6!A:A,B95&O95,Sheet6!I:I) -> 938.16
A96: 88 | B96: Ngô Thanh Hải | C96: 21/12/1976 | E96: Tiến sỹ | F96: Công nghệ hóa học | G96: 2013 | H96: Đào tạo ở nước ngoài | I96: x | L96: Trình độ B | M96: Trình độ B1 | O96: Khoa Dầu khí | P96: x | W96: =SUMIF(Sheet6!A:A,B96&O96,Sheet6!I:I) -> 1835.79
A97: 89 | B97: Nguyễn Anh Dũng | C97: 31/7/1979 | E97: Tiến sỹ | F97: Công nghệ Hoá dầu | G97: 2012 | H97: Đào tạo ở nước ngoài | I97: x | L97: Trình độ B | M97: Trình độ B1 | N97: Trưởng phòng | O97: Khoa Dầu khí | W97: =SUMIF(Sheet6!A:A,B97&O97,Sheet6!I:I) -> 3169.65
A98: 90 | B98: Nguyễn Duy Mười | C98: 22/04/1984 | E98: Thạc sỹ | F98: Địa chất | G98: 2012 | H98: Trường ĐH Khoa học tự nhiên (ĐHQGHN) | I98: x | L98: Trình độ B | M98: Trình độ B1 | O98: Khoa Dầu khí | P98: x | W98: =SUMIF(Sheet6!A:A,B98&O98,Sheet6!I:I) -> 10.02
A99: 91 | B99: Nguyễn Khắc Long | C99: 32119 | E99: Tiến sỹ | F99: Công nghệ khoan - khai thác và công nghệ dầu khí | G99: 2019 | H99: Đào tạo ở nước ngoài | I99: x | L99: Trình độ B | M99: Trình độ B1 | N99: Phó GĐ Trung tâm | O99: Khoa Dầu khí | P99: x | W99: =SUMIF(Sheet6!A:A,B99&O99,Sheet6!I:I) -> 0
A100: 92 | B100: Nguyễn Mai Hà | D100: 30231 | E100: Đại học | F100: Tuyển khoáng | G100: 2005 | H100: Trường ĐH Mỏ địa chất Hà nội | I100: x | L100: Trình độ B | M100: Trình độ B1 | O100: Khoa Dầu khí | P100: x | W100: =SUMIF(Sheet6!A:A,B100&O100,Sheet6!I:I) -> 101.23
A101: 93 | B101: Nguyễn Minh Hòa | C101: 28/09/1988 | E101: Tiến sỹ | F101: Địa chất học th.dò mỏ dầu, mỏ khí đốt | G101: 2018 | H101: Trường ĐH Mỏ địa chất Hà nội | I101: x | L101: Trình độ B | M101: Trình độ B1 | O101: Khoa Dầu khí | P101: x | W101: =SUMIF(Sheet6!A:A,B101&O101,Sheet6!I:I) -> 196.03
A102: 94 | B102: Nguyễn Phùng Hưng | C102: 29347 | E102: Thạc sỹ | F102: Công trình dầu khí ngoài biển | G102: 2008 | H102: Trường ĐH Mỏ địa chất Hà nội | I102: x | L102: Trình độ B | M102: Trình độ B1 | O102: Khoa Dầu khí | P102: x | W102: =SUMIF(Sheet6!A:A,B102&O102,Sheet6!I:I) -> 224.2
...

Sheet Sheet5
O1: Khoa CNTT
M2: Bản đồ | N2: Khoa Trắc địa - bản đồ và Quản lý đất đai | O2: Khoa Dầu khí
M3: Công nghệ phần mềm | N3: Khoa CNTT | O3: Khoa Mỏ
A4: 2014-2015 | B4: Nguyễn Minh Mẫn | C4: =VLOOKUP(D4,$M$2:$N$97,2,0) -> Khong tinh | D4: Toán | E4: 0101-01 | F4: PGS | G4: 651.7 | M4: Cơ lý thuyết | N4: Khong tinh | O4: Khoa Môi Trường
A5: 2014-2015 | B5: Tô Văn Đinh | C5: =VLOOKUP(D5,$M$2:$N$97,2,0) -> Khong tinh | D5: Toán | E5: 0101-03 | F5: GVC | G5: 1370.2 | M5: Chính trị | N5: Khong tinh | O5: Khoa Trắc địa - bản đồ và Quản lý đất đai
A6: 2014-2015 | B6: Nguyễn Văn Ngọc | C6: =VLOOKUP(D6,$M$2:$N$97,2,0) -> Khong tinh | D6: Toán | E6: 0101-04 | F6: GVC | G6: 750.3 | M6: Địa chất | N6: Khong tinh | O6: Khoa Xây dựng
A7: 2014-2015 | B7: Nguyễn Thị Hằng | C7: =VLOOKUP(D7,$M$2:$N$97,2,0) -> Khong tinh | D7: Toán | E7: 0101-09 | F7: GVC | G7: 1032.34 | M7: Địa chất công trình | N7: Khong tinh | O7: Khong tinh
A8: 2014-2015 | B8: Đào Xuân Hưng | C8: =VLOOKUP(D8,$M$2:$N$97,2,0) -> Khong tinh | D8: Toán | E8: 0101-10 | F8: GV | G8: 758.8 | M8: Địa chất dầu | N8: Khoa Dầu khí
A9: 2014-2015 | B9: Nguyễn Trường Thanh | C9: =VLOOKUP(D9,$M$2:$N$97,2,0) -> Khong tinh | D9: Toán | E9: 0101-11 | F9: GV | G9: 718.2 | M9: Địa chất dầu khí | N9: Khoa Dầu khí
A10: 2014-2015 | B10: Nguyễn Thị Lan Hương | C10: =VLOOKUP(D10,$M$2:$N$97,2,0) -> Khong tinh | D10: Toán | E10: 0101-12 | F10: GV | G10: 1007.9 | M10: Địa chất thuỷ văn | N10: Khong tinh
A11: 2014-2015 | B11: Hà Hữu Cao Trình | C11: =VLOOKUP(D11,$M$2:$N$97,2,0) -> Khong tinh | D11: Toán | E11: 0101-16 | F11: GV | G11: 681.35 | M11: Địa chất thủy văn | N11: Khong tinh
A12: 2014-2015 | B12: Phạm Tuấn Cường | C12: =VLOOKUP(D12,$M$2:$N$97,2,0) -> Khong tinh | D12: Toán | E12: 0101-17 | F12: GV | G12: 795.25 | M12: Địa chính | N12: Khoa Trắc địa - bản đồ và Quản lý đất đai
A13: 2014-2015 | B13: Phạm Ngọc Anh | C13: =VLOOKUP(D13,$M$2:$N$97,2,0) -> Khong tinh | D13: Toán | E13: 0101-18 | F13: GV | G13: 671.5 | M13: Địa sinh thái | N13: Khoa Môi Trường
A14: 2014-2015 | B14: Nguyễn Thu Hằng | C14: =VLOOKUP(D14,$M$2:$N$97,2,0) -> Khong tinh | D14: Toán | E14: 0101-19 | F14: GV | G14: 564.5 | M14: Địa sinh thái và CNMT | N14: Khoa Môi Trường
A15: 2014-2015 | B15: Lê Hương Giang | C15: =VLOOKUP(D15,$M$2:$N$97,2,0) -> Khong tinh | D15: Toán | E15: 0101-20 | F15: GV | G15: 526.59 | M15: Địa vật lý | N15: Khoa Dầu khí
A16: 2014-2015 | B16: Nguyễn Thị Kim Sơn | C16: =VLOOKUP(D16,$M$2:$N$97,2,0) -> Khong tinh | D16: Toán | E16: 0101-21 | F16: GV | G16: 472.9 | M16: Điện khí hoá | N16: Khong tinh
A17: 2014-2015 | B17: Nguyễn Thế Lâm | C17: =VLOOKUP(D17,$M$2:$N$97,2,0) -> Khong tinh | D17: Toán | E17: 0101-22 | F17: GV | G17: 565.55 | M17: Điện khí hóa | N17: Khong tinh
A18: 2014-2015 | B18: Nguyễn Thị Hiền | C18: =VLOOKUP(D18,$M$2:$N$97,2,0) -> Khong tinh | D18: Toán | E18: 0101-23 | F18: GV | G18: 543.75 | M18: ĐLCMĐ Việt Nam | N18: Khong tinh
A19: 2014-2015 | B19: Lê Bích Phượng | C19: =VLOOKUP(D19,$M$2:$N$97,2,0) -> Khong tinh | D19: Toán | E19: 0101-24 | F19: GV | G19: 582.85 | M19: Đo ảnh và Viễn thám | N19: Khoa Trắc địa - bản đồ và Quản lý đất đai
... A33: 2014-2015 | B33: Đinh Văn Thiên | C33: =VLOOKUP(D33,$M$2:$N$97,2,0) -> Khong tinh | D33: Lý | E33: 0102-18 | F33: GV | G33: 544.2 | M33: Kinh tế cơ sở | N33: Khong tinh
A34: 2014-2015 | B34: Nguyễn Thị Hậu | C34: =VLOOKUP(D34,$M$2:$N$97,2,0) -> Khong tinh | D34: Lý | F34: PVGD | G34: 0 | M34: Kinh tế Dầu | N34: Khong tinh
A35: 2014-2015 | B35: Công Tiến Dũng | C35: =VLOOKUP(D35,$M$2:$N$97,2,0) -> Khong tinh | D35: Hoá | E35: 0103-03 | F35: GV | G35: 372.7 | M35: Kinh tế Địa chất- Dầu khí | N35: Khong tinh
A36: 2014-2015 | B36: Phạm Tiến Dũng | C36: =VLOOKUP(D36,$M$2:$N$97,2,0) -> Khong tinh | D36: Hoá | E36: 0103-05 | F36: GV | G36: 343.5 | M36: Kinh tế mỏ | N36: Khong tinh
A37: 2014-2015 | B37: Lê Thị Duyên | C37: =VLOOKUP(D37,$M$2:$N$97,2,0) -> Khong tinh | D37: Hoá | E37: 0103-06 | F37: GV | G37: 491.8 | M37: KT môi trường mỏ | N37: Khoa Môi Trường
A38: 2014-2015 | B38: Nguyễn Đình Độ | C38: =VLOOKUP(D38,$M$2:$N$97,2,0) -> Khong tinh | D38: Hoá | E38: 0103-07 | F38: GV | G38: 491.7 | M38: Kỹ thuật cơ khí | N38: Khong tinh
A39: 2014-2015 | B39: Nguyễn Mạnh Hà | C39: =VLOOKUP(D39,$M$2:$N$97,2,0) -> Khong tinh | D39: Hoá | E39: 0103-08 | F39: GV | G39: 284 | M39: Kỹ thuật điện - Điện tử | N39: Khong tinh
A40: 2014-2015 | B40: Nguyễn Thu Hà | C40: =VLOOKUP(D40,$M$2:$N$97,2,0) -> Khong tinh | D40: Hoá | E40: 0103-09 | F40: GVC | G40: 323.4 | M40: Kỹ thuật điện - ĐT | N40: Khong tinh
A41: 2014-2015 | B41: Đỗ Thị Hải | C41: =VLOOKUP(D41,$M$2:$N$97,2,0) -> Khong tinh | D41: Hoá | E41: 0103-10 | F41: GVC | G41: 805.7 | M41: Kỹ thuật môi trường | N41: Khoa Môi Trường
A42: 2014-2015 | B42: Võ Thị Hạnh | C42: =VLOOKUP(D42,$M$2:$N$97,2,0) -> Khong tinh | D42: Hoá | E42: 0103-11 | F42: GV | G42: 282.5 | M42: Kỹ thuật quân sự | N42: Khong tinh
A43: 2014-2015 | B43: Hà Mạnh Hùng | C43: =VLOOKUP(D43,$M$2:$N$97,2,0) -> Khong tinh | D43: Hoá | E43: 0103-12 | F43: GVC | G43: 428.6 | M43: Kỹ thuật xây dựng | N43: Khoa Xây dựng
A44: 2014-2015 | B44: Nguyễn Thị Thu Hiền | C44: =VLOOKUP(D44,$M$2:$N$97,2,0) -> Khong tinh | D44: Hoá | E44: 0103-13 | F44: GV | G44: 148.5 | M44: Khai thác hầm lò | N44: Khoa Mỏ
A45: 2014-2015 | B45: Lê Đức Liêm | C45: =VLOOKUP(D45,$M$2:$N$97,2,0) -> Khong tinh | D45: Hoá | E45: 0103-14 | F45: GVC | G45: 353.1 | M45: Khai thác lộ thiên | N45: Khoa Mỏ
A46: 2014-2015 | B46: Vũ Kim Thư | C46: =VLOOKUP(D46,$M$2:$N$97,2,0) -> Khong tinh | D46: Hoá | E46: 0103-16 | F46: GV | G46: 288.8 | M46: Khoan khai thác | N46: Khoa Dầu khí
... A97: 2014-2015 | B97: Đỗ Tiến Thiết | C97: =VLOOKUP(D97,$M$2:$N$97,2,0) -> Khong tinh | D97: Giáo dục thể chất | E97: 0107- | F97: GV | G97: 623.98 | M97: Xưởng cơ khí | N97: Khong tinh
A98: 2014-2015 | B98: Nguyễn Trường Đông | C98: =VLOOKUP(D98,$M$2:$N$97,2,0) -> Khong tinh | D98: Giáo dục thể chất | E98: 0107- | F98: GV | G98: 563.88
A99: 2014-2015 | B99: Chu Thị Hồng Hạnh | C99: =VLOOKUP(D99,$M$2:$N$97,2,0) -> Khong tinh | D99: Giáo dục thể chất | E99: 0107- | F99: GV | G99: 612.54
A100: 2014-2015 | B100: Nguyễn Bình Yên | C100: =VLOOKUP(D100,$M$2:$N$97,2,0) -> Khong tinh | D100: Pháp luật | E100: 0201-01 | F100: PGS | G100: 987.5
A101: 2014-2015 | B101: Nguyễn Thị Nụ | C101: =VLOOKUP(D101,$M$2:$N$97,2,0) -> Khong tinh | D101: Pháp luật | E101: 0201-06 | F101: GVC | G101: 1295.3
A102: 2014-2015 | B102: Nguyễn Thị Thu | C102: =VLOOKUP(D102,$M$2:$N$97,2,0) -> Khong tinh | D102: NLCN Mác - Lênin | E102: 0201-05 | F102: GVC | G102: 1196.65
A103: 2014-2015 | B103: Đỗ Thị Kim Thanh | C103: =VLOOKUP(D103,$M$2:$N$97,2,0) -> Khong tinh | D103: NLCN Mác - Lênin | E103: 0201-07 | F103: GVC | G103: 750.7
A104: 2014-2015 | B104: Phí Mạnh Phong | C104: =VLOOKUP(D104,$M$2:$N$97,2,0) -> Khong tinh | D104: NLCN Mác - Lênin | E104: 0201-08 | F104: GV | G104: 989.05
A105: 2014-2015 | B105: Trần Thị Lan Hương | C105: =VLOOKUP(D105,$M$2:$N$97,2,0) -> Khong tinh | D105: NLCN Mác - Lênin | E105: 0201-09 | F105: GV | G105: 561.09
A106: 2014-2015 | B106: Nguyễn Thi Phương | C106: =VLOOKUP(D106,$M$2:$N$97,2,0) -> Khong tinh | D106: NLCN Mác - Lênin | E106: 0201-10 | F106: GV | G106: 841.55
A107: 2014-2015 | B107: Bùi Thị Thùy Dương | C107: =VLOOKUP(D107,$M$2:$N$97,2,0) -> Khong tinh | D107: NLCN Mác - Lênin | E107: 0201-12 | F107: GV | G107: 540.5
A108: 2014-2015 | B108: Ngô Văn Hưởng | C108: =VLOOKUP(D108,$M$2:$N$97,2,0) -> Khong tinh | D108: NLCN Mác - Lênin | E108: 0201-13 | F108: GV | G108: 862.6
A109: 2014-2015 | B109: Nguyễn Văn Sơn | C109: =VLOOKUP(D109,$M$2:$N$97,2,0) -> Khong tinh | D109: TT Hồ Chí Minh | E109: 0202-01 | F109: PGS | G109: 1021.4
... A145: 2014-2015 | B145: Lê Quang Phục | C145: =VLOOKUP(D145,$M$2:$N$97,2,0) -> Khoa Mỏ | D145: Khai thác hầm lò | E145: 0302-22 | F145: GV | G145: 1100.4
A146: 2014-2015 | B146: Bùi Mạnh Tùng | C146: =VLOOKUP(D146,$M$2:$N$97,2,0) -> Khoa Mỏ | D146: Khai thác hầm lò | F146: GV | G146: 1077.1
A147: 2014-2015 | B147: Phạm Hữu Giang | C147: =VLOOKUP(D147,$M$2:$N$97,2,0) -> Khoa Mỏ | D147: Tuyển khoáng | E147: 0304-02 | F147: GVC | G147: 605
A148: 2014-2015 | B148: Nguyễn Hoàng Sơn | C148: =VLOOKUP(D148,$M$2:$N$97,2,0) -> Khoa Mỏ | D148: Tuyển khoáng | E148: 0304-04 | F148: PGS | G148: 1079.1
A149: 2014-2015 | B149: Nguyễn Ngọc Phú | C149: =VLOOKUP(D149,$M$2:$N$97,2,0) -> Khoa Mỏ | D149: Tuyển khoáng | E149: 0304-05 | F149: GVC | G149: 1019.6
A150: 2014-2015 | B150: Nhữ Thị Kim Dung | C150: =VLOOKUP(D150,$M$2:$N$97,2,0) -> Khoa Mỏ | D150: Tuyển khoáng | E150: 0304-06 | F150: GVC | G150: 817.2
A151: 2014-2015 | B151: Phạm Văn Luận | C151: =VLOOKUP(D151,$M$2:$N$97,2,0) -> Khoa Mỏ | D151: Tuyển khoáng | E151: 0304-07 | F151: GV | G151: 1084.3
A152: 2014-2015 | B152: Vũ Thị Chinh | C152: =VLOOKUP(D152,$M$2:$N$97,2,0) -> Khoa Mỏ | D152: Tuyển khoáng | E152: 0304-08 | F152: GV | G152: 726
A153: 2014-2015 | B153: Trần Trung Tới | C153: =VLOOKUP(D153,$M$2:$N$97,2,0) -> Khoa Mỏ | D153: Tuyển khoáng | E153: 0304-09 | F153: GV | G153: 567.1
A154: 2014-2015 | B154: Phạm Thanh Hải | C154: =VLOOKUP(D154,$M$2:$N$97,2,0) -> Khoa Mỏ | D154: Tuyển khoáng | E154: 0304-12 | F154: GV | G154: 776.4
A155: 2014-2015 | B155: Phùng Tiến Thuật | C155: =VLOOKUP(D155,$M$2:$N$97,2,0) -> Khoa Mỏ | D155: Tuyển khoáng | E155: 0304-13 | F155: GV | G155: 659.5
A156: 2014-2015 | B156: Dương Đức Hùng | C156: =VLOOKUP(D156,$M$2:$N$97,2,0) -> Khong tinh | D156: Sức bền vật liệu | E156: 0305-01 | F156: GVC | G156: 1490.8
A157: 2014-2015 | B157: Phạm Tuấn Long | C157: =VLOOKUP(D157,$M$2:$N$97,2,0) -> Khong tinh | D157: Sức bền vật liệu | E157: 0305-02 | F157: GV | G157: 745.5
A158: 2014-2015 | B158: Nguyễn Viết Thắng | C158: =VLOOKUP(D158,$M$2:$N$97,2,0) -> Khong tinh | D158: Sức bền vật liệu | E158: 0305-04 | F158: GV | G158: 582.2
... A202: 2014-2015 | B202: Ngô Xuân Đắc | C202: =VLOOKUP(D202,$M$2:$N$97,2,0) -> Khong tinh | D202: Khoáng sản | E202: 0404-09 | F202: GV | G202: 0
A203: 2014-2015 | B203: Nguyễn Đình Luyện | C203: =VLOOKUP(D203,$M$2:$N$97,2,0) -> Khong tinh | D203: Khoáng sản | F203: GV | G203: 0
A204: 2014-2015 | B204: Đỗ Minh Toàn | C204: =VLOOKUP(D204,$M$2:$N$97,2,0) -> Khong tinh | D204: Địa chất công trình | E204: 0405-02 | F204: PGS | G204: 559.2
A205: 2014-2015 | B205: Lê Trọng Thắng | C205: =VLOOKUP(D205,$M$2:$N$97,2,0) -> Khong tinh | D205: Địa chất công trình | E205: 0405-03 | F205: PGS | G205: 447
A206: 2014-2015 | B206: Tô Xuân Vu | C206: =VLOOKUP(D206,$M$2:$N$97,2,0) -> Khong tinh | D206: Địa chất công trình | E206: 0405-05 | F206: GVC | G206: 983.336
A207: 2014-2015 | B207: Nguyễn Viết Tình | C207: =VLOOKUP(D207,$M$2:$N$97,2,0) -> Khong tinh | D207: Địa chất công trình | E207: 0405-06 | F207: GVC | G207: 481.9
A208: 2014-2015 | B208: Phạm Minh Tuấn | C208: =VLOOKUP(D208,$M$2:$N$97,2,0) -> Khong tinh | D208: Địa chất công trình | E208: 0405-09 | F208: GVC | G208: 887.48
A209: 2014-2015 | B209: Nguyễn Văn Phóng | C209: =VLOOKUP(D209,$M$2:$N$97,2,0) -> Khong tinh | D209: Địa chất công trình | E209: 0405-11 | F209: GV | G209: 280.7
A210: 2014-2015 | B210: Nguyễn Thị Nụ | C210: =VLOOKUP(D210,$M$2:$N$97,2,0) -> Khong tinh | D210: Địa chất công trình | E210: 0405-12 | F210: GV | G210: 632.8
A211: 2014-2015 | B211: Phạm Thị Việt Nga | C211: =VLOOKUP(D211,$M$2:$N$97,2,0) -> Khong tinh | D211: Địa chất công trình | E211: 0405-16 | F211: GV | G211: 208.2
A212: 2014-2015 | B212: Vũ Thái Linh | C212: =VLOOKUP(D212,$M$2:$N$97,2,0) -> Khong tinh | D212: Địa chất công trình | E212: 0405-19 | F212: GV | G212: 611.2
A213: 2014-2015 | B213: Dương Văn Bình | C213: =VLOOKUP(D213,$M$2:$N$97,2,0) -> Khong tinh | D213: Địa chất công trình | E213: 0405-20 | F213: GV | G213: 1080.076
A214: 2014-2015 | B214: Bùi Văn Bình | C214: =VLOOKUP(D214,$M$2:$N$97,2,0) -> Khong tinh | D214: Địa chất công trình | E214: 0405-21 | F214: GV | G214: 582.18
A215: 2014-2015 | B215: Nguyễn Thành Dương | C215: =VLOOKUP(D215,$M$2:$N$97,2,0) -> Khong tinh | D215: Địa chất công trình | E215: 0405-22 | F215: GV | G215: 598.58
... A218: 2014-2015 | B218: Bùi Trường Sơn | C218: =VLOOKUP(D218,$M$2:$N$97,2,0) -> Khong tinh | D218: Địa chất công trình | E218: 0405-10 | F218: GV | G218: 579.38
A219: 2014-2015 | B219: Phùng Hữu Hải | C219: =VLOOKUP(D219,$M$2:$N$97,2,0) -> Khong tinh | D219: Địa chất công trình | F219: PVGD | G219: 122.544
A220: 2014-2015 | B220: Phạm Thị Ngọc Hà | C220: =VLOOKUP(D220,$M$2:$N$97,2,0) -> Khong tinh | D220: Địa chất công trình | E220: 04050-17 | F220: PVGD | G220: 82.6
A221: 2014-2015 | B221: Nguyễn Văn Lâm | C221: =VLOOKUP(D221,$M$2:$N$97,2,0) -> Khong tinh | D221: Địa chất thuỷ văn | E221: 0406-03 | F221: PGS | G221: 450.9
A222: 2014-2015 | B222: Kiều Thị Vân Anh | C222: =VLOOKUP(D222,$M$2:$N$97,2,0) -> Khong tinh | D222: Địa chất thuỷ văn | E222: 0406-05 | F222: PVGD | G222: 155.3
A223: 2014-2015 | B223: Nguyễn Thị Thanh Thủy | C223: =VLOOKUP(D223,$M$2:$N$97,2,0) -> Khong tinh | D223: Địa chất thuỷ văn | E223: 0406-06 | F223: GVC | G223: 732.4
A224: 2014-2015 | B224: Dương Thị Thanh Thủy | C224: =VLOOKUP(D224,$M$2:$N$97,2,0) -> Khong tinh | D224: Địa chất thuỷ văn | E224: 0406-07 | F224: GVC | G224: 674.36
A225: 2014-2015 | B225: Hoàng Văn Hoan | C225: =VLOOKUP(D225,$M$2:$N$97,2,0) -> Khong tinh | D225: Địa chất thuỷ văn | E225: 0406-08 | F225: PVGD | G225: 110.5
A226: 2014-2015 | B226: Vũ Thu Hiền | C226: =VLOOKUP(D226,$M$2:$N$97,2,0) -> Khong tinh | D226: Địa chất thuỷ văn | E226: 0406-09 | F226: GV | G226: 127
A227: 2014-2015 | B227: Trần Vũ Long | C227: =VLOOKUP(D227,$M$2:$N$97,2,0) -> Khong tinh | D227: Địa chất thuỷ văn | E227: 0406-11 | F227: GV | G227: 445.7
A228: 2014-2015 | B228: Vũ Văn Hưng | C228: =VLOOKUP(D228,$M$2:$N$97,2,0) -> Khong tinh | D228: Địa chất thuỷ văn | E228: 0406-13 | F228: GV | G228: 0
A229: 2014-2015 | B229: Trần Quang Tuấn | C229: =VLOOKUP(D229,$M$2:$N$97,2,0) -> Khong tinh | D229: Địa chất thuỷ văn | E229: 0406-14 | F229: GV | G229: 369.62
A230: 2014-2015 | B230: Nguyễn Hữu Mạnh | C230: =VLOOKUP(D230,$M$2:$N$97,2,0) -> Khong tinh | D230: Địa chất thuỷ văn | E230: 0406-16 | F230: GV | G230: 74.1
A231: 2014-2015 | B231: Đào Đức Bằng | C231: =VLOOKUP(D231,$M$2:$N$97,2,0) -> Khong tinh | D231: Địa chất thuỷ văn | E231: 0406-15 | F231: GV | G231: 296
... A301: 2014-2015 | B301: Lê Văn Cảnh | C301: =VLOOKUP(D301,$M$2:$N$97,2,0) -> Khoa Trắc địa - bản đồ và Quản lý đất đai | D301: Trắc địa mỏ | E301: 0505-11 | F301: GV | G301: 821.44
A302: 2014-2015 | B302: Cao Xuân Cường | C302: =VLOOKUP(D302,$M$2:$N$97,2,0) -> Khoa Trắc địa - bản đồ và Quản lý đất đai | D302: Trắc địa mỏ | F302: GV | G302: 0
A303: 2014-2015 | B303: Trần Thùy Dương | C303: =VLOOKUP(D303,$M$2:$N$97,2,0) -> Khoa Trắc địa - bản đồ và Quản lý đất đai | D303: Địa chính | E303: 0506-03 | F303: GVC | G303: 497.4
A304: 2014-2015 | B304: Nguyễn Thị Dung | C304: =VLOOKUP(D304,$M$2:$N$97,2,0) -> Khoa Trắc địa - bản đồ và Quản lý đất đai | D304: Địa chính | E304: 0506-04 | F304: GVC | G304: 645.2
A305: 2014-2015 | B305: Trần Đình Thành | C305: =VLOOKUP(D305,$M$2:$N$97,2,0) -> Khoa Trắc địa - bản đồ và Quản lý đất đai | D305: Địa chính | E305: 0506-05 | F305: GV | G305: 612.5
A306: 2014-2015 | B306: Nguyễn Thị Kim Yến | C306: =VLOOKUP(D306,$M$2:$N$97,2,0) -> Khoa Trắc địa - bản đồ và Quản lý đất đai | D306: Địa chính | E306: 0506-06 | F306: GV | G306: 446.7
A307: 2014-2015 | B307: Nguyễn Thế Công | C307: =VLOOKUP(D307,$M$2:$N$97,2,0) -> Khoa Trắc địa - bản đồ và Quản lý đất đai | D307: Địa chính | E307: 0506-07 | F307: GV | G307: 555.7
A308: 2014-2015 | B308: Phạm Thế Huynh | C308: =VLOOKUP(D308,$M$2:$N$97,2,0) -> Khoa Trắc địa - bản đồ và Quản lý đất đai | D308: Địa chính | E308: 0506-08 | F308: GV | G308: 538
A309: 2014-2015 | B309: Phạm Thị Kim Thoa | C309: =VLOOKUP(D309,$M$2:$N$97,2,0) -> Khoa Trắc địa - bản đồ và Quản lý đất đai | D309: Địa chính | E309: 0506-09 | F309: GV | G309: 526.086
A310: 2014-2015 | B310: Đặng Thị Hoàng Nga | C310: =VLOOKUP(D310,$M$2:$N$97,2,0) -> Khoa Trắc địa - bản đồ và Quản lý đất đai | D310: Địa chính | E310: 0506-10 | F310: GV | G310: 557.84
A311: 2014-2015 | B311: Đinh Hải Nam | C311: =VLOOKUP(D311,$M$2:$N$97,2,0) -> Khoa Trắc địa - bản đồ và Quản lý đất đai | D311: Địa chính | E311: 0506-12 | F311: GV | G311: 496.7
A312: 2014-2015 | B312: Trần Xuân Miễn | C312: =VLOOKUP(D312,$M$2:$N$97,2,0) -> Khoa Trắc địa - bản đồ và Quản lý đất đai | D312: Địa chính | E312: 0506-13 | F312: GV | G312: 620.01
...

Sheet Sheet6
A1: =D1&E1 -> Lê Văn QuyểnKhoa Mỏ | B1: =COUNTIF(L:L,A1) -> 0 | C1: 2015-2016 | D1: Lê Văn Quyển | E1: Khoa Mỏ | F1: Khai thác lộ thiên | G1: 0301-03 | H1: GVC.TS | I1: 971.6 | M1: 2
A2: =D2&E2 -> Bùi Xuân NamKhoa Mỏ | B2: =COUNTIF(L:L,A2) -> 1 | C2: 2015-2016 | D2: Bùi Xuân Nam | E2: Khoa Mỏ | F2: Khai thác lộ thiên | G2: 0301-04 | H2: PGS.TS | I2: 722.5 | K2: =COUNTIF($A$1:$A$999,L2) -> 0 | L2: =M2&N2 -> Trần Thị HòaKhoa CNTT | M2: Trần Thị Hòa | N2: Khoa CNTT
A3: =D3&E3 -> Lê Hữu QuỳnhKhoa Mỏ | B3: =COUNTIF(L:L,A3) -> 1 | C3: 2015-2016 | D3: Lê Hữu Quỳnh | E3: Khoa Mỏ | F3: Khai thác lộ thiên | G3: 0301-05 | H3: GV.KS(CN) | I3: 1323.6 | K3: =COUNTIF($A$1:$A$999,L3) -> 0 | L3: =M3&N3 -> Bùi Thế VinhKhoa CNTT | M3: Bùi Thế Vinh | N3: Khoa CNTT
A4: =D4&E4 -> Lê Thị Thu HoaKhoa Mỏ | B4: =COUNTIF(L:L,A4) -> 1 | C4: 2015-2016 | D4: Lê Thị Thu Hoa | E4: Khoa Mỏ | F4: Khai thác lộ thiên | G4: 0301-06 | H4: GVC.TS | I4: 1229.9 | K4: =COUNTIF($A$1:$A$999,L4) -> 2 | L4: =M4&N4 -> Bùi Thị ánh NguyệtKhoa CNTT | M4: Bùi Thị ánh Nguyệt | N4: Khoa CNTT
A5: =D5&E5 -> Phạm Văn HòaKhoa Mỏ | B5: =COUNTIF(L:L,A5) -> 1 | C5: 2015-2016 | D5: Phạm Văn Hòa | E5: Khoa Mỏ | F5: Khai thác lộ thiên | G5: 0301-07 | H5: GV.TS | I5: 929.2 | K5: =COUNTIF($A$1:$A$999,L5) -> 3 | L5: =M5&N5 -> Bùi Thị Vân AnhKhoa CNTT | M5: Bùi Thị Vân Anh | N5: Khoa CNTT
A6: =D6&E6 -> Nguyễn Đình AnKhoa Mỏ | B6: =COUNTIF(L:L,A6) -> 1 | C6: 2015-2016 | D6: Nguyễn Đình An | E6: Khoa Mỏ | F6: Khai thác lộ thiên | G6: 0301-09 | H6: GV.TS | I6: 739.3 | K6: =COUNTIF($A$1:$A$999,L6) -> 0 | L6: =M6&N6 -> Cảnh Chí ThanhKhoa CNTT | M6: Cảnh Chí Thanh | N6: Khoa CNTT
A7: =D7&E7 -> Vũ Đình HiếuKhoa Mỏ | B7: =COUNTIF(L:L,A7) -> 1 | C7: 2015-2016 | D7: Vũ Đình Hiếu | E7: Khoa Mỏ | F7: Khai thác lộ thiên | G7: 0301-10 | H7: GV.TS | I7: 1079.2 | K7: =COUNTIF($A$1:$A$999,L7) -> 3 | L7: =M7&N7 -> Diêm Công HoàngKhoa CNTT | M7: Diêm Công Hoàng | N7: Khoa CNTT
A8: =D8&E8 -> Nguyễn Anh TuấnKhoa Mỏ | B8: =COUNTIF(L:L,A8) -> 1 | C8: 2015-2016 | D8: Nguyễn Anh Tuấn | E8: Khoa Mỏ | F8: Khai thác lộ thiên | G8: 0301-11 | H8: GV.TS | I8: 348.5 | K8: =COUNTIF($A$1:$A$999,L8) -> 1 | L8: =M8&N8 -> Diêm Thị ThuỳKhoa CNTT | M8: Diêm Thị Thuỳ | N8: Khoa CNTT
A9: =D9&E9 -> Lê Thị Minh HạnhKhoa Mỏ | B9: =COUNTIF(L:L,A9) -> 1 | C9: 2015-2016 | D9: Lê Thị Minh Hạnh | E9: Khoa Mỏ | F9: Khai thác lộ thiên | G9: 0301-12 | H9: GV.ThS | I9: 779.9 | K9: =COUNTIF($A$1:$A$999,L9) -> 3 | L9: =M9&N9 -> Dương Chí ThiệnKhoa CNTT | M9: Dương Chí Thiện | N9: Khoa CNTT
A10: =D10&E10 -> Nhữ Văn PhúcKhoa Mỏ | B10: =COUNTIF(L:L,A10) -> 1 | C10: 2015-2016 | D10: Nhữ Văn Phúc | E10: Khoa Mỏ | F10: Khai thác lộ thiên | G10: 0301-13 | H10: TG | I10: 136.3 | K10: =COUNTIF($A$1:$A$999,L10) -> 3 | L10: =M10&N10 -> Dương Thị Hiền ThanhKhoa CNTT | M10: Dương Thị Hiền Thanh | N10: Khoa CNTT
A11: =D11&E11 -> Trần Quang HiếuKhoa Mỏ | B11: =COUNTIF(L:L,A11) -> 1 | C11: 2015-2016 | D11: Trần Quang Hiếu | E11: Khoa Mỏ | F11: Khai thác lộ thiên | G11: 0301-14 | H11: GV.TS | I11: 1148.9 | K11: =COUNTIF($A$1:$A$999,L11) -> 2 | L11: =M11&N11 -> Dương Thị TâmKhoa CNTT | M11: Dương Thị Tâm | N11: Khoa CNTT
A12: =D12&E12 -> Lê Quí ThảoKhoa Mỏ | B12: =COUNTIF(L:L,A12) -> 1 | C12: 2015-2016 | D12: Lê Quí Thảo | E12: Khoa Mỏ | F12: Khai thác lộ thiên | G12: 0301-15 | H12: GV.ThS | I12: 1191 | K12: =COUNTIF($A$1:$A$999,L12) -> 3 | L12: =M12&N12 -> Đào Anh ThưKhoa CNTT | M12: Đào Anh Thư | N12: Khoa CNTT
A13: =D13&E13 -> Phạm Văn ViệtKhoa Mỏ | B13: =COUNTIF(L:L,A13) -> 1 | C13: 2015-2016 | D13: Phạm Văn Việt | E13: Khoa Mỏ | F13: Khai thác lộ thiên | G13: 0301-16 | H13: GV.ThS | I13: 1040.1 | K13: =COUNTIF($A$1:$A$999,L13) -> 0 | L13: =M13&N13 -> Đào THị Hồng ThắmKhoa CNTT | M13: Đào THị Hồng Thắm | N13: Khoa CNTT
... A276: =D276&E276 -> Hoàng Anh DũngKhoa Dầu khí | B276: =COUNTIF(L:L,A276) -> 1 | C276: 2016-2017 | D276: Hoàng Anh Dũng | E276: Khoa Dầu khí | F276: Thiết bị dầu khí và công trình | G276: 0605-11 | H276: GV.TS | I276: 438.05 | K276: =COUNTIF($A$1:$A$999,L276) -> 4 | L276: =M276&N276 -> Phạm Thị Thanh HòaKhoa Trắc địa - bản đồ và Quản lý đất đai | M276: Phạm Thị Thanh Hòa | N276: Khoa Trắc địa - bản đồ và Quản lý đất đai
A277: =D277&E277 -> Vũ Cúc PhươngKhoa Dầu khí | B277: =COUNTIF(L:L,A277) -> 1 | C277: 2016-2017 | D277: Vũ Cúc Phương | E277: Khoa Dầu khí | F277: Thiết bị dầu khí và công trình | G277: 0605-12 | H277: KS | K277: =COUNTIF($A$1:$A$999,L277) -> 1 | L277: =M277&N277 -> Phạm Trung DũngKhoa Trắc địa - bản đồ và Quản lý đất đai | M277: Phạm Trung Dũng | N277: Khoa Trắc địa - bản đồ và Quản lý đất đai
A278: =D278&E278 -> Đào Thị UyênKhoa Dầu khí | B278: =COUNTIF(L:L,A278) -> 1 | C278: 2016-2017 | D278: Đào Thị Uyên | E278: Khoa Dầu khí | F278: Thiết bị dầu khí và công trình | G278: 0904-10 | H278: GV.ThS | I278: 273.94 | K278: =COUNTIF($A$1:$A$999,L278) -> 4 | L278: =M278&N278 -> Phạm Văn ChungKhoa Trắc địa - bản đồ và Quản lý đất đai | M278: Phạm Văn Chung | N278: Khoa Trắc địa - bản đồ và Quản lý đất đai
A279: =D279&E279 -> Đỗ Mạnh PhongKhoa Mỏ | B279: =COUNTIF(L:L,A279) -> 1 | C279: 2016-2017 | D279: Đỗ Mạnh Phong | E279: Khoa Mỏ | F279: Khai thác hầm lò | G279: 0302-04 | H279: PGS.TS | I279: 598.04 | K279: =COUNTIF($A$1:$A$999,L279) -> 4 | L279: =M279&N279 -> Phạm Văn HiệpKhoa Trắc địa - bản đồ và Quản lý đất đai | M279: Phạm Văn Hiệp | N279: Khoa Trắc địa - bản đồ và Quản lý đất đai
A280: =D280&E280 -> Trần Văn ThanhKhoa Mỏ | B280: =COUNTIF(L:L,A280) -> 1 | C280: 2016-2017 | D280: Trần Văn Thanh | E280: Khoa Mỏ | F280: Khai thác hầm lò | G280: 0302-05 | H280: PGS.TS | I280: 1507.93 | K280: =COUNTIF($A$1:$A$999,L280) -> 4 | L280: =M280&N280 -> Phùng Minh SơnKhoa Trắc địa - bản đồ và Quản lý đất đai | M280: Phùng Minh Sơn | N280: Khoa Trắc địa - bản đồ và Quản lý đất đai
A281: =D281&E281 -> Đặng Vũ ChíKhoa Mỏ | B281: =COUNTIF(L:L,A281) -> 0 | C281: 2016-2017 | D281: Đặng Vũ Chí | E281: Khoa Mỏ | F281: Khai thác hầm lò | G281: 0302-07 | H281: PGS.TS | I281: 1225.12 | K281: =COUNTIF($A$1:$A$999,L281) -> 3 | L281: =M281&N281 -> Trần Anh TuấnKhoa Trắc địa - bản đồ và Quản lý đất đai | M281: Trần Anh Tuấn | N281: Khoa Trắc địa - bản đồ và Quản lý đất đai
A282: =D282&E282 -> Nguyễn Cao KhảiKhoa Mỏ | B282: =COUNTIF(L:L,A282) -> 1 | C282: 2016-2017 | D282: Nguyễn Cao Khải | E282: Khoa Mỏ | F282: Khai thác hầm lò | G282: 0302-09 | H282: GV.ThS | I282: 867.46 | K282: =COUNTIF($A$1:$A$999,L282) -> 4 | L282: =M282&N282 -> Trần Đình ThànhKhoa Trắc địa - bản đồ và Quản lý đất đai | M282: Trần Đình Thành | N282: Khoa Trắc địa - bản đồ và Quản lý đất đai
A283: =D283&E283 -> Đỗ Anh SơnKhoa Mỏ | B283: =COUNTIF(L:L,A283) -> 1 | C283: 2016-2017 | D283: Đỗ Anh Sơn | E283: Khoa Mỏ | F283: Khai thác hầm lò | G283: 0302-10 | H283: GV.TS | I283: 630.12 | K283: =COUNTIF($A$1:$A$999,L283) -> 4 | L283: =M283&N283 -> Trần Đình TríKhoa Trắc địa - bản đồ và Quản lý đất đai | M283: Trần Đình Trí | N283: Khoa Trắc địa - bản đồ và Quản lý đất đai
A284: =D284&E284 -> Vũ Trung TiếnKhoa Mỏ | B284: =COUNTIF(L:L,A284) -> 1 | C284: 2016-2017 | D284: Vũ Trung Tiến | E284: Khoa Mỏ | F284: Khai thác hầm lò | G284: 0302-11 | H284: GV.TS | I284: 771.65 | K284: =COUNTIF($A$1:$A$999,L284) -> 2 | L284: =M284&N284 -> Trần Hồng HạnhKhoa Trắc địa - bản đồ và Quản lý đất đai | M284: Trần Hồng Hạnh | N284: Khoa Trắc địa - bản đồ và Quản lý đất đai
A285: =D285&E285 -> Phạm Đức HưngKhoa Mỏ | B285: =COUNTIF(L:L,A285) -> 1 | C285: 2016-2017 | D285: Phạm Đức Hưng | E285: Khoa Mỏ | F285: Khai thác hầm lò | G285: 0302-12 | H285: GV.TS | I285: 912.22 | K285: =COUNTIF($A$1:$A$999,L285) -> 4 | L285: =M285&N285 -> Trần KhánhKhoa Trắc địa - bản đồ và Quản lý đất đai | M285: Trần Khánh | N285: Khoa Trắc địa - bản đồ và Quản lý đất đai
A286: =D286&E286 -> Đào Văn ChiKhoa Mỏ | B286: =COUNTIF(L:L,A286) -> 1 | C286: 2016-2017 | D286: Đào Văn Chi | E286: Khoa Mỏ | F286: Khai thác hầm lò | G286: 0302-13 | H286: GV.TS | I286: 829.41 | K286: =COUNTIF($A$1:$A$999,L286) -> 4 | L286: =M286&N286 -> Trần Quỳnh AnKhoa Trắc địa - bản đồ và Quản lý đất đai | M286: Trần Quỳnh An | N286: Khoa Trắc địa - bản đồ và Quản lý đất đai
A287: =D287&E287 -> Nguyễn Phi HùngKhoa Mỏ | B287: =COUNTIF(L:L,A287) -> 1 | C287: 2016-2017 | D287: Nguyễn Phi Hùng | E287: Khoa Mỏ | F287: Khai thác hầm lò | G287: 0302-14 | H287: GV.TS | I287: 724.84 | K287: =COUNTIF($A$1:$A$999,L287) -> 4 | L287: =M287&N287 -> Trần Thanh HàKhoa Trắc địa - bản đồ và Quản lý đất đai | M287: Trần Thanh Hà | N287: Khoa Trắc địa - bản đồ và Quản lý đất đai
A288: =D288&E288 -> Đặng Quang HưngKhoa Mỏ | B288: =COUNTIF(L:L,A288) -> 1 | C288: 2016-2017 | D288: Đặng Quang Hưng | E288: Khoa Mỏ | F288: Khai thác hầm lò | G288: 0302-15 | H288: GV.ThS | I288: 652.58 | K288: =COUNTIF($A$1:$A$999,L288) -> 0 | L288: =M288&N288 -> Trần Thị Hương GiangKhoa Trắc địa - bản đồ và Quản lý đất đai | M288: Trần Thị Hương Giang | N288: Khoa Trắc địa - bản đồ và Quản lý đất đai
A289: =D289&E289 -> Bùi Mạnh TùngKhoa Mỏ | B289: =COUNTIF(L:L,A289) -> 0 | C289: 2016-2017 | D289: Bùi Mạnh Tùng | E289: Khoa Mỏ | F289: Khai thác hầm lò | G289: 0302-17 | H289: GV.TS | I289: 655.07 | K289: =COUNTIF($A$1:$A$999,L289) -> 4 | L289: =M289&N289 -> Trần Thị Tuyết VinhKhoa Trắc địa - bản đồ và Quản lý đất đai | M289: Trần Thị Tuyết Vinh | N289: Khoa Trắc địa - bản đồ và Quản lý đất đai
... A337: =D337&E337 -> Nguyễn Thị HòaKhoa Môi Trường | B337: =COUNTIF(L:L,A337) -> 0 | C337: 2016-2017 | D337: Nguyễn Thị Hòa | E337: Khoa Môi Trường | F337: Kỹ thuật môi trường | G337: 1103-06 | H337: GV.ThS | I337: 206.7 | K337: =COUNTIF($A$1:$A$999,L337) -> 4 | L337: =M337&N337 -> Võ Trọng HùngKhoa Xây dựng | M337: Võ Trọng Hùng | N337: Khoa Xây dựng
A338: =D338&E338 -> Nguyễn Thị HồngKhoa Môi Trường | B338: =COUNTIF(L:L,A338) -> 0 | C338: 2016-2017 | D338: Nguyễn Thị Hồng | E338: Khoa Môi Trường | F338: Kỹ thuật môi trường | G338: 1103-07 | H338: GV.ThS | I338: 269.48
A339: =D339&E339 -> Nguyễn Thị Thu HuyềnKhoa Môi Trường | B339: =COUNTIF(L:L,A339) -> 1 | C339: 2016-2017 | D339: Nguyễn Thị Thu Huyền | E339: Khoa Môi Trường | F339: Kỹ thuật môi trường | G339: 1103-08 | H339: KS | I339: 101.25
A340: =D340&E340 -> Trần Thị NgọcKhoa Môi Trường | B340: =COUNTIF(L:L,A340) -> 1 | C340: 2016-2017 | D340: Trần Thị Ngọc | E340: Khoa Môi Trường | F340: Kỹ thuật môi trường | G340: 1103-10 | H340: GV.ThS | I340: 182.54
A341: =D341&E341 -> Hoàng Thị ChungKhoa Môi Trường | B341: =COUNTIF(L:L,A341) -> 1 | C341: 2016-2017 | D341: Hoàng Thị Chung | E341: Khoa Môi Trường | F341: Môi trường cơ sở | G341: 0103-02 | H341: GV.ThS | I341: 230.08
A342: =D342&E342 -> Nguyễn PhươngKhoa Môi Trường | B342: =COUNTIF(L:L,A342) -> 1 | C342: 2016-2017 | D342: Nguyễn Phương | E342: Khoa Môi Trường | F342: Môi trường cơ sở | G342: 0402-01 | H342: PGS.TS | I342: 612.01
A343: =D343&E343 -> Nguyễn Thị CúcKhoa Môi Trường | B343: =COUNTIF(L:L,A343) -> 1 | C343: 2016-2017 | D343: Nguyễn Thị Cúc | E343: Khoa Môi Trường | F343: Môi trường cơ sở | G343: 0402-12 | H343: GV.ThS | I343: 188.22
A344: =D344&E344 -> Đỗ Văn NhuậnKhoa Môi Trường | B344: =COUNTIF(L:L,A344) -> 1 | C344: 2016-2017 | D344: Đỗ Văn Nhuận | E344: Khoa Môi Trường | F344: Môi trường cơ sở | G344: 0403-09 | H344: GVC.TS | I344: 192.63
A345: =D345&E345 -> Nguyễn Văn BìnhKhoa Môi Trường | B345: =COUNTIF(L:L,A345) -> 1 | C345: 2016-2017 | D345: Nguyễn Văn Bình | E345: Khoa Môi Trường | F345: Môi trường cơ sở | G345: 0407-06 | H345: GV.ThS | I345: 272.2
A346: =D346&E346 -> Nguyễn Văn DũngKhoa Môi Trường | B346: =COUNTIF(L:L,A346) -> 1 | C346: 2016-2017 | D346: Nguyễn Văn Dũng | E346: Khoa Môi Trường | F346: Môi trường cơ sở | G346: 0601-06 | H346: GV.ThS | I346: 262.19
A347: =D347&E347 -> Nguyễn Quốc PhiKhoa Môi Trường | B347: =COUNTIF(L:L,A347) -> 0 | C347: 2016-2017 | D347: Nguyễn Quốc Phi | E347: Khoa Môi Trường | F347: Môi trường cơ sở | G347: 1101-03 | H347: GV.TS | I347: 268.4
A348: =D348&E348 -> Phan Thị Mai HoaKhoa Môi Trường | B348: =COUNTIF(L:L,A348) -> 1 | C348: 2016-2017 | D348: Phan Thị Mai Hoa | E348: Khoa Môi Trường | F348: Môi trường cơ sở | G348: 1101-08 | H348: GV.ThS | I348: 119.86
A349: =D349&E349 -> Vũ Thị Lan AnhKhoa Môi Trường | B349: =COUNTIF(L:L,A349) -> 1 | C349: 2016-2017 | D349: Vũ Thị Lan Anh | E349: Khoa Môi Trường | F349: Môi trường cơ sở | G349: 1101-09 | H349: GV.ThS | I349: 232.2
... A448: =D448&E448 -> Ngọ Thị Hương TrangKhoa Xây dựng | B448: =COUNTIF(L:L,A448) -> 1 | C448: 2016-2017 | D448: Ngọ Thị Hương Trang | E448: Khoa Xây dựng | F448: Xây dựng Hạ tầng cơ sở | G448: 1003-06 | H448: KS | I448: 133.88
A449: =D449&E449 -> Công nghệ phần mềmKhoa CNTT | B449: =COUNTIF(L:L,A449) -> 0 | C449: 2017-2018 | D449: Công nghệ phần mềm | E449: Khoa CNTT | F449: Công nghệ phần mềm | G449: 801 | I449: 1.5
A450: =D450&E450 -> Lê Văn HưngKhoa CNTT | B450: =COUNTIF(L:L,A450) -> 1 | C450: 2017-2018 | D450: Lê Văn Hưng | E450: Khoa CNTT | F450: Công nghệ phần mềm | G450: 0801-01 | I450: 890
A451: =D451&E451 -> Phạm Văn ĐồngKhoa CNTT | B451: =COUNTIF(L:L,A451) -> 1 | C451: 2017-2018 | D451: Phạm Văn Đồng | E451: Khoa CNTT | F451: Công nghệ phần mềm | G451: 0801-04 | I451: 819.86
A452: =D452&E452 -> Đỗ Anh TuấnKhoa CNTT | B452: =COUNTIF(L:L,A452) -> 1 | C452: 2017-2018 | D452: Đỗ Anh Tuấn | E452: Khoa CNTT | F452: Công nghệ phần mềm | G452: 0801-05 | I452: 365.49
A453: =D453&E453 -> Hoàng Anh ĐứcKhoa CNTT | B453: =COUNTIF(L:L,A453) -> 1 | C453: 2017-2018 | D453: Hoàng Anh Đức | E453: Khoa CNTT | F453: Công nghệ phần mềm | G453: 0801-06 | I453: 1372.16
A454: =D454&E454 -> Nguyễn Thị Hữu PhươngKhoa CNTT | B454: =COUNTIF(L:L,A454) -> 1 | C454: 2017-2018 | D454: Nguyễn Thị Hữu Phương | E454: Khoa CNTT | F454: Công nghệ phần mềm | G454: 0801-10 | I454: 861.17
A455: =D455&E455 -> Nguyễn Thị ThanhKhoa CNTT | B455: =COUNTIF(L:L,A455) -> 1 | C455: 2017-2018 | D455: Nguyễn Thị Thanh | E455: Khoa CNTT | F455: Công nghệ phần mềm | G455: 0801-13 | I455: 616.8
A456: =D456&E456 -> Hồ Thị Thảo TrangKhoa CNTT | B456: =COUNTIF(L:L,A456) -> 1 | C456: 2017-2018 | D456: Hồ Thị Thảo Trang | E456: Khoa CNTT | F456: Công nghệ phần mềm | G456: 0801-14 | I456: 141.5
A457: =D457&E457 -> Đào Anh ThưKhoa CNTT | B457: =COUNTIF(L:L,A457) -> 1 | C457: 2017-2018 | D457: Đào Anh Thư | E457: Khoa CNTT | F457: Mạng máy tính | G457: 0801-07 | I457: 360.22
A458: =D458&E458 -> Diêm Công HoàngKhoa CNTT | B458: =COUNTIF(L:L,A458) -> 1 | C458: 2017-2018 | D458: Diêm Công Hoàng | E458: Khoa CNTT | F458: Mạng máy tính | G458: 0801-09 | I458: 523.49
A459: =D459&E459 -> Phan Mạnh TiếnKhoa CNTT | B459: =COUNTIF(L:L,A459) -> 0 | C459: 2017-2018 | D459: Phan Mạnh Tiến | E459: Khoa CNTT | F459: Mạng máy tính | G459: 0801-11 | I459: 381.89
A460: =D460&E460 -> Phạm Đình TânKhoa CNTT | B460: =COUNTIF(L:L,A460) -> 1 | C460: 2017-2018 | D460: Phạm Đình Tân | E460: Khoa CNTT | F460: Mạng máy tính | G460: 0801-15 | I460: 447.69
A461: =D461&E461 -> Đỗ Như HảiKhoa CNTT | B461: =COUNTIF(L:L,A461) -> 1 | C461: 2017-2018 | D461: Đỗ Như Hải | E461: Khoa CNTT | F461: Mạng máy tính | G461: 0802-05 | I461: 385.16
A462: =D462&E462 -> Trần Thị Thu ThúyKhoa CNTT | B462: =COUNTIF(L:L,A462) -> 0 | C462: 2017-2018 | D462: Trần Thị Thu Thúy | E462: Khoa CNTT | F462: Mạng máy tính | G462: 0802-11 | I462: 609.04
A463: =D463&E463 -> Mạng máy tínhKhoa CNTT | B463: =COUNTIF(L:L,A463) -> 0 | C463: 2017-2018 | D463: Mạng máy tính | E463: Khoa CNTT | F463: Mạng máy tính | G463: 807 | I463: 0
A464: =D464&E464 -> Đặng Xuân ĐiệpKhoa CNTT | B464: =COUNTIF(L:L,A464) -> 1 | C464: 2017-2018 | D464: Đặng Xuân Điệp | E464: Khoa CNTT | F464: Mạng máy tính | G464: 0807-07 | I464: 356.32
A465: =D465&E465 -> Đào Thị TuyếtKhoa CNTT | B465: =COUNTIF(L:L,A465) -> 1 | C465: 2017-2018 | D465: Đào Thị Tuyết | E465: Khoa CNTT | F465: Mạng máy tính | G465: 0807-08 | I465: 44.25
A466: =D466&E466 -> Đặng Hữu NghịKhoa CNTT | B466: =COUNTIF(L:L,A466) -> 1 | C466: 2017-2018 | D466: Đặng Hữu Nghị | E466: Khoa CNTT | F466: Tin học cơ bản | G466: 0802-02 | I466: 582.5
A467: =D467&E467 -> Dương Chí ThiệnKhoa CNTT | B467: =COUNTIF(L:L,A467) -> 1 | C467: 2017-2018 | D467: Dương Chí Thiện | E467: Khoa CNTT | F467: Tin học cơ bản | G467: 0802-03 | I467: 382.04
A468: =D468&E468 -> Tạ Quang ChiểuKhoa CNTT | B468: =COUNTIF(L:L,A468) -> 1 | C468: 2017-2018 | D468: Tạ Quang Chiểu | E468: Khoa CNTT | F468: Tin học cơ bản | G468: 0802-04 | I468: 458.75
A469: =D469&E469 -> Đào Thu VânKhoa CNTT | B469: =COUNTIF(L:L,A469) -> 0 | C469: 2017-2018 | D469: Đào Thu Vân | E469: Khoa CNTT | F469: Tin học cơ bản | G469: 0802-07 | I469: 644.31
A470: =D470&E470 -> Trần Thị Như HoaKhoa CNTT | B470: =COUNTIF(L:L,A470) -> 1 | C470: 2017-2018 | D470: Trần Thị Như Hoa | E470: Khoa CNTT | F470: Tin học cơ bản | G470: 0802-08 | I470: 199.88
A471: =D471&E471 -> Vũ Lan PhươngKhoa CNTT | B471: =COUNTIF(L:L,A471) -> 1 | C471: 2017-2018 | D471: Vũ Lan Phương | E471: Khoa CNTT | F471: Tin học cơ bản | G471: 0802-09 | I471: 436.41
A472: =D472&E472 -> Vương Như QuỳnhKhoa CNTT | B472: =COUNTIF(L:L,A472) -> 0 | C472: 2017-2018 | D472: Vương Như Quỳnh | E472: Khoa CNTT | F472: Tin học cơ bản | G472: 0802-10 | I472: 439.5
A473: =D473&E473 -> Bùi Thị Vân AnhKhoa CNTT | B473: =COUNTIF(L:L,A473) -> 1 | C473: 2017-2018 | D473: Bùi Thị Vân Anh | E473: Khoa CNTT | F473: Tin học cơ bản | G473: 0802-13 | I473: 535.79
A474: =D474&E474 -> Đặng Quốc TrungKhoa CNTT | B474: =COUNTIF(L:L,A474) -> 1 | C474: 2017-2018 | D474: Đặng Quốc Trung | E474: Khoa CNTT | F474: Tin học cơ bản | G474: 0802-14 | I474: 508.8
A475: =D475&E475 -> Phạm Đức HậuKhoa CNTT | B475: =COUNTIF(L:L,A475) -> 1 | C475: 2017-2018 | D475: Phạm Đức Hậu | E475: Khoa CNTT | F475: Tin học cơ bản | G475: 0804-04 | I475: 432.2
A476: =D476&E476 -> Tin học Địa chấtKhoa CNTT | B476: =COUNTIF(L:L,A476) -> 0 | C476: 2017-2018 | D476: Tin học Địa chất | E476: Khoa CNTT | F476: Tin học Địa chất | G476: 804 | I476: 21.9
A477: =D477&E477 -> Trương Xuân LuậnKhoa CNTT | B477: =COUNTIF(L:L,A477) -> 1 | C477: 2017-2018 | D477: Trương Xuân Luận | E477: Khoa CNTT | F477: Tin học Địa chất | G477: 0804-01 | I477: 320.7
A478: =D478&E478 -> Dương Thị TâmKhoa CNTT | B478: =COUNTIF(L:L,A478) -> 1 | C478: 2017-2018 | D478: Dương Thị Tâm | E478: Khoa CNTT | F478: Tin học Địa chất | G478: 0804-05 | I478: 112.1
A479: =D479&E479 -> Bùi Thị ánh NguyệtKhoa CNTT | B479: =COUNTIF(L:L,A479) -> 1 | C479: 2017-2018 | D479: Bùi Thị ánh Nguyệt | E479: Khoa CNTT | F479: Tin học Địa chất | G479: 0804-06 | I479: 105
A480: =D480&E480 -> Ngô Hùng LongKhoa CNTT | B480: =COUNTIF(L:L,A480) -> 1 | C480: 2017-2018 | D480: Ngô Hùng Long | E480: Khoa CNTT | F480: Tin học Địa chất | G480: 0804-07 | I480: 143.6
A481: =D481&E481 -> Nguyễn Thị Hải YếnKhoa CNTT | B481: =COUNTIF(L:L,A481) -> 1 | C481: 2017-2018 | D481: Nguyễn Thị Hải Yến | E481: Khoa CNTT | F481: Tin học Địa chất | G481: 0804-08 | I481: 175.99
A482: =D482&E482 -> Phạm An CươngKhoa CNTT | B482: =COUNTIF(L:L,A482) -> 1 | C482: 2017-2018 | D482: Phạm An Cương | E482: Khoa CNTT | F482: Tin học Địa chất | G482: 0804-11 | I482: 147.3
A483: =D483&E483 -> Trương Xuân BìnhKhoa CNTT | B483: =COUNTIF(L:L,A483) -> 1 | C483: 2017-2018 | D483: Trương Xuân Bình | E483: Khoa CNTT | F483: Tin học Địa chất | G483: 0804-12 | I483: 272.2
A484: =D484&E484 -> Tin học kinh tếKhoa CNTT | B484: =COUNTIF(L:L,A484) -> 0 | C484: 2017-2018 | D484: Tin học kinh tế | E484: Khoa CNTT | F484: Tin học Kinh tế | G484: 806 | I484: 0
A485: =D485&E485 -> Lê Thanh HuệKhoa CNTT | B485: =COUNTIF(L:L,A485) -> 1 | C485: 2017-2018 | D485: Lê Thanh Huệ | E485: Khoa CNTT | F485: Tin học Kinh tế | G485: 0806-01 | I485: 449.58
A486: =D486&E486 -> Dương Thị Hiền ThanhKhoa CNTT | B486: =COUNTIF(L:L,A486) -> 1 | C486: 2017-2018 | D486: Dương Thị Hiền Thanh | E486: Khoa CNTT | F486: Tin học Kinh tế | G486: 0806-02 | I486: 340.04
A487: =D487&E487 -> Nguyễn Thu HằngKhoa CNTT | B487: =COUNTIF(L:L,A487) -> 1 | C487: 2017-2018 | D487: Nguyễn Thu Hằng | E487: Khoa CNTT | F487: Tin học Kinh tế | G487: 0806-03 | I487: 334.2
A488: =D488&E488 -> Vũ Thị Kim LiênKhoa CNTT | B488: =COUNTIF(L:L,A488) -> 1 | C488: 2017-2018 | D488: Vũ Thị Kim Liên | E488: Khoa CNTT | F488: Tin học Kinh tế | G488: 0806-04 | I488: 159.7
A489: =D489&E489 -> Phạm Thị NguyệtKhoa CNTT | B489: =COUNTIF(L:L,A489) -> 1 | C489: 2017-2018 | D489: Phạm Thị Nguyệt | E489: Khoa CNTT | F489: Tin học Kinh tế | G489: 0806-05 | I489: 336.46
A490: =D490&E490 -> Võ Thị Thu TrangKhoa CNTT | B490: =COUNTIF(L:L,A490) -> 1 | C490: 2017-2018 | D490: Võ Thị Thu Trang | E490: Khoa CNTT | F490: Tin học Kinh tế | G490: 0806-06 | I490: 393.87
A491: =D491&E491 -> Nguyễn Thế BìnhKhoa CNTT | B491: =COUNTIF(L:L,A491) -> 1 | C491: 2017-2018 | D491: Nguyễn Thế Bình | E491: Khoa CNTT | F491: Tin học Kinh tế | G491: 0806-07 | I491: 554.73
A492: =D492&E492 -> Phạm Quang HiểnKhoa CNTT | B492: =COUNTIF(L:L,A492) -> 1 | C492: 2017-2018 | D492: Phạm Quang Hiển | E492: Khoa CNTT | F492: Tin học Kinh tế | G492: 0806-08 | I492: 390.84
A493: =D493&E493 -> Tin hoc MỏKhoa CNTT | B493: =COUNTIF(L:L,A493) -> 0 | C493: 2017-2018 | D493: Tin hoc Mỏ | E493: Khoa CNTT | F493: Tin học Mỏ | G493: 805 | I493: 0
A494: =D494&E494 -> Nguyễn Thùy DươngKhoa CNTT | B494: =COUNTIF(L:L,A494) -> 0 | C494: 2017-2018 | D494: Nguyễn Thùy Dương | E494: Khoa CNTT | F494: Tin học Mỏ | G494: 0805-03 | I494: 279.35
A495: =D495&E495 -> Nông Thị OanhKhoa CNTT | B495: =COUNTIF(L:L,A495) -> 1 | C495: 2017-2018 | D495: Nông Thị Oanh | E495: Khoa CNTT | F495: Tin học Mỏ | G495: 0805-04 | I495: 336.17
A496: =D496&E496 -> Nguyễn Duy HuyKhoa CNTT | B496: =COUNTIF(L:L,A496) -> 1 | C496: 2017-2018 | D496: Nguyễn Duy Huy | E496: Khoa CNTT | F496: Tin học Mỏ | G496: 0805-05 | I496: 352.51
A497: =D497&E497 -> Nguyễn Thị Phương BắcKhoa CNTT | B497: =COUNTIF(L:L,A497) -> 1 | C497: 2017-2018 | D497: Nguyễn Thị Phương Bắc | E497: Khoa CNTT | F497: Tin học Mỏ | G497: 0805-06 | I497: 266.2
A498: =D498&E498 -> Lê Hồng AnhKhoa CNTT | B498: =COUNTIF(L:L,A498) -> 1 | C498: 2017-2018 | D498: Lê Hồng Anh | E498: Khoa CNTT | F498: Tin học Mỏ | G498: 0805-07 | I498: 281.59
A499: =D499&E499 -> Đặng Văn NamKhoa CNTT | B499: =COUNTIF(L:L,A499) -> 1 | C499: 2017-2018 | D499: Đặng Văn Nam | E499: Khoa CNTT | F499: Tin học Mỏ | G499: 0805-08 | I499: 413.92
A500: =D500&E500 -> Tin học Trắc điịaKhoa CNTT | B500: =COUNTIF(L:L,A500) -> 0 | C500: 2017-2018 | D500: Tin học Trắc điịa | E500: Khoa CNTT | F500: Tin học Trắc địa | G500: 803 | I500: 11.1
A501: =D501&E501 -> Nguyễn Trường XuânKhoa CNTT | B501: =COUNTIF(L:L,A501) -> 0 | C501: 2017-2018 | D501: Nguyễn Trường Xuân | E501: Khoa CNTT | F501: Tin học Trắc địa | G501: 0803-01 | I501: 787.3
A502: =D502&E502 -> Trần Trung ChuyênKhoa CNTT | B502: =COUNTIF(L:L,A502) -> 1 | C502: 2017-2018 | D502: Trần Trung Chuyên | E502: Khoa CNTT | F502: Tin học Trắc địa | G502: 0803-02 | I502: 297.13
A503: =D503&E503 -> Nguyễn Quang KhánhKhoa CNTT | B503: =COUNTIF(L:L,A503) -> 1 | C503: 2017-2018 | D503: Nguyễn Quang Khánh | E503: Khoa CNTT | F503: Tin học Trắc địa | G503: 0803-03 | I503: 274.5
A504: =D504&E504 -> Nguyễn Thị Mai DungKhoa CNTT | B504: =COUNTIF(L:L,A504) -> 1 | C504: 2017-2018 | D504: Nguyễn Thị Mai Dung | E504: Khoa CNTT | F504: Tin học Trắc địa | G504: 0803-05 | I504: 376.94
A505: =D505&E505 -> Trần Mai HươngKhoa CNTT | B505: =COUNTIF(L:L,A505) -> 1 | C505: 2017-2018 | D505: Trần Mai Hương | E505: Khoa CNTT | F505: Tin học Trắc địa | G505: 0803-07 | I505: 335.2
A506: =D506&E506 -> Ngô Thị Phương ThảoKhoa CNTT | B506: =COUNTIF(L:L,A506) -> 1 | C506: 2017-2018 | D506: Ngô Thị Phương Thảo | E506: Khoa CNTT | F506: Tin học Trắc địa | G506: 0803-08 | I506: 153.6
A507: =D507&E507 -> Diêm Thị ThùyKhoa CNTT | B507: =COUNTIF(L:L,A507) -> 0 | C507: 2017-2018 | D507: Diêm Thị Thùy | E507: Khoa CNTT | F507: Tin học Trắc địa | G507: 0803-09 | I507: 33
...

Sheet Sheet1
D1: STT | E1: Họ và tên | F1: Ngày tháng năm sinh | H1: Trình độ nghiệp vụ | M1: Trình độ nghiệp vụ | Q1: Chức vụ (từ phó Trưởng BM trở lên) | R1: Đơn vị công tác | S1: Phân loại giảng viên | X1: Các khóa bồi dưỡng về NVSP đã tham gia trong quá trình đánh giá
F2: Nam | G2: Nữ | H2: Học hàm/học vị | J2: Năm tốt nghiệp TĐCM | K2: Năm TN | L2: Nơi TN | M2: QLNN | N2: LLCT | O2: Tin học | P2: Ngoại ngữ | S2: Biên chế | T2: HĐ dài hạn | U2: kiêm nhiệm | V2: Thỉnh giảng | W2: Quốc tế
A3: =COUNTIFS(E:E,E3,C:C,C3) -> 6 | B3: 2014 | C3: CNTT | D3: 1 | E3: Trương Xuân Luận | F3: 20/05/1950 | H3: Giáo sư | I3: Tiến sỹ | J3: Địa chất khoáng sản và thăm dò | K3: 1992 | L3: Trường ĐH Mỏ địa chất Hà nội | O3: Tiến sỹ | P3: B4 | Q3: Trưởng Bộ môn | R3: Khoa CNTT | S3: x | X3: x
A4: =COUNTIFS(E:E,E4,C:C,C4) -> 6 | B4: 2014 | C4: CNTT | D4: 2 | E4: Lê Thanh Huệ | G4: 15/09/1964 | H4: Phó Giáo sư | I4: Tiến sỹ | J4: Toán Tin | K4: 2010 | L4: Trường ĐH Khoa học tự nhiên (ĐHQGHN) | O4: Tiến sỹ | P4: B4 | Q4: Phó Trưởng Khoa | R4: Khoa CNTT | S4: x | X4: x
A5: =COUNTIFS(E:E,E5,C:C,C5) -> 6 | B5: 2014 | C5: CNTT | D5: 3 | E5: Phạm Đức Hậu | F5: 26/10/1969 | I5: Thạc sỹ | J5: Trắc địa | K5: 1991 | L5: Trường ĐH Mỏ địa chất Hà nội | O5: Thạc sỹ | P5: B1 | R5: Khoa CNTT | S5: x | X5: x
A6: =COUNTIFS(E:E,E6,C:C,C6) -> 6 | B6: 2014 | C6: CNTT | D6: 4 | E6: Đặng Hữu Nghị | F6: 19/10/1972 | I6: Thạc sỹ | J6: Tin học | K6: 2005 | L6: Trường ĐH Bách khoa Hà nội | O6: Thạc sỹ | P6: B1 | R6: Khoa CNTT | S6: x | X6: x
A7: =COUNTIFS(E:E,E7,C:C,C7) -> 6 | B7: 2014 | C7: CNTT | D7: 5 | E7: Lê Văn Hưng | F7: 26671 | H7: Phó Giáo sư | I7: Tiến sỹ | J7: Công nghệ thông t in | K7: 2010 | L7: Đào tạo ở nước ngoài | O7: Tiến sỹ | P7: B4 | Q7: Giám đốc Trung tâm | R7: Khoa CNTT | S7: x | X7: x
A8: =COUNTIFS(E:E,E8,C:C,C8) -> 6 | B8: 2014 | C8: CNTT | D8: 6 | E8: Bùi Thị Vân Anh | G8: 26730 | I8: Thạc sỹ | J8: Công nghệ thông tin | K8: 2006 | L8: Học viện Kỹ thuật quân sự | O8: Thạc sỹ | P8: B1 | R8: Khoa CNTT | S8: x | X8: x
A9: =COUNTIFS(E:E,E9,C:C,C9) -> 6 | B9: 2014 | C9: CNTT | D9: 7 | E9: Phạm An Cương | F9: 28/07/1973 | I9: Thạc sỹ | J9: Địa chất | K9: 2002 | L9: Trường ĐH Mỏ địa chất Hà nội | O9: Thạc sỹ | P9: B1 | R9: Khoa CNTT | S9: x | X9: x
A10: =COUNTIFS(E:E,E10,C:C,C10) -> 6 | B10: 2014 | C10: CNTT | D10: 8 | E10: Dương Thị Tâm | G10: 27008 | I10: Thạc sỹ | J10: Địa chất công trình | K10: 2003 | L10: Trường ĐH Mỏ địa chất Hà nội | O10: Thạc sỹ | P10: B1 | R10: Khoa CNTT | S10: x | X10: x
A11: =COUNTIFS(E:E,E11,C:C,C11) -> 6 | B11: 2014 | C11: CNTT | D11: 9 | E11: Đào Thị Tuyết | G11: 27090 | I11: Thạc sỹ | J11: Công nghệ thông t in | K11: 2019 | L11: Trường ĐH Mỏ địa chất Hà nội | O11: Thạc sỹ | P11: B1 | R11: Khoa CNTT | S11: x | X11: x
A12: =COUNTIFS(E:E,E12,C:C,C12) -> 6 | B12: 2014 | C12: CNTT | D12: 10 | E12: Bùi Thị ánh Nguyệt | G12: 24/01/1975 | I12: Thạc sỹ | J12: Công nghệ thông t in | K12: 2017 | L12: Viện ĐH Mở Hà nội | O12: Thạc sỹ | P12: B1 | R12: Khoa CNTT | S12: x | X12: x
A13: =COUNTIFS(E:E,E13,C:C,C13) -> 6 | B13: 2014 | C13: CNTT | D13: 11 | E13: Nông Thị Oanh | G13: 29/10/1975 | I13: Thạc sỹ | J13: Công nghệ thông tin | K13: 2013 | L13: Trường ĐH Mỏ địa chất Hà nội | O13: Thạc sỹ | P13: B1 | R13: Khoa CNTT | S13: x | X13: x
A14: =COUNTIFS(E:E,E14,C:C,C14) -> 6 | B14: 2014 | C14: CNTT | D14: 12 | E14: Dương Chí Thiện | F14: 27944 | I14: Thạc sỹ | J14: Công nghệ thông tin | K14: 2006 | L14: Trường ĐH Khoa học tự nhiên (ĐHQGHN) | O14: Thạc sỹ | P14: B1 | R14: Khoa CNTT | S14: x | X14: x
A15: =COUNTIFS(E:E,E15,C:C,C15) -> 6 | B15: 2014 | C15: CNTT | D15: 13 | E15: Ngô Hùng Long | F15: 14/05/1976 | I15: Thạc sỹ | J15: Địa chất công trình | K15: 1999 | L15: Trường ĐH Mỏ địa chất Hà nội | O15: Thạc sỹ | P15: B1 | R15: Khoa CNTT | S15: x | X15: x
A16: =COUNTIFS(E:E,E16,C:C,C16) -> 6 | B16: 2014 | C16: CNTT | D16: 14 | E16: Nguyễn Tuấn Anh | F16: 20/11/1976 | I16: Thạc sỹ | J16: Toán Tin | K16: 2000 | L16: Trường ĐH Dân lập Thăng long (HN) | O16: Thạc sỹ | P16: B1 | R16: Khoa CNTT | S16: x | X16: x
A17: =COUNTIFS(E:E,E17,C:C,C17) -> 6 | B17: 2014 | C17: CNTT | D17: 15 | E17: Tạ Quang Chiểu | F17: 13/05/1977 | I17: Tiến sỹ | J17: Công nghệ thông tin | K17: 2016 | L17: Đào tạo ở nước ngoài | O17: Tiến sỹ | P17: B1 | Q17: Trưởng Bộ môn | R17: Khoa CNTT | S17: x | X17: x
A18: =COUNTIFS(E:E,E18,C:C,C18) -> 6 | B18: 2014 | C18: CNTT | D18: 16 | E18: Trần Trung Chuyên | F18: 19/10/1977 | I18: Tiến sỹ | J18: Kỹ thuật trắc địa | K18: 2018 | L18: Trường ĐH Mỏ địa chất Hà nội | O18: Tiến sỹ | P18: B1 | R18: Khoa CNTT | S18: x | X18: x
A19: =COUNTIFS(E:E,E19,C:C,C19) -> 6 | B19: 2014 | C19: CNTT | D19: 17 | E19: Diêm Thị Thuỳ | G19: 24/10/1977 | I19: Thạc sỹ | J19: Bản đồ, viễn thám và hệ thông tin địa lý | K19: 2001 | L19: Trường ĐH Mỏ địa chất Hà nội | O19: Thạc sỹ | P19: B1 | R19: Khoa CNTT | S19: x | X19: x
A20: =COUNTIFS(E:E,E20,C:C,C20) -> 6 | B20: 2014 | C20: CNTT | D20: 18 | E20: Đỗ Như Hải | F20: 28226 | I20: Thạc sỹ | J20: Tin học | K20: 2002 | L20: Trường ĐH Khoa học tự nhiên (ĐHQGHN) | O20: Thạc sỹ | P20: B1 | R20: Khoa CNTT | S20: x | X20: x
A21: =COUNTIFS(E:E,E21,C:C,C21) -> 6 | B21: 2014 | C21: CNTT | D21: 19 | E21: Nguyễn Quang Khánh | F21: 25/02/1978 | I21: Tiến sỹ | J21: Trắc địa | K21: 2011 | L21: Trường ĐH Mỏ địa chất Hà nội | O21: Tiến sỹ | P21: B1 | R21: Khoa CNTT | S21: x | X21: x
A22: =COUNTIFS(E:E,E22,C:C,C22) -> 6 | B22: 2014 | C22: CNTT | D22: 20 | E22: Trần Thị Như Hoa | G22: 27/02/1978 | I22: Thạc sỹ | J22: Tin học | K22: 2017 | L22: Trường ĐH Mỏ địa chất Hà nội | O22: Thạc sỹ | P22: B1 | R22: Khoa CNTT | S22: x | X22: x
A23: =COUNTIFS(E:E,E23,C:C,C23) -> 6 | B23: 2014 | C23: CNTT | D23: 21 | E23: Dương Thị Hiền Thanh | G23: 22/05/1978 | I23: Tiến sỹ | J23: Công nghệ thông tin | K23: 2019 | L23: Trường ĐH Bách khoa Hà nội | O23: Tiến sỹ | P23: B1 | Q23: Trưởng Bộ môn | R23: Khoa CNTT | S23: x | X23: x
A24: =COUNTIFS(E:E,E24,C:C,C24) -> 6 | B24: 2014 | C24: CNTT | D24: 22 | E24: Ngô Thị Phương Thảo | G24: 26/06/1978 | I24: Thạc sỹ | J24: Trắc địa | K24: 2007 | L24: Trường ĐH Mỏ địa chất Hà nội | O24: Thạc sỹ | P24: B1 | R24: Khoa CNTT | S24: x | X24: x
A25: =COUNTIFS(E:E,E25,C:C,C25) -> 6 | B25: 2014 | C25: CNTT | D25: 23 | E25: Nguyễn Thuỳ Dương | G25: 25/09/1978 | I25: Thạc sỹ | J25: Công nghệ thông tin | K25: 2010 | L25: Viện ĐH Mở Hà nội | O25: Thạc sỹ | P25: B1 | R25: Khoa CNTT | S25: x | X25: x
A26: =COUNTIFS(E:E,E26,C:C,C26) -> 6 | B26: 2014 | C26: CNTT | D26: 24 | E26: Vương Thị Như Quỳnh | G26: 20/10/1978 | I26: Thạc sỹ | J26: Công nghệ thông tin | K26: 2002 | L26: Trường ĐH Vinh | O26: Thạc sỹ | P26: B1 | R26: Khoa CNTT | S26: x | X26: x
A27: =COUNTIFS(E:E,E27,C:C,C27) -> 6 | B27: 2014 | C27: CNTT | D27: 25 | E27: Đào Thị Thu Vân | G27: 18/11/1978 | I27: Tiến sỹ | J27: Quản lý giáo dục | K27: 2014 | L27: Đào tạo ở nước ngoài | O27: Tiến sỹ | P27: B1 | R27: Khoa CNTT | S27: x | X27: x
A28: =COUNTIFS(E:E,E28,C:C,C28) -> 6 | B28: 2014 | C28: CNTT | D28: 26 | E28: Võ Thị Thu Trang | G28: 15/01/1979 | I28: Thạc sỹ | J28: Kinh tế | K28: 2001 | L28: Trường ĐH Kinh tế Quốc dân | O28: Thạc sỹ | P28: B1 | R28: Khoa CNTT | S28: x | X28: x
A29: =COUNTIFS(E:E,E29,C:C,C29) -> 6 | B29: 2014 | C29: CNTT | D29: 27 | E29: Nguyễn Thị Phấn | G29: 29194 | I29: Đại học | J29: Công nghệ thông t in | K29: 2017 | L29: Viện ĐH Mở Hà nội | O29: Đại học | P29: B1 | R29: Khoa CNTT | S29: x | X29: x
A30: =COUNTIFS(E:E,E30,C:C,C30) -> 6 | B30: 2014 | C30: CNTT | D30: 28 | E30: Nguyễn Thị Mai Dung | G30: 29165 | I30: Tiến sỹ | J30: Bản đồ, viễn thám & hệ thông tin địa lý | K30: 2008 | L30: Đào tạo ở nước ngoài | O30: Tiến sỹ | P30: B1 | Q30: Phó Trưởng Khoa | R30: Khoa CNTT | S30: x | X30: x
A31: =COUNTIFS(E:E,E31,C:C,C31) -> 6 | B31: 2014 | C31: CNTT | D31: 29 | E31: Phạm Thị Nguyệt | G31: 28983 | I31: Thạc sỹ | J31: Kinh tế mỏ | K31: 2006 | L31: Trường ĐH Mỏ địa chất Hà nội | O31: Thạc sỹ | P31: B1 | R31: Khoa CNTT | S31: x | X31: x
A32: =COUNTIFS(E:E,E32,C:C,C32) -> 6 | B32: 2014 | C32: CNTT | D32: 30 | E32: Nguyễn Thu Hằng | G32: 29168 | I32: Thạc sỹ | J32: Kinh tế | K32: 2007 | L32: Trường ĐH Kinh tế Quốc dân | O32: Thạc sỹ | P32: B1 | Q32: Phó Trưởng Bộ môn | R32: Khoa CNTT | S32: x | X32: x
A33: =COUNTIFS(E:E,E33,C:C,C33) -> 6 | B33: 2014 | C33: CNTT | D33: 31 | E33: Phạm Hữu Lợi | F33: 19/09/1979 | I33: Thạc sỹ | J33: Kinh tế công nghiệp | K33: 2010 | L33: Trường ĐH Mỏ địa chất Hà nội | O33: Thạc sỹ | P33: B1 | Q33: Phó Trưởng phòng | R33: Khoa CNTT | S33: x | X33: x
A34: =COUNTIFS(E:E,E34,C:C,C34) -> 6 | B34: 2014 | C34: CNTT | D34: 32 | E34: Vũ Thị Kim Liên | G34: 19/09/1979 | I34: Thạc sỹ | J34: Kinh tế công nghiệp | K34: 2009 | L34: Trường ĐH Mỏ địa chất Hà nội | O34: Thạc sỹ | P34: B1 | R34: Khoa CNTT | S34: x | X34: x
A35: =COUNTIFS(E:E,E35,C:C,C35) -> 6 | B35: 2014 | C35: CNTT | D35: 33 | E35: Vũ Lan Phương | F35: 30/10/1979 | I35: Thạc sỹ | J35: Công nghệ thông tin | K35: 2007 | L35: Trường ĐH Bách khoa Hà nội | O35: Thạc sỹ | P35: B1 | R35: Khoa CNTT | S35: x | X35: x
A36: =COUNTIFS(E:E,E36,C:C,C36) -> 6 | B36: 2014 | C36: CNTT | D36: 34 | E36: Nguyễn Duy Huy | F36: 28986 | I36: Tiến sỹ | J36: Công nghệ thông tin | K36: 2017 | L36: Trường ĐH Mỏ địa chất Hà nội | O36: Tiến sỹ | P36: B1 | Q36: Phó Trưởng Khoa | R36: Khoa CNTT | S36: x | X36: x
A37: =COUNTIFS(E:E,E37,C:C,C37) -> 6 | B37: 2014 | C37: CNTT | D37: 35 | E37: Bùi Thế Vinh | F37: 29109 | I37: Tiến sỹ | J37: Công nghệ thông tin | K37: 2016 | L37: Đào tạo ở nước ngoài | O37: Tiến sỹ | P37: B1 | R37: Khoa CNTT | S37: x | X37: x
A38: =COUNTIFS(E:E,E38,C:C,C38) -> 6 | B38: 2014 | C38: CNTT | D38: 36 | E38: Trần Thị Hải Vân | G38: 22/11/1979 | I38: Thạc sỹ | J38: Công nghệ thông tin | K38: 2014 | L38: Học viện Kỹ thuật quân sự | O38: Thạc sỹ | P38: B1 | R38: Khoa CNTT | S38: x | X38: x
A39: =COUNTIFS(E:E,E39,C:C,C39) -> 6 | B39: 2014 | C39: CNTT | D39: 37 | E39: Phạm Thị Hải Vân | G39: 22/01/1980 | I39: Thạc sỹ | J39: Kế toán | K39: 2017 | L39: Học viện Tài chính Kế toán | O39: Thạc sỹ | P39: B1 | R39: Khoa CNTT | S39: x | X39: x
A40: =COUNTIFS(E:E,E40,C:C,C40) -> 6 | B40: 2014 | C40: CNTT | D40: 38 | E40: Nguyễn Thị Phương Bắc | G40: 29224 | I40: Thạc sỹ | J40: Công nghệ thông tin | K40: 2019 | L40: Trường ĐH Bách khoa Hà nội | O40: Thạc sỹ | P40: B1 | R40: Khoa CNTT | S40: x | X40: x
A41: =COUNTIFS(E:E,E41,C:C,C41) -> 6 | B41: 2014 | C41: CNTT | D41: 39 | E41: Đào Anh Thư | G41: 29316 | I41: Thạc sỹ | J41: Hệ thống thông tin | K41: 2014 | L41: Trường ĐH Bách khoa Hà nội | O41: Thạc sỹ | P41: B1 | R41: Khoa CNTT | S41: x | X41: x
A42: =COUNTIFS(E:E,E42,C:C,C42) -> 6 | B42: 2014 | C42: CNTT | D42: 40 | E42: Lê Hồng Anh | F42: 17/10/1980 | I42: Tiến sỹ | J42: Công nghệ thông tin | K42: 2015 | L42: Trường ĐH Khoa học tự nhiên (ĐHQGHN) | O42: Tiến sỹ | P42: B1 | Q42: Trưởng Khoa | R42: Khoa CNTT | S42: x | X42: x
A43: =COUNTIFS(E:E,E43,C:C,C43) -> 6 | B43: 2014 | C43: CNTT | D43: 41 | E43: Trần Mai Hương | G43: 29292 | I43: Thạc sỹ | J43: Bản đồ, viễn thám và hệ thông tin địa lý | K43: 2012 | L43: Trường ĐH Mỏ địa chất Hà nội | O43: Thạc sỹ | P43: B1 | R43: Khoa CNTT | S43: x | X43: x
A44: =COUNTIFS(E:E,E44,C:C,C44) -> 6 | B44: 2014 | C44: CNTT | D44: 42 | E44: Nguyễn Thị Hải Yến | G44: 22/12/1980 | I44: Thạc sỹ | J44: Địa chất công trình | K44: 2007 | L44: Trường ĐH Mỏ địa chất Hà nội | O44: Thạc sỹ | P44: B1 | Q44: Phó Trưởng Bộ môn | R44: Khoa CNTT | S44: x | X44: x
A45: =COUNTIFS(E:E,E45,C:C,C45) -> 6 | B45: 2014 | C45: CNTT | D45: 43 | E45: Phạm Đình Tân | F45: 29587 | I45: Thạc sỹ | J45: Điện - điện tử | K45: 2011 | L45: Đào tạo ở nước ngoài | O45: Thạc sỹ | P45: B1 | R45: Khoa CNTT | S45: x | X45: x
A46: =COUNTIFS(E:E,E46,C:C,C46) -> 6 | B46: 2014 | C46: CNTT | D46: 44 | E46: Trần Thị Thu Thuý | G46: 14/01/1981 | I46: Thạc sỹ | J46: Điện tử viễn thông | K46: 2007 | L46: Trường ĐH Bách khoa Hà nội | O46: Thạc sỹ | P46: B1 | Q46: Phó Trưởng Bộ môn | R46: Khoa CNTT | S46: x | X46: x
A47: =COUNTIFS(E:E,E47,C:C,C47) -> 6 | B47: 2014 | C47: CNTT | D47: 45 | E47: Đoàn Khánh Hoàng | F47: 24/01/1981 | I47: Thạc sỹ | J47: Công nghệ thông tin | K47: 2012 | L47: Trường ĐH Bách khoa Hà nội | O47: Thạc sỹ | P47: B1 | R47: Khoa CNTT | S47: x | X47: x
A48: =COUNTIFS(E:E,E48,C:C,C48) -> 6 | B48: 2014 | C48: CNTT | D48: 46 | E48: Phạm Văn Đồng | F48: 19/03/1982 | I48: Thạc sỹ | J48: Công nghệ thông tin | K48: 2010 | L48: Trường ĐH Bách khoa Hà nội | O48: Thạc sỹ | P48: B1 | R48: Khoa CNTT | S48: x | X48: x
A49: =COUNTIFS(E:E,E49,C:C,C49) -> 6 | B49: 2014 | C49: CNTT | D49: 47 | E49: Diêm Công Hoàng | F49: 18/04/1982 | I49: Tiến sỹ | J49: Kỹ thuật truyền thông và tin học | K49: 2016 | L49: Đào tạo ở nước ngoài | O49: Tiến sỹ | P49: B1 | R49: Khoa CNTT | S49: x | X49: x
A50: =COUNTIFS(E:E,E50,C:C,C50) -> 6 | B50: 2014 | C50: CNTT | D50: 48 | E50: Nguyễn Thế Lộc | F50: 30/06/1982 | I50: Tiến sỹ | J50: Công nghệ thông tin | K50: 2018 | L50: Đào tạo ở nước ngoài | O50: Tiến sỹ | P50: B1 | Q50: Phó Trưởng phòng | R50: Khoa CNTT | S50: x | X50: x
A51: =COUNTIFS(E:E,E51,C:C,C51) -> 6 | B51: 2014 | C51: CNTT | D51: 49 | E51: Hồ Thị Thảo Trang | G51: 30600 | I51: Thạc sỹ | J51: Tin học | K51: 2009 | L51: Đào tạo ở nước ngoài | O51: Thạc sỹ | P51: B1 | R51: Khoa CNTT | S51: x | X51: x
A52: =COUNTIFS(E:E,E52,C:C,C52) -> 6 | B52: 2014 | C52: CNTT | D52: 50 | E52: Hoàng Anh Đức | F52: 17/03/1984 | I52: Thạc sỹ | J52: Tin học | K52: 2012 | L52: Đào tạo ở nước ngoài | O52: Thạc sỹ | P52: B1 | R52: Khoa CNTT | S52: x | X52: x
A53: =COUNTIFS(E:E,E53,C:C,C53) -> 6 | B53: 2014 | C53: CNTT | D53: 51 | E53: Nguyễn Thế Bình | F53: 30990 | I53: Thạc sỹ | J53: Kinh tế công nghiệp | K53: 2010 | L53: Trường ĐH Mỏ địa chất Hà nội | O53: Thạc sỹ | P53: B1 | R53: Khoa CNTT | S53: x | X53: x
A54: =COUNTIFS(E:E,E54,C:C,C54) -> 6 | B54: 2014 | C54: CNTT | D54: 52 | E54: Trương Xuân Bình | F54: 15/05/1984 | I54: Thạc sỹ | J54: Công nghệ thông tin | K54: 2015 | L54: Học viện Kỹ thuật quân sự | O54: Thạc sỹ | P54: B1 | R54: Khoa CNTT | S54: x | X54: x
A55: =COUNTIFS(E:E,E55,C:C,C55) -> 6 | B55: 2014 | C55: CNTT | D55: 53 | E55: Đặng Xuân Điệp | F55: 30933 | I55: Thạc sỹ | J55: Hệ thống thông tin | K55: 2013 | L55: Học viện CN Bưu chính Viễn thông | O55: Thạc sỹ | P55: B1 | R55: Khoa CNTT | S55: x | X55: x
A56: =COUNTIFS(E:E,E56,C:C,C56) -> 6 | B56: 2014 | C56: CNTT | D56: 54 | E56: Nguyễn Hoàng Long | F56: 17/10/1984 | I56: Tiến sỹ | J56: Công nghệ thông tin | K56: 2019 | L56: Đào tạo ở nước ngoài | O56: Tiến sỹ | P56: B1 | Q56: Phó Trưởng Bộ môn | R56: Khoa CNTT | S56: x | X56: x
A57: =COUNTIFS(E:E,E57,C:C,C57) -> 6 | B57: 2014 | C57: CNTT | D57: 55 | E57: Trần Trường Giang | F57: 18/01/1985 | I57: Thạc sỹ | J57: Khoa học địa thông tin và quan sát trái đất | K57: 2012 | L57: Đào tạo ở nước ngoài | O57: Thạc sỹ | P57: B1 | R57: Khoa CNTT | S57: x | X57: x
A58: =COUNTIFS(E:E,E58,C:C,C58) -> 6 | B58: 2014 | C58: CNTT | D58: 56 | E58: Đặng Văn Nam | F58: 31055 | I58: Thạc sỹ | J58: Hệ thống thông tin | K58: 2012 | L58: Đại học Công nghệ - Đại học Quốc gia Hà Nội | O58: Thạc sỹ | P58: B1 | Q58: Phó Trưởng Bộ môn | R58: Khoa CNTT | S58: x | X58: x
A59: =COUNTIFS(E:E,E59,C:C,C59) -> 6 | B59: 2014 | C59: CNTT | D59: 57 | E59: Nguyễn Thị Hữu Phương | F59: 26/12/1985 | I59: Thạc sỹ | J59: Tin học | K59: 2012 | L59: Trường ĐH Mỏ địa chất Hà nội | O59: Thạc sỹ | P59: B1 | R59: Khoa CNTT | S59: x | X59: x
A60: =COUNTIFS(E:E,E60,C:C,C60) -> 6 | B60: 2014 | C60: CNTT | D60: 58 | E60: Đào THị Hồng Thắm | G60: 14/02/1986 | I60: Thạc sỹ | J60: Bản đồ, viễn thám và hệ thông tin địa lý | K60: 2018 | L60: Trường ĐH Mỏ địa chất Hà nội | O60: Thạc sỹ | P60: B1 | R60: Khoa CNTT | S60: x | X60: x
A61: =COUNTIFS(E:E,E61,C:C,C61) -> 6 | B61: 2014 | C61: CNTT | D61: 59 | E61: Nguyễn Thị Thanh | G61: 14/11/1986 | I61: Thạc sỹ | J61: Tin học | K61: 2010 | L61: Trường ĐH Bách khoa Hà nội | O61: Thạc sỹ | P61: B1 | R61: Khoa CNTT | S61: x | X61: x
A62: =COUNTIFS(E:E,E62,C:C,C62) -> 6 | B62: 2014 | C62: CNTT | D62: 60 | E62: Trần Thị Hòa | G62: 32056 | I62: Tiến sỹ | J62: Bản đồ | K62: 2019 | L62: Đào tạo ở nước ngoài | O62: Tiến sỹ | P62: B1 | R62: Khoa CNTT | S62: x | X62: x
A63: =COUNTIFS(E:E,E63,C:C,C63) -> 6 | B63: 2014 | C63: CNTT | D63: 61 | E63: Đặng Quốc Trung | F63: 32600 | I63: Đại học | J63: Công nghệ thông tin | K63: 2011 | L63: Trường ĐH Mỏ địa chất Hà nội | O63: Đại học | P63: B1 | R63: Khoa CNTT | S63: x | X63: x
A64: =COUNTIFS(E:E,E64,C:C,C64) -> 6 | B64: 2014 | C64: CNTT | D64: 62 | E64: Nguyễn Trường Linh | F64: 13/10/1989 | I64: Thạc sỹ | J64: Công nghệ thông tin | K64: 2017 | L64: Trường ĐH Mỏ địa chất Hà nội | O64: Thạc sỹ | P64: B1 | R64: Khoa CNTT | S64: x | X64: x
A65: =COUNTIFS(E:E,E65,C:C,C65) -> 6 | B65: 2014 | C65: CNTT | D65: 63 | E65: Đinh Bảo Ngọc | F65: 16/12/1989 | I65: Thạc sỹ | J65: Tin học ứng dụng | K65: 2019 | L65: Đào tạo ở nước ngoài | O65: Thạc sỹ | P65: B1 | R65: Khoa CNTT | S65: x | X65: x
A66: =COUNTIFS(E:E,E66,C:C,C66) -> 6 | B66: 2014 | C66: CNTT | D66: 64 | E66: Phạm Quang hiển | F66: 33122 | I66: Đại học | J66: Công nghệ thông tin | K66: 2013 | L66: Trường ĐH Mỏ địa chất Hà nội | O66: Đại học | P66: B1 | R66: Khoa CNTT | S66: x | X66: x
A67: =COUNTIFS(E:E,E67,C:C,C67) -> 6 | B67: 2014 | C67: CNTT | D67: 65 | E67: Đỗ Anh Tuấn | F67: 14/7/1982 | I67: Thạc sỹ | J67: Công nghệ thông tin | K67: 2009 | L67: Trường ĐH Mỏ địa chất Hà nội | O67: Thạc sỹ | P67: B1 | R67: Khoa CNTT | S67: x | X67: x
A68: =COUNTIFS(E:E,E68,C:C,C68) -> 3 | B68: 2014 | C68: CNTT | D68: 66 | E68: Cảnh Chí Thanh | F68: 30/12/1955 | I68: Thạc sỹ | J68: Công nghệ thông tin | K68: 1985 | L68: Trường ĐH Mỏ địa chất Hà nội | O68: Thạc sỹ | P68: B2 | R68: Khoa CNTT | S68: x | X68: x
A69: =COUNTIFS(E:E,E69,C:C,C69) -> 3 | B69: 2014 | C69: CNTT | D69: 67 | E69: Hoàng Kim Bảng | F69: 17/02/1956 | I69: Thạc sỹ | J69: Công nghệ thông tin | K69: 1987 | L69: Trường ĐH Mỏ địa chất Hà nội | O69: Thạc sỹ | P69: B3 | R69: Khoa CNTT | S69: x | X69: x
A70: =COUNTIFS(E:E,E70,C:C,C70) -> 6 | B70: 2015 | C70: CNTT | D70: 1 | E70: Trương Xuân Luận | F70: 20/05/1950 | H70: Giáo sư | I70: Tiến sỹ | J70: Địa chất khoáng sản và thăm dò | K70: 1992 | L70: Trường ĐH Mỏ địa chất Hà nội | O70: Tiến sỹ | P70: B4 | Q70: Trưởng Bộ môn | R70: Khoa CNTT | S70: x | X70: x
A71: =COUNTIFS(E:E,E71,C:C,C71) -> 6 | B71: 2015 | C71: CNTT | D71: 2 | E71: Lê Thanh Huệ | G71: 15/09/1964 | H71: Phó Giáo sư | I71: Tiến sỹ | J71: Toán Tin | K71: 2010 | L71: Trường ĐH Khoa học tự nhiên (ĐHQGHN) | O71: Tiến sỹ | P71: B4 | Q71: Phó Trưởng Khoa | R71: Khoa CNTT | S71: x | X71: x
A72: =COUNTIFS(E:E,E72,C:C,C72) -> 6 | B72: 2015 | C72: CNTT | D72: 3 | E72: Phạm Đức Hậu | F72: 26/10/1969 | I72: Thạc sỹ | J72: Trắc địa | K72: 1991 | L72: Trường ĐH Mỏ địa chất Hà nội | O72: Thạc sỹ | P72: B1 | R72: Khoa CNTT | S72: x | X72: x
A73: =COUNTIFS(E:E,E73,C:C,C73) -> 6 | B73: 2015 | C73: CNTT | D73: 4 | E73: Đặng Hữu Nghị | F73: 19/10/1972 | I73: Thạc sỹ | J73: Tin học | K73: 2005 | L73: Trường ĐH Bách khoa Hà nội | O73: Thạc sỹ | P73: B1 | R73: Khoa CNTT | S73: x | X73: x
A74: =COUNTIFS(E:E,E74,C:C,C74) -> 6 | B74: 2015 | C74: CNTT | D74: 5 | E74: Lê Văn Hưng | F74: 26671 | H74: Phó Giáo sư | I74: Tiến sỹ | J74: Công nghệ thông t in | K74: 2010 | L74: Đào tạo ở nước ngoài | O74: Tiến sỹ | P74: B4 | Q74: Giám đốc Trung tâm | R74: Khoa CNTT | S74: x | X74: x
A75: =COUNTIFS(E:E,E75,C:C,C75) -> 6 | B75: 2015 | C75: CNTT | D75: 6 | E75: Bùi Thị Vân Anh | G75: 26730 | I75: Thạc sỹ | J75: Công nghệ thông tin | K75: 2006 | L75: Học viện Kỹ thuật quân sự | O75: Thạc sỹ | P75: B1 | R75: Khoa CNTT | S75: x | X75: x
A76: =COUNTIFS(E:E,E76,C:C,C76) -> 6 | B76: 2015 | C76: CNTT | D76: 7 | E76: Phạm An Cương | F76: 28/07/1973 | I76: Thạc sỹ | J76: Địa chất | K76: 2002 | L76: Trường ĐH Mỏ địa chất Hà nội | O76: Thạc sỹ | P76: B1 | R76: Khoa CNTT | S76: x | X76: x
A77: =COUNTIFS(E:E,E77,C:C,C77) -> 6 | B77: 2015 | C77: CNTT | D77: 8 | E77: Dương Thị Tâm | G77: 27008 | I77: Thạc sỹ | J77: Địa chất công trình | K77: 2003 | L77: Trường ĐH Mỏ địa chất Hà nội | O77: Thạc sỹ | P77: B1 | R77: Khoa CNTT | S77: x | X77: x
A78: =COUNTIFS(E:E,E78,C:C,C78) -> 6 | B78: 2015 | C78: CNTT | D78: 9 | E78: Đào Thị Tuyết | G78: 27090 | I78: Thạc sỹ | J78: Công nghệ thông t in | K78: 2019 | L78: Trường ĐH Mỏ địa chất Hà nội | O78: Thạc sỹ | P78: B1 | R78: Khoa CNTT | S78: x | X78: x
A79: =COUNTIFS(E:E,E79,C:C,C79) -> 6 | B79: 2015 | C79: CNTT | D79: 10 | E79: Bùi Thị ánh Nguyệt | G79: 24/01/1975 | I79: Thạc sỹ | J79: Công nghệ thông t in | K79: 2017 | L79: Viện ĐH Mở Hà nội | O79: Thạc sỹ | P79: B1 | R79: Khoa CNTT | S79: x | X79: x
A80: =COUNTIFS(E:E,E80,C:C,C80) -> 6 | B80: 2015 | C80: CNTT | D80: 11 | E80: Nông Thị Oanh | G80: 29/10/1975 | I80: Thạc sỹ | J80: Công nghệ thông tin | K80: 2013 | L80: Trường ĐH Mỏ địa chất Hà nội | O80: Thạc sỹ | P80: B1 | R80: Khoa CNTT | S80: x | X80: x
A81: =COUNTIFS(E:E,E81,C:C,C81) -> 6 | B81: 2015 | C81: CNTT | D81: 12 | E81: Dương Chí Thiện | F81: 27944 | I81: Thạc sỹ | J81: Công nghệ thông tin | K81: 2006 | L81: Trường ĐH Khoa học tự nhiên (ĐHQGHN) | O81: Thạc sỹ | P81: B1 | R81: Khoa CNTT | S81: x | X81: x
A82: =COUNTIFS(E:E,E82,C:C,C82) -> 6 | B82: 2015 | C82: CNTT | D82: 13 | E82: Ngô Hùng Long | F82: 14/05/1976 | I82: Thạc sỹ | J82: Địa chất công trình | K82: 1999 | L82: Trường ĐH Mỏ địa chất Hà nội | O82: Thạc sỹ | P82: B1 | R82: Khoa CNTT | S82: x | X82: x
A83: =COUNTIFS(E:E,E83,C:C,C83) -> 6 | B83: 2015 | C83: CNTT | D83: 14 | E83: Nguyễn Tuấn Anh | F83: 20/11/1976 | I83: Thạc sỹ | J83: Toán Tin | K83: 2000 | L83: Trường ĐH Dân lập Thăng long (HN) | O83: Thạc sỹ | P83: B1 | R83: Khoa CNTT | S83: x | X83: x
A84: =COUNTIFS(E:E,E84,C:C,C84) -> 6 | B84: 2015 | C84: CNTT | D84: 15 | E84: Tạ Quang Chiểu | F84: 13/05/1977 | I84: Tiến sỹ | J84: Công nghệ thông tin | K84: 2016 | L84: Đào tạo ở nước ngoài | O84: Tiến sỹ | P84: B1 | Q84: Trưởng Bộ môn | R84: Khoa CNTT | S84: x | X84: x
A85: =COUNTIFS(E:E,E85,C:C,C85) -> 6 | B85: 2015 | C85: CNTT | D85: 16 | E85: Trần Trung Chuyên | F85: 19/10/1977 | I85: Tiến sỹ | J85: Kỹ thuật trắc địa | K85: 2018 | L85: Trường ĐH Mỏ địa chất Hà nội | O85: Tiến sỹ | P85: B1 | R85: Khoa CNTT | S85: x | X85: x
A86: =COUNTIFS(E:E,E86,C:C,C86) -> 6 | B86: 2015 | C86: CNTT | D86: 17 | E86: Diêm Thị Thuỳ | G86: 24/10/1977 | I86: Thạc sỹ | J86: Bản đồ, viễn thám và hệ thông tin địa lý | K86: 2001 | L86: Trường ĐH Mỏ địa chất Hà nội | O86: Thạc sỹ | P86: B1 | R86: Khoa CNTT | S86: x | X86: x
A87: =COUNTIFS(E:E,E87,C:C,C87) -> 6 | B87: 2015 | C87: CNTT | D87: 18 | E87: Đỗ Như Hải | F87: 28226 | I87: Thạc sỹ | J87: Tin học | K87: 2002 | L87: Trường ĐH Khoa học tự nhiên (ĐHQGHN) | O87: Thạc sỹ | P87: B1 | R87: Khoa CNTT | S87: x | X87: x
A88: =COUNTIFS(E:E,E88,C:C,C88) -> 6 | B88: 2015 | C88: CNTT | D88: 19 | E88: Nguyễn Quang Khánh | F88: 25/02/1978 | I88: Tiến sỹ | J88: Trắc địa | K88: 2011 | L88: Trường ĐH Mỏ địa chất Hà nội | O88: Tiến sỹ | P88: B1 | R88: Khoa CNTT | S88: x | X88: x
A89: =COUNTIFS(E:E,E89,C:C,C89) -> 6 | B89: 2015 | C89: CNTT | D89: 20 | E89: Trần Thị Như Hoa | G89: 27/02/1978 | I89: Thạc sỹ | J89: Tin học | K89: 2017 | L89: Trường ĐH Mỏ địa chất Hà nội | O89: Thạc sỹ | P89: B1 | R89: Khoa CNTT | S89: x | X89: x
A90: =COUNTIFS(E:E,E90,C:C,C90) -> 6 | B90: 2015 | C90: CNTT | D90: 21 | E90: Dương Thị Hiền Thanh | G90: 22/05/1978 | I90: Tiến sỹ | J90: Công nghệ thông tin | K90: 2019 | L90: Trường ĐH Bách khoa Hà nội | O90: Tiến sỹ | P90: B1 | Q90: Trưởng Bộ môn | R90: Khoa CNTT | S90: x | X90: x
A91: =COUNTIFS(E:E,E91,C:C,C91) -> 6 | B91: 2015 | C91: CNTT | D91: 22 | E91: Ngô Thị Phương Thảo | G91: 26/06/1978 | I91: Thạc sỹ | J91: Trắc địa | K91: 2007 | L91: Trường ĐH Mỏ địa chất Hà nội | O91: Thạc sỹ | P91: B1 | R91: Khoa CNTT | S91: x | X91: x
A92: =COUNTIFS(E:E,E92,C:C,C92) -> 6 | B92: 2015 | C92: CNTT | D92: 23 | E92: Nguyễn Thuỳ Dương | G92: 25/09/1978 | I92: Thạc sỹ | J92: Công nghệ thông tin | K92: 2010 | L92: Viện ĐH Mở Hà nội | O92: Thạc sỹ | P92: B1 | R92: Khoa CNTT | S92: x | X92: x
A93: =COUNTIFS(E:E,E93,C:C,C93) -> 6 | B93: 2015 | C93: CNTT | D93: 24 | E93: Vương Thị Như Quỳnh | G93: 20/10/1978 | I93: Thạc sỹ | J93: Công nghệ thông tin | K93: 2002 | L93: Trường ĐH Vinh | O93: Thạc sỹ | P93: B1 | R93: Khoa CNTT | S93: x | X93: x
A94: =COUNTIFS(E:E,E94,C:C,C94) -> 6 | B94: 2015 | C94: CNTT | D94: 25 | E94: Đào Thị Thu Vân | G94: 18/11/1978 | I94: Tiến sỹ | J94: Quản lý giáo dục | K94: 2014 | L94: Đào tạo ở nước ngoài | O94: Tiến sỹ | P94: B1 | R94: Khoa CNTT | S94: x | X94: x
A95: =COUNTIFS(E:E,E95,C:C,C95) -> 6 | B95: 2015 | C95: CNTT | D95: 26 | E95: Võ Thị Thu Trang | G95: 15/01/1979 | I95: Thạc sỹ | J95: Kinh tế | K95: 2001 | L95: Trường ĐH Kinh tế Quốc dân | O95: Thạc sỹ | P95: B1 | R95: Khoa CNTT | S95: x | X95: x
A96: =COUNTIFS(E:E,E96,C:C,C96) -> 6 | B96: 2015 | C96: CNTT | D96: 27 | E96: Nguyễn Thị Phấn | G96: 29194 | I96: Đại học | J96: Công nghệ thông t in | K96: 2017 | L96: Viện ĐH Mở Hà nội | O96: Đại học | P96: B1 | R96: Khoa CNTT | S96: x | X96: x
A97: =COUNTIFS(E:E,E97,C:C,C97) -> 6 | B97: 2015 | C97: CNTT | D97: 28 | E97: Nguyễn Thị Mai Dung | G97: 29165 | I97: Tiến sỹ | J97: Bản đồ, viễn thám & hệ thông tin địa lý | K97: 2008 | L97: Đào tạo ở nước ngoài | O97: Tiến sỹ | P97: B1 | Q97: Phó Trưởng Khoa | R97: Khoa CNTT | S97: x | X97: x
A98: =COUNTIFS(E:E,E98,C:C,C98) -> 6 | B98: 2015 | C98: CNTT | D98: 29 | E98: Phạm Thị Nguyệt | G98: 28983 | I98: Thạc sỹ | J98: Kinh tế mỏ | K98: 2006 | L98: Trường ĐH Mỏ địa chất Hà nội | O98: Thạc sỹ | P98: B1 | R98: Khoa CNTT | S98: x | X98: x
A99: =COUNTIFS(E:E,E99,C:C,C99) -> 6 | B99: 2015 | C99: CNTT | D99: 30 | E99: Nguyễn Thu Hằng | G99: 29168 | I99: Thạc sỹ | J99: Kinh tế | K99: 2007 | L99: Trường ĐH Kinh tế Quốc dân | O99: Thạc sỹ | P99: B1 | Q99: Phó Trưởng Bộ môn | R99: Khoa CNTT | S99: x | X99: x
A100: =COUNTIFS(E:E,E100,C:C,C100) -> 6 | B100: 2015 | C100: CNTT | D100: 31 | E100: Phạm Hữu Lợi | F100: 19/09/1979 | I100: Thạc sỹ | J100: Kinh tế công nghiệp | K100: 2010 | L100: Trường ĐH Mỏ địa chất Hà nội | O100: Thạc sỹ | P100: B1 | Q100: Phó Trưởng phòng | R100: Khoa CNTT | S100: x | X100: x
...

Sheet Sheet2
G1: Ngày tháng năm sinh | I1: Trình độ nghiệp vụ | N1: Trình độ nghiệp vụ | R1: Chức vụ (từ phó Trưởng BM trở lên) | S1: Đơn vị công tác | T1: Phân loại giảng viên | Y1: Các khóa bồi dưỡng về NVSP đã tham gia trong quá trình đánh giá
B2: SL | C2: Nam | D2: Khoa | E2: STT | F2: Họ và tên | G2: Nam | H2: Nữ | I2: Học hàm/học vị | K2: Năm tốt nghiệp TĐCM | L2: Năm TN | M2: Nơi TN | N2: QLNN | O2: LLCT | P2: Tin học | Q2: Ngoại ngữ | T2: Biên chế | U2: HĐ dài hạn | V2: kiêm nhiệm | W2: Thỉnh giảng | X2: Quốc tế
A3: =IF(AND(F3=F2,G3=G2,B3=B2),0,1) -> 1 | B3: 6 | C3: 2019 | D3: CNTT | E3: 60 | F3: Trần Thị Hòa | H3: 32056 | J3: Tiến sỹ | K3: Bản đồ | L3: 2019 | M3: Đào tạo ở nước ngoài | P3: Tiến sỹ | Q3: B1 | S3: Khoa CNTT | T3: x | Y3: x
A4: =IF(AND(F4=F3,G4=G3,B4=B3),0,1) -> 0 | B4: 6 | C4: 2018 | D4: CNTT | E4: 60 | F4: Trần Thị Hòa | H4: 32056 | J4: Tiến sỹ | K4: Bản đồ | L4: 2019 | M4: Đào tạo ở nước ngoài | P4: Tiến sỹ | Q4: B1 | S4: Khoa CNTT | T4: x | Y4: x
A5: =IF(AND(F5=F4,G5=G4,B5=B4),0,1) -> 0 | B5: 6 | C5: 2017 | D5: CNTT | E5: 60 | F5: Trần Thị Hòa | H5: 32056 | J5: Tiến sỹ | K5: Bản đồ | L5: 2019 | M5: Đào tạo ở nước ngoài | P5: Tiến sỹ | Q5: B1 | S5: Khoa CNTT | T5: x | Y5: x
A6: =IF(AND(F6=F5,G6=G5,B6=B5),0,1) -> 0 | B6: 6 | C6: 2016 | D6: CNTT | E6: 60 | F6: Trần Thị Hòa | H6: 32056 | J6: Tiến sỹ | K6: Bản đồ | L6: 2019 | M6: Đào tạo ở nước ngoài | P6: Tiến sỹ | Q6: B1 | S6: Khoa CNTT | T6: x | Y6: x
A7: =IF(AND(F7=F6,G7=G6,B7=B6),0,1) -> 0 | B7: 6 | C7: 2015 | D7: CNTT | E7: 60 | F7: Trần Thị Hòa | H7: 32056 | J7: Tiến sỹ | K7: Bản đồ | L7: 2019 | M7: Đào tạo ở nước ngoài | P7: Tiến sỹ | Q7: B1 | S7: Khoa CNTT | T7: x | Y7: x
A8: =IF(AND(F8=F7,G8=G7,B8=B7),0,1) -> 0 | B8: 6 | C8: 2014 | D8: CNTT | E8: 60 | F8: Trần Thị Hòa | H8: 32056 | J8: Tiến sỹ | K8: Bản đồ | L8: 2019 | M8: Đào tạo ở nước ngoài | P8: Tiến sỹ | Q8: B1 | S8: Khoa CNTT | T8: x | Y8: x
A9: =IF(AND(F9=F8,G9=G8,B9=B8),0,1) -> 1 | B9: 6 | C9: 2019 | D9: CNTT | E9: 35 | F9: Bùi Thế Vinh | G9: 29109 | J9: Tiến sỹ | K9: Công nghệ thông tin | L9: 2016 | M9: Đào tạo ở nước ngoài | P9: Tiến sỹ | Q9: B1 | S9: Khoa CNTT | T9: x | Y9: x
A10: =IF(AND(F10=F9,G10=G9,B10=B9),0,1) -> 0 | B10: 6 | C10: 2018 | D10: CNTT | E10: 35 | F10: Bùi Thế Vinh | G10: 29109 | J10: Tiến sỹ | K10: Công nghệ thông tin | L10: 2016 | M10: Đào tạo ở nước ngoài | P10: Tiến sỹ | Q10: B1 | S10: Khoa CNTT | T10: x | Y10: x
A11: =IF(AND(F11=F10,G11=G10,B11=B10),0,1) -> 0 | B11: 6 | C11: 2017 | D11: CNTT | E11: 35 | F11: Bùi Thế Vinh | G11: 29109 | J11: Tiến sỹ | K11: Công nghệ thông tin | L11: 2016 | M11: Đào tạo ở nước ngoài | P11: Tiến sỹ | Q11: B1 | S11: Khoa CNTT | T11: x | Y11: x
A12: =IF(AND(F12=F11,G12=G11,B12=B11),0,1) -> 0 | B12: 6 | C12: 2016 | D12: CNTT | E12: 35 | F12: Bùi Thế Vinh | G12: 29109 | J12: Tiến sỹ | K12: Công nghệ thông tin | L12: 2016 | M12: Đào tạo ở nước ngoài | P12: Tiến sỹ | Q12: B1 | S12: Khoa CNTT | T12: x | Y12: x
A13: =IF(AND(F13=F12,G13=G12,B13=B12),0,1) -> 0 | B13: 6 | C13: 2015 | D13: CNTT | E13: 35 | F13: Bùi Thế Vinh | G13: 29109 | J13: Tiến sỹ | K13: Công nghệ thông tin | L13: 2016 | M13: Đào tạo ở nước ngoài | P13: Tiến sỹ | Q13: B1 | S13: Khoa CNTT | T13: x | Y13: x
A14: =IF(AND(F14=F13,G14=G13,B14=B13),0,1) -> 0 | B14: 6 | C14: 2014 | D14: CNTT | E14: 35 | F14: Bùi Thế Vinh | G14: 29109 | J14: Tiến sỹ | K14: Công nghệ thông tin | L14: 2016 | M14: Đào tạo ở nước ngoài | P14: Tiến sỹ | Q14: B1 | S14: Khoa CNTT | T14: x | Y14: x
A15: =IF(AND(F15=F14,G15=G14,B15=B14),0,1) -> 1 | B15: 6 | C15: 2019 | D15: CNTT | E15: 10 | F15: Bùi Thị ánh Nguyệt | H15: 24/01/1975 | J15: Thạc sỹ | K15: Công nghệ thông t in | L15: 2017 | M15: Viện ĐH Mở Hà nội | P15: Thạc sỹ | Q15: B1 | S15: Khoa CNTT | T15: x | Y15: x
A16: =IF(AND(F16=F15,G16=G15,B16=B15),0,1) -> 0 | B16: 6 | C16: 2018 | D16: CNTT | E16: 10 | F16: Bùi Thị ánh Nguyệt | H16: 24/01/1975 | J16: Thạc sỹ | K16: Công nghệ thông t in | L16: 2017 | M16: Viện ĐH Mở Hà nội | P16: Thạc sỹ | Q16: B1 | S16: Khoa CNTT | T16: x | Y16: x
A17: =IF(AND(F17=F16,G17=G16,B17=B16),0,1) -> 0 | B17: 6 | C17: 2017 | D17: CNTT | E17: 10 | F17: Bùi Thị ánh Nguyệt | H17: 24/01/1975 | J17: Thạc sỹ | K17: Công nghệ thông t in | L17: 2017 | M17: Viện ĐH Mở Hà nội | P17: Thạc sỹ | Q17: B1 | S17: Khoa CNTT | T17: x | Y17: x
A18: =IF(AND(F18=F17,G18=G17,B18=B17),0,1) -> 0 | B18: 6 | C18: 2016 | D18: CNTT | E18: 10 | F18: Bùi Thị ánh Nguyệt | H18: 24/01/1975 | J18: Thạc sỹ | K18: Công nghệ thông t in | L18: 2017 | M18: Viện ĐH Mở Hà nội | P18: Thạc sỹ | Q18: B1 | S18: Khoa CNTT | T18: x | Y18: x
A19: =IF(AND(F19=F18,G19=G18,B19=B18),0,1) -> 0 | B19: 6 | C19: 2015 | D19: CNTT | E19: 10 | F19: Bùi Thị ánh Nguyệt | H19: 24/01/1975 | J19: Thạc sỹ | K19: Công nghệ thông t in | L19: 2017 | M19: Viện ĐH Mở Hà nội | P19: Thạc sỹ | Q19: B1 | S19: Khoa CNTT | T19: x | Y19: x
A20: =IF(AND(F20=F19,G20=G19,B20=B19),0,1) -> 0 | B20: 6 | C20: 2014 | D20: CNTT | E20: 10 | F20: Bùi Thị ánh Nguyệt | H20: 24/01/1975 | J20: Thạc sỹ | K20: Công nghệ thông t in | L20: 2017 | M20: Viện ĐH Mở Hà nội | P20: Thạc sỹ | Q20: B1 | S20: Khoa CNTT | T20: x | Y20: x
A21: =IF(AND(F21=F20,G21=G20,B21=B20),0,1) -> 1 | B21: 6 | C21: 2019 | D21: CNTT | E21: 6 | F21: Bùi Thị Vân Anh | H21: 26730 | J21: Thạc sỹ | K21: Công nghệ thông tin | L21: 2006 | M21: Học viện Kỹ thuật quân sự | P21: Thạc sỹ | Q21: B1 | S21: Khoa CNTT | T21: x | Y21: x
A22: =IF(AND(F22=F21,G22=G21,B22=B21),0,1) -> 0 | B22: 6 | C22: 2018 | D22: CNTT | E22: 6 | F22: Bùi Thị Vân Anh | H22: 26730 | J22: Thạc sỹ | K22: Công nghệ thông tin | L22: 2006 | M22: Học viện Kỹ thuật quân sự | P22: Thạc sỹ | Q22: B1 | S22: Khoa CNTT | T22: x | Y22: x
A23: =IF(AND(F23=F22,G23=G22,B23=B22),0,1) -> 0 | B23: 6 | C23: 2017 | D23: CNTT | E23: 6 | F23: Bùi Thị Vân Anh | H23: 26730 | J23: Thạc sỹ | K23: Công nghệ thông tin | L23: 2006 | M23: Học viện Kỹ thuật quân sự | P23: Thạc sỹ | Q23: B1 | S23: Khoa CNTT | T23: x | Y23: x
A24: =IF(AND(F24=F23,G24=G23,B24=B23),0,1) -> 0 | B24: 6 | C24: 2016 | D24: CNTT | E24: 6 | F24: Bùi Thị Vân Anh | H24: 26730 | J24: Thạc sỹ | K24: Công nghệ thông tin | L24: 2006 | M24: Học viện Kỹ thuật quân sự | P24: Thạc sỹ | Q24: B1 | S24: Khoa CNTT | T24: x | Y24: x
A25: =IF(AND(F25=F24,G25=G24,B25=B24),0,1) -> 0 | B25: 6 | C25: 2015 | D25: CNTT | E25: 6 | F25: Bùi Thị Vân Anh | H25: 26730 | J25: Thạc sỹ | K25: Công nghệ thông tin | L25: 2006 | M25: Học viện Kỹ thuật quân sự | P25: Thạc sỹ | Q25: B1 | S25: Khoa CNTT | T25: x | Y25: x
A26: =IF(AND(F26=F25,G26=G25,B26=B25),0,1) -> 0 | B26: 6 | C26: 2014 | D26: CNTT | E26: 6 | F26: Bùi Thị Vân Anh | H26: 26730 | J26: Thạc sỹ | K26: Công nghệ thông tin | L26: 2006 | M26: Học viện Kỹ thuật quân sự | P26: Thạc sỹ | Q26: B1 | S26: Khoa CNTT | T26: x | Y26: x
A27: =IF(AND(F27=F26,G27=G26,B27=B26),0,1) -> 1 | B27: 3 | C27: 2016 | D27: CNTT | E27: 66 | F27: Cảnh Chí Thanh | G27: 30/12/1955 | J27: Thạc sỹ | K27: Công nghệ thông tin | L27: 1985 | M27: Trường ĐH Mỏ địa chất Hà nội | S27: Khoa CNTT | T27: x | Y27: x
A28: =IF(AND(F28=F27,G28=G27,B28=B27),0,1) -> 0 | B28: 3 | C28: 2015 | D28: CNTT | E28: 66 | F28: Cảnh Chí Thanh | G28: 30/12/1955 | J28: Thạc sỹ | K28: Công nghệ thông tin | L28: 1985 | M28: Trường ĐH Mỏ địa chất Hà nội | S28: Khoa CNTT | T28: x | Y28: x
A29: =IF(AND(F29=F28,G29=G28,B29=B28),0,1) -> 0 | B29: 3 | C29: 2014 | D29: CNTT | E29: 66 | F29: Cảnh Chí Thanh | G29: 30/12/1955 | J29: Thạc sỹ | K29: Công nghệ thông tin | L29: 1985 | M29: Trường ĐH Mỏ địa chất Hà nội | P29: Thạc sỹ | Q29: B2 | S29: Khoa CNTT | T29: x | Y29: x
A30: =IF(AND(F30=F29,G30=G29,B30=B29),0,1) -> 1 | B30: 6 | C30: 2019 | D30: CNTT | E30: 47 | F30: Diêm Công Hoàng | G30: 18/04/1982 | J30: Tiến sỹ | K30: Kỹ thuật truyền thông và tin học | L30: 2016 | M30: Đào tạo ở nước ngoài | P30: Tiến sỹ | Q30: B1 | R30: Phó GĐ Trung tâm | S30: Khoa CNTT | T30: x | Y30: x
A31: =IF(AND(F31=F30,G31=G30,B31=B30),0,1) -> 0 | B31: 6 | C31: 2018 | D31: CNTT | E31: 47 | F31: Diêm Công Hoàng | G31: 18/04/1982 | J31: Tiến sỹ | K31: Kỹ thuật truyền thông và tin học | L31: 2016 | M31: Đào tạo ở nước ngoài | P31: Tiến sỹ | Q31: B1 | R31: Phó GĐ Trung tâm | S31: Khoa CNTT | T31: x | Y31: x
A32: =IF(AND(F32=F31,G32=G31,B32=B31),0,1) -> 0 | B32: 6 | C32: 2017 | D32: CNTT | E32: 47 | F32: Diêm Công Hoàng | G32: 18/04/1982 | J32: Tiến sỹ | K32: Kỹ thuật truyền thông và tin học | L32: 2016 | M32: Đào tạo ở nước ngoài | P32: Tiến sỹ | Q32: B1 | R32: Phó Trưởng Bộ môn | S32: Khoa CNTT | T32: x | Y32: x
A33: =IF(AND(F33=F32,G33=G32,B33=B32),0,1) -> 0 | B33: 6 | C33: 2016 | D33: CNTT | E33: 47 | F33: Diêm Công Hoàng | G33: 18/04/1982 | J33: Tiến sỹ | K33: Kỹ thuật truyền thông và tin học | L33: 2016 | M33: Đào tạo ở nước ngoài | P33: Tiến sỹ | Q33: B1 | S33: Khoa CNTT | T33: x | Y33: x
A34: =IF(AND(F34=F33,G34=G33,B34=B33),0,1) -> 0 | B34: 6 | C34: 2015 | D34: CNTT | E34: 47 | F34: Diêm Công Hoàng | G34: 18/04/1982 | J34: Tiến sỹ | K34: Kỹ thuật truyền thông và tin học | L34: 2016 | M34: Đào tạo ở nước ngoài | P34: Tiến sỹ | Q34: B1 | S34: Khoa CNTT | T34: x | Y34: x
A35: =IF(AND(F35=F34,G35=G34,B35=B34),0,1) -> 0 | B35: 6 | C35: 2014 | D35: CNTT | E35: 47 | F35: Diêm Công Hoàng | G35: 18/04/1982 | J35: Tiến sỹ | K35: Kỹ thuật truyền thông và tin học | L35: 2016 | M35: Đào tạo ở nước ngoài | P35: Tiến sỹ | Q35: B1 | S35: Khoa CNTT | T35: x | Y35: x
A36: =IF(AND(F36=F35,G36=G35,B36=B35),0,1) -> 1 | B36: 6 | C36: 2019 | D36: CNTT | E36: 17 | F36: Diêm Thị Thuỳ | H36: 24/10/1977 | J36: Thạc sỹ | K36: Bản đồ, viễn thám và hệ thông tin địa lý | L36: 2001 | M36: Trường ĐH Mỏ địa chất Hà nội | P36: Thạc sỹ | Q36: B1 | S36: Khoa CNTT | T36: x | Y36: x
A37: =IF(AND(F37=F36,G37=G36,B37=B36),0,1) -> 0 | B37: 6 | C37: 2018 | D37: CNTT | E37: 17 | F37: Diêm Thị Thuỳ | H37: 24/10/1977 | J37: Thạc sỹ | K37: Bản đồ, viễn thám và hệ thông tin địa lý | L37: 2001 | M37: Trường ĐH Mỏ địa chất Hà nội | P37: Thạc sỹ | Q37: B1 | S37: Khoa CNTT | T37: x | Y37: x
A38: =IF(AND(F38=F37,G38=G37,B38=B37),0,1) -> 0 | B38: 6 | C38: 2017 | D38: CNTT | E38: 17 | F38: Diêm Thị Thuỳ | H38: 24/10/1977 | J38: Thạc sỹ | K38: Bản đồ, viễn thám và hệ thông tin địa lý | L38: 2001 | M38: Trường ĐH Mỏ địa chất Hà nội | P38: Thạc sỹ | Q38: B1 | S38: Khoa CNTT | T38: x | Y38: x
A39: =IF(AND(F39=F38,G39=G38,B39=B38),0,1) -> 0 | B39: 6 | C39: 2016 | D39: CNTT | E39: 17 | F39: Diêm Thị Thuỳ | H39: 24/10/1977 | J39: Thạc sỹ | K39: Bản đồ, viễn thám và hệ thông tin địa lý | L39: 2001 | M39: Trường ĐH Mỏ địa chất Hà nội | P39: Thạc sỹ | Q39: B1 | S39: Khoa CNTT | T39: x | Y39: x
A40: =IF(AND(F40=F39,G40=G39,B40=B39),0,1) -> 0 | B40: 6 | C40: 2015 | D40: CNTT | E40: 17 | F40: Diêm Thị Thuỳ | H40: 24/10/1977 | J40: Thạc sỹ | K40: Bản đồ, viễn thám và hệ thông tin địa lý | L40: 2001 | M40: Trường ĐH Mỏ địa chất Hà nội | P40: Thạc sỹ | Q40: B1 | S40: Khoa CNTT | T40: x | Y40: x
A41: =IF(AND(F41=F40,G41=G40,B41=B40),0,1) -> 0 | B41: 6 | C41: 2014 | D41: CNTT | E41: 17 | F41: Diêm Thị Thuỳ | H41: 24/10/1977 | J41: Thạc sỹ | K41: Bản đồ, viễn thám và hệ thông tin địa lý | L41: 2001 | M41: Trường ĐH Mỏ địa chất Hà nội | P41: Thạc sỹ | Q41: B1 | S41: Khoa CNTT | T41: x | Y41: x
A42: =IF(AND(F42=F41,G42=G41,B42=B41),0,1) -> 1 | B42: 6 | C42: 2019 | D42: CNTT | E42: 12 | F42: Dương Chí Thiện | G42: 27944 | J42: Thạc sỹ | K42: Công nghệ thông tin | L42: 2006 | M42: Trường ĐH Khoa học tự nhiên (ĐHQGHN) | P42: Thạc sỹ | Q42: B1 | S42: Khoa CNTT | T42: x | Y42: x
A43: =IF(AND(F43=F42,G43=G42,B43=B42),0,1) -> 0 | B43: 6 | C43: 2018 | D43: CNTT | E43: 12 | F43: Dương Chí Thiện | G43: 27944 | J43: Thạc sỹ | K43: Công nghệ thông tin | L43: 2006 | M43: Trường ĐH Khoa học tự nhiên (ĐHQGHN) | P43: Thạc sỹ | Q43: B1 | S43: Khoa CNTT | T43: x | Y43: x
A44: =IF(AND(F44=F43,G44=G43,B44=B43),0,1) -> 0 | B44: 6 | C44: 2017 | D44: CNTT | E44: 12 | F44: Dương Chí Thiện | G44: 27944 | J44: Thạc sỹ | K44: Công nghệ thông tin | L44: 2006 | M44: Trường ĐH Khoa học tự nhiên (ĐHQGHN) | P44: Thạc sỹ | Q44: B1 | S44: Khoa CNTT | T44: x | Y44: x
A45: =IF(AND(F45=F44,G45=G44,B45=B44),0,1) -> 0 | B45: 6 | C45: 2016 | D45: CNTT | E45: 12 | F45: Dương Chí Thiện | G45: 27944 | J45: Thạc sỹ | K45: Công nghệ thông tin | L45: 2006 | M45: Trường ĐH Khoa học tự nhiên (ĐHQGHN) | P45: Thạc sỹ | Q45: B1 | S45: Khoa CNTT | T45: x | Y45: x
A46: =IF(AND(F46=F45,G46=G45,B46=B45),0,1) -> 0 | B46: 6 | C46: 2015 | D46: CNTT | E46: 12 | F46: Dương Chí Thiện | G46: 27944 | J46: Thạc sỹ | K46: Công nghệ thông tin | L46: 2006 | M46: Trường ĐH Khoa học tự nhiên (ĐHQGHN) | P46: Thạc sỹ | Q46: B1 | S46: Khoa CNTT | T46: x | Y46: x
A47: =IF(AND(F47=F46,G47=G46,B47=B46),0,1) -> 0 | B47: 6 | C47: 2014 | D47: CNTT | E47: 12 | F47: Dương Chí Thiện | G47: 27944 | J47: Thạc sỹ | K47: Công nghệ thông tin | L47: 2006 | M47: Trường ĐH Khoa học tự nhiên (ĐHQGHN) | P47: Thạc sỹ | Q47: B1 | S47: Khoa CNTT | T47: x | Y47: x
A48: =IF(AND(F48=F47,G48=G47,B48=B47),0,1) -> 1 | B48: 6 | C48: 2019 | D48: CNTT | E48: 21 | F48: Dương Thị Hiền Thanh | H48: 22/05/1978 | J48: Tiến sỹ | K48: Công nghệ thông tin | L48: 2019 | M48: Trường ĐH Bách khoa Hà nội | P48: Tiến sỹ | Q48: B1 | R48: Trưởng Bộ môn | S48: Khoa CNTT | T48: x | Y48: x
A49: =IF(AND(F49=F48,G49=G48,B49=B48),0,1) -> 0 | B49: 6 | C49: 2018 | D49: CNTT | E49: 21 | F49: Dương Thị Hiền Thanh | H49: 22/05/1978 | J49: Tiến sỹ | K49: Công nghệ thông tin | L49: 2019 | M49: Trường ĐH Bách khoa Hà nội | P49: Tiến sỹ | Q49: B1 | R49: Trưởng Bộ môn | S49: Khoa CNTT | T49: x | Y49: x
A50: =IF(AND(F50=F49,G50=G49,B50=B49),0,1) -> 0 | B50: 6 | C50: 2017 | D50: CNTT | E50: 21 | F50: Dương Thị Hiền Thanh | H50: 22/05/1978 | J50: Tiến sỹ | K50: Công nghệ thông tin | L50: 2019 | M50: Trường ĐH Bách khoa Hà nội | P50: Tiến sỹ | Q50: B1 | R50: Trưởng Bộ môn | S50: Khoa CNTT | T50: x | Y50: x
A51: =IF(AND(F51=F50,G51=G50,B51=B50),0,1) -> 0 | B51: 6 | C51: 2016 | D51: CNTT | E51: 21 | F51: Dương Thị Hiền Thanh | H51: 22/05/1978 | J51: Tiến sỹ | K51: Công nghệ thông tin | L51: 2019 | M51: Trường ĐH Bách khoa Hà nội | P51: Tiến sỹ | Q51: B1 | R51: Trưởng Bộ môn | S51: Khoa CNTT | T51: x | Y51: x
A52: =IF(AND(F52=F51,G52=G51,B52=B51),0,1) -> 0 | B52: 6 | C52: 2015 | D52: CNTT | E52: 21 | F52: Dương Thị Hiền Thanh | H52: 22/05/1978 | J52: Tiến sỹ | K52: Công nghệ thông tin | L52: 2019 | M52: Trường ĐH Bách khoa Hà nội | P52: Tiến sỹ | Q52: B1 | R52: Trưởng Bộ môn | S52: Khoa CNTT | T52: x | Y52: x
A53: =IF(AND(F53=F52,G53=G52,B53=B52),0,1) -> 0 | B53: 6 | C53: 2014 | D53: CNTT | E53: 21 | F53: Dương Thị Hiền Thanh | H53: 22/05/1978 | J53: Tiến sỹ | K53: Công nghệ thông tin | L53: 2019 | M53: Trường ĐH Bách khoa Hà nội | P53: Tiến sỹ | Q53: B1 | R53: Trưởng Bộ môn | S53: Khoa CNTT | T53: x | Y53: x
A54: =IF(AND(F54=F53,G54=G53,B54=B53),0,1) -> 1 | B54: 6 | C54: 2019 | D54: CNTT | E54: 8 | F54: Dương Thị Tâm | H54: 27008 | J54: Thạc sỹ | K54: Địa chất công trình | L54: 2003 | M54: Trường ĐH Mỏ địa chất Hà nội | P54: Thạc sỹ | Q54: B1 | S54: Khoa CNTT | T54: x | Y54: x
A55: =IF(AND(F55=F54,G55=G54,B55=B54),0,1) -> 0 | B55: 6 | C55: 2018 | D55: CNTT | E55: 8 | F55: Dương Thị Tâm | H55: 27008 | J55: Thạc sỹ | K55: Địa chất công trình | L55: 2003 | M55: Trường ĐH Mỏ địa chất Hà nội | P55: Thạc sỹ | Q55: B1 | S55: Khoa CNTT | T55: x | Y55: x
A56: =IF(AND(F56=F55,G56=G55,B56=B55),0,1) -> 0 | B56: 6 | C56: 2017 | D56: CNTT | E56: 8 | F56: Dương Thị Tâm | H56: 27008 | J56: Thạc sỹ | K56: Địa chất công trình | L56: 2003 | M56: Trường ĐH Mỏ địa chất Hà nội | P56: Thạc sỹ | Q56: B1 | S56: Khoa CNTT | T56: x | Y56: x
A57: =IF(AND(F57=F56,G57=G56,B57=B56),0,1) -> 0 | B57: 6 | C57: 2016 | D57: CNTT | E57: 8 | F57: Dương Thị Tâm | H57: 27008 | J57: Thạc sỹ | K57: Địa chất công trình | L57: 2003 | M57: Trường ĐH Mỏ địa chất Hà nội | P57: Thạc sỹ | Q57: B1 | S57: Khoa CNTT | T57: x | Y57: x
A58: =IF(AND(F58=F57,G58=G57,B58=B57),0,1) -> 0 | B58: 6 | C58: 2015 | D58: CNTT | E58: 8 | F58: Dương Thị Tâm | H58: 27008 | J58: Thạc sỹ | K58: Địa chất công trình | L58: 2003 | M58: Trường ĐH Mỏ địa chất Hà nội | P58: Thạc sỹ | Q58: B1 | S58: Khoa CNTT | T58: x | Y58: x
A59: =IF(AND(F59=F58,G59=G58,B59=B58),0,1) -> 0 | B59: 6 | C59: 2014 | D59: CNTT | E59: 8 | F59: Dương Thị Tâm | H59: 27008 | J59: Thạc sỹ | K59: Địa chất công trình | L59: 2003 | M59: Trường ĐH Mỏ địa chất Hà nội | P59: Thạc sỹ | Q59: B1 | S59: Khoa CNTT | T59: x | Y59: x
A60: =IF(AND(F60=F59,G60=G59,B60=B59),0,1) -> 1 | B60: 6 | C60: 2019 | D60: CNTT | E60: 39 | F60: Đào Anh Thư | H60: 29316 | J60: Thạc sỹ | K60: Hệ thống thông tin | L60: 2014 | M60: Trường ĐH Bách khoa Hà nội | P60: Thạc sỹ | Q60: B1 | S60: Khoa CNTT | T60: x | Y60: x
A61: =IF(AND(F61=F60,G61=G60,B61=B60),0,1) -> 0 | B61: 6 | C61: 2018 | D61: CNTT | E61: 39 | F61: Đào Anh Thư | H61: 29316 | J61: Thạc sỹ | K61: Hệ thống thông tin | L61: 2014 | M61: Trường ĐH Bách khoa Hà nội | P61: Thạc sỹ | Q61: B1 | S61: Khoa CNTT | T61: x | Y61: x
A62: =IF(AND(F62=F61,G62=G61,B62=B61),0,1) -> 0 | B62: 6 | C62: 2017 | D62: CNTT | E62: 39 | F62: Đào Anh Thư | H62: 29316 | J62: Thạc sỹ | K62: Hệ thống thông tin | L62: 2014 | M62: Trường ĐH Bách khoa Hà nội | P62: Thạc sỹ | Q62: B1 | S62: Khoa CNTT | T62: x | Y62: x
A63: =IF(AND(F63=F62,G63=G62,B63=B62),0,1) -> 0 | B63: 6 | C63: 2016 | D63: CNTT | E63: 39 | F63: Đào Anh Thư | H63: 29316 | J63: Thạc sỹ | K63: Hệ thống thông tin | L63: 2014 | M63: Trường ĐH Bách khoa Hà nội | P63: Thạc sỹ | Q63: B1 | S63: Khoa CNTT | T63: x | Y63: x
A64: =IF(AND(F64=F63,G64=G63,B64=B63),0,1) -> 0 | B64: 6 | C64: 2015 | D64: CNTT | E64: 39 | F64: Đào Anh Thư | H64: 29316 | J64: Thạc sỹ | K64: Hệ thống thông tin | L64: 2014 | M64: Trường ĐH Bách khoa Hà nội | P64: Thạc sỹ | Q64: B1 | S64: Khoa CNTT | T64: x | Y64: x
A65: =IF(AND(F65=F64,G65=G64,B65=B64),0,1) -> 0 | B65: 6 | C65: 2014 | D65: CNTT | E65: 39 | F65: Đào Anh Thư | H65: 29316 | J65: Thạc sỹ | K65: Hệ thống thông tin | L65: 2014 | M65: Trường ĐH Bách khoa Hà nội | P65: Thạc sỹ | Q65: B1 | S65: Khoa CNTT | T65: x | Y65: x
A66: =IF(AND(F66=F65,G66=G65,B66=B65),0,1) -> 1 | B66: 6 | C66: 2019 | D66: CNTT | E66: 58 | F66: Đào THị Hồng Thắm | H66: 14/02/1986 | J66: Thạc sỹ | K66: Bản đồ, viễn thám và hệ thông tin địa lý | L66: 2018 | M66: Trường ĐH Mỏ địa chất Hà nội | P66: Thạc sỹ | Q66: B1 | S66: Khoa CNTT | T66: x | Y66: x
A67: =IF(AND(F67=F66,G67=G66,B67=B66),0,1) -> 0 | B67: 6 | C67: 2018 | D67: CNTT | E67: 58 | F67: Đào THị Hồng Thắm | H67: 14/02/1986 | J67: Thạc sỹ | K67: Bản đồ, viễn thám và hệ thông tin địa lý | L67: 2018 | M67: Trường ĐH Mỏ địa chất Hà nội | P67: Thạc sỹ | Q67: B1 | S67: Khoa CNTT | T67: x | Y67: x
A68: =IF(AND(F68=F67,G68=G67,B68=B67),0,1) -> 0 | B68: 6 | C68: 2017 | D68: CNTT | E68: 58 | F68: Đào THị Hồng Thắm | H68: 14/02/1986 | J68: Thạc sỹ | K68: Bản đồ, viễn thám và hệ thông tin địa lý | L68: 2018 | M68: Trường ĐH Mỏ địa chất Hà nội | P68: Thạc sỹ | Q68: B1 | S68: Khoa CNTT | T68: x | Y68: x
A69: =IF(AND(F69=F68,G69=G68,B69=B68),0,1) -> 0 | B69: 6 | C69: 2016 | D69: CNTT | E69: 58 | F69: Đào THị Hồng Thắm | H69: 14/02/1986 | J69: Thạc sỹ | K69: Bản đồ, viễn thám và hệ thông tin địa lý | L69: 2018 | M69: Trường ĐH Mỏ địa chất Hà nội | P69: Thạc sỹ | Q69: B1 | S69: Khoa CNTT | T69: x | Y69: x
A70: =IF(AND(F70=F69,G70=G69,B70=B69),0,1) -> 0 | B70: 6 | C70: 2015 | D70: CNTT | E70: 58 | F70: Đào THị Hồng Thắm | H70: 14/02/1986 | J70: Thạc sỹ | K70: Bản đồ, viễn thám và hệ thông tin địa lý | L70: 2018 | M70: Trường ĐH Mỏ địa chất Hà nội | P70: Thạc sỹ | Q70: B1 | S70: Khoa CNTT | T70: x | Y70: x
A71: =IF(AND(F71=F70,G71=G70,B71=B70),0,1) -> 0 | B71: 6 | C71: 2014 | D71: CNTT | E71: 58 | F71: Đào THị Hồng Thắm | H71: 14/02/1986 | J71: Thạc sỹ | K71: Bản đồ, viễn thám và hệ thông tin địa lý | L71: 2018 | M71: Trường ĐH Mỏ địa chất Hà nội | P71: Thạc sỹ | Q71: B1 | S71: Khoa CNTT | T71: x | Y71: x
A72: =IF(AND(F72=F71,G72=G71,B72=B71),0,1) -> 1 | B72: 6 | C72: 2019 | D72: CNTT | E72: 9 | F72: Đào Thị Tuyết | H72: 27090 | J72: Thạc sỹ | K72: Công nghệ thông t in | L72: 2019 | M72: Trường ĐH Mỏ địa chất Hà nội | P72: Thạc sỹ | Q72: B1 | S72: Khoa CNTT | T72: x | Y72: x
A73: =IF(AND(F73=F72,G73=G72,B73=B72),0,1) -> 0 | B73: 6 | C73: 2018 | D73: CNTT | E73: 9 | F73: Đào Thị Tuyết | H73: 27090 | J73: Thạc sỹ | K73: Công nghệ thông t in | L73: 2019 | M73: Trường ĐH Mỏ địa chất Hà nội | P73: Thạc sỹ | Q73: B1 | S73: Khoa CNTT | T73: x | Y73: x
A74: =IF(AND(F74=F73,G74=G73,B74=B73),0,1) -> 0 | B74: 6 | C74: 2017 | D74: CNTT | E74: 9 | F74: Đào Thị Tuyết | H74: 27090 | J74: Thạc sỹ | K74: Công nghệ thông t in | L74: 2019 | M74: Trường ĐH Mỏ địa chất Hà nội | P74: Thạc sỹ | Q74: B1 | S74: Khoa CNTT | T74: x | Y74: x
A75: =IF(AND(F75=F74,G75=G74,B75=B74),0,1) -> 0 | B75: 6 | C75: 2016 | D75: CNTT | E75: 9 | F75: Đào Thị Tuyết | H75: 27090 | J75: Thạc sỹ | K75: Công nghệ thông t in | L75: 2019 | M75: Trường ĐH Mỏ địa chất Hà nội | P75: Thạc sỹ | Q75: B1 | S75: Khoa CNTT | T75: x | Y75: x
A76: =IF(AND(F76=F75,G76=G75,B76=B75),0,1) -> 0 | B76: 6 | C76: 2015 | D76: CNTT | E76: 9 | F76: Đào Thị Tuyết | H76: 27090 | J76: Thạc sỹ | K76: Công nghệ thông t in | L76: 2019 | M76: Trường ĐH Mỏ địa chất Hà nội | P76: Thạc sỹ | Q76: B1 | S76: Khoa CNTT | T76: x | Y76: x
A77: =IF(AND(F77=F76,G77=G76,B77=B76),0,1) -> 0 | B77: 6 | C77: 2014 | D77: CNTT | E77: 9 | F77: Đào Thị Tuyết | H77: 27090 | J77: Thạc sỹ | K77: Công nghệ thông t in | L77: 2019 | M77: Trường ĐH Mỏ địa chất Hà nội | P77: Thạc sỹ | Q77: B1 | S77: Khoa CNTT | T77: x | Y77: x
A78: =IF(AND(F78=F77,G78=G77,B78=B77),0,1) -> 1 | B78: 6 | C78: 2019 | D78: CNTT | E78: 25 | F78: Đào Thị Thu Vân | H78: 18/11/1978 | J78: Tiến sỹ | K78: Quản lý giáo dục | L78: 2014 | M78: Đào tạo ở nước ngoài | P78: Tiến sỹ | Q78: B1 | R78: Phó Trưởng Bộ môn | S78: Khoa CNTT | T78: x | Y78: x
A79: =IF(AND(F79=F78,G79=G78,B79=B78),0,1) -> 0 | B79: 6 | C79: 2018 | D79: CNTT | E79: 25 | F79: Đào Thị Thu Vân | H79: 18/11/1978 | J79: Tiến sỹ | K79: Quản lý giáo dục | L79: 2014 | M79: Đào tạo ở nước ngoài | P79: Tiến sỹ | Q79: B1 | S79: Khoa CNTT | T79: x | Y79: x
A80: =IF(AND(F80=F79,G80=G79,B80=B79),0,1) -> 0 | B80: 6 | C80: 2017 | D80: CNTT | E80: 25 | F80: Đào Thị Thu Vân | H80: 18/11/1978 | J80: Tiến sỹ | K80: Quản lý giáo dục | L80: 2014 | M80: Đào tạo ở nước ngoài | P80: Tiến sỹ | Q80: B1 | S80: Khoa CNTT | T80: x | Y80: x
A81: =IF(AND(F81=F80,G81=G80,B81=B80),0,1) -> 0 | B81: 6 | C81: 2016 | D81: CNTT | E81: 25 | F81: Đào Thị Thu Vân | H81: 18/11/1978 | J81: Tiến sỹ | K81: Quản lý giáo dục | L81: 2014 | M81: Đào tạo ở nước ngoài | P81: Tiến sỹ | Q81: B1 | S81: Khoa CNTT | T81: x | Y81: x
A82: =IF(AND(F82=F81,G82=G81,B82=B81),0,1) -> 0 | B82: 6 | C82: 2015 | D82: CNTT | E82: 25 | F82: Đào Thị Thu Vân | H82: 18/11/1978 | J82: Tiến sỹ | K82: Quản lý giáo dục | L82: 2014 | M82: Đào tạo ở nước ngoài | P82: Tiến sỹ | Q82: B1 | S82: Khoa CNTT | T82: x | Y82: x
A83: =IF(AND(F83=F82,G83=G82,B83=B82),0,1) -> 0 | B83: 6 | C83: 2014 | D83: CNTT | E83: 25 | F83: Đào Thị Thu Vân | H83: 18/11/1978 | J83: Tiến sỹ | K83: Quản lý giáo dục | L83: 2014 | M83: Đào tạo ở nước ngoài | P83: Tiến sỹ | Q83: B1 | S83: Khoa CNTT | T83: x | Y83: x
A84: =IF(AND(F84=F83,G84=G83,B84=B83),0,1) -> 1 | B84: 6 | C84: 2019 | D84: CNTT | E84: 4 | F84: Đặng Hữu Nghị | G84: 19/10/1972 | J84: Thạc sỹ | K84: Tin học | L84: 2005 | M84: Trường ĐH Bách khoa Hà nội | P84: Thạc sỹ | Q84: B1 | S84: Khoa CNTT | T84: x | Y84: x
A85: =IF(AND(F85=F84,G85=G84,B85=B84),0,1) -> 0 | B85: 6 | C85: 2018 | D85: CNTT | E85: 4 | F85: Đặng Hữu Nghị | G85: 19/10/1972 | J85: Thạc sỹ | K85: Tin học | L85: 2005 | M85: Trường ĐH Bách khoa Hà nội | P85: Thạc sỹ | Q85: B1 | S85: Khoa CNTT | T85: x | Y85: x
A86: =IF(AND(F86=F85,G86=G85,B86=B85),0,1) -> 0 | B86: 6 | C86: 2017 | D86: CNTT | E86: 4 | F86: Đặng Hữu Nghị | G86: 19/10/1972 | J86: Thạc sỹ | K86: Tin học | L86: 2005 | M86: Trường ĐH Bách khoa Hà nội | P86: Thạc sỹ | Q86: B1 | S86: Khoa CNTT | T86: x | Y86: x
A87: =IF(AND(F87=F86,G87=G86,B87=B86),0,1) -> 0 | B87: 6 | C87: 2016 | D87: CNTT | E87: 4 | F87: Đặng Hữu Nghị | G87: 19/10/1972 | J87: Thạc sỹ | K87: Tin học | L87: 2005 | M87: Trường ĐH Bách khoa Hà nội | P87: Thạc sỹ | Q87: B1 | S87: Khoa CNTT | T87: x | Y87: x
A88: =IF(AND(F88=F87,G88=G87,B88=B87),0,1) -> 0 | B88: 6 | C88: 2015 | D88: CNTT | E88: 4 | F88: Đặng Hữu Nghị | G88: 19/10/1972 | J88: Thạc sỹ | K88: Tin học | L88: 2005 | M88: Trường ĐH Bách khoa Hà nội | P88: Thạc sỹ | Q88: B1 | S88: Khoa CNTT | T88: x | Y88: x
A89: =IF(AND(F89=F88,G89=G88,B89=B88),0,1) -> 0 | B89: 6 | C89: 2014 | D89: CNTT | E89: 4 | F89: Đặng Hữu Nghị | G89: 19/10/1972 | J89: Thạc sỹ | K89: Tin học | L89: 2005 | M89: Trường ĐH Bách khoa Hà nội | P89: Thạc sỹ | Q89: B1 | S89: Khoa CNTT | T89: x | Y89: x
A90: =IF(AND(F90=F89,G90=G89,B90=B89),0,1) -> 1 | B90: 6 | C90: 2019 | D90: CNTT | E90: 61 | F90: Đặng Quốc Trung | G90: 32600 | J90: Đại học | K90: Công nghệ thông tin | L90: 2011 | M90: Trường ĐH Mỏ địa chất Hà nội | P90: Đại học | Q90: B1 | S90: Khoa CNTT | T90: x | Y90: x
A91: =IF(AND(F91=F90,G91=G90,B91=B90),0,1) -> 0 | B91: 6 | C91: 2018 | D91: CNTT | E91: 61 | F91: Đặng Quốc Trung | G91: 32600 | J91: Đại học | K91: Công nghệ thông tin | L91: 2011 | M91: Trường ĐH Mỏ địa chất Hà nội | P91: Đại học | Q91: B1 | S91: Khoa CNTT | T91: x | Y91: x
A92: =IF(AND(F92=F91,G92=G91,B92=B91),0,1) -> 0 | B92: 6 | C92: 2017 | D92: CNTT | E92: 61 | F92: Đặng Quốc Trung | G92: 32600 | J92: Đại học | K92: Công nghệ thông tin | L92: 2011 | M92: Trường ĐH Mỏ địa chất Hà nội | P92: Đại học | Q92: B1 | S92: Khoa CNTT | T92: x | Y92: x
A93: =IF(AND(F93=F92,G93=G92,B93=B92),0,1) -> 0 | B93: 6 | C93: 2016 | D93: CNTT | E93: 61 | F93: Đặng Quốc Trung | G93: 32600 | J93: Đại học | K93: Công nghệ thông tin | L93: 2011 | M93: Trường ĐH Mỏ địa chất Hà nội | P93: Đại học | Q93: B1 | S93: Khoa CNTT | T93: x | Y93: x
A94: =IF(AND(F94=F93,G94=G93,B94=B93),0,1) -> 0 | B94: 6 | C94: 2015 | D94: CNTT | E94: 61 | F94: Đặng Quốc Trung | G94: 32600 | J94: Đại học | K94: Công nghệ thông tin | L94: 2011 | M94: Trường ĐH Mỏ địa chất Hà nội | P94: Đại học | Q94: B1 | S94: Khoa CNTT | T94: x | Y94: x
A95: =IF(AND(F95=F94,G95=G94,B95=B94),0,1) -> 0 | B95: 6 | C95: 2014 | D95: CNTT | E95: 61 | F95: Đặng Quốc Trung | G95: 32600 | J95: Đại học | K95: Công nghệ thông tin | L95: 2011 | M95: Trường ĐH Mỏ địa chất Hà nội | P95: Đại học | Q95: B1 | S95: Khoa CNTT | T95: x | Y95: x
A96: =IF(AND(F96=F95,G96=G95,B96=B95),0,1) -> 1 | B96: 6 | C96: 2019 | D96: CNTT | E96: 56 | F96: Đặng Văn Nam | G96: 31055 | J96: Thạc sỹ | K96: Hệ thống thông tin | L96: 2012 | M96: Đại học Công nghệ - Đại học Quốc gia Hà Nội | P96: Thạc sỹ | Q96: B1 | R96: Phó Trưởng Bộ môn | S96: Khoa CNTT | T96: x | Y96: x
A97: =IF(AND(F97=F96,G97=G96,B97=B96),0,1) -> 0 | B97: 6 | C97: 2018 | D97: CNTT | E97: 56 | F97: Đặng Văn Nam | G97: 31055 | J97: Thạc sỹ | K97: Hệ thống thông tin | L97: 2012 | M97: Đại học Công nghệ - Đại học Quốc gia Hà Nội | P97: Thạc sỹ | Q97: B1 | R97: Phó Trưởng Bộ môn | S97: Khoa CNTT | T97: x | Y97: x
A98: =IF(AND(F98=F97,G98=G97,B98=B97),0,1) -> 0 | B98: 6 | C98: 2017 | D98: CNTT | E98: 56 | F98: Đặng Văn Nam | G98: 31055 | J98: Thạc sỹ | K98: Hệ thống thông tin | L98: 2012 | M98: Đại học Công nghệ - Đại học Quốc gia Hà Nội | P98: Thạc sỹ | Q98: B1 | R98: Phó Trưởng Bộ môn | S98: Khoa CNTT | T98: x | Y98: x
A99: =IF(AND(F99=F98,G99=G98,B99=B98),0,1) -> 0 | B99: 6 | C99: 2016 | D99: CNTT | E99: 56 | F99: Đặng Văn Nam | G99: 31055 | J99: Thạc sỹ | K99: Hệ thống thông tin | L99: 2012 | M99: Đại học Công nghệ - Đại học Quốc gia Hà Nội | P99: Thạc sỹ | Q99: B1 | R99: Phó Trưởng Bộ môn | S99: Khoa CNTT | T99: x | Y99: x
A100: =IF(AND(F100=F99,G100=G99,B100=B99),0,1) -> 0 | B100: 6 | C100: 2015 | D100: CNTT | E100: 56 | F100: Đặng Văn Nam | G100: 31055 | J100: Thạc sỹ | K100: Hệ thống thông tin | L100: 2012 | M100: Đại học Công nghệ - Đại học Quốc gia Hà Nội | P100: Thạc sỹ | Q100: B1 | R100: Phó Trưởng Bộ môn | S100: Khoa CNTT | T100: x | Y100: x
...

Sheet Sheet3
D1: STT | E1: Họ và tên | F1: Ngày tháng năm sinh | L1: Trình độ nghiệp vụ | P1: Chức vụ (từ phó Trưởng BM trở lên) | Q1: Đơn vị công tác | R1: Phân loại giảng viên | W1: Các khóa bồi dưỡng về NVSP đã tham gia trong quá trình đánh giá
A2: SL | B2: Nam | C2: Khoa | F2: Nam | G2: Nữ | H2: Học hàm/học vị | I2: Năm tốt nghiệp TĐCM | J2: Năm TN | K2: Nơi TN | L2: QLNN | M2: LLCT | N2: Tin học | O2: Ngoại ngữ | R2: Biên chế | S2: HĐ dài hạn | T2: kiêm nhiệm | U2: Thỉnh giảng | V2: Quốc tế
A3: 6 | B3: 2019 | C3: CNTT | D3: 60 | E3: Trần Thị Hòa | G3: 32056 | H3: Tiến sỹ | I3: Bản đồ | J3: 2019 | K3: Đào tạo ở nước ngoài | N3: Tiến sỹ | O3: B1 | Q3: Khoa CNTT | R3: x | W3: x
A4: 6 | B4: 2019 | C4: CNTT | D4: 35 | E4: Bùi Thế Vinh | F4: 29109 | H4: Tiến sỹ | I4: Công nghệ thông tin | J4: 2016 | K4: Đào tạo ở nước ngoài | N4: Tiến sỹ | O4: B1 | Q4: Khoa CNTT | R4: x | W4: x
A5: 6 | B5: 2019 | C5: CNTT | D5: 10 | E5: Bùi Thị ánh Nguyệt | G5: 24/01/1975 | H5: Thạc sỹ | I5: Công nghệ thông t in | J5: 2017 | K5: Viện ĐH Mở Hà nội | N5: Thạc sỹ | O5: B1 | Q5: Khoa CNTT | R5: x | W5: x
A6: 6 | B6: 2019 | C6: CNTT | D6: 6 | E6: Bùi Thị Vân Anh | G6: 26730 | H6: Thạc sỹ | I6: Công nghệ thông tin | J6: 2006 | K6: Học viện Kỹ thuật quân sự | N6: Thạc sỹ | O6: B1 | Q6: Khoa CNTT | R6: x | W6: x
A7: 3 | B7: 2016 | C7: CNTT | D7: 66 | E7: Cảnh Chí Thanh | F7: 30/12/1955 | H7: Thạc sỹ | I7: Công nghệ thông tin | J7: 1985 | K7: Trường ĐH Mỏ địa chất Hà nội | Q7: Khoa CNTT | R7: x | W7: x
A8: 6 | B8: 2019 | C8: CNTT | D8: 47 | E8: Diêm Công Hoàng | F8: 18/04/1982 | H8: Tiến sỹ | I8: Kỹ thuật truyền thông và tin học | J8: 2016 | K8: Đào tạo ở nước ngoài | N8: Tiến sỹ | O8: B1 | P8: Phó GĐ Trung tâm | Q8: Khoa CNTT | R8: x | W8: x
A9: 6 | B9: 2019 | C9: CNTT | D9: 17 | E9: Diêm Thị Thuỳ | G9: 24/10/1977 | H9: Thạc sỹ | I9: Bản đồ, viễn thám và hệ thông tin địa lý | J9: 2001 | K9: Trường ĐH Mỏ địa chất Hà nội | N9: Thạc sỹ | O9: B1 | Q9: Khoa CNTT | R9: x | W9: x
A10: 6 | B10: 2019 | C10: CNTT | D10: 12 | E10: Dương Chí Thiện | F10: 27944 | H10: Thạc sỹ | I10: Công nghệ thông tin | J10: 2006 | K10: Trường ĐH Khoa học tự nhiên (ĐHQGHN) | N10: Thạc sỹ | O10: B1 | Q10: Khoa CNTT | R10: x | W10: x
A11: 6 | B11: 2019 | C11: CNTT | D11: 21 | E11: Dương Thị Hiền Thanh | G11: 22/05/1978 | H11: Tiến sỹ | I11: Công nghệ thông tin | J11: 2019 | K11: Trường ĐH Bách khoa Hà nội | N11: Tiến sỹ | O11: B1 | P11: Trưởng Bộ môn | Q11: Khoa CNTT | R11: x | W11: x
A12: 6 | B12: 2019 | C12: CNTT | D12: 8 | E12: Dương Thị Tâm | G12: 27008 | H12: Thạc sỹ | I12: Địa chất công trình | J12: 2003 | K12: Trường ĐH Mỏ địa chất Hà nội | N12: Thạc sỹ | O12: B1 | Q12: Khoa CNTT | R12: x | W12: x
A13: 6 | B13: 2019 | C13: CNTT | D13: 39 | E13: Đào Anh Thư | G13: 29316 | H13: Thạc sỹ | I13: Hệ thống thông tin | J13: 2014 | K13: Trường ĐH Bách khoa Hà nội | N13: Thạc sỹ | O13: B1 | Q13: Khoa CNTT | R13: x | W13: x
A14: 6 | B14: 2019 | C14: CNTT | D14: 58 | E14: Đào THị Hồng Thắm | G14: 14/02/1986 | H14: Thạc sỹ | I14: Bản đồ, viễn thám và hệ thông tin địa lý | J14: 2018 | K14: Trường ĐH Mỏ địa chất Hà nội | N14: Thạc sỹ | O14: B1 | Q14: Khoa CNTT | R14: x | W14: x
A15: 6 | B15: 2019 | C15: CNTT | D15: 9 | E15: Đào Thị Tuyết | G15: 27090 | H15: Thạc sỹ | I15: Công nghệ thông t in | J15: 2019 | K15: Trường ĐH Mỏ địa chất Hà nội | N15: Thạc sỹ | O15: B1 | Q15: Khoa CNTT | R15: x | W15: x
A16: 6 | B16: 2019 | C16: CNTT | D16: 25 | E16: Đào Thị Thu Vân | G16: 18/11/1978 | H16: Tiến sỹ | I16: Quản lý giáo dục | J16: 2014 | K16: Đào tạo ở nước ngoài | N16: Tiến sỹ | O16: B1 | P16: Phó Trưởng Bộ môn | Q16: Khoa CNTT | R16: x | W16: x
A17: 6 | B17: 2019 | C17: CNTT | D17: 4 | E17: Đặng Hữu Nghị | F17: 19/10/1972 | H17: Thạc sỹ | I17: Tin học | J17: 2005 | K17: Trường ĐH Bách khoa Hà nội | N17: Thạc sỹ | O17: B1 | Q17: Khoa CNTT | R17: x | W17: x
A18: 6 | B18: 2019 | C18: CNTT | D18: 61 | E18: Đặng Quốc Trung | F18: 32600 | H18: Đại học | I18: Công nghệ thông tin | J18: 2011 | K18: Trường ĐH Mỏ địa chất Hà nội | N18: Đại học | O18: B1 | Q18: Khoa CNTT | R18: x | W18: x
A19: 6 | B19: 2019 | C19: CNTT | D19: 56 | E19: Đặng Văn Nam | F19: 31055 | H19: Thạc sỹ | I19: Hệ thống thông tin | J19: 2012 | K19: Đại học Công nghệ - Đại học Quốc gia Hà Nội | N19: Thạc sỹ | O19: B1 | P19: Phó Trưởng Bộ môn | Q19: Khoa CNTT | R19: x | W19: x
A20: 6 | B20: 2019 | C20: CNTT | D20: 53 | E20: Đặng Xuân Điệp | F20: 30933 | H20: Thạc sỹ | I20: Hệ thống thông tin | J20: 2013 | K20: Học viện CN Bưu chính Viễn thông | N20: Thạc sỹ | O20: B1 | Q20: Khoa CNTT | R20: x | W20: x
A21: 6 | B21: 2019 | C21: CNTT | D21: 63 | E21: Đinh Bảo Ngọc | F21: 16/12/1989 | H21: Thạc sỹ | I21: Tin học ứng dụng | J21: 2019 | K21: Đào tạo ở nước ngoài | N21: Thạc sỹ | O21: B1 | Q21: Khoa CNTT | R21: x | W21: x
A22: 6 | B22: 2019 | C22: CNTT | D22: 45 | E22: Đoàn Khánh Hoàng | F22: 24/01/1981 | H22: Thạc sỹ | I22: Công nghệ thông tin | J22: 2012 | K22: Trường ĐH Bách khoa Hà nội | N22: Thạc sỹ | O22: B1 | Q22: Khoa CNTT | R22: x | W22: x
A23: 6 | B23: 2017 | C23: CNTT | D23: 65 | E23: Đỗ Anh Tuấn | F23: 14/7/1982 | H23: Thạc sỹ | I23: Công nghệ thông tin | J23: 2009 | K23: Trường ĐH Mỏ địa chất Hà nội | N23: Thạc sỹ | O23: B1 | Q23: Khoa CNTT | R23: x | W23: x
A24: 6 | B24: 2019 | C24: CNTT | D24: 65 | E24: Đỗ Anh Tuấn | H24: Thạc sỹ | I24: Công nghệ thông tin | K24: Trường ĐH Mỏ địa chất Hà nội | N24: Thạc sỹ | O24: B1 | Q24: Khoa CNTT | R24: x | W24: x
A25: 6 | B25: 2019 | C25: CNTT | D25: 18 | E25: Đỗ Như Hải | F25: 28226 | H25: Thạc sỹ | I25: Tin học | J25: 2002 | K25: Trường ĐH Khoa học tự nhiên (ĐHQGHN) | N25: Thạc sỹ | O25: B1 | Q25: Khoa CNTT | R25: x | W25: x
A26: 6 | B26: 2019 | C26: CNTT | D26: 50 | E26: Hoàng Anh Đức | F26: 17/03/1984 | H26: Thạc sỹ | I26: Tin học | J26: 2012 | K26: Đào tạo ở nước ngoài | N26: Thạc sỹ | O26: B1 | P26: Phó Trưởng Bộ môn | Q26: Khoa CNTT | R26: x | W26: x
A27: 3 | B27: 2016 | C27: CNTT | D27: 67 | E27: Hoàng Kim Bảng | F27: 17/02/1956 | H27: Thạc sỹ | I27: Công nghệ thông tin | J27: 1987 | K27: Trường ĐH Mỏ địa chất Hà nội | Q27: Khoa CNTT | R27: x | W27: x
A28: 6 | B28: 2019 | C28: CNTT | D28: 49 | E28: Hồ Thị Thảo Trang | G28: 30600 | H28: Thạc sỹ | I28: Tin học | J28: 2009 | K28: Đào tạo ở nước ngoài | N28: Thạc sỹ | O28: B1 | Q28: Khoa CNTT | R28: x | W28: x
A29: 6 | B29: 2019 | C29: CNTT | D29: 40 | E29: Lê Hồng Anh | F29: 17/10/1980 | H29: Tiến sỹ | I29: Công nghệ thông tin | J29: 2015 | K29: Trường ĐH Khoa học tự nhiên (ĐHQGHN) | N29: Tiến sỹ | O29: B1 | P29: Trưởng Khoa | Q29: Khoa CNTT | R29: x | W29: x
A30: 6 | B30: 2019 | C30: CNTT | D30: 2 | E30: Lê Thanh Huệ | G30: 15/09/1964 | H30: Phó Giáo sư/Tiến sỹ | I30: Toán Tin | J30: 2010 | K30: Trường ĐH Khoa học tự nhiên (ĐHQGHN) | N30: Tiến sỹ | O30: B4 | P30: Phó Trưởng Khoa | Q30: Khoa CNTT | R30: x | W30: x
A31: 6 | B31: 2019 | C31: CNTT | D31: 5 | E31: Lê Văn Hưng | F31: 26671 | H31: Phó Giáo sư/Tiến sỹ | I31: Công nghệ thông t in | J31: 2010 | K31: Đào tạo ở nước ngoài | N31: Tiến sỹ | O31: B4 | P31: Giám đốc Trung tâm | Q31: Khoa CNTT | R31: x | W31: x
A32: 6 | B32: 2019 | C32: CNTT | D32: 11 | E32: Nông Thị Oanh | G32: 29/10/1975 | H32: Thạc sỹ | I32: Công nghệ thông tin | J32: 2013 | K32: Trường ĐH Mỏ địa chất Hà nội | N32: Thạc sỹ | O32: B1 | Q32: Khoa CNTT | R32: x | W32: x
A33: 6 | B33: 2019 | C33: CNTT | D33: 13 | E33: Ngô Hùng Long | F33: 14/05/1976 | H33: Thạc sỹ | I33: Địa chất công trình | J33: 1999 | K33: Trường ĐH Mỏ địa chất Hà nội | N33: Thạc sỹ | O33: B1 | Q33: Khoa CNTT | R33: x | W33: x
A34: 6 | B34: 2019 | C34: CNTT | D34: 22 | E34: Ngô Thị Phương Thảo | G34: 26/06/1978 | H34: Thạc sỹ | I34: Trắc địa | J34: 2007 | K34: Trường ĐH Mỏ địa chất Hà nội | N34: Thạc sỹ | O34: B1 | Q34: Khoa CNTT | R34: x | W34: x
A35: 6 | B35: 2019 | C35: CNTT | D35: 34 | E35: Nguyễn Duy Huy | F35: 28986 | H35: Tiến sỹ | I35: Công nghệ thông tin | J35: 2017 | K35: Trường ĐH Mỏ địa chất Hà nội | N35: Tiến sỹ | O35: B1 | P35: Phó Trưởng Khoa | Q35: Khoa CNTT | R35: x | W35: x
A36: 6 | B36: 2019 | C36: CNTT | D36: 54 | E36: Nguyễn Hoàng Long | F36: 17/10/1984 | H36: Tiến sỹ | I36: Công nghệ thông tin | J36: 2019 | K36: Đào tạo ở nước ngoài | N36: Tiến sỹ | O36: B1 | P36: Phó Trưởng Bộ môn | Q36: Khoa CNTT | R36: x | W36: x
A37: 6 | B37: 2019 | C37: CNTT | D37: 19 | E37: Nguyễn Quang Khánh | F37: 25/02/1978 | H37: Tiến sỹ | I37: Trắc địa | J37: 2011 | K37: Trường ĐH Mỏ địa chất Hà nội | N37: Tiến sỹ | O37: B1 | Q37: Khoa CNTT | R37: x | W37: x
A38: 6 | B38: 2019 | C38: CNTT | D38: 14 | E38: Nguyễn Tuấn Anh | F38: 20/11/1976 | H38: Thạc sỹ | I38: Toán Tin | J38: 2000 | K38: Trường ĐH Dân lập Thăng long (HN) | N38: Thạc sỹ | O38: B1 | Q38: Khoa CNTT | R38: x | W38: x
A39: 6 | B39: 2019 | C39: CNTT | D39: 51 | E39: Nguyễn Thế Bình | F39: 30990 | H39: Thạc sỹ | I39: Kinh tế công nghiệp | J39: 2010 | K39: Trường ĐH Mỏ địa chất Hà nội | N39: Thạc sỹ | O39: B1 | Q39: Khoa CNTT | R39: x | W39: x
A40: 6 | B40: 2019 | C40: CNTT | D40: 48 | E40: Nguyễn Thế Lộc | F40: 30/06/1982 | H40: Tiến sỹ | I40: Công nghệ thông tin | J40: 2018 | K40: Đào tạo ở nước ngoài | N40: Tiến sỹ | O40: B1 | P40: Phó Trưởng phòng | Q40: Khoa CNTT | R40: x | W40: x
A41: 6 | B41: 2019 | C41: CNTT | D41: 42 | E41: Nguyễn Thị Hải Yến | G41: 22/12/1980 | H41: Thạc sỹ | I41: Địa chất công trình | J41: 2007 | K41: Trường ĐH Mỏ địa chất Hà nội | N41: Thạc sỹ | O41: B1 | P41: Phó Trưởng Bộ môn | Q41: Khoa CNTT | R41: x | W41: x
A42: 6 | B42: 2019 | C42: CNTT | D42: 57 | E42: Nguyễn Thị Hữu Phương | F42: 26/12/1985 | H42: Thạc sỹ | I42: Tin học | J42: 2012 | K42: Trường ĐH Mỏ địa chất Hà nội | N42: Thạc sỹ | O42: B1 | Q42: Khoa CNTT | R42: x | W42: x
A43: 6 | B43: 2019 | C43: CNTT | D43: 28 | E43: Nguyễn Thị Mai Dung | G43: 29165 | H43: Tiến sỹ | I43: Bản đồ, viễn thám & hệ thông tin địa lý | J43: 2008 | K43: Đào tạo ở nước ngoài | N43: Tiến sỹ | O43: B1 | P43: Phó Trưởng Khoa | Q43: Khoa CNTT | R43: x | W43: x
A44: 6 | B44: 2019 | C44: CNTT | D44: 27 | E44: Nguyễn Thị Phấn | G44: 29194 | H44: Đại học | I44: Công nghệ thông t in | J44: 2017 | K44: Viện ĐH Mở Hà nội | N44: Đại học | O44: B1 | Q44: Khoa CNTT | R44: x | W44: x
A45: 6 | B45: 2019 | C45: CNTT | D45: 38 | E45: Nguyễn Thị Phương Bắc | G45: 29224 | H45: Thạc sỹ | I45: Công nghệ thông tin | J45: 2019 | K45: Trường ĐH Bách khoa Hà nội | N45: Thạc sỹ | O45: B1 | Q45: Khoa CNTT | R45: x | W45: x
A46: 6 | B46: 2019 | C46: CNTT | D46: 59 | E46: Nguyễn Thị Thanh | G46: 14/11/1986 | H46: Thạc sỹ | I46: Tin học | J46: 2010 | K46: Trường ĐH Bách khoa Hà nội | N46: Thạc sỹ | O46: B1 | Q46: Khoa CNTT | R46: x | W46: x
A47: 6 | B47: 2019 | C47: CNTT | D47: 30 | E47: Nguyễn Thu Hằng | G47: 29168 | H47: Thạc sỹ | I47: Kinh tế | J47: 2007 | K47: Trường ĐH Kinh tế Quốc dân | N47: Thạc sỹ | O47: B1 | P47: Phó Trưởng Bộ môn | Q47: Khoa CNTT | R47: x | W47: x
A48: 6 | B48: 2019 | C48: CNTT | D48: 23 | E48: Nguyễn Thuỳ Dương | G48: 25/09/1978 | H48: Thạc sỹ | I48: Công nghệ thông tin | J48: 2010 | K48: Viện ĐH Mở Hà nội | N48: Thạc sỹ | O48: B1 | Q48: Khoa CNTT | R48: x | W48: x
A49: 6 | B49: 2019 | C49: CNTT | D49: 62 | E49: Nguyễn Trường Linh | F49: 13/10/1989 | H49: Thạc sỹ | I49: Công nghệ thông tin | J49: 2017 | K49: Trường ĐH Mỏ địa chất Hà nội | N49: Thạc sỹ | O49: B1 | Q49: Khoa CNTT | R49: x | W49: x
A50: 6 | B50: 2019 | C50: CNTT | D50: 7 | E50: Phạm An Cương | F50: 28/07/1973 | H50: Thạc sỹ | I50: Địa chất | J50: 2002 | K50: Trường ĐH Mỏ địa chất Hà nội | N50: Thạc sỹ | O50: B1 | Q50: Khoa CNTT | R50: x | W50: x
A51: 6 | B51: 2019 | C51: CNTT | D51: 43 | E51: Phạm Đình Tân | F51: 29587 | H51: Thạc sỹ | I51: Điện - điện tử | J51: 2011 | K51: Đào tạo ở nước ngoài | N51: Thạc sỹ | O51: B1 | Q51: Khoa CNTT | R51: x | W51: x
A52: 6 | B52: 2019 | C52: CNTT | D52: 3 | E52: Phạm Đức Hậu | F52: 26/10/1969 | H52: Thạc sỹ | I52: Trắc địa | J52: 1991 | K52: Trường ĐH Mỏ địa chất Hà nội | N52: Thạc sỹ | O52: B1 | Q52: Khoa CNTT | R52: x | W52: x
A53: 6 | B53: 2019 | C53: CNTT | D53: 31 | E53: Phạm Hữu Lợi | F53: 19/09/1979 | H53: Thạc sỹ | I53: Kinh tế công nghiệp | J53: 2010 | K53: Trường ĐH Mỏ địa chất Hà nội | N53: Thạc sỹ | O53: B1 | P53: Phó Trưởng phòng | Q53: Khoa CNTT | R53: x | W53: x
A54: 6 | B54: 2019 | C54: CNTT | D54: 64 | E54: Phạm Quang hiển | F54: 33122 | H54: Đại học | I54: Công nghệ thông tin | J54: 2013 | K54: Trường ĐH Mỏ địa chất Hà nội | N54: Đại học | O54: B1 | Q54: Khoa CNTT | R54: x | W54: x
A55: 6 | B55: 2019 | C55: CNTT | D55: 37 | E55: Phạm Thị Hải Vân | G55: 22/01/1980 | H55: Thạc sỹ | I55: Kế toán | J55: 2017 | K55: Học viện Tài chính Kế toán | N55: Thạc sỹ | O55: B1 | Q55: Khoa CNTT | R55: x | W55: x
A56: 6 | B56: 2019 | C56: CNTT | D56: 29 | E56: Phạm Thị Nguyệt | G56: 28983 | H56: Thạc sỹ | I56: Kinh tế mỏ | J56: 2006 | K56: Trường ĐH Mỏ địa chất Hà nội | N56: Thạc sỹ | O56: B1 | Q56: Khoa CNTT | R56: x | W56: x
A57: 6 | B57: 2019 | C57: CNTT | D57: 46 | E57: Phạm Văn Đồng | F57: 19/03/1982 | H57: Thạc sỹ | I57: Công nghệ thông tin | J57: 2010 | K57: Trường ĐH Bách khoa Hà nội | N57: Thạc sỹ | O57: B1 | Q57: Khoa CNTT | R57: x | W57: x
A58: 6 | B58: 2019 | C58: CNTT | D58: 15 | E58: Tạ Quang Chiểu | F58: 13/05/1977 | H58: Tiến sỹ | I58: Công nghệ thông tin | J58: 2016 | K58: Đào tạo ở nước ngoài | N58: Tiến sỹ | O58: B1 | P58: Trưởng Bộ môn | Q58: Khoa CNTT | R58: x | W58: x
A59: 6 | B59: 2019 | C59: CNTT | D59: 41 | E59: Trần Mai Hương | G59: 29292 | H59: Thạc sỹ | I59: Bản đồ, viễn thám và hệ thông tin địa lý | J59: 2012 | K59: Trường ĐH Mỏ địa chất Hà nội | N59: Thạc sỹ | O59: B1 | Q59: Khoa CNTT | R59: x | W59: x
A60: 6 | B60: 2019 | C60: CNTT | D60: 36 | E60: Trần Thị Hải Vân | G60: 22/11/1979 | H60: Thạc sỹ | I60: Công nghệ thông tin | J60: 2014 | K60: Học viện Kỹ thuật quân sự | N60: Thạc sỹ | O60: B1 | Q60: Khoa CNTT | R60: x | W60: x
A61: 6 | B61: 2019 | C61: CNTT | D61: 20 | E61: Trần Thị Như Hoa | G61: 27/02/1978 | H61: Thạc sỹ | I61: Tin học | J61: 2017 | K61: Trường ĐH Mỏ địa chất Hà nội | N61: Thạc sỹ | O61: B1 | Q61: Khoa CNTT | R61: x | W61: x
A62: 6 | B62: 2019 | C62: CNTT | D62: 44 | E62: Trần Thị Thu Thuý | G62: 14/01/1981 | H62: Thạc sỹ | I62: Điện tử viễn thông | J62: 2007 | K62: Trường ĐH Bách khoa Hà nội | N62: Thạc sỹ | O62: B1 | P62: Phó Trưởng Bộ môn | Q62: Khoa CNTT | R62: x | W62: x
A63: 6 | B63: 2019 | C63: CNTT | D63: 16 | E63: Trần Trung Chuyên | F63: 19/10/1977 | H63: Tiến sỹ | I63: Kỹ thuật trắc địa | J63: 2018 | K63: Trường ĐH Mỏ địa chất Hà nội | N63: Tiến sỹ | O63: B1 | Q63: Khoa CNTT | R63: x | W63: x
A64: 6 | B64: 2019 | C64: CNTT | D64: 55 | E64: Trần Trường Giang | F64: 18/01/1985 | H64: Thạc sỹ | I64: Khoa học địa thông tin và quan sát trái đất | J64: 2012 | K64: Đào tạo ở nước ngoài | N64: Thạc sỹ | O64: B1 | Q64: Khoa CNTT | R64: x | W64: x
A65: 6 | B65: 2019 | C65: CNTT | D65: 52 | E65: Trương Xuân Bình | F65: 15/05/1984 | H65: Thạc sỹ | I65: Công nghệ thông tin | J65: 2015 | K65: Học viện Kỹ thuật quân sự | N65: Thạc sỹ | O65: B1 | Q65: Khoa CNTT | R65: x | W65: x
A66: 6 | B66: 2019 | C66: CNTT | D66: 1 | E66: Trương Xuân Luận | F66: 20/05/1950 | H66: Giáo sư/Tiến sỹ | I66: Địa chất khoáng sản và thăm dò | J66: 1992 | K66: Trường ĐH Mỏ địa chất Hà nội | N66: Tiến sỹ | O66: B4 | P66: Trưởng Bộ môn | Q66: Khoa CNTT | R66: x | W66: x
A67: 6 | B67: 2019 | C67: CNTT | D67: 26 | E67: Võ Thị Thu Trang | G67: 15/01/1979 | H67: Thạc sỹ | I67: Kinh tế | J67: 2001 | K67: Trường ĐH Kinh tế Quốc dân | N67: Thạc sỹ | O67: B1 | Q67: Khoa CNTT | R67: x | W67: x
A68: 6 | B68: 2019 | C68: CNTT | D68: 33 | E68: Vũ Lan Phương | F68: 30/10/1979 | H68: Thạc sỹ | I68: Công nghệ thông tin | J68: 2007 | K68: Trường ĐH Bách khoa Hà nội | N68: Thạc sỹ | O68: B1 | Q68: Khoa CNTT | R68: x | W68: x
A69: 6 | B69: 2019 | C69: CNTT | D69: 32 | E69: Vũ Thị Kim Liên | G69: 19/09/1979 | H69: Thạc sỹ | I69: Kinh tế công nghiệp | J69: 2009 | K69: Trường ĐH Mỏ địa chất Hà nội | N69: Thạc sỹ | O69: B1 | Q69: Khoa CNTT | R69: x | W69: x
A70: 6 | B70: 2019 | C70: CNTT | D70: 24 | E70: Vương Thị Như Quỳnh | G70: 20/10/1978 | H70: Thạc sỹ | I70: Công nghệ thông tin | J70: 2002 | K70: Trường ĐH Vinh | N70: Thạc sỹ | O70: B1 | Q70: Khoa CNTT | R70: x | W70: x
A71: 6 | B71: 2019 | C71: Dau Khi | D71: 37 | E71: Bùi Thanh Bình | F71: 28/08/1985 | H71: Tiến sỹ | I71: 2016 | J71: Đào tạo ở nước ngoài | K71: Kỹ thuật dầu khí | N71: Trình độ B | O71: Trình độ B1 | Q71: Khoa Dầu khí | R71: x | W71: x
A72: 6 | B72: 2019 | C72: Dau Khi | D72: 6 | E72: Bùi Thị Lệ Thuỷ | G72: 29/08/1971 | H72: Phó Giáo sư/Tiến sỹ | I72: 2007 | J72: Đào tạo ở nước ngoài | K72: Công nghệ hóa học | N72: Trình độ B | O72: Trình độ B1 | Q72: Khoa Dầu khí | R72: x | W72: x
A73: 6 | B73: 2019 | C73: Dau Khi | D73: 50 | E73: Bùi Thị Ngân | G73: 32153 | H73: Thạc sỹ | I73: 2013 | J73: Đào tạo ở nước ngoài | K73: Địa chất dầu khí | N73: Trình độ B | O73: Trình độ B1 | Q73: Khoa Dầu khí | R73: x | W73: x
A74: 6 | B74: 2019 | C74: Dau Khi | D74: 15 | E74: Công Ngọc Thắng | F74: 24/10/1975 | H74: Tiến sỹ | I74: 2009 | J74: Đào tạo ở nước ngoài | K74: Công nghệ hoá dầu và lọc dầu | N74: Trình độ B | O74: Trình độ B1 | P74: Chánh Văn phòng | Q74: Khoa Dầu khí | R74: x | W74: x
A75: 6 | B75: 2019 | C75: Dau Khi | D75: 36 | E75: Doãn Thị Trâm | G75: 16/11/1984 | H75: Thạc sỹ | I75: 2010 | J75: Trường ĐH Mỏ địa chất Hà nội | K75: Công nghệ khoan - khai thác dầu khí | N75: Trình độ B | O75: Trình độ B1 | Q75: Khoa Dầu khí | R75: x | W75: x
A76: 6 | B76: 2019 | C76: Dau Khi | D76: 38 | E76: Dương Văn Hào | F76: 31594 | H76: Tiến sỹ | I76: 2018 | J76: Đào tạo ở nước ngoài | K76: Địa vật lý | N76: Trình độ B | O76: Trình độ B1 | Q76: Khoa Dầu khí | R76: x | W76: x
A77: 6 | B77: 2019 | C77: Dau Khi | D77: 27 | E77: Dương Viết Cường | F77: 21/04/1980 | H77: Tiến sỹ | I77: 2010 | J77: Trường ĐH Mỏ địa chất Hà nội | K77: Lọc hóa dầu | N77: Trình độ B | O77: Trình độ B1 | Q77: Khoa Dầu khí | R77: x | W77: x
A78: 6 | B78: 2019 | C78: Dau Khi | D78: 32 | E78: Đào Thị Uyên | G78: 25/03/1984 | H78: Thạc sỹ | I78: 2010 | J78: Trường ĐH Mỏ địa chất Hà nội | K78: Máy và thiết bị khai thác dầu khí | N78: Trình độ B | O78: Trình độ B1 | Q78: Khoa Dầu khí | R78: x | W78: x
A79: 6 | B79: 2019 | C79: Dau Khi | D79: 39 | E79: Đoàn Văn Huấn | F79: 20/03/1986 | H79: Tiến sỹ | I79: 2019 | J79: Đào tạo ở nước ngoài | K79: Lọc hoá dầu | N79: Trình độ B | O79: Trình độ B1 | Q79: Khoa Dầu khí | R79: x | W79: x
A80: 6 | B80: 2019 | C80: Dau Khi | D80: 19 | E80: Đỗ Thành Sỹ | F80: 28104 | G80: 28136 | H80: Tiến sỹ | I80: 2003 | J80: Trường ĐH Mỏ địa chất Hà nội | K80: Kỹ thuật dầu khí | N80: Trình độ B | O80: Trình độ B1 | Q80: Khoa Dầu khí | R80: x | W80: x
A81: 6 | B81: 2019 | C81: Dau Khi | D81: 16 | E81: Hoàng Anh Dũng | F81: 31/12/1975 | H81: Tiến sỹ | I81: 2012 | J81: Đào tạo ở nước ngoài | K81: Kỹ thuật dầu khí | N81: Trình độ B | O81: Trình độ B1 | P81: Chánh Văn phòng | Q81: Khoa Dầu khí | R81: x | W81: x
A82: 6 | B82: 2019 | C82: Dau Khi | D82: 42 | E82: Hồ Văn Sơn | F82: 31452 | H82: Thạc sỹ | I82: 2014 | J82: Trường Đại học Bách khoa HN | K82: Công nghệ Hoá dầu | N82: Trình độ B | O82: Trình độ B1 | Q82: Khoa Dầu khí | R82: x | W82: x
A83: 6 | B83: 2019 | C83: Dau Khi | D83: 25 | E83: Kiều Duy Thông | F83: 20/09/1979 | H83: Tiến sỹ | I83: 2018 | J83: Đào tạo ở nước ngoài | K83: Địa vật lý thăm dò | N83: Trình độ B | O83: Trình độ B1 | Q83: Khoa Dầu khí | R83: x | W83: x
A84: 2 | B84: 2015 | C84: Dau Khi | D84: 59 | E84: Lê Đình Chiển | F84: 1980 | H84: Tiến sĩ | I84: 2012 | J84: Đào tạo ở nước ngoài | K84: Công nghệ Hoá dầu | N84: Trình độ B | O84: Trình độ B1 | Q84: Khoa Dầu khí | R84: x | W84: x
A85: 6 | B85: 2019 | C85: Dau Khi | D85: 8 | E85: Lê Đức Vinh | F85: 30/01/1972 | H85: Tiến sỹ | I85: 2016 | J85: Trường ĐH Mỏ địa chất Hà nội | K85: Kỹ thuật dầu khí | N85: Trình độ B | O85: Trình độ B1 | P85: Giám đốc Trung tâm | Q85: Khoa Dầu khí | R85: x | W85: x
A86: 6 | B86: 2019 | C86: Dau Khi | D86: 22 | E86: Lê Ngọc ánh | G86: 28218 | H86: Tiến sỹ | I86: 2012 | J86: Đào tạo ở nước ngoài | K86: Địa chất dầu khí | N86: Trình độ B | O86: Trình độ B1 | P86: Phó Trưởng Bộ môn | Q86: Khoa Dầu khí | R86: x | W86: x
A87: 6 | B87: 2019 | C87: Dau Khi | D87: 29 | E87: Lê Quang Duyến | F87: 20/10/1980 | H87: Tiến sỹ | I87: 2014 | J87: Đào tạo ở nước ngoài | K87: Kỹ thuật dầu khí | N87: Trình độ B | O87: Trình độ B1 | P87: Phó Trưởng Khoa | Q87: Khoa Dầu khí | R87: x | W87: x
A88: 2 | B88: 2015 | C88: Dau Khi | D88: 58 | E88: Lê văn Bình | F88: 1949 | H88: Thạc sĩ | I88: 2006 | J88: Trường ĐH Mỏ địa chất Hà nội | K88: Kỹ thuật dầu khí | N88: Trình độ B | O88: Trình độ B1 | Q88: Khoa Dầu khí | R88: x | W88: x
A89: 6 | B89: 2019 | C89: Dau Khi | D89: 3 | E89: Lê Văn Nam | F89: 20/10/1965 | H89: Thạc sỹ | I89: 2007 | J89: Trường ĐH Mỏ địa chất Hà nội | K89: Công nghệ khoan - khai thác dầu khí | N89: Trình độ B | O89: Trình độ B1 | Q89: Khoa Dầu khí | R89: x | W89: x
A90: 6 | B90: 2019 | C90: Dau Khi | D90: 35 | E90: Ngô Hà Sơn | F90: 31/10/1984 | H90: Tiến sỹ | I90: 2018 | J90: Đào tạo ở nước ngoài | K90: Lọc hoá dầu | N90: Trình độ B | O90: Trình độ B1 | P90: Phó Trưởng Bộ môn | Q90: Khoa Dầu khí | R90: x | W90: x
A91: 6 | B91: 2019 | C91: Dau Khi | D91: 21 | E91: Ngô Thanh Hải | F91: 21/12/1976 | H91: Tiến sỹ | I91: 2013 | J91: Đào tạo ở nước ngoài | K91: Công nghệ hóa học | N91: Trình độ B | O91: Trình độ B1 | Q91: Khoa Dầu khí | R91: x | W91: x
A92: 5 | B92: 2018 | C92: Dau Khi | D92: 57 | E92: Nguyễn Anh Dũng | F92: 31/7/1979 | H92: Tiến sỹ | I92: 2012 | J92: Đào tạo ở nước ngoài | K92: Công nghệ Hoá dầu | N92: Trình độ B | O92: Trình độ B1 | P92: Trưởng phòng | Q92: Khoa Dầu khí | W92: x
A93: 6 | B93: 2019 | C93: Dau Khi | D93: 33 | E93: Nguyễn Duy Mười | F93: 22/04/1984 | H93: Thạc sỹ | I93: 2012 | J93: Trường ĐH Khoa học tự nhiên (ĐHQGHN) | K93: Địa chất | N93: Trình độ B | O93: Trình độ B1 | Q93: Khoa Dầu khí | R93: x | W93: x
A94: 6 | B94: 2019 | C94: Dau Khi | D94: 46 | E94: Nguyễn Khắc Long | F94: 32119 | H94: Tiến sỹ | I94: 2019 | J94: Đào tạo ở nước ngoài | K94: Công nghệ khoan - khai thác và công nghệ dầu khí | N94: Trình độ B | O94: Trình độ B1 | P94: Phó GĐ Trung tâm | Q94: Khoa Dầu khí | R94: x | W94: x
A95: 6 | B95: 2019 | C95: Dau Khi | D95: 30 | E95: Nguyễn Mai Hà | G95: 30231 | H95: Đại học | I95: 2005 | J95: Trường ĐH Mỏ địa chất Hà nội | K95: Tuyển khoáng | N95: Trình độ B | O95: Trình độ B1 | Q95: Khoa Dầu khí | R95: x | W95: x
A96: 6 | B96: 2019 | C96: Dau Khi | D96: 49 | E96: Nguyễn Minh Hòa | F96: 28/09/1988 | H96: Tiến sỹ | I96: 2018 | J96: Trường ĐH Mỏ địa chất Hà nội | K96: Địa chất học th.dò mỏ dầu, mỏ khí đốt | N96: Trình độ B | O96: Trình độ B1 | Q96: Khoa Dầu khí | R96: x | W96: x
A97: 6 | B97: 2019 | C97: Dau Khi | D97: 28 | E97: Nguyễn Phùng Hưng | F97: 29347 | H97: Thạc sỹ | I97: 2008 | J97: Trường ĐH Mỏ địa chất Hà nội | K97: Công trình dầu khí ngoài biển | N97: Trình độ B | O97: Trình độ B1 | Q97: Khoa Dầu khí | R97: x | W97: x
A98: 6 | B98: 2019 | C98: Dau Khi | D98: 41 | E98: Nguyễn Tiến Hùng | F98: 19/06/1986 | H98: Tiến sỹ | I98: 2017 | J98: Đào tạo ở nước ngoài | K98: Công nghệ khoan - khai thác và công nghệ dầu khí | N98: Trình độ B | O98: Trình độ B1 | P98: Phó Trưởng Bộ môn | Q98: Khoa Dầu khí | R98: x | W98: x
A99: 6 | B99: 2019 | C99: Dau Khi | D99: 44 | E99: Nguyễn Thanh Tuấn | G99: 30/09/1986 | H99: Thạc sỹ | I99: 2012 | J99: Trường ĐH Mỏ địa chất Hà nội | K99: Máy và thiết bị khai thác dầu khí | N99: Trình độ B | O99: Trình độ B1 | Q99: Khoa Dầu khí | R99: x | W99: x
A100: 6 | B100: 2019 | C100: Dau Khi | D100: 9 | E100: Nguyễn Thế Vinh | F100: 31/07/1972 | H100: Phó Giáo sư/Tiến sỹ | I100: 2011 | J100: Trường ĐH Mỏ địa chất Hà nội | K100: Công nghệ khoan và hoàn thiện giếng dầu khí | N100: Trình độ B | O100: Trình độ B1 | P100: Trưởng Khoa | Q100: Khoa Dầu khí | R100: x | W100: x
...

Sheet B2. Thong ke GV
A2: Bảng 2. Thống kê đội ngũ giảng viên
A4: Phân loại | B4: Nam | C4: Nữ | D4: Tổng cộng | F4: Tỉ lệ % trên tổng số Tiến sĩ
D5: Số lượng | E5: FTE
A6: Giáo sư
A7: Phó Giáo sư
A8: Giảng viên toàn thời gian
A9: Giảng viên bán thời gian
A10: Giảng viên thỉnh giảng
A11: Tổng cộng

Sheet B3. Trinh do GV
A2: Bảng 3. Thống kê trình độ của đội ngũ giảng viên theo năm học
A4: Năm học | B4: Tổng cộng | C4: Giáo sư | D4: Phó Giáo sư | E4: Tiến sĩ | F4: Thạc sĩ | G4: Đại học
A5: 2013-2014
A6: 2014-2015
A7: 2015-2016
A8: 2016-2017
A9: 2017-2018
