Workbook
Name Khoa_: Sheet5!$O$1:$O$7

Sheet B1. Trichngang GV
A1: CƠ QUAN CHỦ QUẢN
A2: TRƯỜNG ………..
A4: DANH SÁCH TRÍCH NGANG ĐỘI NGŨ GIẢNG VIÊN THAM GIA THỰC HIỆN CHƯƠNG TRÌNH ĐÀO TẠO ………
A6: TT | B6: Họ và tên | C6: Ngày tháng năm sinh | E6: Trình độ chuyên môn | I6: Trình độ nghiệp vụ | N6: Chức vụ (từ Phó trưởng BM trở lên) | O6: Đơn vị công tác | P6: Phân loại giảng viên* | U6: Thời gian tham gia CTĐT | V6: Học phần giảng dạy trong CTĐT | W6: Số giờ thực tế/năm học | X6: Nhiệm vụ khác được phân công/kiêm nhiệm* | Y6: Số đề tài NCKH/bài báo KH/ấn phẩm KH ... trong 5 năm qua** | Z6: Các khóa BD về NVSP đã tham dự trong giai đoạn đánh giá** | AA6: Ghi chú
C7: Nam | D7: Nữ | E7: Học hàm/ học vị | F7: Chuyên ngành TN | G7: Năm TN | H7: Nơi TN | I7: NVSP | J7: QLNN | K7: LLCT | L7: Tin học | M7: Ngoại ngữ | P7: Biên chế | Q7: HĐ dài hạn | R7: Kiêm nhiệm | S7: Thỉnh giảng | T7: Quốc tế
A8: 1 | B8: 2 | C8: 3 | D8: 4 | E8: 5 | F8: 6 | G8: 7 | H8: 8 | I8: 9 | J8: 10 | K8: 11 | L8: 12 | M8: 13 | N8: 14 | O8: 15 | P8: 16 | Q8: 17 | R8: 18 | S8: 19 | T8: 20 | U8: 21 | V8: 22 | Z8: 29 | AA8: 30
A9: 1 | B9: Trần Thị Hòa | D9: 32056 | E9: Tiến sỹ | F9: Bản đồ | G9: 2019 | H9: Đào tạo ở nước ngoài | I9: x | L9: Tiến sỹ | M9: B1 | O9: Khoa CNTT | P9: x | W9: =SUMIF(Sheet6!A:A,B9&O9,Sheet6!I:I) -> 0
A10: 2 | B10: Bùi Thế Vinh | C10: 29109 | E10: Tiến sỹ | F10: Công nghệ thông tin | G10: 2016 | H10: Đào tạo ở nước ngoài | I10: x | L10: Tiến sỹ | M10: B1 | O10: Khoa CNTT | P10: x | W10: =SUMIF(Sheet6!A:A,B10&O10,Sheet6!I:I) -> 0
A11: 3 | B11: Bùi Thị ánh Nguyệt | D11: 24/01/1975 | E11: Thạc sỹ | F11: Công nghệ thông t in | G11: 2017 | H11: Viện ĐH Mở Hà nội | I11: x | L11: Thạc sỹ | M11: B1 | O11: Khoa CNTT | P11: x | W11: =SUMIF(Sheet6!A:A,B11&O11,Sheet6!I:I) -> 163.58
A12: 4 | B12: Bùi Thị Vân Anh | D12: 26730 | E12: Thạc sỹ | F12: Công nghệ thông tin | G12: 2006 | H12: Học viện Kỹ thuật quân sự | I12: x | L12: Thạc sỹ | M12: B1 | O12: Khoa CNTT | P12: x | W12: =SUMIF(Sheet6!A:A,B12&O12,Sheet6!I:I) -> 1680.76
A13: 5 | B13: Cảnh Chí Thanh | C13: 30/12/1955 | E13: Thạc sỹ | F13: Công nghệ thông tin | G13: 1985 | H13: Trường ĐH Mỏ địa chất Hà nội | I13: x | O13: Khoa CNTT | P13: x | W13: =SUMIF(Sheet6!A:A,B13&O13,Sheet6!I:I) -> 0
A14: 6 | B14: Diêm Công Hoàng | C14: 18/04/1982 | E14: Tiến sỹ | F14: Kỹ thuật truyền thông và tin học | G14: 2016 | H14: Đào tạo ở nước ngoài | I14: x | L14: Tiến sỹ | M14: B1 | N14: Phó GĐ Trung tâm | O14: Khoa CNTT | P14: x | W14: =SUMIF(Sheet6!A:A,B14&O14,Sheet6!I:I) -> 1501.38
A15: 7 | B15: Diêm Thị Thuỳ | D15: 24/10/1977 | E15: Thạc sỹ | F15: Bản đồ, viễn thám và hệ thông tin địa lý | G15: 2001 | H15: Trường ĐH Mỏ địa chất Hà nội | I15: x | L15: Thạc sỹ | M15: B1 | O15: Khoa CNTT | P15: x | W15: =SUMIF(Sheet6!A:A,B15&O15,Sheet6!I:I) -> 193.63
A16: 8 | B16: Dương Chí Thiện | C16: 27944 | E16: Thạc sỹ | F16: Công nghệ thông tin | G16: 2006 | H16: Trường ĐH Khoa học tự nhiên (ĐHQGHN) | I16: x | L16: Thạc sỹ | M16: B1 | O16: Khoa CNTT | P16: x | W16: =SUMIF(Sheet6!A:A,B16&O16,Sheet6!I:I) -> 1160.04
A17: 9 | B17: Dương Thị Hiền Thanh | D17: 22/05/1978 | E17: Tiến sỹ | F17: Công nghệ thông tin | G17: 2019 | H17: Trường ĐH Bách khoa Hà nội | I17: x | L17: Tiến sỹ | M17: B1 | N17: Trưởng Bộ môn | O17: Khoa CNTT | P17: x | W17: =SUMIF(Sheet6!A:A,B17&O17,Sheet6!I:I) -> 1117.2
A18: 10 | B18: Dương Thị Tâm | D18: 27008 | E18: Thạc sỹ | F18: Địa chất công trình | G18: 2003 | H18: Trường ĐH Mỏ địa chất Hà nội | I18: x | L18: Thạc sỹ | M18: B1 | O18: Khoa CNTT | P18: x | W18: =SUMIF(Sheet6!A:A,B18&O18,Sheet6!I:I) -> 205.1
A19: 11 | B19: Đào Anh Thư | D19: 29316 | E19: Thạc sỹ | F19: Hệ thống thông tin | G19: 2014 | H19: Trường ĐH Bách khoa Hà nội | I19: x | L19: Thạc sỹ | M19: B1 | O19: Khoa CNTT | P19: x | W19: =SUMIF(Sheet6!A:A,B19&O19,Sheet6!I:I) -> 1083.15
A20: 12 | B20: Đào THị Hồng Thắm | D20: 14/02/1986 | E20: Thạc sỹ | F20: Bản đồ, viễn thám và hệ thông tin địa lý | G20: 2018 | H20: Trường ĐH Mỏ địa chất Hà nội | I20: x | L20: Thạc sỹ | M20: B1 | O20: Khoa CNTT | P20: x | W20: =SUMIF(Sheet6!A:A,B20&O20,Sheet6!I:I) -> 0
A21: 13 | B21: Đào Thị Tuyết | D21: 27090 | E21: Thạc sỹ | F21: Công nghệ thông t in | G21: 2019 | H21: Trường ĐH Mỏ địa chất Hà nội | I21: x | L21: Thạc sỹ | M21: B1 | O21: Khoa CNTT | P21: x | W21: =SUMIF(Sheet6!A:A,B21&O21,Sheet6!I:I) -> 249
A22: 14 | B22: Đào Thị Thu Vân | D22: 18/11/1978 | E22: Tiến sỹ | F22: Quản lý giáo dục | G22: 2014 | H22: Đào tạo ở nước ngoài | I22: x | L22: Tiến sỹ | M22: B1 | N22: Phó Trưởng Bộ môn | O22: Khoa CNTT | P22: x | W22: =SUMIF(Sheet6!A:A,B22&O22,Sheet6!I:I) -> 1035.1
A23: 15 | B23: Đặng Hữu Nghị | C23: 19/10/1972 | E23: Thạc sỹ | F23: Tin học | G23: 2005 | H23: Trường ĐH Bách khoa Hà nội | I23: x | L23: Thạc sỹ | M23: B1 | O23: Khoa CNTT | P23: x | W23: =SUMIF(Sheet6!A:A,B23&O23,Sheet6!I:I) -> 1377
A24: 16 | B24: Đặng Quốc Trung | C24: 32600 | E24: Đại học | F24: Công nghệ thông tin | G24: 2011 | H24: Trường ĐH Mỏ địa chất Hà nội | I24: x | L24: Đại học | M24: B1 | O24: Khoa CNTT | P24: x | W24: =SUMIF(Sheet6!A:A,B24&O24,Sheet6!I:I) -> 1451.46
A25: 17 | B25: Đặng Văn Nam | C25: 31055 | E25: Thạc sỹ | F25: Hệ thống thông tin | G25: 2012 | H25: Đại học Công nghệ - Đại học Quốc gia Hà Nội | I25: x | L25: Thạc sỹ | M25: B1 | N25: Phó Trưởng Bộ môn | O25: Khoa CNTT | P25: x | W25: =SUMIF(Sheet6!A:A,B25&O25,Sheet6!I:I) -> 1590.5
A26: 18 | B26: Đặng Xuân Điệp | C26: 30933 | E26: Thạc sỹ | F26: Hệ thống thông tin | G26: 2013 | H26: Học viện CN Bưu chính Viễn thông | I26: x | L26: Thạc sỹ | M26: B1 | O26: Khoa CNTT | P26: x | W26: =SUMIF(Sheet6!A:A,B26&O26,Sheet6!I:I) -> 1096.99
A27: 19 | B27: Đinh Bảo Ngọc | C27: 16/12/1989 | E27: Thạc sỹ | F27: Tin học ứng dụng | G27: 2019 | H27: Đào tạo ở nước ngoài | I27: x | L27: Thạc sỹ | M27: B1 | O27: Khoa CNTT | P27: x | W27: =SUMIF(Sheet6!A:A,B27&O27,Sheet6!I:I) -> 131.42
A28: 20 | B28: Đoàn Khánh Hoàng | C28: 24/01/1981 | E28: Thạc sỹ | F28: Công nghệ thông tin | G28: 2012 | H28: Trường ĐH Bách khoa Hà nội | I28: x | L28: Thạc sỹ | M28: B1 | O28: Khoa CNTT | P28: x | W28: =SUMIF(Sheet6!A:A,B28&O28,Sheet6!I:I) -> 0
A29: 21 | B29: Đỗ Anh Tuấn | C29: 14/7/1982 | E29: Thạc sỹ | F29: Công nghệ thông tin | G29: 2009 | H29: Trường ĐH Mỏ địa chất Hà nội | I29: x | L29: Thạc sỹ | M29: B1 | O29: Khoa CNTT | P29: x | W29: =SUMIF(Sheet6!A:A,B29&O29,Sheet6!I:I) -> 622.18
A30: 22 | B30: Đỗ Như Hải | C30: 28226 | E30: Thạc sỹ | F30: Tin học | G30: 2002 | H30: Trường ĐH Khoa học tự nhiên (ĐHQGHN) | I30: x | L30: Thạc sỹ | M30: B1 | O30: Khoa CNTT | P30: x | W30: =SUMIF(Sheet6!A:A,B30&O30,Sheet6!I:I) -> 1216.03
A31: 23 | B31: Hoàng Anh Đức | C31: 17/03/1984 | E31: Thạc sỹ | F31: Tin học | G31: 2012 | H31: Đào tạo ở nước ngoài | I31: x | L31: Thạc sỹ | M31: B1 | N31: Phó Trưởng Bộ môn | O31: Khoa CNTT | P31: x | W31: =SUMIF(Sheet6!A:A,B31&O31,Sheet6!I:I) -> 3140.91
A32: 24 | B32: Hoàng Kim Bảng | C32: 17/02/1956 | E32: Thạc sỹ | F32: Công nghệ thông tin | G32: 1987 | H32: Trường ĐH Mỏ địa chất Hà nội | I32: x | O32: Khoa CNTT | P32: x | W32: =SUMIF(Sheet6!A:A,B32&O32,Sheet6!I:I) -> 0
A33: 25 | B33: Hồ Thị Thảo Trang | D33: 30600 | E33: Thạc sỹ | F33: Tin học | G33: 2009 | H33: Đào tạo ở nước ngoài | I33: x | L33: Thạc sỹ | M33: B1 | O33: Khoa CNTT | P33: x | W33: =SUMIF(Sheet6!A:A,B33&O33,Sheet6!I:I) -> 898.41
A34: 26 | B34: Lê Hồng Anh | C34: 17/10/1980 | E34: Tiến sỹ | F34: Công nghệ thông tin | G34: 2015 | H34: Trường ĐH Khoa học tự nhiên (ĐHQGHN) | I34: x | L34: Tiến sỹ | M34: B1 | N34: Trưởng Khoa | O34: Khoa CNTT | P34: x | W34: =SUMIF(Sheet6!A:A,B34&O34,Sheet6!I:I) -> 1058.44
A35: 27 | B35: Lê Thanh Huệ | D35: 15/09/1964 | E35: Phó Giáo sư/Tiến sỹ | F35: Toán Tin | G35: 2010 | H35: Trường ĐH Khoa học tự nhiên (ĐHQGHN) | I35: x | L35: Tiến sỹ | M35: B4 | N35: Phó Trưởng Khoa | O35: Khoa CNTT | P35: x | W35: =SUMIF(Sheet6!A:A,B35&O35,Sheet6!I:I) -> 1259.69
A36: 28 | B36: Lê Văn Hưng | C36: 26671 | E36: Phó Giáo sư/Tiến sỹ | F36: Công nghệ thông t in | G36: 2010 | H36: Đào tạo ở nước ngoài | I36: x | L36: Tiến sỹ | M36: B4 | N36: Giám đốc Trung tâm | O36: Khoa CNTT | P36: x | W36: =SUMIF(Sheet6!A:A,B36&O36,Sheet6!I:I) -> 2171.41
A37: 29 | B37: Nông Thị Oanh | D37: 29/10/1975 | E37: Thạc sỹ | F37: Công nghệ thông tin | G37: 2013 | H37: Trường ĐH Mỏ địa chất Hà nội | I37: x | L37: Thạc sỹ | M37: B1 | O37: Khoa CNTT | P37: x | W37: =SUMIF(Sheet6!A:A,B37&O37,Sheet6!I:I) -> 1004.4
A38: 30 | B38: Ngô Hùng Long | C38: 14/05/1976 | E38: Thạc sỹ | F38: Địa chất công trình | G38: 1999 | H38: Trường ĐH Mỏ địa chất Hà nội | I38: x | L38: Thạc sỹ | M38: B1 | O38: Khoa CNTT | P38: x | W38: =SUMIF(Sheet6!A:A,B38&O38,Sheet6!I:I) -> 265.83
A39: 31 | B39: Ngô Thị Phương Thảo | D39: 26/06/1978 | E39: Thạc sỹ | F39: Trắc địa | G39: 2007 | H39: Trường ĐH Mỏ địa chất Hà nội | I39: x | L39: Thạc sỹ | M39: B1 | O39: Khoa CNTT | P39: x | W39: =SUMIF(Sheet6!A:A,B39&O39,Sheet6!I:I) -> 458.06
A40: 32 | B40: Nguyễn Duy Huy | C40: 28986 | E40: Tiến sỹ | F40: Công nghệ thông tin | G40: 2017 | H40: Trường ĐH Mỏ địa chất Hà nội | I40: x | L40: Tiến sỹ | M40: B1 | N40: Phó Trưởng Khoa | O40: Khoa CNTT | P40: x | W40: =SUMIF(Sheet6!A:A,B40&O40,Sheet6!I:I) -> 1023.28
A41: 33 | B41: Nguyễn Hoàng Long | C41: 17/10/1984 | E41: Tiến sỹ | F41: Công nghệ thông tin | G41: 2019 | H41: Đào tạo ở nước ngoài | I41: x | L41: Tiến sỹ | M41: B1 | N41: Phó Trưởng Bộ môn | O41: Khoa CNTT | P41: x | W41: =SUMIF(Sheet6!A:A,B41&O41,Sheet6!I:I) -> 220.88
A42: 34 | B42: Nguyễn Quang Khánh | C42: 25/02/1978 | E42: Tiến sỹ | F42: Trắc địa | G42: 2011 | H42: Trường ĐH Mỏ địa chất Hà nội | I42: x | L42: Tiến sỹ | M42: B1 | O42: Khoa CNTT | P42: x | W42: =SUMIF(Sheet6!A:A,B42&O42,Sheet6!I:I) -> 799.7
...

Sheet Sheet5
O1: Khoa CNTT
M2: Bản đồ | N2: Khoa Trắc địa - bản đồ và Quản lý đất đai | O2: Khoa Dầu khí
M3: Công nghệ phần mềm | N3: Khoa CNTT | O3: Khoa Mỏ
A4: 2014-2015 | B4: Nguyễn Minh Mẫn | C4: =VLOOKUP(D4,$M$2:$N$97,2,0) -> Khong tinh | D4: Toán | E4: 0101-01 | F4: PGS | G4: 651.7 | M4: Cơ lý thuyết | N4: Khong tinh | O4: Khoa Môi Trường
A5: 2014-2015 | B5: Tô Văn Đinh | C5: =VLOOKUP(D5,$M$2:$N$97,2,0) -> Khong tinh | D5: Toán | E5: 0101-03 | F5: GVC | G5: 1370.2 | M5: Chính trị | N5: Khong tinh | O5: Khoa Trắc địa - bản đồ và Quản lý đất đai
A6: 2014-2015 | B6: Nguyễn Văn Ngọc | C6: =VLOOKUP(D6,$M$2:$N$97,2,0) -> Khong tinh | D6: Toán | E6: 0101-04 | F6: GVC | G6: 750.3 | M6: Địa chất | N6: Khong tinh | O6: Khoa Xây dựng
A7: 2014-2015 | B7: Nguyễn Thị Hằng | C7: =VLOOKUP(D7,$M$2:$N$97,2,0) -> Khong tinh | D7: Toán | E7: 0101-09 | F7: GVC | G7: 1032.34 | M7: Địa chất công trình | N7: Khong tinh | O7: Khong tinh
A8: 2014-2015 | B8: Đào Xuân Hưng | C8: =VLOOKUP(D8,$M$2:$N$97,2,0) -> Khong tinh | D8: Toán | E8: 0101-10 | F8: GV | G8: 758.8 | M8: Địa chất dầu | N8: Khoa Dầu khí
A9: 2014-2015 | B9: Nguyễn Trường Thanh | C9: =VLOOKUP(D9,$M$2:$N$97,2,0) -> Khong tinh | D9: Toán | E9: 0101-11 | F9: GV | G9: 718.2 | M9: Địa chất dầu khí | N9: Khoa Dầu khí
A10: 2014-2015 | B10: Nguyễn Thị Lan Hương | C10: =VLOOKUP(D10,$M$2:$N$97,2,0) -> Khong tinh | D10: Toán | E10: 0101-12 | F10: GV | G10: 1007.9 | M10: Địa chất thuỷ văn | N10: Khong tinh
A11: 2014-2015 | B11: Hà Hữu Cao Trình | C11: =VLOOKUP(D11,$M$2:$N$97,2,0) -> Khong tinh | D11: Toán | E11: 0101-16 | F11: GV | G11: 681.35 | M11: Địa chất thủy văn | N11: Khong tinh
A12: 2014-2015 | B12: Phạm Tuấn Cường | C12: =VLOOKUP(D12,$M$2:$N$97,2,0) -> Khong tinh | D12: Toán | E12: 0101-17 | F12: GV | G12: 795.25 | M12: Địa chính | N12: Khoa Trắc địa - bản đồ và Quản lý đất đai
A13: 2014-2015 | B13: Phạm Ngọc Anh | C13: =VLOOKUP(D13,$M$2:$N$97,2,0) -> Khong tinh | D13: Toán | E13: 0101-18 | F13: GV | G13: 671.5 | M13: Địa sinh thái | N13: Khoa Môi Trường
A14: 2014-2015 | B14: Nguyễn Thu Hằng | C14: =VLOOKUP(D14,$M$2:$N$97,2,0) -> Khong tinh | D14: Toán | E14: 0101-19 | F14: GV | G14: 564.5 | M14: Địa sinh thái và CNMT | N14: Khoa Môi Trường
A15: 2014-2015 | B15: Lê Hương Giang | C15: =VLOOKUP(D15,$M$2:$N$97,2,0) -> Khong tinh | D15: Toán | E15: 0101-20 | F15: GV | G15: 526.59 | M15: Địa vật lý | N15: Khoa Dầu khí
A16: 2014-2015 | B16: Nguyễn Thị Kim Sơn | C16: =VLOOKUP(D16,$M$2:$N$97,2,0) -> Khong tinh | D16: Toán | E16: 0101-21 | F16: GV | G16: 472.9 | M16: Điện khí hoá | N16: Khong tinh
A17: 2014-2015 | B17: Nguyễn Thế Lâm | C17: =VLOOKUP(D17,$M$2:$N$97,2,0) -> Khong tinh | D17: Toán | E17: 0101-22 | F17: GV | G17: 565.55 | M17: Điện khí hóa | N17: Khong tinh
A18: 2014-2015 | B18: Nguyễn Thị Hiền | C18: =VLOOKUP(D18,$M$2:$N$97,2,0) -> Khong tinh | D18: Toán | E18: 0101-23 | F18: GV | G18: 543.75 | M18: ĐLCMĐ Việt Nam | N18: Khong tinh
A19: 2014-2015 | B19: Lê Bích Phượng | C19: =VLOOKUP(D19,$M$2:$N$97,2,0) -> Khong tinh | D19: Toán | E19: 0101-24 | F19: GV | G19: 582.85 | M19: Đo ảnh và Viễn thám | N19: Khoa Trắc địa - bản đồ và Quản lý đất đai
... A33: 2014-2015 | B33: Đinh Văn Thiên | C33: =VLOOKUP(D33,$M$2:$N$97,2,0) -> Khong tinh | D33: Lý | E33: 0102-18 | F33: GV | G33: 544.2 | M33: Kinh tế cơ sở | N33: Khong tinh
A34: 2014-2015 | B34: Nguyễn Thị Hậu | C34: =VLOOKUP(D34,$M$2:$N$97,2,0) -> Khong tinh | D34: Lý | F34: PVGD | G34: 0 | M34: Kinh tế Dầu | N34: Khong tinh
A35: 2014-2015 | B35: Công Tiến Dũng | C35: =VLOOKUP(D35,$M$2:$N$97,2,0) -> Khong tinh | D35: Hoá | E35: 0103-03 | F35: GV | G35: 372.7 | M35: Kinh tế Địa chất- Dầu khí | N35: Khong tinh
A36: 2014-2015 | B36: Phạm Tiến Dũng | C36: =VLOOKUP(D36,$M$2:$N$97,2,0) -> Khong tinh | D36: Hoá | E36: 0103-05 | F36: GV | G36: 343.5 | M36: Kinh tế mỏ | N36: Khong tinh
A37: 2014-2015 | B37: Lê Thị Duyên | C37: =VLOOKUP(D37,$M$2:$N$97,2,0) -> Khong tinh | D37: Hoá | E37: 0103-06 | F37: GV | G37: 491.8 | M37: KT môi trường mỏ | N37: Khoa Môi Trường
A38: 2014-2015 | B38: Nguyễn Đình Độ | C38: =VLOOKUP(D38,$M$2:$N$97,2,0) -> Khong tinh | D38: Hoá | E38: 0103-07 | F38: GV | G38: 491.7 | M38: Kỹ thuật cơ khí | N38: Khong tinh
A39: 2014-2015 | B39: Nguyễn Mạnh Hà | C39: =VLOOKUP(D39,$M$2:$N$97,2,0) -> Khong tinh | D39: Hoá | E39: 0103-08 | F39: GV | G39: 284 | M39: Kỹ thuật điện - Điện tử | N39: Khong tinh
A40: 2014-2015 | B40: Nguyễn Thu Hà | C40: =VLOOKUP(D40,$M$2:$N$97,2,0) -> Khong tinh | D40: Hoá | E40: 0103-09 | F40: GVC | G40: 323.4 | M40: Kỹ thuật điện - ĐT | N40: Khong tinh
A41: 2014-2015 | B41: Đỗ Thị Hải | C41: =VLOOKUP(D41,$M$2:$N$97,2,0) -> Khong tinh | D41: Hoá | E41: 0103-10 | F41: GVC | G41: 805.7 | M41: Kỹ thuật môi trường | N41: Khoa Môi Trường
A42: 2014-2015 | B42: Võ Thị Hạnh | C42: =VLOOKUP(D42,$M$2:$N$97,2,0) -> Khong tinh | D42: Hoá | E42: 0103-11 | F42: GV | G42: 282.5 | M42: Kỹ thuật quân sự | N42: Khong tinh
A43: 2014-2015 | B43: Hà Mạnh Hùng | C43: =VLOOKUP(D43,$M$2:$N$97,2,0) -> Khong tinh | D43: Hoá | E43: 0103-12 | F43: GVC | G43: 428.6 | M43: Kỹ thuật xây dựng | N43: Khoa Xây dựng
A44: 2014-2015 | B44: Nguyễn Thị Thu Hiền | C44: =VLOOKUP(D44,$M$2:$N$97,2,0) -> Khong tinh | D44: Hoá | E44: 0103-13 | F44: GV | G44: 148.5 | M44: Khai thác hầm lò | N44: Khoa Mỏ
A45: 2014-2015 | B45: Lê Đức Liêm | C45: =VLOOKUP(D45,$M$2:$N$97,2,0) -> Khong tinh | D45: Hoá | E45: 0103-14 | F45: GVC | G45: 353.1 | M45: Khai thác lộ thiên | N45: Khoa Mỏ
A46: 2014-2015 | B46: Vũ Kim Thư | C46: =VLOOKUP(D46,$M$2:$N$97,2,0) -> Khong tinh | D46: Hoá | E46: 0103-16 | F46: GV | G46: 288.8 | M46: Khoan khai thác | N46: Khoa Dầu khí
... A97: 2014-2015 | B97: Đỗ Tiến Thiết | C97: =VLOOKUP(D97,$M$2:$N$97,2,0) -> Khong tinh | D97: Giáo dục thể chất | E97: 0107- | F97: GV | G97: 623.98 | M97: Xưởng cơ khí | N97: Khong tinh
A98: 2014-2015 | B98: Nguyễn Trường Đông | C98: =VLOOKUP(D98,$M$2:$N$97,2,0) -> Khong tinh | D98: Giáo dục thể chất | E98: 0107- | F98: GV | G98: 563.88
A99: 2014-2015 | B99: Chu Thị Hồng Hạnh | C99: =VLOOKUP(D99,$M$2:$N$97,2,0) -> Khong tinh | D99: Giáo dục thể chất | E99: 0107- | F99: GV | G99: 612.54
A100: 2014-2015 | B100: Nguyễn Bình Yên | C100: =VLOOKUP(D100,$M$2:$N$97,2,0) -> Khong tinh | D100: Pháp luật | E100: 0201-01 | F100: PGS | G100: 987.5
A101: 2014-2015 | B101: Nguyễn Thị Nụ | C101: =VLOOKUP(D101,$M$2:$N$97,2,0) -> Khong tinh | D101: Pháp luật | E101: 0201-06 | F101: GVC | G101: 1295.3
A102: 2014-2015 | B102: Nguyễn Thị Thu | C102: =VLOOKUP(D102,$M$2:$N$97,2,0) -> Khong tinh | D102: NLCN Mác - Lênin | E102: 0201-05 | F102: GVC | G102: 1196.65
A103: 2014-2015 | B103: Đỗ Thị Kim Thanh | C103: =VLOOKUP(D103,$M$2:$N$97,2,0) -> Khong tinh | D103: NLCN Mác - Lênin | E103: 0201-07 | F103: GVC | G103: 750.7
...

Sheet Sheet6
A1: =D1&E1 -> Lê Văn QuyểnKhoa Mỏ | B1: =COUNTIF(L:L,A1) -> 0 | C1: 2015-2016 | D1: Lê Văn Quyển | E1: Khoa Mỏ | F1: Khai thác lộ thiên | G1: 0301-03 | H1: GVC.TS | I1: 971.6 | M1: 2
A2: =D2&E2 -> Bùi Xuân NamKhoa Mỏ | B2: =COUNTIF(L:L,A2) -> 1 | C2: 2015-2016 | D2: Bùi Xuân Nam | E2: Khoa Mỏ | F2: Khai thác lộ thiên | G2: 0301-04 | H2: PGS.TS | I2: 722.5 | K2: =COUNTIF($A$1:$A$999,L2) -> 0 | L2: =M2&N2 -> Trần Thị HòaKhoa CNTT | M2: Trần Thị Hòa | N2: Khoa CNTT
A3: =D3&E3 -> Lê Hữu QuỳnhKhoa Mỏ | B3: =COUNTIF(L:L,A3) -> 1 | C3: 2015-2016 | D3: Lê Hữu Quỳnh | E3: Khoa Mỏ | F3: Khai thác lộ thiên | G3: 0301-05 | H3: GV.KS(CN) | I3: 1323.6 | K3: =COUNTIF($A$1:$A$999,L3) -> 0 | L3: =M3&N3 -> Bùi Thế VinhKhoa CNTT | M3: Bùi Thế Vinh | N3: Khoa CNTT
A4: =D4&E4 -> Lê Thị Thu HoaKhoa Mỏ | B4: =COUNTIF(L:L,A4) -> 1 | C4: 2015-2016 | D4: Lê Thị Thu Hoa | E4: Khoa Mỏ | F4: Khai thác lộ thiên | G4: 0301-06 | H4: GVC.TS | I4: 1229.9 | K4: =COUNTIF($A$1:$A$999,L4) -> 2 | L4: =M4&N4 -> Bùi Thị ánh NguyệtKhoa CNTT | M4: Bùi Thị ánh Nguyệt | N4: Khoa CNTT
A5: =D5&E5 -> Phạm Văn HòaKhoa Mỏ | B5: =COUNTIF(L:L,A5) -> 1 | C5: 2015-2016 | D5: Phạm Văn Hòa | E5: Khoa Mỏ | F5: Khai thác lộ thiên | G5: 0301-07 | H5: GV.TS | I5: 929.2 | K5: =COUNTIF($A$1:$A$999,L5) -> 3 | L5: =M5&N5 -> Bùi Thị Vân AnhKhoa CNTT | M5: Bùi Thị Vân Anh | N5: Khoa CNTT
A6: =D6&E6 -> Nguyễn Đình AnKhoa Mỏ | B6: =COUNTIF(L:L,A6) -> 1 | C6: 2015-2016 | D6: Nguyễn Đình An | E6: Khoa Mỏ | F6: Khai thác lộ thiên | G6: 0301-09 | H6: GV.TS | I6: 739.3 | K6: =COUNTIF($A$1:$A$999,L6) -> 0 | L6: =M6&N6 -> Cảnh Chí ThanhKhoa CNTT | M6: Cảnh Chí Thanh | N6: Khoa CNTT
A7: =D7&E7 -> Vũ Đình HiếuKhoa Mỏ | B7: =COUNTIF(L:L,A7) -> 1 | C7: 2015-2016 | D7: Vũ Đình Hiếu | E7: Khoa Mỏ | F7: Khai thác lộ thiên | G7: 0301-10 | H7: GV.TS | I7: 1079.2 | K7: =COUNTIF($A$1:$A$999,L7) -> 3 | L7: =M7&N7 -> Diêm Công HoàngKhoa CNTT | M7: Diêm Công Hoàng | N7: Khoa CNTT
A8: =D8&E8 -> Nguyễn Anh TuấnKhoa Mỏ | B8: =COUNTIF(L:L,A8) -> 1 | C8: 2015-2016 | D8: Nguyễn Anh Tuấn | E8: Khoa Mỏ | F8: Khai thác lộ thiên | G8: 0301-11 | H8: GV.TS | I8: 348.5 | K8: =COUNTIF($A$1:$A$999,L8) -> 1 | L8: =M8&N8 -> Diêm Thị ThuỳKhoa CNTT | M8: Diêm Thị Thuỳ | N8: Khoa CNTT
A9: =D9&E9 -> Lê Thị Minh HạnhKhoa Mỏ | B9: =COUNTIF(L:L,A9) -> 1 | C9: 2015-2016 | D9: Lê Thị Minh Hạnh | E9: Khoa Mỏ | F9: Khai thác lộ thiên | G9: 0301-12 | H9: GV.ThS | I9: 779.9 | K9: =COUNTIF($A$1:$A$999,L9) -> 3 | L9: =M9&N9 -> Dương Chí ThiệnKhoa CNTT | M9: Dương Chí Thiện | N9: Khoa CNTT
A10: =D10&E10 -> Nhữ Văn PhúcKhoa Mỏ | B10: =COUNTIF(L:L,A10) -> 1 | C10: 2015-2016 | D10: Nhữ Văn Phúc | E10: Khoa Mỏ | F10: Khai thác lộ thiên | G10: 0301-13 | H10: TG | I10: 136.3 | K10: =COUNTIF($A$1:$A$999,L10) -> 3 | L10: =M10&N10 -> Dương Thị Hiền ThanhKhoa CNTT | M10: Dương Thị Hiền Thanh | N10: Khoa CNTT
A11: =D11&E11 -> Trần Quang HiếuKhoa Mỏ | B11: =COUNTIF(L:L,A11) -> 1 | C11: 2015-2016 | D11: Trần Quang Hiếu | E11: Khoa Mỏ | F11: Khai thác lộ thiên | G11: 0301-14 | H11: GV.TS | I11: 1148.9 | K11: =COUNTIF($A$1:$A$999,L11) -> 2 | L11: =M11&N11 -> Dương Thị TâmKhoa CNTT | M11: Dương Thị Tâm | N11: Khoa CNTT
A12: =D12&E12 -> Lê Quí ThảoKhoa Mỏ | B12: =COUNTIF(L:L,A12) -> 1 | C12: 2015-2016 | D12: Lê Quí Thảo | E12: Khoa Mỏ | F12: Khai thác lộ thiên | G12: 0301-15 | H12: GV.ThS | I12: 1191 | K12: =COUNTIF($A$1:$A$999,L12) -> 3 | L12: =M12&N12 -> Đào Anh ThưKhoa CNTT | M12: Đào Anh Thư | N12: Khoa CNTT
A13: =D13&E13 -> Phạm Văn ViệtKhoa Mỏ | B13: =COUNTIF(L:L,A13) -> 1 | C13: 2015-2016 | D13: Phạm Văn Việt | E13: Khoa Mỏ | F13: Khai thác lộ thiên | G13: 0301-16 | H13: GV.ThS | I13: 1040.1 | K13: =COUNTIF($A$1:$A$999,L13) -> 0 | L13: =M13&N13 -> Đào THị Hồng ThắmKhoa CNTT | M13: Đào THị Hồng Thắm | N13: Khoa CNTT
... A276: =D276&E276 -> Hoàng Anh DũngKhoa Dầu khí | B276: =COUNTIF(L:L,A276) -> 1 | C276: 2016-2017 | D276: Hoàng Anh Dũng | E276: Khoa Dầu khí | F276: Thiết bị dầu khí và công trình | G276: 0605-11 | H276: GV.TS | I276: 438.05 | K276: =COUNTIF($A$1:$A$999,L276) -> 4 | L276: =M276&N276 -> Phạm Thị Thanh HòaKhoa Trắc địa - bản đồ và Quản lý đất đai | M276: Phạm Thị Thanh Hòa | N276: Khoa Trắc địa - bản đồ và Quản lý đất đai
A277: =D277&E277 -> Vũ Cúc PhươngKhoa Dầu khí | B277: =COUNTIF(L:L,A277) -> 1 | C277: 2016-2017 | D277: Vũ Cúc Phương | E277: Khoa Dầu khí | F277: Thiết bị dầu khí và công trình | G277: 0605-12 | H277: KS | K277: =COUNTIF($A$1:$A$999,L277) -> 1 | L277: =M277&N277 -> Phạm Trung DũngKhoa Trắc địa - bản đồ và Quản lý đất đai | M277: Phạm Trung Dũng | N277: Khoa Trắc địa - bản đồ và Quản lý đất đai
A278: =D278&E278 -> Đào Thị UyênKhoa Dầu khí | B278: =COUNTIF(L:L,A278) -> 1 | C278: 2016-2017 | D278: Đào Thị Uyên | E278: Khoa Dầu khí | F278: Thiết bị dầu khí và công trình | G278: 0904-10 | H278: GV.ThS | I278: 273.94 | K278: =COUNTIF($A$1:$A$999,L278) -> 4 | L278: =M278&N278 -> Phạm Văn ChungKhoa Trắc địa - bản đồ và Quản lý đất đai | M278: Phạm Văn Chung | N278: Khoa Trắc địa - bản đồ và Quản lý đất đai
A279: =D279&E279 -> Đỗ Mạnh PhongKhoa Mỏ | B279: =COUNTIF(L:L,A279) -> 1 | C279: 2016-2017 | D279: Đỗ Mạnh Phong | E279: Khoa Mỏ | F279: Khai thác hầm lò | G279: 0302-04 | H279: PGS.TS | I279: 598.04 | K279: =COUNTIF($A$1:$A$999,L279) -> 4 | L279: =M279&N279 -> Phạm Văn HiệpKhoa Trắc địa - bản đồ và Quản lý đất đai | M279: Phạm Văn Hiệp | N279: Khoa Trắc địa - bản đồ và Quản lý đất đai
A280: =D280&E280 -> Trần Văn ThanhKhoa Mỏ | B280: =COUNTIF(L:L,A280) -> 1 | C280: 2016-2017 | D280: Trần Văn Thanh | E280: Khoa Mỏ | F280: Khai thác hầm lò | G280: 0302-05 | H280: PGS.TS | I280: 1507.93 | K280: =COUNTIF($A$1:$A$999,L280) -> 4 | L280: =M280&N280 -> Phùng Minh SơnKhoa Trắc địa - bản đồ và Quản lý đất đai | M280: Phùng Minh Sơn | N280: Khoa Trắc địa - bản đồ và Quản lý đất đai
A281: =D281&E281 -> Đặng Vũ ChíKhoa Mỏ | B281: =COUNTIF(L:L,A281) -> 0 | C281: 2016-2017 | D281: Đặng Vũ Chí | E281: Khoa Mỏ | F281: Khai thác hầm lò | G281: 0302-07 | H281: PGS.TS | I281: 1225.12 | K281: =COUNTIF($A$1:$A$999,L281) -> 3 | L281: =M281&N281 -> Trần Anh TuấnKhoa Trắc địa - bản đồ và Quản lý đất đai | M281: Trần Anh Tuấn | N281: Khoa Trắc địa - bản đồ và Quản lý đất đai
A282: =D282&E282 -> Nguyễn Cao KhảiKhoa Mỏ | B282: =COUNTIF(L:L,A282) -> 1 | C282: 2016-2017 | D282: Nguyễn Cao Khải | E282: Khoa Mỏ | F282: Khai thác hầm lò | G282: 0302-09 | H282: GV.ThS | I282: 867.46 | K282: =COUNTIF($A$1:$A$999,L282) -> 4 | L282: =M282&N282 -> Trần Đình ThànhKhoa Trắc địa - bản đồ và Quản lý đất đai | M282: Trần Đình Thành | N282: Khoa Trắc địa - bản đồ và Quản lý đất đai
A283: =D283&E283 -> Đỗ Anh SơnKhoa Mỏ | B283: =COUNTIF(L:L,A283) -> 1 | C283: 2016-2017 | D283: Đỗ Anh Sơn | E283: Khoa Mỏ | F283: Khai thác hầm lò | G283: 0302-10 | H283: GV.TS | I283: 630.12 | K283: =COUNTIF($A$1:$A$999,L283) -> 4 | L283: =M283&N283 -> Trần Đình TríKhoa Trắc địa - bản đồ và Quản lý đất đai | M283: Trần Đình Trí | N283: Khoa Trắc địa - bản đồ và Quản lý đất đai
A284: =D284&E284 -> Vũ Trung TiếnKhoa Mỏ | B284: =COUNTIF(L:L,A284) -> 1 | C284: 2016-2017 | D284: Vũ Trung Tiến | E284: Khoa Mỏ | F284: Khai thác hầm lò | G284: 0302-11 | H284: GV.TS | I284: 771.65 | K284: =COUNTIF($A$1:$A$999,L284) -> 2 | L284: =M284&N284 -> Trần Hồng HạnhKhoa Trắc địa - bản đồ và Quản lý đất đai | M284: Trần Hồng Hạnh | N284: Khoa Trắc địa - bản đồ và Quản lý đất đai
A285: =D285&E285 -> Phạm Đức HưngKhoa Mỏ | B285: =COUNTIF(L:L,A285) -> 1 | C285: 2016-2017 | D285: Phạm Đức Hưng | E285: Khoa Mỏ | F285: Khai thác hầm lò | G285: 0302-12 | H285: GV.TS | I285: 912.22 | K285: =COUNTIF($A$1:$A$999,L285) -> 4 | L285: =M285&N285 -> Trần KhánhKhoa Trắc địa - bản đồ và Quản lý đất đai | M285: Trần Khánh | N285: Khoa Trắc địa - bản đồ và Quản lý đất đai
A286: =D286&E286 -> Đào Văn ChiKhoa Mỏ | B286: =COUNTIF(L:L,A286) -> 1 | C286: 2016-2017 | D286: Đào Văn Chi | E286: Khoa Mỏ | F286: Khai thác hầm lò | G286: 0302-13 | H286: GV.TS | I286: 829.41 | K286: =COUNTIF($A$1:$A$999,L286) -> 4 | L286: =M286&N286 -> Trần Quỳnh AnKhoa Trắc địa - bản đồ và Quản lý đất đai | M286: Trần Quỳnh An | N286: Khoa Trắc địa - bản đồ và Quản lý đất đai
A287: =D287&E287 -> Nguyễn Phi HùngKhoa Mỏ | B287: =COUNTIF(L:L,A287) -> 1 | C287: 2016-2017 | D287: Nguyễn Phi Hùng | E287: Khoa Mỏ | F287: Khai thác hầm lò | G287: 0302-14 | H287: GV.TS | I287: 724.84 | K287: =COUNTIF($A$1:$A$999,L287) -> 4 | L287: =M287&N287 -> Trần Thanh HàKhoa Trắc địa - bản đồ và Quản lý đất đai | M287: Trần Thanh Hà | N287: Khoa Trắc địa - bản đồ và Quản lý đất đai
A288: =D288&E288 -> Đặng Quang HưngKhoa Mỏ | B288: =COUNTIF(L:L,A288) -> 1 | C288: 2016-2017 | D288: Đặng Quang Hưng | E288: Khoa Mỏ | F288: Khai thác hầm lò | G288: 0302-15 | H288: GV.ThS | I288: 652.58 | K288: =COUNTIF($A$1:$A$999,L288) -> 0 | L288: =M288&N288 -> Trần Thị Hương GiangKhoa Trắc địa - bản đồ và Quản lý đất đai | M288: Trần Thị Hương Giang | N288: Khoa Trắc địa - bản đồ và Quản lý đất đai
A289: =D289&E289 -> Bùi Mạnh TùngKhoa Mỏ | B289: =COUNTIF(L:L,A289) -> 0 | C289: 2016-2017 | D289: Bùi Mạnh Tùng | E289: Khoa Mỏ | F289: Khai thác hầm lò | G289: 0302-17 | H289: GV.TS | I289: 655.07 | K289: =COUNTIF($A$1:$A$999,L289) -> 4 | L289: =M289&N289 -> Trần Thị Tuyết VinhKhoa Trắc địa - bản đồ và Quản lý đất đai | M289: Trần Thị Tuyết Vinh | N289: Khoa Trắc địa - bản đồ và Quản lý đất đai
... A337: =D337&E337 -> Nguyễn Thị HòaKhoa Môi Trường | B337: =COUNTIF(L:L,A337) -> 0 | C337: 2016-2017 | D337: Nguyễn Thị Hòa | E337: Khoa Môi Trường | F337: Kỹ thuật môi trường | G337: 1103-06 | H337: GV.ThS | I337: 206.7 | K337: =COUNTIF($A$1:$A$999,L337) -> 4 | L337: =M337&N337 -> Võ Trọng HùngKhoa Xây dựng | M337: Võ Trọng Hùng | N337: Khoa Xây dựng
A338: =D338&E338 -> Nguyễn Thị HồngKhoa Môi Trường | B338: =COUNTIF(L:L,A338) -> 0 | C338: 2016-2017 | D338: Nguyễn Thị Hồng | E338: Khoa Môi Trường | F338: Kỹ thuật môi trường | G338: 1103-07 | H338: GV.ThS | I338: 269.48
A339: =D339&E339 -> Nguyễn Thị Thu HuyềnKhoa Môi Trường | B339: =COUNTIF(L:L,A339) -> 1 | C339: 2016-2017 | D339: Nguyễn Thị Thu Huyền | E339: Khoa Môi Trường | F339: Kỹ thuật môi trường | G339: 1103-08 | H339: KS | I339: 101.25
A340: =D340&E340 -> Trần Thị NgọcKhoa Môi Trường | B340: =COUNTIF(L:L,A340) -> 1 | C340: 2016-2017 | D340: Trần Thị Ngọc | E340: Khoa Môi Trường | F340: Kỹ thuật môi trường | G340: 1103-10 | H340: GV.ThS | I340: 182.54
A341: =D341&E341 -> Hoàng Thị ChungKhoa Môi Trường | B341: =COUNTIF(L:L,A341) -> 1 | C341: 2016-2017 | D341: Hoàng Thị Chung | E341: Khoa Môi Trường | F341: Môi trường cơ sở | G341: 0103-02 | H341: GV.ThS | I341: 230.08
A342: =D342&E342 -> Nguyễn PhươngKhoa Môi Trường | B342: =COUNTIF(L:L,A342) -> 1 | C342: 2016-2017 | D342: Nguyễn Phương | E342: Khoa Môi Trường | F342: Môi trường cơ sở | G342: 0402-01 | H342: PGS.TS | I342: 612.01
A343: =D343&E343 -> Nguyễn Thị CúcKhoa Môi Trường | B343: =COUNTIF(L:L,A343) -> 1 | C343: 2016-2017 | D343: Nguyễn Thị Cúc | E343: Khoa Môi Trường | F343: Môi trường cơ sở | G343: 0402-12 | H343: GV.ThS | I343: 188.22
A344: =D344&E344 -> Đỗ Văn NhuậnKhoa Môi Trường | B344: =COUNTIF(L:L,A344) -> 1 | C344: 2016-2017 | D344: Đỗ Văn Nhuận | E344: Khoa Môi Trường | F344: Môi trường cơ sở | G344: 0403-09 | H344: GVC.TS | I344: 192.63
A345: =D345&E345 -> Nguyễn Văn BìnhKhoa Môi Trường | B345: =COUNTIF(L:L,A345) -> 1 | C345: 2016-2017 | D345: Nguyễn Văn Bình | E345: Khoa Môi Trường | F345: Môi trường cơ sở | G345: 0407-06 | H345: GV.ThS | I345: 272.2
A346: =D346&E346 -> Nguyễn Văn DũngKhoa Môi Trường | B346: =COUNTIF(L:L,A346) -> 1 | C346: 2016-2017 | D346: Nguyễn Văn Dũng | E346: Khoa Môi Trường | F346: Môi trường cơ sở | G346: 0601-06 | H346: GV.ThS | I346: 262.19
A347: =D347&E347 -> Nguyễn Quốc PhiKhoa Môi Trường | B347: =COUNTIF(L:L,A347) -> 0 | C347: 2016-2017 | D347: Nguyễn Quốc Phi | E347: Khoa Môi Trường | F347: Môi trường cơ sở | G347: 1101-03 | H347: GV.TS | I347: 268.4
A348: =D348&E348 -> Phan Thị Mai HoaKhoa Môi Trường | B348: =COUNTIF(L:L,A348) -> 1 | C348: 2016-2017 | D348: Phan Thị Mai Hoa | E348: Khoa Môi Trường | F348: Môi trường cơ sở | G348: 1101-08 | H348: GV.ThS | I348: 119.86
A349: =D349&E349 -> Vũ Thị Lan AnhKhoa Môi Trường | B349: =COUNTIF(L:L,A349) -> 1 | C349: 2016-2017 | D349: Vũ Thị Lan Anh | E349: Khoa Môi Trường | F349: Môi trường cơ sở | G349: 1101-09 | H349: GV.ThS | I349: 232.2
...

Sheet Sheet1
D1: STT | E1: Họ và tên | F1: Ngày tháng năm sinh | H1: Trình độ nghiệp vụ | M1: Trình độ nghiệp vụ | Q1: Chức vụ (từ phó Trưởng BM trở lên) | R1: Đơn vị công tác | S1: Phân loại giảng viên | X1: Các khóa bồi dưỡng về NVSP đã tham gia trong quá trình đánh giá
F2: Nam | G2: Nữ | H2: Học hàm/học vị | J2: Năm tốt nghiệp TĐCM | K2: Năm TN | L2: Nơi TN | M2: QLNN | N2: LLCT | O2: Tin học | P2: Ngoại ngữ | S2: Biên chế | T2: HĐ dài hạn | U2: kiêm nhiệm | V2: Thỉnh giảng | W2: Quốc tế
A3: =COUNTIFS(E:E,E3,C:C,C3) -> 6 | B3: 2014 | C3: CNTT | D3: 1 | E3: Trương Xuân Luận | F3: 20/05/1950 | H3: Giáo sư | I3: Tiến sỹ | J3: Địa chất khoáng sản và thăm dò | K3: 1992 | L3: Trường ĐH Mỏ địa chất Hà nội | O3: Tiến sỹ | P3: B4 | Q3: Trưởng Bộ môn | R3: Khoa CNTT | S3: x | X3: x
A4: =COUNTIFS(E:E,E4,C:C,C4) -> 6 | B4: 2014 | C4: CNTT | D4: 2 | E4: Lê Thanh Huệ | G4: 15/09/1964 | H4: Phó Giáo sư | I4: Tiến sỹ | J4: Toán Tin | K4: 2010 | L4: Trường ĐH Khoa học tự nhiên (ĐHQGHN) | O4: Tiến sỹ | P4: B4 | Q4: Phó Trưởng Khoa | R4: Khoa CNTT | S4: x | X4: x
A5: =COUNTIFS(E:E,E5,C:C,C5) -> 6 | B5: 2014 | C5: CNTT | D5: 3 | E5: Phạm Đức Hậu | F5: 26/10/1969 | I5: Thạc sỹ | J5: Trắc địa | K5: 1991 | L5: Trường ĐH Mỏ địa chất Hà nội | O5: Thạc sỹ | P5: B1 | R5: Khoa CNTT | S5: x | X5: x
A6: =COUNTIFS(E:E,E6,C:C,C6) -> 6 | B6: 2014 | C6: CNTT | D6: 4 | E6: Đặng Hữu Nghị | F6: 19/10/1972 | I6: Thạc sỹ | J6: Tin học | K6: 2005 | L6: Trường ĐH Bách khoa Hà nội | O6: Thạc sỹ | P6: B1 | R6: Khoa CNTT | S6: x | X6: x
A7: =COUNTIFS(E:E,E7,C:C,C7) -> 6 | B7: 2014 | C7: CNTT | D7: 5 | E7: Lê Văn Hưng | F7: 26671 | H7: Phó Giáo sư | I7: Tiến sỹ | J7: Công nghệ thông t in | K7: 2010 | L7: Đào tạo ở nước ngoài | O7: Tiến sỹ | P7: B4 | Q7: Giám đốc Trung tâm | R7: Khoa CNTT | S7: x | X7: x
A8: =COUNTIFS(E:E,E8,C:C,C8) -> 6 | B8: 2014 | C8: CNTT | D8: 6 | E8: Bùi Thị Vân Anh | G8: 26730 | I8: Thạc sỹ | J8: Công nghệ thông tin | K8: 2006 | L8: Học viện Kỹ thuật quân sự | O8: Thạc sỹ | P8: B1 | R8: Khoa CNTT | S8: x | X8: x
A9: =COUNTIFS(E:E,E9,C:C,C9) -> 6 | B9: 2014 | C9: CNTT | D9: 7 | E9: Phạm An Cương | F9: 28/07/1973 | I9: Thạc sỹ | J9: Địa chất | K9: 2002 | L9: Trường ĐH Mỏ địa chất Hà nội | O9: Thạc sỹ | P9: B1 | R9: Khoa CNTT | S9: x | X9: x
A10: =COUNTIFS(E:E,E10,C:C,C10) -> 6 | B10: 2014 | C10: CNTT | D10: 8 | E10: Dương Thị Tâm | G10: 27008 | I10: Thạc sỹ | J10: Địa chất công trình | K10: 2003 | L10: Trường ĐH Mỏ địa chất Hà nội | O10: Thạc sỹ | P10: B1 | R10: Khoa CNTT | S10: x | X10: x
A11: =COUNTIFS(E:E,E11,C:C,C11) -> 6 | B11: 2014 | C11: CNTT | D11: 9 | E11: Đào Thị Tuyết | G11: 27090 | I11: Thạc sỹ | J11: Công nghệ thông t in | K11: 2019 | L11: Trường ĐH Mỏ địa chất Hà nội | O11: Thạc sỹ | P11: B1 | R11: Khoa CNTT | S11: x | X11: x
A12: =COUNTIFS(E:E,E12,C:C,C12) -> 6 | B12: 2014 | C12: CNTT | D12: 10 | E12: Bùi Thị ánh Nguyệt | G12: 24/01/1975 | I12: Thạc sỹ | J12: Công nghệ thông t in | K12: 2017 | L12: Viện ĐH Mở Hà nội | O12: Thạc sỹ | P12: B1 | R12: Khoa CNTT | S12: x | X12: x
A13: =COUNTIFS(E:E,E13,C:C,C13) -> 6 | B13: 2014 | C13: CNTT | D13: 11 | E13: Nông Thị Oanh | G13: 29/10/1975 | I13: Thạc sỹ | J13: Công nghệ thông tin | K13: 2013 | L13: Trường ĐH Mỏ địa chất Hà nội | O13: Thạc sỹ | P13: B1 | R13: Khoa CNTT | S13: x | X13: x
A14: =COUNTIFS(E:E,E14,C:C,C14) -> 6 | B14: 2014 | C14: CNTT | D14: 12 | E14: Dương Chí Thiện | F14: 27944 | I14: Thạc sỹ | J14: Công nghệ thông tin | K14: 2006 | L14: Trường ĐH Khoa học tự nhiên (ĐHQGHN) | O14: Thạc sỹ | P14: B1 | R14: Khoa CNTT | S14: x | X14: x
A15: =COUNTIFS(E:E,E15,C:C,C15) -> 6 | B15: 2014 | C15: CNTT | D15: 13 | E15: Ngô Hùng Long | F15: 14/05/1976 | I15: Thạc sỹ | J15: Địa chất công trình | K15: 1999 | L15: Trường ĐH Mỏ địa chất Hà nội | O15: Thạc sỹ | P15: B1 | R15: Khoa CNTT | S15: x | X15: x
A16: =COUNTIFS(E:E,E16,C:C,C16) -> 6 | B16: 2014 | C16: CNTT | D16: 14 | E16: Nguyễn Tuấn Anh | F16: 20/11/1976 | I16: Thạc sỹ | J16: Toán Tin | K16: 2000 | L16: Trường ĐH Dân lập Thăng long (HN) | O16: Thạc sỹ | P16: B1 | R16: Khoa CNTT | S16: x | X16: x
A17: =COUNTIFS(E:E,E17,C:C,C17) -> 6 | B17: 2014 | C17: CNTT | D17: 15 | E17: Tạ Quang Chiểu | F17: 13/05/1977 | I17: Tiến sỹ | J17: Công nghệ thông tin | K17: 2016 | L17: Đào tạo ở nước ngoài | O17: Tiến sỹ | P17: B1 | Q17: Trưởng Bộ môn | R17: Khoa CNTT | S17: x | X17: x
A18: =COUNTIFS(E:E,E18,C:C,C18) -> 6 | B18: 2014 | C18: CNTT | D18: 16 | E18: Trần Trung Chuyên | F18: 19/10/1977 | I18: Tiến sỹ | J18: Kỹ thuật trắc địa | K18: 2018 | L18: Trường ĐH Mỏ địa chất Hà nội | O18: Tiến sỹ | P18: B1 | R18: Khoa CNTT | S18: x | X18: x
A19: =COUNTIFS(E:E,E19,C:C,C19) -> 6 | B19: 2014 | C19: CNTT | D19: 17 | E19: Diêm Thị Thuỳ | G19: 24/10/1977 | I19: Thạc sỹ | J19: Bản đồ, viễn thám và hệ thông tin địa lý | K19: 2001 | L19: Trường ĐH Mỏ địa chất Hà nội | O19: Thạc sỹ | P19: B1 | R19: Khoa CNTT | S19: x | X19: x
A20: =COUNTIFS(E:E,E20,C:C,C20) -> 6 | B20: 2014 | C20: CNTT | D20: 18 | E20: Đỗ Như Hải | F20: 28226 | I20: Thạc sỹ | J20: Tin học | K20: 2002 | L20: Trường ĐH Khoa học tự nhiên (ĐHQGHN) | O20: Thạc sỹ | P20: B1 | R20: Khoa CNTT | S20: x | X20: x
A21: =COUNTIFS(E:E,E21,C:C,C21) -> 6 | B21: 2014 | C21: CNTT | D21: 19 | E21: Nguyễn Quang Khánh | F21: 25/02/1978 | I21: Tiến sỹ | J21: Trắc địa | K21: 2011 | L21: Trường ĐH Mỏ địa chất Hà nội | O21: Tiến sỹ | P21: B1 | R21: Khoa CNTT | S21: x | X21: x
A22: =COUNTIFS(E:E,E22,C:C,C22) -> 6 | B22: 2014 | C22: CNTT | D22: 20 | E22: Trần Thị Như Hoa | G22: 27/02/1978 | I22: Thạc sỹ | J22: Tin học | K22: 2017 | L22: Trường ĐH Mỏ địa chất Hà nội | O22: Thạc sỹ | P22: B1 | R22: Khoa CNTT | S22: x | X22: x
A23: =COUNTIFS(E:E,E23,C:C,C23) -> 6 | B23: 2014 | C23: CNTT | D23: 21 | E23: Dương Thị Hiền Thanh | G23: 22/05/1978 | I23: Tiến sỹ | J23: Công nghệ thông tin | K23: 2019 | L23: Trường ĐH Bách khoa Hà nội | O23: Tiến sỹ | P23: B1 | Q23: Trưởng Bộ môn | R23: Khoa CNTT | S23: x | X23: x
A24: =COUNTIFS(E:E,E24,C:C,C24) -> 6 | B24: 2014 | C24: CNTT | D24: 22 | E24: Ngô Thị Phương Thảo | G24: 26/06/1978 | I24: Thạc sỹ | J24: Trắc địa | K24: 2007 | L24: Trường ĐH Mỏ địa chất Hà nội | O24: Thạc sỹ | P24: B1 | R24: Khoa CNTT | S24: x | X24: x
A25: =COUNTIFS(E:E,E25,C:C,C25) -> 6 | B25: 2014 | C25: CNTT | D25: 23 | E25: Nguyễn Thuỳ Dương | G25: 25/09/1978 | I25: Thạc sỹ | J25: Công nghệ thông tin | K25: 2010 | L25: Viện ĐH Mở Hà nội | O25: Thạc sỹ | P25: B1 | R25: Khoa CNTT | S25: x | X25: x
A26: =COUNTIFS(E:E,E26,C:C,C26) -> 6 | B26: 2014 | C26: CNTT | D26: 24 | E26: Vương Thị Như Quỳnh | G26: 20/10/1978 | I26: Thạc sỹ | J26: Công nghệ thông tin | K26: 2002 | L26: Trường ĐH Vinh | O26: Thạc sỹ | P26: B1 | R26: Khoa CNTT | S26: x | X26: x
A27: =COUNTIFS(E:E,E27,C:C,C27) -> 6 | B27: 2014 | C27: CNTT | D27: 25 | E27: Đào Thị Thu Vân | G27: 18/11/1978 | I27: Tiến sỹ | J27: Quản lý giáo dục | K27: 2014 | L27: Đào tạo ở nước ngoài | O27: Tiến sỹ | P27: B1 | R27: Khoa CNTT | S27: x | X27: x
A28: =COUNTIFS(E:E,E28,C:C,C28) -> 6 | B28: 2014 | C28: CNTT | D28: 26 | E28: Võ Thị Thu Trang | G28: 15/01/1979 | I28: Thạc sỹ | J28: Kinh tế | K28: 2001 | L28: Trường ĐH Kinh tế Quốc dân | O28: Thạc sỹ | P28: B1 | R28: Khoa CNTT | S28: x | X28: x
A29: =COUNTIFS(E:E,E29,C:C,C29) -> 6 | B29: 2014 | C29: CNTT | D29: 27 | E29: Nguyễn Thị Phấn | G29: 29194 | I29: Đại học | J29: Công nghệ thông t in | K29: 2017 | L29: Viện ĐH Mở Hà nội | O29: Đại học | P29: B1 | R29: Khoa CNTT | S29: x | X29: x
A30: =COUNTIFS(E:E,E30,C:C,C30) -> 6 | B30: 2014 | C30: CNTT | D30: 28 | E30: Nguyễn Thị Mai Dung | G30: 29165 | I30: Tiến sỹ | J30: Bản đồ, viễn thám & hệ thông tin địa lý | K30: 2008 | L30: Đào tạo ở nước ngoài | O30: Tiến sỹ | P30: B1 | Q30: Phó Trưởng Khoa | R30: Khoa CNTT | S30: x | X30: x
A31: =COUNTIFS(E:E,E31,C:C,C31) -> 6 | B31: 2014 | C31: CNTT | D31: 29 | E31: Phạm Thị Nguyệt | G31: 28983 | I31: Thạc sỹ | J31: Kinh tế mỏ | K31: 2006 | L31: Trường ĐH Mỏ địa chất Hà nội | O31: Thạc sỹ | P31: B1 | R31: Khoa CNTT | S31: x | X31: x
A32: =COUNTIFS(E:E,E32,C:C,C32) -> 6 | B32: 2014 | C32: CNTT | D32: 30 | E32: Nguyễn Thu Hằng | G32: 29168 | I32: Thạc sỹ | J32: Kinh tế | K32: 2007 | L32: Trường ĐH Kinh tế Quốc dân | O32: Thạc sỹ | P32: B1 | Q32: Phó Trưởng Bộ môn | R32: Khoa CNTT | S32: x | X32: x
A33: =COUNTIFS(E:E,E33,C:C,C33) -> 6 | B33: 2014 | C33: CNTT | D33: 31 | E33: Phạm Hữu Lợi | F33: 19/09/1979 | I33: Thạc sỹ | J33: Kinh tế công nghiệp | K33: 2010 | L33: Trường ĐH Mỏ địa chất Hà nội | O33: Thạc sỹ | P33: B1 | Q33: Phó Trưởng phòng | R33: Khoa CNTT | S33: x | X33: x
A34: =COUNTIFS(E:E,E34,C:C,C34) -> 6 | B34: 2014 | C34: CNTT | D34: 32 | E34: Vũ Thị Kim Liên | G34: 19/09/1979 | I34: Thạc sỹ | J34: Kinh tế công nghiệp | K34: 2009 | L34: Trường ĐH Mỏ địa chất Hà nội | O34: Thạc sỹ | P34: B1 | R34: Khoa CNTT | S34: x | X34: x
A35: =COUNTIFS(E:E,E35,C:C,C35) -> 6 | B35: 2014 | C35: CNTT | D35: 33 | E35: Vũ Lan Phương | F35: 30/10/1979 | I35: Thạc sỹ | J35: Công nghệ thông tin | K35: 2007 | L35: Trường ĐH Bách khoa Hà nội | O35: Thạc sỹ | P35: B1 | R35: Khoa CNTT | S35: x | X35: x
A36: =COUNTIFS(E:E,E36,C:C,C36) -> 6 | B36: 2014 | C36: CNTT | D36: 34 | E36: Nguyễn Duy Huy | F36: 28986 | I36: Tiến sỹ | J36: Công nghệ thông tin | K36: 2017 | L36: Trường ĐH Mỏ địa chất Hà nội | O36: Tiến sỹ | P36: B1 | Q36: Phó Trưởng Khoa | R36: Khoa CNTT | S36: x | X36: x
A37: =COUNTIFS(E:E,E37,C:C,C37) -> 6 | B37: 2014 | C37: CNTT | D37: 35 | E37: Bùi Thế Vinh | F37: 29109 | I37: Tiến sỹ | J37: Công nghệ thông tin | K37: 2016 | L37: Đào tạo ở nước ngoài | O37: Tiến sỹ | P37: B1 | R37: Khoa CNTT | S37: x | X37: x
A38: =COUNTIFS(E:E,E38,C:C,C38) -> 6 | B38: 2014 | C38: CNTT | D38: 36 | E38: Trần Thị Hải Vân | G38: 22/11/1979 | I38: Thạc sỹ | J38: Công nghệ thông tin | K38: 2014 | L38: Học viện Kỹ thuật quân sự | O38: Thạc sỹ | P38: B1 | R38: Khoa CNTT | S38: x | X38: x
A39: =COUNTIFS(E:E,E39,C:C,C39) -> 6 | B39: 2014 | C39: CNTT | D39: 37 | E39: Phạm Thị Hải Vân | G39: 22/01/1980 | I39: Thạc sỹ | J39: Kế toán | K39: 2017 | L39: Học viện Tài chính Kế toán | O39: Thạc sỹ | P39: B1 | R39: Khoa CNTT | S39: x | X39: x
A40: =COUNTIFS(E:E,E40,C:C,C40) -> 6 | B40: 2014 | C40: CNTT | D40: 38 | E40: Nguyễn Thị Phương Bắc | G40: 29224 | I40: Thạc sỹ | J40: Công nghệ thông tin | K40: 2019 | L40: Trường ĐH Bách khoa Hà nội | O40: Thạc sỹ | P40: B1 | R40: Khoa CNTT | S40: x | X40: x
...

Sheet Sheet2
G1: Ngày tháng năm sinh | I1: Trình độ nghiệp vụ | N1: Trình độ nghiệp vụ | R1: Chức vụ (từ phó Trưởng BM trở lên) | S1: Đơn vị công tác | T1: Phân loại giảng viên | Y1: Các khóa bồi dưỡng về NVSP đã tham gia trong quá trình đánh giá
B2: SL | C2: Nam | D2: Khoa | E2: STT | F2: Họ và tên | G2: Nam | H2: Nữ | I2: Học hàm/học vị | K2: Năm tốt nghiệp TĐCM | L2: Năm TN | M2: Nơi TN | N2: QLNN | O2: LLCT | P2: Tin học | Q2: Ngoại ngữ | T2: Biên chế | U2: HĐ dài hạn | V2: kiêm nhiệm | W2: Thỉnh giảng | X2: Quốc tế
A3: =IF(AND(F3=F2,G3=G2,B3=B2),0,1) -> 1 | B3: 6 | C3: 2019 | D3: CNTT | E3: 60 | F3: Trần Thị Hòa | H3: 32056 | J3: Tiến sỹ | K3: Bản đồ | L3: 2019 | M3: Đào tạo ở nước ngoài | P3: Tiến sỹ | Q3: B1 | S3: Khoa CNTT | T3: x | Y3: x
A4: =IF(AND(F4=F3,G4=G3,B4=B3),0,1) -> 0 | B4: 6 | C4: 2018 | D4: CNTT | E4: 60 | F4: Trần Thị Hòa | H4: 32056 | J4: Tiến sỹ | K4: Bản đồ | L4: 2019 | M4: Đào tạo ở nước ngoài | P4: Tiến sỹ | Q4: B1 | S4: Khoa CNTT | T4: x | Y4: x
A5: =IF(AND(F5=F4,G5=G4,B5=B4),0,1) -> 0 | B5: 6 | C5: 2017 | D5: CNTT | E5: 60 | F5: Trần Thị Hòa | H5: 32056 | J5: Tiến sỹ | K5: Bản đồ | L5: 2019 | M5: Đào tạo ở nước ngoài | P5: Tiến sỹ | Q5: B1 | S5: Khoa CNTT | T5: x | Y5: x
A6: =IF(AND(F6=F5,G6=G5,B6=B5),0,1) -> 0 | B6: 6 | C6: 2016 | D6: CNTT | E6: 60 | F6: Trần Thị Hòa | H6: 32056 | J6: Tiến sỹ | K6: Bản đồ | L6: 2019 | M6: Đào tạo ở nước ngoài | P6: Tiến sỹ | Q6: B1 | S6: Khoa CNTT | T6: x | Y6: x
A7: =IF(AND(F7=F6,G7=G6,B7=B6),0,1) -> 0 | B7: 6 | C7: 2015 | D7: CNTT | E7: 60 | F7: Trần Thị Hòa | H7: 32056 | J7: Tiến sỹ | K7: Bản đồ | L7: 2019 | M7: Đào tạo ở nước ngoài | P7: Tiến sỹ | Q7: B1 | S7: Khoa CNTT | T7: x | Y7: x
A8: =IF(AND(F8=F7,G8=G7,B8=B7),0,1) -> 0 | B8: 6 | C8: 2014 | D8: CNTT | E8: 60 | F8: Trần Thị Hòa | H8: 32056 | J8: Tiến sỹ | K8: Bản đồ | L8: 2019 | M8: Đào tạo ở nước ngoài | P8: Tiến sỹ | Q8: B1 | S8: Khoa CNTT | T8: x | Y8: x
A9: =IF(AND(F9=F8,G9=G8,B9=B8),0,1) -> 1 | B9: 6 | C9: 2019 | D9: CNTT | E9: 35 | F9: Bùi Thế Vinh | G9: 29109 | J9: Tiến sỹ | K9: Công nghệ thông tin | L9: 2016 | M9: Đào tạo ở nước ngoài | P9: Tiến sỹ | Q9: B1 | S9: Khoa CNTT | T9: x | Y9: x
A10: =IF(AND(F10=F9,G10=G9,B10=B9),0,1) -> 0 | B10: 6 | C10: 2018 | D10: CNTT | E10: 35 | F10: Bùi Thế Vinh | G10: 29109 | J10: Tiến sỹ | K10: Công nghệ thông tin | L10: 2016 | M10: Đào tạo ở nước ngoài | P10: Tiến sỹ | Q10: B1 | S10: Khoa CNTT | T10: x | Y10: x
A11: =IF(AND(F11=F10,G11=G10,B11=B10),0,1) -> 0 | B11: 6 | C11: 2017 | D11: CNTT | E11: 35 | F11: Bùi Thế Vinh | G11: 29109 | J11: Tiến sỹ | K11: Công nghệ thông tin | L11: 2016 | M11: Đào tạo ở nước ngoài | P11: Tiến sỹ | Q11: B1 | S11: Khoa CNTT | T11: x | Y11: x
A12: =IF(AND(F12=F11,G12=G11,B12=B11),0,1) -> 0 | B12: 6 | C12: 2016 | D12: CNTT | E12: 35 | F12: Bùi Thế Vinh | G12: 29109 | J12: Tiến sỹ | K12: Công nghệ thông tin | L12: 2016 | M12: Đào tạo ở nước ngoài | P12: Tiến sỹ | Q12: B1 | S12: Khoa CNTT | T12: x | Y12: x
A13: =IF(AND(F13=F12,G13=G12,B13=B12),0,1) -> 0 | B13: 6 | C13: 2015 | D13: CNTT | E13: 35 | F13: Bùi Thế Vinh | G13: 29109 | J13: Tiến sỹ | K13: Công nghệ thông tin | L13: 2016 | M13: Đào tạo ở nước ngoài | P13: Tiến sỹ | Q13: B1 | S13: Khoa CNTT | T13: x | Y13: x
A14: =IF(AND(F14=F13,G14=G13,B14=B13),0,1) -> 0 | B14: 6 | C14: 2014 | D14: CNTT | E14: 35 | F14: Bùi Thế Vinh | G14: 29109 | J14: Tiến sỹ | K14: Công nghệ thông tin | L14: 2016 | M14: Đào tạo ở nước ngoài | P14: Tiến sỹ | Q14: B1 | S14: Khoa CNTT | T14: x | Y14: x
A15: =IF(AND(F15=F14,G15=G14,B15=B14),0,1) -> 1 | B15: 6 | C15: 2019 | D15: CNTT | E15: 10 | F15: Bùi Thị ánh Nguyệt | H15: 24/01/1975 | J15: Thạc sỹ | K15: Công nghệ thông t in | L15: 2017 | M15: Viện ĐH Mở Hà nội | P15: Thạc sỹ | Q15: B1 | S15: Khoa CNTT | T15: x | Y15: x
A16: =IF(AND(F16=F15,G16=G15,B16=B15),0,1) -> 0 | B16: 6 | C16: 2018 | D16: CNTT | E16: 10 | F16: Bùi Thị ánh Nguyệt | H16: 24/01/1975 | J16: Thạc sỹ | K16: Công nghệ thông t in | L16: 2017 | M16: Viện ĐH Mở Hà nội | P16: Thạc sỹ | Q16: B1 | S16: Khoa CNTT | T16: x | Y16: x
A17: =IF(AND(F17=F16,G17=G16,B17=B16),0,1) -> 0 | B17: 6 | C17: 2017 | D17: CNTT | E17: 10 | F17: Bùi Thị ánh Nguyệt | H17: 24/01/1975 | J17: Thạc sỹ | K17: Công nghệ thông t in | L17: 2017 | M17: Viện ĐH Mở Hà nội | P17: Thạc sỹ | Q17: B1 | S17: Khoa CNTT | T17: x | Y17: x
A18: =IF(AND(F18=F17,G18=G17,B18=B17),0,1) -> 0 | B18: 6 | C18: 2016 | D18: CNTT | E18: 10 | F18: Bùi Thị ánh Nguyệt | H18: 24/01/1975 | J18: Thạc sỹ | K18: Công nghệ thông t in | L18: 2017 | M18: Viện ĐH Mở Hà nội | P18: Thạc sỹ | Q18: B1 | S18: Khoa CNTT | T18: x | Y18: x
A19: =IF(AND(F19=F18,G19=G18,B19=B18),0,1) -> 0 | B19: 6 | C19: 2015 | D19: CNTT | E19: 10 | F19: Bùi Thị ánh Nguyệt | H19: 24/01/1975 | J19: Thạc sỹ | K19: Công nghệ thông t in | L19: 2017 | M19: Viện ĐH Mở Hà nội | P19: Thạc sỹ | Q19: B1 | S19: Khoa CNTT | T19: x | Y19: x
A20: =IF(AND(F20=F19,G20=G19,B20=B19),0,1) -> 0 | B20: 6 | C20: 2014 | D20: CNTT | E20: 10 | F20: Bùi Thị ánh Nguyệt | H20: 24/01/1975 | J20: Thạc sỹ | K20: Công nghệ thông t in | L20: 2017 | M20: Viện ĐH Mở Hà nội | P20: Thạc sỹ | Q20: B1 | S20: Khoa CNTT | T20: x | Y20: x
A21: =IF(AND(F21=F20,G21=G20,B21=B20),0,1) -> 1 | B21: 6 | C21: 2019 | D21: CNTT | E21: 6 | F21: Bùi Thị Vân Anh | H21: 26730 | J21: Thạc sỹ | K21: Công nghệ thông tin | L21: 2006 | M21: Học viện Kỹ thuật quân sự | P21: Thạc sỹ | Q21: B1 | S21: Khoa CNTT | T21: x | Y21: x
A22: =IF(AND(F22=F21,G22=G21,B22=B21),0,1) -> 0 | B22: 6 | C22: 2018 | D22: CNTT | E22: 6 | F22: Bùi Thị Vân Anh | H22: 26730 | J22: Thạc sỹ | K22: Công nghệ thông tin | L22: 2006 | M22: Học viện Kỹ thuật quân sự | P22: Thạc sỹ | Q22: B1 | S22: Khoa CNTT | T22: x | Y22: x
A23: =IF(AND(F23=F22,G23=G22,B23=B22),0,1) -> 0 | B23: 6 | C23: 2017 | D23: CNTT | E23: 6 | F23: Bùi Thị Vân Anh | H23: 26730 | J23: Thạc sỹ | K23: Công nghệ thông tin | L23: 2006 | M23: Học viện Kỹ thuật quân sự | P23: Thạc sỹ | Q23: B1 | S23: Khoa CNTT | T23: x | Y23: x
A24: =IF(AND(F24=F23,G24=G23,B24=B23),0,1) -> 0 | B24: 6 | C24: 2016 | D24: CNTT | E24: 6 | F24: Bùi Thị Vân Anh | H24: 26730 | J24: Thạc sỹ | K24: Công nghệ thông tin | L24: 2006 | M24: Học viện Kỹ thuật quân sự | P24: Thạc sỹ | Q24: B1 | S24: Khoa CNTT | T24: x | Y24: x
A25: =IF(AND(F25=F24,G25=G24,B25=B24),0,1) -> 0 | B25: 6 | C25: 2015 | D25: CNTT | E25: 6 | F25: Bùi Thị Vân Anh | H25: 26730 | J25: Thạc sỹ | K25: Công nghệ thông tin | L25: 2006 | M25: Học viện Kỹ thuật quân sự | P25: Thạc sỹ | Q25: B1 | S25: Khoa CNTT | T25: x | Y25: x
A26: =IF(AND(F26=F25,G26=G25,B26=B25),0,1) -> 0 | B26: 6 | C26: 2014 | D26: CNTT | E26: 6 | F26: Bùi Thị Vân Anh | H26: 26730 | J26: Thạc sỹ | K26: Công nghệ thông tin | L26: 2006 | M26: Học viện Kỹ thuật quân sự | P26: Thạc sỹ | Q26: B1 | S26: Khoa CNTT | T26: x | Y26: x
A27: =IF(AND(F27=F26,G27=G26,B27=B26),0,1) -> 1 | B27: 3 | C27: 2016 | D27: CNTT | E27: 66 | F27: Cảnh Chí Thanh | G27: 30/12/1955 | J27: Thạc sỹ | K27: Công nghệ thông tin | L27: 1985 | M27: Trường ĐH Mỏ địa chất Hà nội | S27: Khoa CNTT | T27: x | Y27: x
A28: =IF(AND(F28=F27,G28=G27,B28=B27),0,1) -> 0 | B28: 3 | C28: 2015 | D28: CNTT | E28: 66 | F28: Cảnh Chí Thanh | G28: 30/12/1955 | J28: Thạc sỹ | K28: Công nghệ thông tin | L28: 1985 | M28: Trường ĐH Mỏ địa chất Hà nội | S28: Khoa CNTT | T28: x | Y28: x
A29: =IF(AND(F29=F28,G29=G28,B29=B28),0,1) -> 0 | B29: 3 | C29: 2014 | D29: CNTT | E29: 66 | F29: Cảnh Chí Thanh | G29: 30/12/1955 | J29: Thạc sỹ | K29: Công nghệ thông tin | L29: 1985 | M29: Trường ĐH Mỏ địa chất Hà nội | P29: Thạc sỹ | Q29: B2 | S29: Khoa CNTT | T29: x | Y29: x
A30: =IF(AND(F30=F29,G30=G29,B30=B29),0,1) -> 1 | B30: 6 | C30: 2019 | D30: CNTT | E30: 47 | F30: Diêm Công Hoàng | G30: 18/04/1982 | J30: Tiến sỹ | K30: Kỹ thuật truyền thông và tin học | L30: 2016 | M30: Đào tạo ở nước ngoài | P30: Tiến sỹ | Q30: B1 | R30: Phó GĐ Trung tâm | S30: Khoa CNTT | T30: x | Y30: x
A31: =IF(AND(F31=F30,G31=G30,B31=B30),0,1) -> 0 | B31: 6 | C31: 2018 | D31: CNTT | E31: 47 | F31: Diêm Công Hoàng | G31: 18/04/1982 | J31: Tiến sỹ | K31: Kỹ thuật truyền thông và tin học | L31: 2016 | M31: Đào tạo ở nước ngoài | P31: Tiến sỹ | Q31: B1 | R31: Phó GĐ Trung tâm | S31: Khoa CNTT | T31: x | Y31: x
A32: =IF(AND(F32=F31,G32=G31,B32=B31),0,1) -> 0 | B32: 6 | C32: 2017 | D32: CNTT | E32: 47 | F32: Diêm Công Hoàng | G32: 18/04/1982 | J32: Tiến sỹ | K32: Kỹ thuật truyền thông và tin học | L32: 2016 | M32: Đào tạo ở nước ngoài | P32: Tiến sỹ | Q32: B1 | R32: Phó Trưởng Bộ môn | S32: Khoa CNTT | T32: x | Y32: x
A33: =IF(AND(F33=F32,G33=G32,B33=B32),0,1) -> 0 | B33: 6 | C33: 2016 | D33: CNTT | E33: 47 | F33: Diêm Công Hoàng | G33: 18/04/1982 | J33: Tiến sỹ | K33: Kỹ thuật truyền thông và tin học | L33: 2016 | M33: Đào tạo ở nước ngoài | P33: Tiến sỹ | Q33: B1 | S33: Khoa CNTT | T33: x | Y33: x
A34: =IF(AND(F34=F33,G34=G33,B34=B33),0,1) -> 0 | B34: 6 | C34: 2015 | D34: CNTT | E34: 47 | F34: Diêm Công Hoàng | G34: 18/04/1982 | J34: Tiến sỹ | K34: Kỹ thuật truyền thông và tin học | L34: 2016 | M34: Đào tạo ở nước ngoài | P34: Tiến sỹ | Q34: B1 | S34: Khoa CNTT | T34: x | Y34: x
A35: =IF(AND(F35=F34,G35=G34,B35=B34),0,1) -> 0 | B35: 6 | C35: 2014 | D35: CNTT | E35: 47 | F35: Diêm Công Hoàng | G35: 18/04/1982 | J35: Tiến sỹ | K35: Kỹ thuật truyền thông và tin học | L35: 2016 | M35: Đào tạo ở nước ngoài | P35: Tiến sỹ | Q35: B1 | S35: Khoa CNTT | T35: x | Y35: x
A36: =IF(AND(F36=F35,G36=G35,B36=B35),0,1) -> 1 | B36: 6 | C36: 2019 | D36: CNTT | E36: 17 | F36: Diêm Thị Thuỳ | H36: 24/10/1977 | J36: Thạc sỹ | K36: Bản đồ, viễn thám và hệ thông tin địa lý | L36: 2001 | M36: Trường ĐH Mỏ địa chất Hà nội | P36: Thạc sỹ | Q36: B1 | S36: Khoa CNTT | T36: x | Y36: x
A37: =IF(AND(F37=F36,G37=G36,B37=B36),0,1) -> 0 | B37: 6 | C37: 2018 | D37: CNTT | E37: 17 | F37: Diêm Thị Thuỳ | H37: 24/10/1977 | J37: Thạc sỹ | K37: Bản đồ, viễn thám và hệ thông tin địa lý | L37: 2001 | M37: Trường ĐH Mỏ địa chất Hà nội | P37: Thạc sỹ | Q37: B1 | S37: Khoa CNTT | T37: x | Y37: x
A38: =IF(AND(F38=F37,G38=G37,B38=B37),0,1) -> 0 | B38: 6 | C38: 2017 | D38: CNTT | E38: 17 | F38: Diêm Thị Thuỳ | H38: 24/10/1977 | J38: Thạc sỹ | K38: Bản đồ, viễn thám và hệ thông tin địa lý | L38: 2001 | M38: Trường ĐH Mỏ địa chất Hà nội | P38: Thạc sỹ | Q38: B1 | S38: Khoa CNTT | T38: x | Y38: x
A39: =IF(AND(F39=F38,G39=G38,B39=B38),0,1) -> 0 | B39: 6 | C39: 2016 | D39: CNTT | E39: 17 | F39: Diêm Thị Thuỳ | H39: 24/10/1977 | J39: Thạc sỹ | K39: Bản đồ, viễn thám và hệ thông tin địa lý | L39: 2001 | M39: Trường ĐH Mỏ địa chất Hà nội | P39: Thạc sỹ | Q39: B1 | S39: Khoa CNTT | T39: x | Y39: x
A40: =IF(AND(F40=F39,G40=G39,B40=B39),0,1) -> 0 | B40: 6 | C40: 2015 | D40: CNTT | E40: 17 | F40: Diêm Thị Thuỳ | H40: 24/10/1977 | J40: Thạc sỹ | K40: Bản đồ, viễn thám và hệ thông tin địa lý | L40: 2001 | M40: Trường ĐH Mỏ địa chất Hà nội | P40: Thạc sỹ | Q40: B1 | S40: Khoa CNTT | T40: x | Y40: x
...

Sheet Sheet3
D1: STT | E1: Họ và tên | F1: Ngày tháng năm sinh | L1: Trình độ nghiệp vụ | P1: Chức vụ (từ phó Trưởng BM trở lên) | Q1: Đơn vị công tác | R1: Phân loại giảng viên | W1: Các khóa bồi dưỡng về NVSP đã tham gia trong quá trình đánh giá
A2: SL | B2: Nam | C2: Khoa | F2: Nam | G2: Nữ | H2: Học hàm/học vị | I2: Năm tốt nghiệp TĐCM | J2: Năm TN | K2: Nơi TN | L2: QLNN | M2: LLCT | N2: Tin học | O2: Ngoại ngữ | R2: Biên chế | S2: HĐ dài hạn | T2: kiêm nhiệm | U2: Thỉnh giảng | V2: Quốc tế
A3: 6 | B3: 2019 | C3: CNTT | D3: 60 | E3: Trần Thị Hòa | G3: 32056 | H3: Tiến sỹ | I3: Bản đồ | J3: 2019 | K3: Đào tạo ở nước ngoài | N3: Tiến sỹ | O3: B1 | Q3: Khoa CNTT | R3: x | W3: x
A4: 6 | B4: 2019 | C4: CNTT | D4: 35 | E4: Bùi Thế Vinh | F4: 29109 | H4: Tiến sỹ | I4: Công nghệ thông tin | J4: 2016 | K4: Đào tạo ở nước ngoài | N4: Tiến sỹ | O4: B1 | Q4: Khoa CNTT | R4: x | W4: x
A5: 6 | B5: 2019 | C5: CNTT | D5: 10 | E5: Bùi Thị ánh Nguyệt | G5: 24/01/1975 | H5: Thạc sỹ | I5: Công nghệ thông t in | J5: 2017 | K5: Viện ĐH Mở Hà nội | N5: Thạc sỹ | O5: B1 | Q5: Khoa CNTT | R5: x | W5: x
A6: 6 | B6: 2019 | C6: CNTT | D6: 6 | E6: Bùi Thị Vân Anh | G6: 26730 | H6: Thạc sỹ | I6: Công nghệ thông tin | J6: 2006 | K6: Học viện Kỹ thuật quân sự | N6: Thạc sỹ | O6: B1 | Q6: Khoa CNTT | R6: x | W6: x
A7: 3 | B7: 2016 | C7: CNTT | D7: 66 | E7: Cảnh Chí Thanh | F7: 30/12/1955 | H7: Thạc sỹ | I7: Công nghệ thông tin | J7: 1985 | K7: Trường ĐH Mỏ địa chất Hà nội | Q7: Khoa CNTT | R7: x | W7: x
A8: 6 | B8: 2019 | C8: CNTT | D8: 47 | E8: Diêm Công Hoàng | F8: 18/04/1982 | H8: Tiến sỹ | I8: Kỹ thuật truyền thông và tin học | J8: 2016 | K8: Đào tạo ở nước ngoài | N8: Tiến sỹ | O8: B1 | P8: Phó GĐ Trung tâm | Q8: Khoa CNTT | R8: x | W8: x
A9: 6 | B9: 2019 | C9: CNTT | D9: 17 | E9: Diêm Thị Thuỳ | G9: 24/10/1977 | H9: Thạc sỹ | I9: Bản đồ, viễn thám và hệ thông tin địa lý | J9: 2001 | K9: Trường ĐH Mỏ địa chất Hà nội | N9: Thạc sỹ | O9: B1 | Q9: Khoa CNTT | R9: x | W9: x
A10: 6 | B10: 2019 | C10: CNTT | D10: 12 | E10: Dương Chí Thiện | F10: 27944 | H10: Thạc sỹ | I10: Công nghệ thông tin | J10: 2006 | K10: Trường ĐH Khoa học tự nhiên (ĐHQGHN) | N10: Thạc sỹ | O10: B1 | Q10: Khoa CNTT | R10: x | W10: x
A11: 6 | B11: 2019 | C11: CNTT | D11: 21 | E11: Dương Thị Hiền Thanh | G11: 22/05/1978 | H11: Tiến sỹ | I11: Công nghệ thông tin | J11: 2019 | K11: Trường ĐH Bách khoa Hà nội | N11: Tiến sỹ | O11: B1 | P11: Trưởng Bộ môn | Q11: Khoa CNTT | R11: x | W11: x
A12: 6 | B12: 2019 | C12: CNTT | D12: 8 | E12: Dương Thị Tâm | G12: 27008 | H12: Thạc sỹ | I12: Địa chất công trình | J12: 2003 | K12: Trường ĐH Mỏ địa chất Hà nội | N12: Thạc sỹ | O12: B1 | Q12: Khoa CNTT | R12: x | W12: x
A13: 6 | B13: 2019 | C13: CNTT | D13: 39 | E13: Đào Anh Thư | G13: 29316 | H13: Thạc sỹ | I13: Hệ thống thông tin | J13: 2014 | K13: Trường ĐH Bách khoa Hà nội | N13: Thạc sỹ | O13: B1 | Q13: Khoa CNTT | R13: x | W13: x
A14: 6 | B14: 2019 | C14: CNTT | D14: 58 | E14: Đào THị Hồng Thắm | G14: 14/02/1986 | H14: Thạc sỹ | I14: Bản đồ, viễn thám và hệ thông tin địa lý | J14: 2018 | K14: Trường ĐH Mỏ địa chất Hà nội | N14: Thạc sỹ | O14: B1 | Q14: Khoa CNTT | R14: x | W14: x
A15: 6 | B15: 2019 | C15: CNTT | D15: 9 | E15: Đào Thị Tuyết | G15: 27090 | H15: Thạc sỹ | I15: Công nghệ thông t in | J15: 2019 | K15: Trường ĐH Mỏ địa chất Hà nội | N15: Thạc sỹ | O15: B1 | Q15: Khoa CNTT | R15: x | W15: x
A16: 6 | B16: 2019 | C16: CNTT | D16: 25 | E16: Đào Thị Thu Vân | G16: 18/11/1978 | H16: Tiến sỹ | I16: Quản lý giáo dục | J16: 2014 | K16: Đào tạo ở nước ngoài | N16: Tiến sỹ | O16: B1 | P16: Phó Trưởng Bộ môn | Q16: Khoa CNTT | R16: x | W16: x
A17: 6 | B17: 2019 | C17: CNTT | D17: 4 | E17: Đặng Hữu Nghị | F17: 19/10/1972 | H17: Thạc sỹ | I17: Tin học | J17: 2005 | K17: Trường ĐH Bách khoa Hà nội | N17: Thạc sỹ | O17: B1 | Q17: Khoa CNTT | R17: x | W17: x
A18: 6 | B18: 2019 | C18: CNTT | D18: 61 | E18: Đặng Quốc Trung | F18: 32600 | H18: Đại học | I18: Công nghệ thông tin | J18: 2011 | K18: Trường ĐH Mỏ địa chất Hà nội | N18: Đại học | O18: B1 | Q18: Khoa CNTT | R18: x | W18: x
A19: 6 | B19: 2019 | C19: CNTT | D19: 56 | E19: Đặng Văn Nam | F19: 31055 | H19: Thạc sỹ | I19: Hệ thống thông tin | J19: 2012 | K19: Đại học Công nghệ - Đại học Quốc gia Hà Nội | N19: Thạc sỹ | O19: B1 | P19: Phó Trưởng Bộ môn | Q19: Khoa CNTT | R19: x | W19: x
A20: 6 | B20: 2019 | C20: CNTT | D20: 53 | E20: Đặng Xuân Điệp | F20: 30933 | H20: Thạc sỹ | I20: Hệ thống thông tin | J20: 2013 | K20: Học viện CN Bưu chính Viễn thông | N20: Thạc sỹ | O20: B1 | Q20: Khoa CNTT | R20: x | W20: x
A21: 6 | B21: 2019 | C21: CNTT | D21: 63 | E21: Đinh Bảo Ngọc | F21: 16/12/1989 | H21: Thạc sỹ | I21: Tin học ứng dụng | J21: 2019 | K21: Đào tạo ở nước ngoài | N21: Thạc sỹ | O21: B1 | Q21: Khoa CNTT | R21: x | W21: x
A22: 6 | B22: 2019 | C22: CNTT | D22: 45 | E22: Đoàn Khánh Hoàng | F22: 24/01/1981 | H22: Thạc sỹ | I22: Công nghệ thông tin | J22: 2012 | K22: Trường ĐH Bách khoa Hà nội | N22: Thạc sỹ | O22: B1 | Q22: Khoa CNTT | R22: x | W22: x
A23: 6 | B23: 2017 | C23: CNTT | D23: 65 | E23: Đỗ Anh Tuấn | F23: 14/7/1982 | H23: Thạc sỹ | I23: Công nghệ thông tin | J23: 2009 | K23: Trường ĐH Mỏ địa chất Hà nội | N23: Thạc sỹ | O23: B1 | Q23: Khoa CNTT | R23: x | W23: x
A24: 6 | B24: 2019 | C24: CNTT | D24: 65 | E24: Đỗ Anh Tuấn | H24: Thạc sỹ | I24: Công nghệ thông tin | K24: Trường ĐH Mỏ địa chất Hà nội | N24: Thạc sỹ | O24: B1 | Q24: Khoa CNTT | R24: x | W24: x
A25: 6 | B25: 2019 | C25: CNTT | D25: 18 | E25: Đỗ Như Hải | F25: 28226 | H25: Thạc sỹ | I25: Tin học | J25: 2002 | K25: Trường ĐH Khoa học tự nhiên (ĐHQGHN) | N25: Thạc sỹ | O25: B1 | Q25: Khoa CNTT | R25: x | W25: x
A26: 6 | B26: 2019 | C26: CNTT | D26: 50 | E26: Hoàng Anh Đức | F26: 17/03/1984 | H26: Thạc sỹ | I26: Tin học | J26: 2012 | K26: Đào tạo ở nước ngoài | N26: Thạc sỹ | O26: B1 | P26: Phó Trưởng Bộ môn | Q26: Khoa CNTT | R26: x | W26: x
A27: 3 | B27: 2016 | C27: CNTT | D27: 67 | E27: Hoàng Kim Bảng | F27: 17/02/1956 | H27: Thạc sỹ | I27: Công nghệ thông tin | J27: 1987 | K27: Trường ĐH Mỏ địa chất Hà nội | Q27: Khoa CNTT | R27: x | W27: x
A28: 6 | B28: 2019 | C28: CNTT | D28: 49 | E28: Hồ Thị Thảo Trang | G28: 30600 | H28: Thạc sỹ | I28: Tin học | J28: 2009 | K28: Đào tạo ở nước ngoài | N28: Thạc sỹ | O28: B1 | Q28: Khoa CNTT | R28: x | W28: x
A29: 6 | B29: 2019 | C29: CNTT | D29: 40 | E29: Lê Hồng Anh | F29: 17/10/1980 | H29: Tiến sỹ | I29: Công nghệ thông tin | J29: 2015 | K29: Trường ĐH Khoa học tự nhiên (ĐHQGHN) | N29: Tiến sỹ | O29: B1 | P29: Trưởng Khoa | Q29: Khoa CNTT | R29: x | W29: x
A30: 6 | B30: 2019 | C30: CNTT | D30: 2 | E30: Lê Thanh Huệ | G30: 15/09/1964 | H30: Phó Giáo sư/Tiến sỹ | I30: Toán Tin | J30: 2010 | K30: Trường ĐH Khoa học tự nhiên (ĐHQGHN) | N30: Tiến sỹ | O30: B4 | P30: Phó Trưởng Khoa | Q30: Khoa CNTT | R30: x | W30: x
A31: 6 | B31: 2019 | C31: CNTT | D31: 5 | E31: Lê Văn Hưng | F31: 26671 | H31: Phó Giáo sư/Tiến sỹ | I31: Công nghệ thông t in | J31: 2010 | K31: Đào tạo ở nước ngoài | N31: Tiến sỹ | O31: B4 | P31: Giám đốc Trung tâm | Q31: Khoa CNTT | R31: x | W31: x
A32: 6 | B32: 2019 | C32: CNTT | D32: 11 | E32: Nông Thị Oanh | G32: 29/10/1975 | H32: Thạc sỹ | I32: Công nghệ thông tin | J32: 2013 | K32: Trường ĐH Mỏ địa chất Hà nội | N32: Thạc sỹ | O32: B1 | Q32: Khoa CNTT | R32: x | W32: x
A33: 6 | B33: 2019 | C33: CNTT | D33: 13 | E33: Ngô Hùng Long | F33: 14/05/1976 | H33: Thạc sỹ | I33: Địa chất công trình | J33: 1999 | K33: Trường ĐH Mỏ địa chất Hà nội | N33: Thạc sỹ | O33: B1 | Q33: Khoa CNTT | R33: x | W33: x
A34: 6 | B34: 2019 | C34: CNTT | D34: 22 | E34: Ngô Thị Phương Thảo | G34: 26/06/1978 | H34: Thạc sỹ | I34: Trắc địa | J34: 2007 | K34: Trường ĐH Mỏ địa chất Hà nội | N34: Thạc sỹ | O34: B1 | Q34: Khoa CNTT | R34: x | W34: x
A35: 6 | B35: 2019 | C35: CNTT | D35: 34 | E35: Nguyễn Duy Huy | F35: 28986 | H35: Tiến sỹ | I35: Công nghệ thông tin | J35: 2017 | K35: Trường ĐH Mỏ địa chất Hà nội | N35: Tiến sỹ | O35: B1 | P35: Phó Trưởng Khoa | Q35: Khoa CNTT | R35: x | W35: x
A36: 6 | B36: 2019 | C36: CNTT | D36: 54 | E36: Nguyễn Hoàng Long | F36: 17/10/1984 | H36: Tiến sỹ | I36: Công nghệ thông tin | J36: 2019 | K36: Đào tạo ở nước ngoài | N36: Tiến sỹ | O36: B1 | P36: Phó Trưởng Bộ môn | Q36: Khoa CNTT | R36: x | W36: x
A37: 6 | B37: 2019 | C37: CNTT | D37: 19 | E37: Nguyễn Quang Khánh | F37: 25/02/1978 | H37: Tiến sỹ | I37: Trắc địa | J37: 2011 | K37: Trường ĐH Mỏ địa chất Hà nội | N37: Tiến sỹ | O37: B1 | Q37: Khoa CNTT | R37: x | W37: x
A38: 6 | B38: 2019 | C38: CNTT | D38: 14 | E38: Nguyễn Tuấn Anh | F38: 20/11/1976 | H38: Thạc sỹ | I38: Toán Tin | J38: 2000 | K38: Trường ĐH Dân lập Thăng long (HN) | N38: Thạc sỹ | O38: B1 | Q38: Khoa CNTT | R38: x | W38: x
A39: 6 | B39: 2019 | C39: CNTT | D39: 51 | E39: Nguyễn Thế Bình | F39: 30990 | H39: Thạc sỹ | I39: Kinh tế công nghiệp | J39: 2010 | K39: Trường ĐH Mỏ địa chất Hà nội | N39: Thạc sỹ | O39: B1 | Q39: Khoa CNTT | R39: x | W39: x
A40: 6 | B40: 2019 | C40: CNTT | D40: 48 | E40: Nguyễn Thế Lộc | F40: 30/06/1982 | H40: Tiến sỹ | I40: Công nghệ thông tin | J40: 2018 | K40: Đào tạo ở nước ngoài | N40: Tiến sỹ | O40: B1 | P40: Phó Trưởng phòng | Q40: Khoa CNTT | R40: x | W40: x
...

Sheet B2. Thong ke GV
A2: Bảng 2. Thống kê đội ngũ giảng viên
A4: Phân loại | B4: Nam | C4: Nữ | D4: Tổng cộng | F4: Tỉ lệ % trên tổng số Tiến sĩ
D5: Số lượng | E5: FTE
A6: Giáo sư
A7: Phó Giáo sư
A8: Giảng viên toàn thời gian
A9: Giảng viên bán thời gian
A10: Giảng viên thỉnh giảng
A11: Tổng cộng

Sheet B3. Trinh do GV
A2: Bảng 3. Thống kê trình độ của đội ngũ giảng viên theo năm học
A4: Năm học | B4: Tổng cộng | C4: Giáo sư | D4: Phó Giáo sư | E4: Tiến sĩ | F4: Thạc sĩ | G4: Đại học
A5: 2013-2014
A6: 2014-2015
A7: 2015-2016
A8: 2016-2017
A9: 2017-2018
