Workbook

Sheet nha A-kA 
A1: BỘ GIÁO DỤC VÀ ĐÀO TẠO
A2: TRƯỜNG ĐẠI HỌC MỎ - ĐỊA CHẤT
A4: DANH MỤC TRANG THIẾT BỊ PHÒNG HỌC NHÀ A - KHU A
A6: Phòng học | B6: Số gian | C6: Bàn ghế GV | D6: Bàn ghế SV | E6: Bảng viết | F6: Quạt đảo treo trần | G6: Đèn tuýp | H6: Kệ máy chiếu | I6: Máy chiếu | J6: Trang âm | K6: Ghi chú
A7: Tầng 1 | C7: Phòng làm việc các đơn vị
A8: A2.01 | B8: 3 | C8: Chương trình tiên tiến
A9: A2.02 | B9: 2 | C9: Phòng học ngoại ngữ
A10: A2.03 | B10: 2 | C10: 1 | D10: 24 | E10: 1 | F10: 9 | G10: 11 | H10: 1 | I10: 1
A11: A2.04 | B11: 2 | C11: 1 | D11: 24 | E11: 1 | F11: 9 | G11: 11 | H11: 1 | I11: 1
A12: A2.05 | B12: 2 | C12: 1 | D12: 24 | E12: 1 | F12: 9 | G12: 11 | H12: 1 | I12: 1
A13: A2.06 | B13: 2 | C13: 1 | D13: 24 | E13: 1 | F13: 9 | G13: 11 | H13: 1 | I13: 1
A14: A2.07 | B14: 3 | C14: 1 | D14: 32 | E14: 1 | F14: 13 | G14: 17 | H14: 1 | I14: 1 | J14: 1
A15: A2.08 | B15: 3 | C15: 1 | D15: 40 | E15: 1 | F15: 13 | G15: 17 | H15: 1 | I15: 1 | J15: 1
A16: A3.01 | B16: 3 | C16: Chương trình tiên tiến
A17: A3.02 | B17: 3 | C17: Chương trình tiên tiến
A18: A3.03 | B18: 2 | C18: 1 | D18: 24 | E18: 1 | F18: 9 | G18: 11 | H18: 1 | I18: 1
A19: A3.04 | B19: 2 | C19: 1 | D19: 24 | E19: 1 | F19: 9 | G19: 11 | H19: 1 | I19: 1
A20: A3.05 | B20: 2 | C20: 1 | D20: 24 | E20: 1 | F20: 9 | G20: 11 | H20: 1 | I20: 1
A21: Phòng nghỉ giáo viên | B21: 1
A22: A3.06 | B22: 2 | C22: 1 | D22: 24 | E22: 1 | F22: 9 | G22: 11 | H22: 1 | I22: 1
A23: A3.07 | B23: 2 | C23: 1 | D23: 24 | E23: 1 | F23: 9 | G23: 11 | H23: 1 | I23: 1
A24: A3.08 | B24: 2 | C24: 1 | D24: 24 | E24: 1 | F24: 9 | G24: 11 | H24: 1 | I24: 1
A25: A4.01 | B25: 3 | C25: Chương trình tiên tiến
A26: A4.02 | B26: 2 | C26: 1 | D26: 24 | E26: 1 | F26: 9 | G26: 11 | H26: 1 | I26: 1
A27: A4.03 | B27: 2 | C27: 1 | D27: 24 | E27: 1 | F27: 9 | G27: 11 | H27: 1 | I27: 1
A28: A4.04 | B28: 2 | C28: 1 | D28: 24 | E28: 1 | F28: 9 | G28: 11 | H28: 1 | I28: 1
A29: A4.05 | B29: 2 | C29: 1 | D29: 24 | E29: 1 | F29: 9 | G29: 11 | H29: 2 | I29: 1
A30: A4.06 | B30: 2 | C30: 1 | D30: 24 | E30: 1 | F30: 9 | G30: 11 | H30: 1 | I30: 1
A31: A4.07 | B31: 2 | C31: 1 | D31: 24 | E31: 1 | F31: 9 | G31: 11 | H31: 1 | I31: 1
A32: A4.08 | B32: 2 | C32: 1 | D32: 24 | E32: 1 | F32: 9 | G32: 11 | H32: 1 | I32: 1
A33: A4.09 | B33: 2 | C33: 1 | D33: 24 | E33: 1 | F33: 9 | G33: 11 | H33: 1 | I33: 1
A34: Tầng 5 | C34: PTN vật lý, PTN hóa học
A35: Cộng | C35: =SUM(C7:C34) -> 20 | D35: =SUM(D7:D34) -> 504 | E35: =SUM(E7:E34) -> 20 | F35: =SUM(F7:F34) -> 188 | G35: =SUM(G7:G34) -> 232 | H35: =SUM(H7:H34) -> 21 | I35: =SUM(I7:I34) -> 20 | J35: =SUM(J7:J34) -> 2
D36: =+D35*2 -> 1008
C38: Tổng sl chỗ ngồi | E38: =+D36+'nha B1-kA'!D38+'nha D-kA'!C23+'nha cấp 4-kB'!C26+'khu C'!C19+'Lạng Sơn'!C10 -> 5270
C39: nhà G | E39: =+'nha G-kB'!C52 -> 2442
E40: =+E38+E39 -> 7712
C41: Trang âm | E41: =+J35+'nha B1-kA'!M37+'nha D-kA'!K22+'nha G-kB'!K51 -> 52
C42: Quạt | E42: =+F35+'nha B1-kA'!G37+'nha B1-kA'!I37+'nha D-kA'!F22+'nha D-kA'!G22+'nha D-kA'!E22+'nha cấp 4-kB'!E25+'nha cấp 4-kB'!F25+'khu C'!F18+'khu C'!E18+'Lạng Sơn'!E9+'Lạng Sơn'!F9 -> 661 | F42: =+G42+E43 -> 579 | G42: =+C35*4+21*4+10*4+4*10+'nha cấp 4-kB'!D25+'khu C'!E18+'Lạng Sơn'!E9+'Lạng Sơn'!F9+'nha cấp 4-kB'!F25+'khu C'!F18 -> 359
C43: nhà G | E43: =+'nha G-kB'!E51+'nha G-kB'!F51 -> 220

Sheet nha B1-kA
A1: BỘ GIÁO DỤC VÀ ĐÀO TẠO
A2: TRƯỜNG ĐẠI HỌC MỎ - ĐỊA CHẤT
A4: DANH MỤC TRANG THIẾT BỊ PHÒNG HỌC NHÀ B - KHU A
A6: Phòng học | B6: Số gian | C6: Bàn ghế GV | D6: Bàn ghế SV | E6: Bảng viết | F6: Quạt trần | G6: Quạt đảo treo trần | H6: Quạt treo tường (số liệu tính đến 19/6/2017) | I6: Quạt treo tường | J6: Đèn tuýp | K6: Kệ máy chiếu | L6: Máy chiếu | M6: Trang âm
A7: Tầng 1 | B7: Phòng làm việc, PTN
A8: B2.01 | B8: 2 | C8: 1 | D8: 24 | E8: 1 | G8: 9 | J8: 8 | K8: 1 | L8: 1
A9: B2.02 | B9: 2 | C9: 1 | D9: 24 | E9: 1 | G9: 9 | J9: 8 | K9: 1 | L9: 1
A10: B2.03 | B10: 2 | C10: 1 | D10: 24 | F10: 2 | H10: 1 | I10: 4 | J10: 8 | L10: 1
A11: B2.04 | B11: 3 | C11: 1 | D11: 32 | E11: 1 | F11: 1 | G11: 9 | J11: 12 | L11: 1 | M11: 1
A12: B2.05 | B12: 2 | C12: 1 | D12: 24 | E12: 1 | F12: 4 | G12: 1 | J12: 11 | L12: 1
A13: B2.06 | B13: 2 | C13: 1 | D13: 24 | E13: 1 | F13: 4 | G13: 1 | J13: 11 | L13: 1
A14: B2.07 | B14: 3 | C14: 1 | D14: 32 | E14: 1 | F14: 6 | G14: 1 | J14: 17 | K14: 1 | L14: 1 | M14: 1
A15: B1.301 | B15: 2 | C15: PTN Địa vật lý
A16: B1.302 | B16: 2 | C16: PTN Trắc địa mỏ
A17: B3.03 | B17: 3 | C17: 1 | D17: 36 | E17: 1 | F17: 3 | G17: 1 | H17: 3 | I17: 6 | J17: 6 | K17: 1 | L17: 1 | M17: 1
A18: B1.304 | B18: 2 | C18: PTN Địa chất dầu (PTN Địa chất vỉa)
A19: B3.05 | B19: 2 | C19: 1 | D19: 24 | E19: 1 | G19: 9 | J19: 4 | K19: 1 | L19: 1
A20: B3.06 | B20: 2 | C20: 1 | D20: 24 | E20: 1 | G20: 9 | J20: 4 | K20: 1 | L20: 1
A21: B3.07 | B21: 2 | C21: 1 | D21: 24 | E21: 1 | G21: 9 | J21: 10 | K21: 1 | L21: 1
B22: 1 | C22: Kho phòng QTTB - A Tĩnh
A23: B4.01 | B23: 2 | C23: 1 | D23: 24 | E23: 1 | G23: 9 | J23: 5 | K23: 1 | L23: 1
A24: B1.402 | B24: 2 | C24: PTN Mẫu khoáng sản (BM Khoáng sản)
A25: B1.403 | B25: 2 | C25: PTN Nguyên liệu khoáng
A26: B4.04 | B26: 2 | C26: 1 | D26: 24 | E26: 1 | G26: 9 | J26: 4 | K26: 1 | L26: 1
A27: B4.05 | B27: 2 | C27: 1 | D27: 24 | E27: 1 | G27: 9 | J27: 4 | K27: 1 | L27: 1
A28: B1.406 | B28: 3 | C28: PTN kính hiển vi thạch học (BM Khoáng thạch)
A29: B1.407 | B29: 3 | C29: PTN tinh thể khoáng vật (BM Khoáng thạch)
A30: B5.01 | B30: 2 | C30: 1 | D30: 24 | E30: 1 | F30: 2 | G30: 1 | H30: 3 | I30: 4 | J30: 4 | K30: 1 | L30: 1
A31: B5.02 | B31: 2 | C31: 1 | D31: 24 | E31: 1 | F31: 2 | G31: 1 | H31: 3 | I31: 4 | J31: 4 | K31: 1 | L31: 1
A32: B5.03 | B32: 2 | C32: 1 | D32: 24 | E32: 1 | F32: 2 | G32: 1 | H32: 3 | I32: 4 | J32: 4 | K32: 1 | L32: 1
A33: B5.04 | B33: 2 | C33: 1 | D33: 24 | E33: 1 | F33: 3 | G33: 1 | H33: 1 | I33: 4 | J33: 4 | K33: 1 | L33: 1
A34: B5.05 | B34: 2 | C34: 1 | D34: 24 | E34: 1 | F34: 2 | G34: 1 | H34: 3 | I34: 4 | J34: 4 | K34: 1 | L34: 1
A35: B5.06 | B35: 3 | C35: 1 | D35: 36 | E35: 1 | F35: 3 | G35: 1 | H35: 4 | I35: 6 | J35: 6 | K35: 1 | L35: 1 | M35: 1
A36: B5.07 | B36: 2 | C36: 1 | D36: 24 | E36: 1 | G36: 9 | H36: 3 | I36: 3 | J36: 12 | K36: 1 | L36: 1
A37: Cộng | C37: =SUM(C7:C36) -> 21 | D37: =SUM(D7:D36) -> 544 | E37: =SUM(E7:E36) -> 20 | F37: =SUM(F7:F36) -> 34 | G37: =SUM(G7:G36) -> 100 | H37: =SUM(H7:H36) -> 24 | I37: =SUM(I7:I36) -> 39 | J37: =SUM(J7:J36) -> 150 | ... M37: =SUM(M7:M36) -> 4
D38: =+D37*2 -> 1088

Sheet nha D-kA
A1: BỘ GIÁO DỤC VÀ ĐÀO TẠO
A2: TRƯỜNG ĐẠI HỌC MỎ - ĐỊA CHẤT
A5: DANH MỤC TRANG THIẾT BỊ PHÒNG HỌC NHÀ D - KHU A
A7: Phòng học | B7: Bàn ghế GV | C7: Bàn ghế SV | D7: Bảng viết | E7: Quạt trần | F7: Quạt đảo treo trần | G7: Quạt treo tường | H7: Đèn tuýp | I7: Kệ máy chiếu | J7: Máy chiếu | K7: Trang âm
A8: D1-1 | B8: 1 | C8: 104 | D8: 1 | E8: 16 | H8: 32 | I8: 1 | J8: 1 | K8: 1
A9: D2-1 | B9: 1 | C9: 98 | D9: 1 | E9: 16 | G9: 1 | H9: 32 | I9: 1 | J9: 1 | K9: 1
A10: D2-2 | B10: 1 | C10: 28 | D10: 1 | E10: 2 | F10: 1 | G10: 4 | H10: 8 | I10: 1 | J10: 1 | K10: 1
A11: D2-3 | B11: 1 | C11: 28 | D11: 1 | E11: 2 | F11: 1 | G11: 4 | H11: 8 | J11: 1 | K11: 1
A12: D2-4 | B12: 1 | C12: 28 | D12: 1 | E12: 2 | F12: 1 | G12: 4 | H12: 8 | J12: 1 | K12: 1
A13: D3-1 | B13: 1 | C13: 96 | D13: 1 | E13: 16 | G13: 1 | H13: 32 | I13: 1 | J13: 1 | K13: 1
A14: D3-2 | B14: 1 | C14: 28 | D14: 1 | E14: 2 | F14: 1 | G14: 4 | H14: 8 | I14: 1 | J14: 1 | K14: 1
A15: D3-3 | B15: 1 | C15: 28 | D15: 1 | E15: 2 | F15: 1 | G15: 4 | H15: 8 | I15: 1 | J15: 1 | K15: 1
A16: D3-4 | B16: 1 | C16: 28 | D16: 1 | E16: 2 | F16: 1 | G16: 4 | H16: 8 | I16: 1 | J16: 1 | K16: 1
A17: D4-1 | B17: 1 | C17: 96 | D17: 1 | E17: 16 | G17: 1 | H17: 32 | I17: 1 | J17: 1 | K17: 1
A18: D4-2 | B18: 1 | C18: 44 | D18: 1 | E18: 3 | F18: 1 | G18: 6 | H18: 12 | I18: 1 | J18: 1 | K18: 1
A19: D4-3 | B19: 1 | C19: 44 | D19: 1 | E19: 3 | F19: 1 | G19: 6 | H19: 12 | I19: 1 | J19: 1 | K19: 1
A20: D5-2 | B20: 1 | C20: 44 | D20: 1 | E20: 3 | F20: 1 | G20: 6 | H20: 12 | I20: 1 | J20: 1 | K20: 1
A21: D5-3 | B21: 1 | C21: 44 | D21: 1 | E21: 3 | F21: 1 | G21: 6 | H21: 12 | I21: 1 | J21: 1 | K21: 1
A22: Cộng | B22: =SUM(B8:B21) -> 14 | C22: =SUM(C8:C21) -> 738 | D22: =SUM(D8:D21) -> 14 | E22: =SUM(E8:E21) -> 88 | F22: =SUM(F8:F21) -> 10 | G22: =SUM(G8:G21) -> 51 | H22: =SUM(H8:H21) -> 224 | I22: =SUM(I8:I21) -> 12 | ... K22: =SUM(K8:K21) -> 14
C23: =+C22*2 -> 1476
I24: =+'[1]nha A-kA '!H37 -> Hà Nội, ngày tháng năm 2016
C25: Phòng Quản trị - Thiết bị | I25: Người lập
C29: Phạm Đức Thiên | I29: Trần Thị Hương

Sheet nha G-kB
A1: BỘ GIÁO DỤC VÀ ĐÀO TẠO
A2: TRƯỜNG ĐẠI HỌC MỎ - ĐỊA CHẤT
A4: DANH MỤC TRANG THIẾT BỊ PHÒNG HỌC NHÀ G - KHU B
A6: Phòng học | B6: Bàn ghế GV | C6: Bàn ghế SV | D6: Bảng viết | E6: Quạt trần | F6: Quạt treo tường | G6: Đèn tuýp | H6: Kệ máy chiếu | I6: Máy chiếu | J6: Màn chiếu | K6: Trang âm
A7: G1.01 | B7: 1 | C7: 30 | D7: 1 | E7: 4 | F7: 1 | G7: 12 | H7: 1 | I7: 1 | J7: 1 | K7: 1
A8: G1.02 | B8: 1 | C8: 30 | D8: 1 | E8: 4 | F8: 1 | G8: 12 | H8: 1 | I8: 1 | J8: 1 | K8: 1
A9: G1.03 | B9: 1 | C9: 30 | D9: 1 | E9: 4 | F9: 1 | G9: 12 | H9: 1 | I9: 1 | J9: 1 | K9: 1
A10: G1.04 | B10: 1 | C10: 17 | D10: 1 | E10: 1 | F10: 4 | G10: 4
A11: G1.05 | B11: 1 | C11: 16 | D11: 1 | E11: 1 | F11: 4 | G11: 4
A12: G1.06 | B12: 1 | C12: 30 | D12: 1 | E12: 4 | F12: 1 | G12: 12 | H12: 1 | I12: 1 | J12: 1 | K12: 1
A13: G1.07 | B13: 1 | C13: 30 | D13: 1 | E13: 4 | F13: 1 | G13: 12 | I13: 1 | J13: 1 | K13: 1
A14: G1.08 | B14: 1 | C14: 30 | D14: 1 | E14: 4 | F14: 1 | G14: 12 | H14: 1 | I14: 1 | J14: 1 | K14: 1
A15: G2.01 | B15: 1 | C15: 30 | D15: 1 | E15: 4 | F15: 1 | G15: 12 | I15: 1 | J15: 1 | K15: 1
A16: G2.02 | B16: 1 | C16: 60 | D16: 1 | E16: 8 | F16: 1 | G16: 24 | H16: 1 | I16: 1 | J16: 1 | K16: 1
A17: G2.03 | B17: Phòng QTTB
A18: G2.04 | B18: Phòng nghỉ giáo viên
A19: G2.05 | B19: 1 | C19: 30 | D19: 1 | E19: 4 | F19: 1 | G19: 12 | I19: 1 | J19: 1 | K19: 1
A20: G2.06 | B20: 1 | C20: 60 | D20: 1 | E20: 8 | F20: 1 | G20: 24 | H20: 1 | I20: 1 | J20: 1 | K20: 1
A21: G3.01 | B21: 1 | C21: 30 | D21: 1 | E21: 4 | F21: 1 | G21: 12 | H21: 1 | I21: 1 | J21: 1 | K21: 1
A22: G3.02 | B22: 1 | C22: 60 | D22: 1 | E22: 8 | F22: 1 | G22: 24 | H22: 1 | I22: 1 | J22: 1 | K22: 1
A23: G3.03 | B23: 1 | C23: 13 | D23: 1 | E23: 1 | F23: 3 | G23: 4
A24: G3.04 | B24: 1 | C24: 16 | D24: 1 | E24: 1 | F24: 4 | G24: 4
A25: G3.05 | B25: 1 | C25: 30 | D25: 1 | E25: 4 | F25: 1 | G25: 12 | H25: 1 | I25: 1 | J25: 1 | K25: 1
A26: G3.06 | B26: 1 | C26: 60 | D26: 1 | E26: 8 | F26: 1 | G26: 24 | H26: 1 | I26: 1 | J26: 1 | K26: 1
A27: G4.01 | B27: 1 | C27: 30 | D27: 1 | E27: 4 | F27: 1 | G27: 12 | H27: 1 | I27: 1 | J27: 1 | K27: 1
A28: G4.02 | B28: 1 | C28: 30 | D28: 1 | E28: 4 | F28: 1 | G28: 12 | H28: 1 | I28: 1 | J28: 1 | K28: 1
A29: G4.03 | B29: 1 | C29: 30 | D29: 1 | E29: 4 | F29: 1 | G29: 12 | H29: 1 | I29: 1 | J29: 1 | K29: 1
A30: G4.04 | B30: 1 | C30: 16 | D30: 1 | E30: 1 | F30: 4 | G30: 4
A31: G4.05 | B31: 1 | C31: 15 | D31: 1 | E31: 1 | F31: 4 | G31: 4
A32: G4.06 | B32: 1 | C32: 30 | D32: 1 | E32: 4 | F32: 1 | G32: 12 | H32: 1 | I32: 1 | J32: 1 | K32: 1
A33: G4.07 | B33: 1 | C33: 30 | D33: 1 | E33: 4 | F33: 1 | G33: 12 | H33: 1 | I33: 1 | J33: 1 | K33: 1
A34: G4.08 | B34: 1 | C34: 30 | D34: 1 | E34: 4 | F34: 1 | G34: 12 | H34: 1 | I34: 1 | J34: 1 | K34: 1
A35: G5.01 | B35: 1 | C35: 30 | D35: 1 | E35: 4 | F35: 1 | G35: 12 | H35: 1 | I35: 1 | J35: 1 | K35: 1
A36: G5.02 | B36: 1 | C36: 30 | D36: 1 | E36: 4 | F36: 1 | G36: 12 | H36: 1 | I36: 1 | J36: 1 | K36: 1
A37: G5.03 | B37: 1 | C37: 30 | D37: 1 | E37: 4 | F37: 1 | G37: 12 | H37: 1 | I37: 1 | J37: 1 | K37: 1
A38: G5.04 | B38: 1 | C38: 15 | D38: 1 | E38: 1 | F38: 4 | G38: 4
A39: G5.05 | B39: Phòng nghỉ giáo viên
A40: G5.06 | B40: 1 | C40: 30 | D40: 1 | E40: 4 | F40: 1 | G40: 12 | H40: 1 | I40: 1 | J40: 1 | K40: 1
A41: G5.07 | B41: 1 | C41: 30 | D41: 1 | E41: 4 | F41: 1 | G41: 12 | H41: 1 | I41: 1 | J41: 1 | K41: 1
A42: G5.08 | B42: 1 | C42: 30 | D42: 1 | E42: 4 | F42: 1 | G42: 12 | H42: 1 | I42: 1 | J42: 1 | K42: 1
...

Sheet nha cấp 4-kB
A1: BỘ GIÁO DỤC VÀ ĐÀO TẠO
A2: TRƯỜNG ĐẠI HỌC MỎ - ĐỊA CHẤT
A4: DANH MỤC TRANG THIẾT BỊ PHÒNG HỌC DÃY NHÀ CẤP 4 - KHU B
A6: Phòng học | B6: Bàn ghế GV | C6: Bàn ghế SV | D6: Bảng viết | E6: Quạt trần | F6: Quạt treo tường | G6: Đèn tuýp | H6: Kệ máy chiếu
A7: A1 | B7: 1 | C7: 12 | D7: 1 | E7: 4 | F7: 1 | G7: 4
A8: A2 | B8: 1 | C8: 32 | D8: 1 | E8: 6 | F8: 1 | G8: 8 | H8: 1
A9: A3 | B9: 1 | C9: 31 | D9: 1 | E9: 6 | F9: 1 | G9: 8 | H9: 1
A10: A4 | B10: 1 | C10: 31 | D10: 1 | E10: 6 | F10: 1 | G10: 8 | H10: 1
A11: A5 | B11: 1 | C11: 31 | D11: 1 | E11: 6 | F11: 1 | G11: 8 | H11: 1
A12: A6 | B12: 1 | C12: 31 | D12: 1 | E12: 6 | F12: 1 | G12: 8 | H12: 1
A13: C1 | B13: 1 | C13: 20 | D13: 1 | E13: 3 | F13: 1 | G13: 4 | H13: 1
A14: C2 | B14: 1 | C14: 26 | D14: 1 | E14: 5 | F14: 1 | G14: 7 | H14: 1
A15: C3 | B15: 1 | C15: 24 | D15: 1 | E15: 4 | F15: 1 | G15: 5 | H15: 1
A16: C4 | B16: 1 | C16: 42 | D16: 1 | E16: 6 | F16: 1 | G16: 8 | H16: 1
A17: C5 | B17: 1 | C17: 24 | D17: 1 | E17: 4 | F17: 1 | G17: 5 | H17: 1
A18: C6 | B18: 1 | C18: 24 | D18: 1 | E18: 4 | F18: 1 | G18: 5 | H18: 1
A19: C7 | B19: 1 | C19: 24 | D19: 1 | E19: 4 | F19: 1 | G19: 5 | H19: 1
... A24: K2 | B24: 1 | C24: 31 | D24: 1 | E24: 6 | F24: 1 | G24: 9 | H24: 1
A25: Cộng | B25: =SUM(B7:B24) -> 18 | C25: =SUM(C7:C24) -> 487 | D25: =SUM(D7:D24) -> 18 | E25: =SUM(E7:E24) -> 88 | F25: =SUM(F7:F24) -> 18 | G25: =SUM(G7:G24) -> 116 | H25: =SUM(H7:H24) -> 17
C26: =+C25*2 -> 974

Sheet khu C
A1: BỘ GIÁO DỤC VÀ ĐÀO TẠO
A2: TRƯỜNG ĐẠI HỌC MỎ - ĐỊA CHẤT
A4: DANH MỤC TRANG THIẾT BỊ PHÒNG HỌC KHU C
A6: Phòng học | B6: Bàn ghế GV | C6: Bàn ghế SV | D6: Bảng viết | E6: Quạt trần | F6: Quạt treo tường | G6: Đèn tuýp | H6: Kệ máy chiếu
A7: 101 | B7: 1 | C7: 12 | D7: 1 | E7: 4 | F7: 1 | G7: 4
A8: 102 | B8: 1 | C8: 32 | D8: 1 | E8: 6 | F8: 1 | G8: 8 | H8: 1
A9: 103 | B9: 1 | C9: 32 | D9: 1 | E9: 6 | F9: 1 | G9: 8 | H9: 1
A10: 202 | B10: 1 | C10: 31 | D10: 1 | E10: 6 | F10: 1 | G10: 8 | H10: 1
A11: 203 | B11: 1 | C11: 31 | D11: 1 | E11: 6 | F11: 1 | G11: 8 | H11: 1
A12: 301 | B12: 1 | C12: 31 | D12: 1 | E12: 6 | F12: 1 | G12: 8 | H12: 1
A13: 302 | B13: 1 | C13: 31 | D13: 1 | E13: 6 | F13: 1 | G13: 8 | H13: 1
A14: 303 | B14: 1 | C14: 20 | D14: 1 | E14: 3 | F14: 1 | G14: 4 | H14: 1
A15: 401 | B15: 1 | C15: 26 | D15: 1 | E15: 5 | F15: 1 | G15: 7 | H15: 1
A16: 402 | B16: 1 | C16: 24 | D16: 1 | E16: 4 | F16: 1 | G16: 5 | H16: 1
A17: 403 | B17: 1 | C17: 42 | D17: 1 | E17: 6 | F17: 1 | G17: 8 | H17: 1
A18: Cộng | B18: =SUM(B7:B17) -> 11 | C18: =SUM(C7:C17) -> 312 | D18: =SUM(D7:D17) -> 11 | E18: =SUM(E7:E17) -> 58 | F18: =SUM(F7:F17) -> 11 | G18: =SUM(G7:G17) -> 76 | H18: =SUM(H7:H17) -> 10
C19: =+C18*2 -> 624

Sheet Lạng Sơn
A1: BỘ GIÁO DỤC VÀ ĐÀO TẠO
A2: TRƯỜNG ĐẠI HỌC MỎ - ĐỊA CHẤT
A4: DANH MỤC TRANG THIẾT BỊ PHÒNG HỌC KHU THỰC TẬP LẠNG SƠN
A6: Phòng học | B6: Bàn ghế GV | C6: Bàn ghế SV dài 2,4m | D6: Bảng viết | E6: Quạt trần | F6: Quạt treo tường | G6: Đèn tuýp
A7: Phòng 1 | B7: 1 | C7: 10 | D7: 1 | E7: 4 | F7: 1 | G7: 6
A8: Phòng 2 | B8: 1 | C8: 10 | D8: 1 | E8: 4 | F8: 1 | G8: 6
A9: Cộng | B9: =SUM(B7:B8) -> 2 | C9: =SUM(C7:C8) -> 20 | D9: =SUM(D7:D8) -> 2 | E9: =SUM(E7:E8) -> 8 | F9: =SUM(F7:F8) -> 2 | G9: =SUM(G7:G8) -> 12
C10: =+C9*5 -> 100
