Workbook

Sheet Phụ lục 04
A1: BỘ GIÁO DỤC VÀ ĐÀO TẠO | F1: CỘNG HÒA XÃ HỘI CHỦ NGHĨA VIỆT NAM
A2: TRƯỜNG ĐẠI HỌC MỎ - ĐỊA CHẤT | F2: Độc lập - Tự do - Hạnh phúc
A4: PHỤ LỤC 04
A5: DANH MỤC VỊ TRÍ VIỆC LÀM VÀ SỐ LƯỢNG NGƯỜI LÀM VIỆC TRONG TRƯỜNG ĐẠI HỌC MỎ - ĐỊA CHẤT ĐẾN NĂM 2025
A6: Số hiệu vị trí việc làm | C6: TT | D6: TT cấp 2 | E6: Danh mục vị trí việc làm | F6: Chức danh nghề nghiệp tối thiểu | G6: Hạng tối thiểu của chức danh nghề nghiệp | H6: Số lượng người làm việc
A7: Cấp 1 | B7: Cấp 2 | H7: 2023 | I7: 2024 | J7: 2025
A8: I. VỊ TRÍ VIỆC LÀM GẤN VỚI CHỨC DANH LÃNH ĐẠO, QUẢN LÝ | H8: =H9+H13+H16+H125 -> 296.58 | I8: =I9+I13+I16+I125 -> 297.58 | J8: =J9+J13+J16+J125 -> 298.58
A9: I.1. Vị trí việc làm Hội đồng trường | H9: =SUM(H10:H12) -> 1 | I9: =SUM(I10:I12) -> 1 | J9: =SUM(J10:J12) -> 1
A10: =IF(ISBLANK(C10),"",_xlfn.CONCAT("LĐQL","-",C10)) -> LĐQL-1 | C10: 1 | E10: Chủ tịch Hội đồng trường | F10: GV | G10: Hạng III | H10: 1 | I10: 1 | J10: 1
A11: =IF(ISBLANK(C11),"",_xlfn.CONCAT("LĐQL","-",C11)) | B11: =IF(ISBLANK(D11),"",_xlfn.CONCAT($A$10,".",D11)) -> LĐQL-1.1 | D11: 1 | E11: Phó chủ tịch Hội đồng trường | F11: GV | G11: Hạng III | H11: Kiêm nhiệm | I11: Kiêm nhiệm | J11: Kiêm nhiệm
A12: =IF(ISBLANK(C12),"",_xlfn.CONCAT("LĐQL","-",C12)) | B12: =IF(ISBLANK(D12),"",_xlfn.CONCAT($A$10,".",D12)) -> LĐQL-1.2 | D12: 2 | E12: Thư ký Hội đồng trường | F12: GV hoặc tương đương | G12: Hạng III | H12: Kiêm nhiệm | I12: Kiêm nhiệm | J12: Kiêm nhiệm
A13: I.2. Vị trí việc làm lãnh đạo, quản lý Nhà trường | H13: =SUM(H14:H15) -> 4 | I13: =SUM(I14:I15) -> 4 | J13: =SUM(J14:J15) -> 4
A14: =IF(ISBLANK(C14),"",_xlfn.CONCAT("LĐQL","-",C14)) -> LĐQL-2 | C14: 2 | E14: Hiệu trưởng | F14: GV | G14: Hạng III | H14: 1 | I14: 1 | J14: 1
A15: =IF(ISBLANK(C15),"",_xlfn.CONCAT("LĐQL","-",C15)) -> LĐQL-3 | C15: =C14+1 -> 3 | E15: Phó Hiệu trưởng | F15: GV | G15: Hạng III | H15: 3 | I15: 3 | J15: 3
A16: I.3. Vị trí việc làm lãnh đạo, quản lý các tổ chức, đơn vị thuộc, trực thuộc Nhà trường | H16: =H17+H57+H96+H99+H103+H107+H111+H120+H121+H122+H123+H124 -> 131.58 | I16: =I17+I57+I96+I99+I103+I107+I111+I120+I121+I122+I123+I124 -> 132.58 | J16: =J17+J57+J96+J99+J103+J107+J111+J120+J121+J122+J123+J124 -> 132.58
A17: =IF(ISBLANK(C17),"",_xlfn.CONCAT("LĐQL","-",C17)) -> LĐQL-4 | C17: =C15+1 -> 4 | E17: Trưởng khoa, Trưởng phòng, Giám đốc trung tâm và tương đương | F17: GV hoặc tương đương | G17: Hạng III | H17: =SUM(H18:H56) -> 39 | I17: =SUM(I18:I56) -> 39 | J17: =SUM(J18:J56) -> 39
B18: =IF(ISBLANK(D18),"",_xlfn.CONCAT($A$17,".",D18)) -> LĐQL-4.1 | D18: 1 | E18: Chánh văn phòng Hội đồng trường | F18: GV hoặc tương đương | G18: Hạng III | H18: 1 | I18: 1 | J18: 1
B19: =IF(ISBLANK(D19),"",_xlfn.CONCAT($A$17,".",D19)) -> LĐQL-4.2 | D19: =D18+1 -> 2 | E19: Trưởng phòng Công tác chính trị - Sinh viên | F19: GV hoặc tương đương | G19: Hạng III | H19: 1 | I19: 1 | J19: 1
B20: =IF(ISBLANK(D20),"",_xlfn.CONCAT($A$17,".",D20)) -> LĐQL-4.3 | D20: =D19+1 -> 3 | E20: Trưởng phòng Cơ sở vật chất | F20: GV hoặc tương đương | G20: Hạng III | H20: 1 | I20: 1 | J20: 1
B21: =IF(ISBLANK(D21),"",_xlfn.CONCAT($A$17,".",D21)) -> LĐQL-4.4 | D21: =D20+1 -> 4 | E21: Trưởng phòng Đảm bảo chất lượng giáo dục | F21: GV hoặc tương đương | G21: Hạng III | H21: 1 | I21: 1 | J21: 1
B22: =IF(ISBLANK(D22),"",_xlfn.CONCAT($A$17,".",D22)) -> LĐQL-4.5 | D22: =D21+1 -> 5 | E22: Trưởng phòng Đào tạo Đại học | F22: GV | G22: Hạng III | H22: 1 | I22: 1 | J22: 1
B23: =IF(ISBLANK(D23),"",_xlfn.CONCAT($A$17,".",D23)) -> LĐQL-4.6 | D23: =D22+1 -> 6 | E23: Trưởng phòng Đào tạo Sau đại học | F23: GV | G23: Hạng III | H23: 1 | I23: 1 | J23: 1
B24: =IF(ISBLANK(D24),"",_xlfn.CONCAT($A$17,".",D24)) -> LĐQL-4.7 | D24: =D23+1 -> 7 | E24: Trưởng phòng Hành chính - Tổng hợp | F24: GV hoặc tương đương | G24: Hạng III | H24: 1 | I24: 1 | J24: 1
B25: =IF(ISBLANK(D25),"",_xlfn.CONCAT($A$17,".",D25)) -> LĐQL-4.8 | D25: =D24+1 -> 8 | E25: Trưởng phòng Hợp tác Quốc tế | F25: GV | G25: Hạng III | H25: 1 | I25: 1 | J25: 1
B26: =IF(ISBLANK(D26),"",_xlfn.CONCAT($A$17,".",D26)) -> LĐQL-4.9 | D26: =D25+1 -> 9 | E26: Trưởng phòng Kế hoạch Tài chính | F26: GV hoặc tương đương | G26: Hạng III | H26: 1 | I26: 1 | J26: 1
B27: =IF(ISBLANK(D27),"",_xlfn.CONCAT($A$17,".",D27)) -> LĐQL-4.10 | D27: =D26+1 -> 10 | E27: Trưởng phòng Khoa học Công nghệ | F27: GV | G27: Hạng III | H27: 1 | I27: 1 | J27: 1
B28: =IF(ISBLANK(D28),"",_xlfn.CONCAT($A$17,".",D28)) -> LĐQL-4.11 | D28: =D27+1 -> 11 | E28: Trưởng phòng Quan hệ công chúng và Doanh nghiệp | F28: GV hoặc tương đương | G28: Hạng III | H28: 1 | I28: 1 | J28: 1
B29: =IF(ISBLANK(D29),"",_xlfn.CONCAT($A$17,".",D29)) -> LĐQL-4.12 | D29: =D28+1 -> 12 | E29: Trưởng phòng Tổ chức - Cán bộ | F29: GV | G29: Hạng III | H29: 1 | I29: 1 | J29: 1
B30: =IF(ISBLANK(D30),"",_xlfn.CONCAT($A$17,".",D30)) -> LĐQL-4.13 | D30: =D29+1 -> 13 | E30: Trưởng phòng Xuất bản | F30: GV hoặc tương đương | G30: Hạng III | H30: 1 | I30: 1 | J30: 1
... B56: =IF(ISBLANK(D56),"",_xlfn.CONCAT($A$17,".",D56)) -> LĐQL-4.39 | D56: =D55+1 -> 39 | E56: Giám đốc trung tâm Nghiên cứu Trắc địa công trình | F56: GV hoặc tương đương | G56: Hạng III | H56: 1 | I56: 1 | J56: 1
A57: =IF(ISBLANK(C57),"",_xlfn.CONCAT("LĐQL","-",C57)) -> LĐQL-5 | C57: =C17+1 -> 5 | E57: Phó Trưởng khoa, Phó Trưởng phòng, Phó Giám đốc trung tâm và tương đương | F57: GV hoặc tương đương | G57: Hạng III | H57: =SUM(H58:H95) -> 59 | I57: =SUM(I58:I95) -> 60 | J57: =SUM(J58:J95) -> 60
B58: =IF(ISBLANK(D58),"",_xlfn.CONCAT($A$57,".",D58)) -> LĐQL-5.1 | D58: 1 | E58: Phó trưởng phòng Công tác chính trị - Sinh viên | F58: GV hoặc tương đương | G58: Hạng III | H58: 1 | I58: 1 | J58: 1
B59: =IF(ISBLANK(D59),"",_xlfn.CONCAT($A$57,".",D59)) -> LĐQL-5.2 | D59: =D58+1 -> 2 | E59: Phó trưởng phòng Cơ sở vật chất | F59: GV hoặc tương đương | G59: Hạng III | H59: 1 | I59: 1 | J59: 1
B60: =IF(ISBLANK(D60),"",_xlfn.CONCAT($A$57,".",D60)) -> LĐQL-5.3 | D60: =D59+1 -> 3 | E60: Phó Trưởng phòng Đảm bảo chất lượng giáo dục | F60: GV hoặc tương đương | G60: Hạng III | H60: 1 | I60: 1 | J60: 1
B61: =IF(ISBLANK(D61),"",_xlfn.CONCAT($A$57,".",D61)) -> LĐQL-5.4 | D61: =D60+1 -> 4 | E61: Phó trưởng phòng Phòng Đào tạo Đại học | F61: GV hoặc tương đương | G61: Hạng III | H61: 2 | I61: 2 | J61: 2
B62: =IF(ISBLANK(D62),"",_xlfn.CONCAT($A$57,".",D62)) -> LĐQL-5.5 | D62: =D61+1 -> 5 | E62: Phó trưởng phòng Đào tạo Sau đại học | F62: GV hoặc tương đương | G62: Hạng III | H62: 1 | I62: 1 | J62: 1
B63: =IF(ISBLANK(D63),"",_xlfn.CONCAT($A$57,".",D63)) -> LĐQL-5.6 | D63: =D62+1 -> 6 | E63: Phó phòng Hành chính - Tổng hợp | F63: GV hoặc tương đương | G63: Hạng III | H63: 2 | I63: 2 | J63: 2
B64: =IF(ISBLANK(D64),"",_xlfn.CONCAT($A$57,".",D64)) -> LĐQL-5.7 | D64: =D63+1 -> 7 | E64: Phó Trưởng phòng Hợp tác Quốc tế | F64: GV hoặc tương đương | G64: Hạng III | H64: 1 | I64: 1 | J64: 1
B65: =IF(ISBLANK(D65),"",_xlfn.CONCAT($A$57,".",D65)) -> LĐQL-5.8 | D65: =D64+1 -> 8 | E65: Phó trưởng Phòng KHTC phụ trách Kế hoạch tài chính | F65: GV hoặc tương đương | G65: Hạng III | H65: 1 | I65: 1 | J65: 1
B66: =IF(ISBLANK(D66),"",_xlfn.CONCAT($A$57,".",D66)) -> LĐQL-5.9 | D66: =D65+1 -> 9 | E66: Phó trưởng Phòng KHTC phụ trách Kế toán, thủ quỹ | F66: GV hoặc tương đương | G66: Hạng III | H66: 1 | I66: 1 | J66: 1
...

Sheet Phụ lục 06
A1: BỘ GIÁO DỤC VÀ ĐÀO TẠO | E1: CỘNG HÒA XÃ HỘI CHỦ NGHĨA VIỆT NAM
A2: TRƯỜNG ĐẠI HỌC MỎ - ĐỊA CHẤT | E2: Độc lập - Tự do - Hạnh phúc
A4: PHỤ LỤC 06 NỘI DUNG VÀ CẤP ĐỘ XÁC ĐỊNH CỦA NHÓM NĂNG LỰC CHUNG, NĂNG LỰC CHUYÊN MÔN, NĂNG LỰC QUẢN LÝ ĐỐI VỚI VỊ TRÍ VIỆC LÀM TRONG TRƯỜNG ĐẠI HỌC MỎ - ĐỊA CHẤT ĐẾN NĂM 2025
A5: 1. Đối với vị trí việc làm lãnh đạo, quản lý và chức danh nghề nghiệp chuyên ngành
A6: Cấp độ | C6: Nhóm năng lực chung
B7: Đạo đức và bản lĩnh | C7: Tổ chức thực hiện công việc | D7: Soạn thảo và ban hành văn bản | E7: Giao tiếp ứng xử | F7: Quan hệ phối hợp
A8: 5 | B8: Tạo dựng văn hóa dẫn dắt việc thực hiện đạo đức và bản lĩnh. | C8: Đưa ra các định hướng chiến lược. | D8: Phân tích, đánh giá, phản biện, hoạch định chính sách. | E8: Giao tiếp tốt về vấn đề mang tính chiến lược | F8: Thiết lập các định hướng quan hệ đối tác chiến lược.
A9: 4 | B9: Chủ động, trách nhiệm cao với công việc; hướng dẫn, kiểm tra việc thực hiện. | C9: Nhận biết trước và thích ứng với yêu cầu mới của công việc; phát huy nguồn lực bên trong và bên ngoài để có giải pháp đảm bảo chất lượng công việc. | D9: Hiểu biết về vai trò, tác động xã hội của chính sách; xây dựng khung pháp lý hỗ trợ việc thực thi chính sách. | E9: Giao tiếp tốt trong và ngoài cơ quan, đơn vị | F9: Thiết lập mạng lưới quan hệ ở nhiều cấp độ.
A10: 3 | B10: Trách nhiệm cao với công việc được giao, gương mẫu trong thực hiện. | C10: Đề xuất điều chỉnh thủ tục, quy trình làm việc, … kịp thời để đáp ứng tốt hơn nhu cầu của đơn vị, xã hội | D10: Phân tích, đánh giá, đề xuất chính sách phù hợp với chiến lược, định hướng dài hạn của cơ quan, đơn vị, địa phương. | E10: Giao tiếp tốt với tổ chức trong nội bộ cơ quan, đơn vị | F10: Tìm kiếm cơ hội xây dựng và mở rộng mạng lưới quan hệ.
A11: 2 | B11: Tự nhận trách nhiệm với công việc được giao, chuẩn mực trong thực hiện. | C11: Linh hoạt trong tổ chức thực hiện công việc nhằm đảm bảo các tiêu chuẩn chất lượng đã thống nhất. | D11: Nắm vững các quy định và vai trò, tác động của hệ thống văn bản của Đảng, văn bản pháp quy và văn bản hành chính của cơ quan có thẩm quyền | E11: Thúc đẩy giao tiếp hai chiều | F11: Thiết lập được mạng lưới quan hệ tốt trong nội bộ.
A12: 1 | B12: Trách nhiệm với công việc được giao, chuẩn mực trong thực hiện. | C12: Tổ chức thực hiện công việc theo tiêu chuẩn chất lượng, quy trình có sẵn. | D12: Nắm được các quy định về văn bản của Đảng, văn bản pháp quy và văn bản hành chính để áp dụng vào công việc chuyên môn. | E12: Nghe và trình bày thông tin một cách rõ ràng | F12: Tạo mối quan hệ tốt, chủ động phối hợp với đồng nghiệp trong công việc.
A14: Cấp độ | B14: Nhóm năng lực quản lý
B15: Tư duy chiến lược | C15: Quản lý sự thay đổi | D15: Ra quyết định | E15: Quản lý nguồn lực | F15: Phát triển nhân sự
A16: 5 | B16: Định hướng xây dựng mục tiêu, chiến lược phát triển dài hạn cho đơn vị. | C16: Dự báo và chủ động chuẩn bị và tiến hành những thay đổi, cải tổ cơ bản trong đơn vị. | D16: Ra quyết định quan trọng có ảnh hưởng lớn đến uy tín, hoạt động của đơn vị. | E16: Huy động và quản lý, sử dụng có hiệu quả nguồn lực trong và ngoài đơn vị. | F16: Tạo môi trường phát triển, hoàn thiện kiến thức, kỹ năng, kinh nghiệm.
A17: 4 | B17: Xây dựng định hướng mục tiêu của phòng/ tổ/ nhóm, lĩnh vực phụ trách, góp phần xây dựng chiến lược tổng thể. | C17: Chủ động chuẩn bị và thực hiện tiến trình thay đổi trong các lĩnh vực phụ trách. | D17: Ra quyết định phức tạp, không theo chuẩn tắc thuộc quyền hạn, chức năng của lĩnh vực phụ trách | E17: Quản lý, phát huy được nguồn lực của lĩnh vực phụ trách. | F17: Tạo cơ hội cho cấp dưới phát triển bản thân.
A18: 3 | B18: Xây dựng được mục tiêu, định hướng dịch vụ cho mảng lĩnh vực phụ trách. | C18: Chủ động chuẩn bị và thực hiện tiến trình thay đổi trong mảng lĩnh vực phụ trách. | D18: Ra quyết định phức tạp thuộc quyền hạn, chức năng của phòng/lĩnh vực phụ trách | E18: Quản lý, phát huy được nguồn lực của tổ chức cấp phòng. | F18: Thúc đẩy học tập liên tục và phát triển.
A19: 2 | B19: Xây dựng được mục tiêu, kế hoạch công việc cho nhóm/ bộ phận. | C19: Chủ động chuẩn bị và thực hiện tiến trình thay đổi cho nhóm/ bộ phận. | D19: Ra quyết định thể hiện được các nguyên tắc, yêu cầu của cơ quan, đơn vị | E19: Phát huy được nguồn lực trong nhóm/ bộ phận. | F19: Hỗ trợ việc phát triển, hoàn thiện bản thân.
A20: 1 | B20: Xác định được mục tiêu, kế hoạch công việc cho bản thân. | C20: Chủ động chuẩn bị và thực hiện tiến trình thay đổi trong công việc. | D20: Ra quyết định dựa theo nguyên tắc, quy trình có sẵn . | E20: Tổ chức thực hiện công việc tiết kiệm, hiệu quả. | F20: Chia sẻ kiến thức, chuyên môn với người khác.
A22: 2. Đối với vị trí việc làm chức danh nghề nghiệp chuyên môn dùng chung; hỗ trợ, phục vụ
A23: Cấp độ | B23: Nhóm năng lực chung
B24: Đạo đức và bản lĩnh | C24: Tổ chức thực hiện công việc | D24: Soạn thảo và ban hành văn bản | E24: Giao tiếp ứng xử | F24: Quan hệ phối hợp
A25: 5 | B25: Tạo dựng văn hóa dẫn dắt việc thực hiện đạo đức và bản lĩnh. | C25: Đưa ra các định hướng chiến lược. | D25: Phân tích, đánh giá, phản biện, hoạch định chính sách. | E25: Giao tiếp tốt về vấn đề mang tính chiến lược | F25: Thiết lập các định hướng quan hệ đối tác chiến lược.
A26: 4 | B26: Chủ động, trách nhiệm cao với công việc; hướng dẫn, kiểm tra việc thực hiện. | C26: Nhận biết trước và thích ứng với yêu cầu mới của công việc; phát huy nguồn lực bên trong và bên ngoài để có giải pháp đảm bảo chất lượng công việc. | D26: Hiểu biết về vai trò, tác động xã hội của chính sách; xây dựng khung pháp lý hỗ trợ việc thực thi chính sách. | E26: Giao tiếp tốt trong và ngoài cơ quan, đơn vị | F26: Thiết lập mạng lưới quan hệ ở nhiều cấp độ.
A27: 3 | B27: Trách nhiệm cao với công việc được giao, gương mẫu trong thực hiện. | C27: Đề xuất điều chỉnh thủ tục, quy trình làm việc, … kịp thời để đáp ứng tốt hơn nhu cầu của đơn vị, xã hội | D27: Phân tích, đánh giá, đề xuất chính sách phù hợp với chiến lược, định hướng dài hạn của cơ quan, đơn vị, địa phương. | E27: Giao tiếp tốt với tổ chức trong nội bộ cơ quan, đơn vị | F27: Tìm kiếm cơ hội xây dựng và mở rộng mạng lưới quan hệ.
A28: 2 | B28: Tự nhận trách nhiệm với công việc được giao, chuẩn mực trong thực hiện. | C28: Linh hoạt trong tổ chức thực hiện công việc nhằm đảm bảo các tiêu chuẩn chất lượng đã thống nhất. | D28: Nắm vững các quy định và vai trò, tác động của hệ thống văn bản của Đảng, văn bản pháp quy và văn bản hành chính của cơ quan có thẩm quyền | E28: Thúc đẩy giao tiếp hai chiều | F28: Thiết lập được mạng lưới quan hệ tốt trong nội bộ.
A29: 1 | B29: Trách nhiệm với công việc được giao, chuẩn mực trong thực hiện. | C29: Tổ chức thực hiện công việc theo tiêu chuẩn chất lượng, quy trình có sẵn. | D29: Nắm được các quy định về văn bản của Đảng, văn bản pháp quy và văn bản hành chính để áp dụng vào công việc chuyên môn. | E29: Nghe và trình bày thông tin một cách rõ ràng | F29: Tạo mối quan hệ tốt, chủ động phối hợp với đồng nghiệp trong công việc.
A31: Cấp độ | B31: Nhóm năng lực chuyên môn
B32: Tham mưu xây dựng văn bản, quy trình, phương pháp, công cụ, định hướng nghiên cứu ... | C32: Hướng dẫn thực hiện văn bản, quy trình, phương pháp, công cụ, định hướng nghiên cứu … | D32: Kiểm tra thực hiện văn bản, quy trình, phương pháp, công cụ, định hướng nghiên cứu … | E32: Thẩm định văn bản, quy trình, phương pháp, công cụ, định hướng nghiên cứu … | F32: Tổ chức thực hiện văn bản, quy trình, phương pháp, công cụ, định hướng nghiên cứu …
A33: 5 | B33: - Chủ trì nghiên cứu xây dựng văn bản, quy trình, phương pháp, công cụ, định hướng nghiên cứu ... thuộc phạm vi quản lý, trình cấp có thẩm quyền ban hành. | C33: - Chủ trì xây dựng hướng dẫn thực hiện các văn bản, quy trình, phương pháp, công cụ, định hướng nghiên cứu ... thuộc phạm vi quản lý. | D33: Chủ trì kiểm tra thực hiện các văn bản, quy trình, phương pháp, công cụ, định hướng nghiên cứu ... thuộc phạm vi quản lý. | E33: Chủ trì tổ chức thẩm định các văn bản, quy trình, phương pháp, công cụ, định hướng nghiên cứu ... thuộc lĩnh vực công tác được phân công. | F33: Chủ trì tổ chức thực hiện các văn bản, quy trình, phương pháp, công cụ, định hướng nghiên cứu ... thuộc phạm vi quản lý.
B34: - Chủ trì nghiên cứu đề xuất xây dựng các đề án, kế hoạch ... của lĩnh vực công tác được phân công. | C34: - Chủ trì xây dựng giáo trình; tham gia giảng dạy các lớp đào tạo, bồi dưỡng chuyên môn, nghiệp vụ.
A35: 4 | B35: - Chủ trì nghiên cứu xây dựng các văn bản thuộc phạm vi quản lý, trình cấp có thẩm quyền ban hành. | C35: - Chủ trì xây dựng hướng dẫn triển khai thực hiện các văn bản thuộc phạm vi quản lý. | D35: Chủ trì tổ chức kiểm tra, phân tích đánh giá, báo cáo tổng kết việc thực hiện các văn bản, quy trình, phương pháp, công cụ, định hướng nghiên cứu ... thuộc phạm vi quản lý theo nhiệm vụ được phân công; đề xuất chủ trương, biện pháp uốn nắn, điều chỉnh. | E35: Tổ chức thẩm định các văn bản, quy trình, phương pháp, công cụ, định hướng nghiên cứu ... thuộc lĩnh vực công tác được phân công. | F35: Tổ chức thực hiện các văn bản, quy trình, phương pháp, công cụ, định hướng nghiên cứu ... thuộc phạm vi quản lý.
B36: - Chủ trì xây dựng kế hoạch triển khai thực hiện các văn bản thuộc phạm vi quản lý. | C36: - Chủ trì xây dựng giáo trình; tham gia giảng dạy các lớp đào tạo, bồi dưỡng chuyên môn, nghiệp vụ.
B37: - Tham gia xây dựng đề án trình cấp có thẩm quyền theo lĩnh vực công tác được phân công.
B38: - Chủ trì xây dựng các văn bản quản lý của ngành, địa phương.
A39: 3 | B39: - Tham gia xây dựng các văn bản, quy trình, phương pháp, công cụ, định hướng nghiên cứu ... thuộc phạm vi quản lý. | C39: - Tham gia xây dựng hướng dẫn thực hiện các văn bản thuộc phạm vi quản lý. | D39: Chủ trì tổ chức kiểm tra, phân tích đánh giá, báo cáo tổng kết việc thực hiện các văn bản thuộc phạm vi quản lý theo nhiệm vụ được phân công; đề xuất chủ trương, biện pháp uốn nắn, điều chỉnh. | E39: Tham gia thẩm định các văn bản thuộc lĩnh vực công tác được phân công. | F39: Chủ trì hoặc tham gia tổ chức triển khai thực hiện các hoạt động thuộc chuyên môn nghiệp vụ.
B40: - Tham gia xây dựng kế hoạch triển khai thực hiện các văn bản thuộc phạm vi quản lý. | C40: - Tham gia hướng dẫn nghiệp vụ cho cấp dưới.
B41: - Tham gia xây dựng đề án trình cấp có thẩm quyền theo lĩnh vực công tác được phân công.
B42: - Chủ trì xây dựng các văn bản quản lý của ngành, địa phương.
A43: 2 | B43: - Tham gia xây dựng các văn bản thuộc thẩm quyền ban hành của cơ quan. | C43: - Khả năng hướng dẫn thực hiện nghiệp vụ cho cấp dưới. | D43: Tổ chức theo dõi, kiểm tra và báo cáo tình hình về kết quả thực hiện các văn bản thuộc phạm vi quản lý; đề xuất biện pháp uốn nắn, điều chỉnh. | E43: - | F43: Chủ động phối hợp với các đơn vị liên quan và phối hợp với các viên chức khác triển khai công việc, làm đúng thẩm quyền và trách nhiệm được giao.
B44: - Soạn thảo các quy định cụ thể, các văn bản khác thuộc phần việc được phân công.
...

Sheet Phụ lục 07
A1: BỘ GIÁO DỤC VÀ ĐÀO TẠO
A2: TRƯỜNG ĐẠI HỌC MỎ - ĐỊA CHẤT
A3: PHỤ LỤC 07
A4: BẢN MÔ TẢ VỊ TRÍ VIỆC LÀM TRONG TRƯỜNG ĐẠI HỌC MỎ - ĐỊA CHẤT ĐẾN NĂM 2025
A5: Số hiệu vị trí việc làm | C5: TT | D5: Vị trí việc làm | E5: Hạng chức danh nghề nghiệp tối thiểu | F5: Bản mô tả vị trí việc làm
A6: Cấp 1 | B6: Cấp 2
A7: I. VỊ TRÍ VIỆC LÀM GẮN VỚI CÔNG VIỆC LÃNH ĐẠO, QUẢN LÝ
A8: I.1. Vị trí việc làm Hội đồng trường
A9: ='Phụ lục 04'!A10 -> LĐQL-1 | D9: =VLOOKUP(A9,'Phụ lục 04'!A6:J286,5,FALSE) -> Chủ tịch Hội đồng trường | E9: Hạng III
A10: ='Phụ lục 04'!A11 | B10: ='Phụ lục 04'!B11 -> LĐQL-1.1 | C10: 1 | D10: ='Phụ lục 04'!E11 -> Phó chủ tịch Hội đồng trường | E10: Hạng III
A11: ='Phụ lục 04'!A12 | B11: ='Phụ lục 04'!B12 -> LĐQL-1.2 | C11: 2 | D11: ='Phụ lục 04'!E12 -> Thư ký Hội đồng trường | E11: Hạng III
A12: I.2. Vị trí việc làm lãnh đạo, quản lý Nhà trường
A13: ='Phụ lục 04'!A14 -> LĐQL-2 | D13: Hiệu trưởng | E13: Hạng III
A14: ='Phụ lục 04'!A15 -> LĐQL-3 | D14: =VLOOKUP(A14,'Phụ lục 04'!A11:J291,5,FALSE) -> Phó Hiệu trưởng | E14: Hạng III
A15: I.3. Vị trí việc làm lãnh đạo, quản lý các tổ chức, đơn vị thuộc, trực thuộc Nhà trường
A16: ='Phụ lục 04'!A17 -> LĐQL-4 | D16: Trưởng khoa, Trưởng phòng, Giám đốc trung tâm và tương đương
B17: ='Phụ lục 04'!B18 -> LĐQL-4.1 | D17: Chánh văn phòng Hội đồng trường | E17: Hạng III
B18: ='Phụ lục 04'!B19 -> LĐQL-4.2 | D18: Trưởng phòng Công tác chính trị - Sinh viên | E18: Hạng III
B19: ='Phụ lục 04'!B20 -> LĐQL-4.3 | D19: Trưởng phòng Cơ sở vật chất | E19: Hạng III
B20: ='Phụ lục 04'!B21 -> LĐQL-4.4 | D20: Trưởng phòng Đảm bảo chất lượng giáo dục | E20: Hạng III
B21: ='Phụ lục 04'!B22 -> LĐQL-4.5 | D21: Trưởng phòng Đào tạo Đại học | E21: Hạng III
B22: ='Phụ lục 04'!B23 -> LĐQL-4.6 | D22: Trưởng phòng Đào tạo Sau đại học | E22: Hạng III
B23: ='Phụ lục 04'!B24 -> LĐQL-4.7 | D23: Trưởng phòng Hành chính - Tổng hợp | E23: Hạng III
B24: ='Phụ lục 04'!B25 -> LĐQL-4.8 | D24: Trưởng phòng Hợp tác Quốc tế | E24: Hạng III
B25: ='Phụ lục 04'!B26 -> LĐQL-4.9 | D25: Trưởng phòng Kế hoạch Tài chính | E25: Hạng III
B26: ='Phụ lục 04'!B27 -> LĐQL-4.10 | D26: Trưởng phòng Khoa học Công nghệ | E26: Hạng III
B27: ='Phụ lục 04'!B28 -> LĐQL-4.11 | D27: Trưởng phòng Quan hệ công chúng và Doanh nghiệp | E27: Hạng III
B28: ='Phụ lục 04'!B29 -> LĐQL-4.12 | D28: Trưởng phòng Tổ chức - Cán bộ | E28: Hạng III
... B55: ='Phụ lục 04'!B56 -> LĐQL-4.39 | D55: Giám đốc trung tâm Nghiên cứu Trắc địa công trình | E55: Hạng III
A56: ='Phụ lục 04'!A57 -> LĐQL-5 | D56: Phó Trưởng khoa, Phó Trưởng phòng, Phó Giám đốc trung tâm và tương đương
B57: ='Phụ lục 04'!B58 -> LĐQL-5.1 | D57: Phó trưởng phòng Công tác chính trị - Sinh viên | E57: Hạng III
B58: ='Phụ lục 04'!B59 -> LĐQL-5.2 | D58: Phó trưởng phòng Cơ sở vật chất | E58: Hạng III
B59: ='Phụ lục 04'!B60 -> LĐQL-5.3 | D59: Phó Trưởng phòng Đảm bảo chất lượng giáo dục | E59: Hạng III
B60: ='Phụ lục 04'!B61 -> LĐQL-5.4 | D60: Phó trưởng phòng Phòng Đào tạo Đại học | E60: Hạng III
B61: ='Phụ lục 04'!B62 -> LĐQL-5.5 | D61: Phó trưởng phòng Đào tạo Sau đại học | E61: Hạng III
B62: ='Phụ lục 04'!B63 -> LĐQL-5.6 | D62: Phó Trưởng phòng Hành chính - Tổng hợp | E62: Hạng III
B63: ='Phụ lục 04'!B64 -> LĐQL-5.7 | D63: Phó Trưởng phòng Hợp tác Quốc tế | E63: Hạng III
B64: ='Phụ lục 04'!B65 -> LĐQL-5.8 | D64: Phó trưởng Phòng KHTC phụ trách Kế hoạch tài chính | E64: Hạng III
B65: ='Phụ lục 04'!B66 -> LĐQL-5.9 | D65: Phó trưởng Phòng KHTC phụ trách Kế toán, thủ quỹ | E65: Hạng III
B66: ='Phụ lục 04'!B67 -> LĐQL-5.10 | D66: Phó Trưởng phòng Khoa học Công nghệ | E66: Hạng III
...

Sheet Phụ lục 08
A1: BỘ GIÁO DỤC VÀ ĐÀO TẠO | D1: CỘNG HÒA XÃ HỘI CHỦ NGHĨA VIỆT NAM
A2: TRƯỜNG ĐẠI HỌC MỎ - ĐỊA CHẤT | D2: Độc lập - Tự do - Hạnh phúc
A3: PHỤ LỤC 08
A4: KHUNG NĂNG LỰC VỊ TRÍ VIỆC LÀM TRONG TRƯỜNG ĐẠI HỌC MỎ - ĐỊA CHẤT ĐẾN NĂM 2025
A6: Mã | B6: Vị trí việc làm | D6: Khung năng lực tối thiểu của vị trí việc làm | E6: Ghi chú
B7: Cấp 1 | C7: Cấp 2
A8: I | B8: Vị trí việc làm gắn với công việc lãnh đạo, quản lý
A9: I.1 | B9: Vị trí việc làm Hội đồng trường
A10: LĐQL-1 | B10: Chủ tịch Hội đồng Trường | D10: 1. Yêu cầu về trình độ: - Có bằng Tiến sĩ trở lên phù hợp với vị trí việc làm. - Chức danh nghề nghiệp tối thiểu: giảng viên. - Lý luận chính trị: Có trình độ lý luận chính trị cao cấp hoặc cử nhân chính trị - Có chứng chỉ bồi dưỡng theo quy định pháp luật. 2. Yêu cầu về năng lực: - Nắm vững các quy định của pháp luật, chế độ chính sách của ngành, lĩnh vực và các kiến thức cơ bản về lĩnh vực chuyên môn nghiệp vụ được giao; - Hiểu rõ các mục tiêu và đối tượng quản lý, hệ thống các nguyên tắc và cơ chế quản lý của nghiệp vụ thuộc phạm vi được giao; hiểu được những vấn đề cơ bản về khoa học tâm lý, khoa học quản lý; tổ chức khoa học quản lý; - Nắm vững và hiểu biết về các lĩnh vực chuyên môn hành chính và các ngành khác liên quan đến hành chính. - Sử dụng thành thạo tin học văn phòng; có khả năng áp dụng ứng dụng công nghệ thông tin, sử dụng thành thạo ít nhất một ngoại ngữ. - Năng lực chung: 5 - Năng lực chuyên môn: 5 - Năng lực quản lý: 5 - Bảo đảm năng lực lãnh đạo, quản lý theo quy định pháp luật. | E10: Quy định chi tiết trong Bản mô tả vị trí việc làm
A11: LĐQL-1.1 | C11: ='Phụ lục 07'!D10 -> Phó chủ tịch Hội đồng trường | D11: 1. Yêu cầu về trình độ: - Có bằng Tiến sĩ trở lên phù hợp với vị trí việc làm. - Chức danh nghề nghiệp tối thiểu: giảng viên. - Lý luận chính trị: Có trình độ lý luận chính trị cao cấp hoặc cử nhân chính trị - Có chứng chỉ bồi dưỡng theo quy định pháp luật. 2. Yêu cầu về năng lực: - Nắm vững các quy định của pháp luật, chế độ chính sách của ngành, lĩnh vực và các kiến thức cơ bản về lĩnh vực chuyên môn nghiệp vụ được giao; - Hiểu rõ các mục tiêu và đối tượng quản lý, hệ thống các nguyên tắc và cơ chế quản lý của nghiệp vụ thuộc phạm vi được giao; hiểu được những vấn đề cơ bản về khoa học tâm lý, khoa học quản lý; tổ chức khoa học quản lý; - Nắm vững và hiểu biết về các lĩnh vực chuyên môn hành chính và các ngành khác liên quan đến hành chính. - Sử dụng thành thạo tin học văn phòng; có khả năng áp dụng ứng dụng công nghệ thông tin, sử dụng thành thạo ít nhất một ngoại ngữ. - Năng lực chung: 5 - Năng lực chuyên môn: 5 - Năng lực quản lý: 5 - Bảo đảm năng lực lãnh đạo, quản lý theo quy định pháp luật. | E11: "
A12: LĐQL-1.2 | C12: ='Phụ lục 07'!D11 -> Thư ký Hội đồng trường | D12: 1. Yêu cầu về trình độ: - Có bằng đại học trở lên phù hợp với vị trí việc làm. - Chức danh nghề nghiệp tối thiểu: giảng viên hoặc tương đương. - Lý luận chính trị: trung cấp - Có chứng chỉ bồi dưỡng theo quy định pháp luật. 2. Yêu cầu về năng lực: - Nắm vững các quy định của pháp luật, chế độ chính sách của ngành, lĩnh vực và các kiến thức cơ bản về lĩnh vực chuyên môn nghiệp vụ được giao; - Hiểu rõ các mục tiêu và đối tượng quản lý, hệ thống các nguyên tắc và cơ chế quản lý của nghiệp vụ thuộc phạm vi được giao; hiểu được những vấn đề cơ bản về khoa học tâm lý, khoa học quản lý; tổ chức khoa học quản lý; - Nắm vững và hiểu biết về các lĩnh vực chuyên môn hành chính và các ngành khác liên quan đến hành chính. - Sử dụng thành thạo tin học văn phòng; có khả năng áp dụng ứng dụng công nghệ thông tin, sử dụng thành thạo ít nhất một ngoại ngữ. - Năng lực chung: 4 - Năng lực chuyên môn: 4 - Năng lực quản lý: 4 - Bảo đảm năng lực lãnh đạo, quản lý theo quy định pháp luật.
A13: I.2 | B13: Vị trí việc làm lãnh đạo, quản lý Nhà trường
A14: LĐQL-2 | B14: Hiệu trưởng | D14: 1. Yêu cầu về trình độ: - Có bằng Tiến sĩ trở lên phù hợp với vị trí việc làm. - Chức danh nghề nghiệp tối thiểu: giảng viên. - Lý luận chính trị: Có trình độ lý luận chính trị cao cấp hoặc cử nhân chính trị - Có chứng chỉ bồi dưỡng theo quy định pháp luật. 2. Yêu cầu về năng lực: - Nắm vững các quy định của pháp luật, chế độ chính sách của ngành, lĩnh vực và các kiến thức cơ bản về lĩnh vực chuyên môn nghiệp vụ được giao; - Hiểu rõ các mục tiêu và đối tượng quản lý, hệ thống các nguyên tắc và cơ chế quản lý của nghiệp vụ thuộc phạm vi được giao; hiểu được những vấn đề cơ bản về khoa học tâm lý, khoa học quản lý; tổ chức khoa học quản lý; - Nắm vững và hiểu biết về các lĩnh vực chuyên môn hành chính và các ngành khác liên quan đến hành chính. - Sử dụng thành thạo tin học văn phòng; có khả năng áp dụng ứng dụng công nghệ thông tin, sử dụng thành thạo ít nhất một ngoại ngữ. - Năng lực chung: 5 - Năng lực chuyên môn: 5 - Năng lực quản lý: 5 - Bảo đảm năng lực lãnh đạo, quản lý theo quy định pháp luật. | E14: "
A15: LĐQL-3 | B15: Phó Hiệu trưởng | D15: 1. Yêu cầu về trình độ: - Có bằng Tiến sĩ trở lên phù hợp với vị trí việc làm. - Chức danh nghề nghiệp tối thiểu: giảng viên. - Lý luận chính trị: Có trình độ lý luận chính trị cao cấp hoặc cử nhân chính trị - Có chứng chỉ bồi dưỡng theo quy định pháp luật. 2. Yêu cầu về năng lực: - Nắm vững các quy định của pháp luật, chế độ chính sách của ngành, lĩnh vực và các kiến thức cơ bản về lĩnh vực chuyên môn nghiệp vụ được giao; - Hiểu rõ các mục tiêu và đối tượng quản lý, hệ thống các nguyên tắc và cơ chế quản lý của nghiệp vụ thuộc phạm vi được giao; hiểu được những vấn đề cơ bản về khoa học tâm lý, khoa học quản lý; tổ chức khoa học quản lý; - Nắm vững và hiểu biết về các lĩnh vực chuyên môn hành chính và các ngành khác liên quan đến hành chính. - Sử dụng thành thạo tin học văn phòng; có khả năng áp dụng ứng dụng công nghệ thông tin, sử dụng thành thạo ít nhất một ngoại ngữ. - Năng lực chung: 5 - Năng lực chuyên môn: 5 - Năng lực quản lý: 5 - Bảo đảm năng lực lãnh đạo, quản lý theo quy định pháp luật.
A16: I.3 | B16: Vị trí việc làm lãnh đạo, quản lý các tổ chức, đơn vị thuộc, trực thuộc Nhà trường
A17: ='Phụ lục 07'!A16 -> LĐQL-4 | B17: ='Phụ lục 07'!D16 -> Trưởng khoa, Trưởng phòng, Giám đốc trung tâm và tương đương | D17: 1. Yêu cầu về trình độ: - Có trình độ đào tạo phù hợp với quy chế tổ chức hoạt động cùa Nhả trường và các quy định khác có liên quan. - Chức danh nghề nghiệp tối thiểu: giảng viên hoặc tương đương. - Lý luận chính trị: trung cấp - Có chứng chỉ bồi dưỡng theo quy định pháp luật. 2. Yêu cầu về năng lực: - Nắm vững các quy định của pháp luật, chế độ chính sách của ngành, lĩnh vực và các kiến thức cơ bản về lĩnh vực chuyên môn nghiệp vụ được giao; - Hiểu rõ các mục tiêu và đối tượng quản lý, hệ thống các nguyên tắc và cơ chế quản lý của nghiệp vụ thuộc phạm vi được giao; hiểu được những vấn đề cơ bản về khoa học tâm lý, khoa học quản lý; tổ chức khoa học quản lý; - Nắm vững và hiểu biết về các lĩnh vực chuyên môn hành chính và các ngành khác liên quan đến hành chính. - Sử dụng thành thạo tin học văn phòng; có khả năng áp dụng ứng dụng công nghệ thông tin, sử dụng thành thạo ít nhất một ngoại ngữ. - Năng lực chung: 4 - Năng lực chuyên môn: 4 - Năng lực quản lý: 4 - Bảo đảm năng lực lãnh đạo, quản lý theo quy định pháp luật.
A18: ='Phụ lục 07'!B17 -> LĐQL-4.1 | C18: ='Phụ lục 07'!D17 -> Chánh văn phòng Hội đồng trường | D18: 1. Yêu cầu về trình độ: - Có bằng đại học trở lên phù hợp với vị trí việc làm. - Chức danh nghề nghiệp tối thiểu: giảng viên hoặc tương đương. - Lý luận chính trị: trung cấp - Có chứng chỉ bồi dưỡng theo quy định pháp luật. 2. Yêu cầu về năng lực: - Nắm vững các quy định của pháp luật, chế độ chính sách của ngành, lĩnh vực và các kiến thức cơ bản về lĩnh vực chuyên môn nghiệp vụ được giao; - Hiểu rõ các mục tiêu và đối tượng quản lý, hệ thống các nguyên tắc và cơ chế quản lý của nghiệp vụ thuộc phạm vi được giao; hiểu được những vấn đề cơ bản về khoa học tâm lý, khoa học quản lý; tổ chức khoa học quản lý; - Nắm vững và hiểu biết về các lĩnh vực chuyên môn hành chính và các ngành khác liên quan đến hành chính. - Sử dụng thành thạo tin học văn phòng; có khả năng áp dụng ứng dụng công nghệ thông tin, sử dụng thành thạo ít nhất một ngoại ngữ. - Năng lực chung: 4 - Năng lực chuyên môn: 4 - Năng lực quản lý: 4 - Bảo đảm năng lực lãnh đạo, quản lý theo quy định pháp luật. | E18: "
A19: ='Phụ lục 07'!B18 -> LĐQL-4.2 | C19: ='Phụ lục 07'!D18 -> Trưởng phòng Công tác chính trị - Sinh viên | D19: 1. Yêu cầu về trình độ: - Có bằng đại học trở lên phù hợp với vị trí việc làm. - Chức danh nghề nghiệp tối thiểu: giảng viên hoặc tương đương. - Lý luận chính trị: trung cấp - Có chứng chỉ bồi dưỡng theo quy định pháp luật. 2. Yêu cầu về năng lực: - Nắm vững các quy định của pháp luật, chế độ chính sách của ngành, lĩnh vực và các kiến thức cơ bản về lĩnh vực chuyên môn nghiệp vụ được giao; - Hiểu rõ các mục tiêu và đối tượng quản lý, hệ thống các nguyên tắc và cơ chế quản lý của nghiệp vụ thuộc phạm vi được giao; hiểu được những vấn đề cơ bản về khoa học tâm lý, khoa học quản lý; tổ chức khoa học quản lý; - Nắm vững và hiểu biết về các lĩnh vực chuyên môn hành chính và các ngành khác liên quan đến hành chính. - Sử dụng thành thạo tin học văn phòng; có khả năng áp dụng ứng dụng công nghệ thông tin, sử dụng thành thạo ít nhất một ngoại ngữ. - Năng lực chung: 4 - Năng lực chuyên môn: 4 - Năng lực quản lý: 4 - Bảo đảm năng lực lãnh đạo, quản lý theo quy định pháp luật. | E19: "
A20: ='Phụ lục 07'!B19 -> LĐQL-4.3 | C20: ='Phụ lục 07'!D19 -> Trưởng phòng Cơ sở vật chất | D20: 1. Yêu cầu về trình độ: - Có bằng đại học trở lên phù hợp với vị trí việc làm. - Chức danh nghề nghiệp tối thiểu: giảng viên hoặc tương đương. - Lý luận chính trị: trung cấp - Có chứng chỉ bồi dưỡng theo quy định pháp luật. 2. Yêu cầu về năng lực: - Nắm vững các quy định của pháp luật, chế độ chính sách của ngành, lĩnh vực và các kiến thức cơ bản về lĩnh vực chuyên môn nghiệp vụ được giao; - Hiểu rõ các mục tiêu và đối tượng quản lý, hệ thống các nguyên tắc và cơ chế quản lý của nghiệp vụ thuộc phạm vi được giao; hiểu được những vấn đề cơ bản về khoa học tâm lý, khoa học quản lý; tổ chức khoa học quản lý; - Nắm vững và hiểu biết về các lĩnh vực chuyên môn hành chính và các ngành khác liên quan đến hành chính. - Sử dụng thành thạo tin học văn phòng; có khả năng áp dụng ứng dụng công nghệ thông tin, sử dụng thành thạo ít nhất một ngoại ngữ. - Năng lực chung: 4 - Năng lực chuyên môn: 4 - Năng lực quản lý: 4 - Bảo đảm năng lực lãnh đạo, quản lý theo quy định pháp luật. | E20: "
A21: ='Phụ lục 07'!B20 -> LĐQL-4.4 | C21: ='Phụ lục 07'!D20 -> Trưởng phòng Đảm bảo chất lượng giáo dục | D21: 1. Yêu cầu về trình độ: - Có bằng đại học trở lên phù hợp với vị trí việc làm. - Chức danh nghề nghiệp tối thiểu: giảng viên hoặc tương đương. - Lý luận chính trị: trung cấp - Có chứng chỉ bồi dưỡng theo quy định pháp luật. 2. Yêu cầu về năng lực: - Nắm vững các quy định của pháp luật, chế độ chính sách của ngành, lĩnh vực và các kiến thức cơ bản về lĩnh vực chuyên môn nghiệp vụ được giao; - Hiểu rõ các mục tiêu và đối tượng quản lý, hệ thống các nguyên tắc và cơ chế quản lý của nghiệp vụ thuộc phạm vi được giao; hiểu được những vấn đề cơ bản về khoa học tâm lý, khoa học quản lý; tổ chức khoa học quản lý; - Nắm vững và hiểu biết về các lĩnh vực chuyên môn hành chính và các ngành khác liên quan đến hành chính. - Sử dụng thành thạo tin học văn phòng; có khả năng áp dụng ứng dụng công nghệ thông tin, sử dụng thành thạo ít nhất một ngoại ngữ. - Năng lực chung: 4 - Năng lực chuyên môn: 4 - Năng lực quản lý: 4 - Bảo đảm năng lực lãnh đạo, quản lý theo quy định pháp luật. | E21: "
A22: ='Phụ lục 07'!B21 -> LĐQL-4.5 | C22: ='Phụ lục 07'!D21 -> Trưởng phòng Đào tạo Đại học | D22: 1. Yêu cầu về trình độ: - Có bằng Tiến sĩ trở lên phù hợp với vị trí việc làm. - Chức danh nghề nghiệp tối thiểu: giảng viên. - Lý luận chính trị: trung cấp trở lên - Có chứng chỉ bồi dưỡng theo quy định pháp luật. 2. Yêu cầu về năng lực: - Nắm vững các quy định của pháp luật, chế độ chính sách của ngành, lĩnh vực và các kiến thức cơ bản về lĩnh vực chuyên môn nghiệp vụ được giao; - Hiểu rõ các mục tiêu và đối tượng quản lý, hệ thống các nguyên tắc và cơ chế quản lý của nghiệp vụ thuộc phạm vi được giao; hiểu được những vấn đề cơ bản về khoa học tâm lý, khoa học quản lý; tổ chức khoa học quản lý; - Nắm vững và hiểu biết về các lĩnh vực chuyên môn hành chính và các ngành khác liên quan đến hành chính. - Sử dụng thành thạo tin học văn phòng; có khả năng áp dụng ứng dụng công nghệ thông tin, sử dụng ngoại ngữ trong công việc. - Năng lực chung: 4 - Năng lực chuyên môn: 4 - Năng lực quản lý: 4 - Bảo đảm năng lực lãnh đạo, quản lý theo quy định pháp luật. | E22: "
A23: ='Phụ lục 07'!B22 -> LĐQL-4.6 | C23: ='Phụ lục 07'!D22 -> Trưởng phòng Đào tạo Sau đại học | D23: 1. Yêu cầu về trình độ: - Có bằng Tiến sĩ trở lên phù hợp với vị trí việc làm. - Chức danh nghề nghiệp tối thiểu: giảng viên. - Lý luận chính trị: trung cấp trở lên - Có chứng chỉ bồi dưỡng theo quy định pháp luật. 2. Yêu cầu về năng lực: - Nắm vững các quy định của pháp luật, chế độ chính sách của ngành, lĩnh vực và các kiến thức cơ bản về lĩnh vực chuyên môn nghiệp vụ được giao; - Hiểu rõ các mục tiêu và đối tượng quản lý, hệ thống các nguyên tắc và cơ chế quản lý của nghiệp vụ thuộc phạm vi được giao; hiểu được những vấn đề cơ bản về khoa học tâm lý, khoa học quản lý; tổ chức khoa học quản lý; - Nắm vững và hiểu biết về các lĩnh vực chuyên môn hành chính và các ngành khác liên quan đến hành chính. - Sử dụng thành thạo tin học văn phòng; có khả năng áp dụng ứng dụng công nghệ thông tin, sử dụng ngoại ngữ trong công việc. - Năng lực chung: 4 - Năng lực chuyên môn: 4 - Năng lực quản lý: 4 - Bảo đảm năng lực lãnh đạo, quản lý theo quy định pháp luật. | E23: "
A24: ='Phụ lục 07'!B23 -> LĐQL-4.7 | C24: ='Phụ lục 07'!D23 -> Trưởng phòng Hành chính - Tổng hợp | D24: 1. Yêu cầu về trình độ: - Có bằng đại học trở lên phù hợp với vị trí việc làm. - Chức danh nghề nghiệp tối thiểu: giảng viên hoặc tương đương. - Lý luận chính trị: trung cấp - Có chứng chỉ bồi dưỡng theo quy định pháp luật. 2. Yêu cầu về năng lực: - Nắm vững các quy định của pháp luật, chế độ chính sách của ngành, lĩnh vực và các kiến thức cơ bản về lĩnh vực chuyên môn nghiệp vụ được giao; - Hiểu rõ các mục tiêu và đối tượng quản lý, hệ thống các nguyên tắc và cơ chế quản lý của nghiệp vụ thuộc phạm vi được giao; hiểu được những vấn đề cơ bản về khoa học tâm lý, khoa học quản lý; tổ chức khoa học quản lý; - Nắm vững và hiểu biết về các lĩnh vực chuyên môn hành chính và các ngành khác liên quan đến hành chính. - Sử dụng thành thạo tin học văn phòng; có khả năng áp dụng ứng dụng công nghệ thông tin, sử dụng thành thạo ít nhất một ngoại ngữ. - Năng lực chung: 4 - Năng lực chuyên môn: 4 - Năng lực quản lý: 4 - Bảo đảm năng lực lãnh đạo, quản lý theo quy định pháp luật. | E24: "
A25: ='Phụ lục 07'!B24 -> LĐQL-4.8 | C25: ='Phụ lục 07'!D24 -> Trưởng phòng Hợp tác Quốc tế | D25: 1. Yêu cầu về trình độ: - Có bằng đại học trở lên phù hợp với vị trí việc làm. - Chức danh nghề nghiệp tối thiểu: giảng viên - Lý luận chính trị: trung cấp trở lên - Có chứng chỉ bồi dưỡng theo quy định pháp luật. 2. Yêu cầu về năng lực: - Nắm vững các quy định của pháp luật, chế độ chính sách của ngành, lĩnh vực và các kiến thức cơ bản về lĩnh vực chuyên môn nghiệp vụ được giao; - Hiểu rõ các mục tiêu và đối tượng quản lý, hệ thống các nguyên tắc và cơ chế quản lý của nghiệp vụ thuộc phạm vi được giao; hiểu được những vấn đề cơ bản về khoa học tâm lý, khoa học quản lý; tổ chức khoa học quản lý; - Nắm vững và hiểu biết về các lĩnh vực chuyên môn hành chính và các ngành khác liên quan đến hành chính. - Sử dụng thành thạo tin học văn phòng; có khả năng áp dụng ứng dụng công nghệ thông tin, sử dụng ngoại ngữ trong công việc. - Năng lực chung (cấp 4): Có năng lực về ngoại ngữ (sử dụng tốt 2 ngoại ngữ trở lên là lợi thế), năng lực kết nối, làm việc dưới cường độ cao, có kỹ năng tin học văn phòng thành thạo, có tư duy đổi mới năng động sáng tạo, phát huy sáng kiến - Năng lực chuyên môn (cấp 4): nắm bắt chức năng nghiệp vụ, có khả năng xây dựng và triển khai các hoạt động HTQT như chương trình đào tạo, tổ chức hội nghị - hội thảo, xây dựng các mối quan hệ với các đối tác uy tín trên thế giới, phát triển và triển khai các dự án hợp tác quốc tế - Năng lực quản lý (cấp 4): có năng lực tổ chức điều hành, phối hợp xử lý thông tin trong triển khai thực hiện nhiệm vụ; có năng lực tham mưu, quản lý, năng lực tổng hợp, phân tích, đánh giá kết quả công việc, đề xuất, phối hợp với cấp có thẩm quyền hoàn thiện các vấn đề chuyên môn nghiệp vụ được giao, có khả năng đoàn kết, tập hợp quần chúng, được viên chức người lao động trong đơn vị tín nhiệm | E25: "
A26: ='Phụ lục 07'!B25 -> LĐQL-4.9 | C26: ='Phụ lục 07'!D25 -> Trưởng phòng Kế hoạch Tài chính | D26: 1. Yêu cầu về trình độ: - Có bằng đại học trở lên phù hợp với vị trí việc làm. - Chức danh nghề nghiệp tối thiểu: giảng viên và tương đương. - Lý luận chính trị: trung cấp trở lên - Có chứng chỉ bồi dưỡng theo quy định pháp luật. 2. Yêu cầu về năng lực: - Nắm vững các quy định của pháp luật, chế độ chính sách của ngành, lĩnh vực và các kiến thức cơ bản về lĩnh vực chuyên môn nghiệp vụ được giao; - Hiểu rõ các mục tiêu và đối tượng quản lý, hệ thống các nguyên tắc và cơ chế quản lý của nghiệp vụ thuộc phạm vi được giao; hiểu được những vấn đề cơ bản về khoa học tâm lý, khoa học quản lý; tổ chức khoa học quản lý; - Nắm vững và hiểu biết về các lĩnh vực chuyên môn hành chính và các ngành khác liên quan đến hành chính. - Sử dụng thành thạo tin học văn phòng; có khả năng áp dụng ứng dụng công nghệ thông tin, sử dụng ngoại ngữ trong công việc. - Năng lực chung (cấp 4): Có phẩm chất đạo đức tốt, trung thực, thẳng thắn, có uy tín trong Nhà trường; Sử dụng máy vi tính thành thạo; - Năng lực chuyên môn (cấp 4): Nắm vững các văn bản quy phạm pháp luật chung và các văn bản liên quan đến công tác kế toán tài chính, công tác chung của Nhà trường, đặc biệt là các văn bản, chính sách mới được ban hành - Năng lực quản lý (cấp 4): Có uy tín, khả năng kết nối với các đơn vị trong và ngoài trường trong giải quyết công việc của Trường. Có năng lực tổ chức và triển khai hiệu quả công tác của phòng Kế hoạch Tài chính và của Nhà trường trong phạm vi công việc được giao; - Bảo đảm tiêu chuẩn năng lực theo quy định pháp luật. | E26: "
A27: ='Phụ lục 07'!B26 -> LĐQL-4.10 | C27: ='Phụ lục 07'!D26 -> Trưởng phòng Khoa học Công nghệ | D27: 1. Yêu cầu về trình độ: - Có bằng Tiến sĩ trở lên phù hợp với vị trí việc làm. - Chức danh nghề nghiệp tối thiểu: giảng viên. - Lý luận chính trị: trung cấp trở lên - Có chứng chỉ bồi dưỡng theo quy định pháp luật. 2. Yêu cầu về năng lực: - Nắm vững các quy định của pháp luật, chế độ chính sách của ngành, lĩnh vực và các kiến thức cơ bản về lĩnh vực chuyên môn nghiệp vụ được giao; - Hiểu rõ các mục tiêu và đối tượng quản lý, hệ thống các nguyên tắc và cơ chế quản lý của nghiệp vụ thuộc phạm vi được giao; hiểu được những vấn đề cơ bản về khoa học tâm lý, khoa học quản lý; tổ chức khoa học quản lý; - Nắm vững và hiểu biết về các lĩnh vực chuyên môn hành chính và các ngành khác liên quan đến hành chính. - Sử dụng thành thạo tin học văn phòng; có khả năng áp dụng ứng dụng công nghệ thông tin, sử dụng ngoại ngữ trong công việc. - Năng lực chung: 4 - Năng lực chuyên môn: 4 - Năng lực quản lý: 4 - Bảo đảm năng lực lãnh đạo, quản lý theo quy định pháp luật. | E27: "
A28: ='Phụ lục 07'!B27 -> LĐQL-4.11 | C28: ='Phụ lục 07'!D27 -> Trưởng phòng Quan hệ công chúng và Doanh nghiệp | D28: 1. Yêu cầu về trình độ: - Có bằng đại học trở lên phù hợp với vị trí việc làm. - Chức danh nghề nghiệp tối thiểu: giảng viên hoặc tương đương. - Lý luận chính trị: trung cấp - Có chứng chỉ bồi dưỡng theo quy định pháp luật. 2. Yêu cầu về năng lực: - Nắm vững các quy định của pháp luật, chế độ chính sách của ngành, lĩnh vực và các kiến thức cơ bản về lĩnh vực chuyên môn nghiệp vụ được giao; - Hiểu rõ các mục tiêu và đối tượng quản lý, hệ thống các nguyên tắc và cơ chế quản lý của nghiệp vụ thuộc phạm vi được giao; hiểu được những vấn đề cơ bản về khoa học tâm lý, khoa học quản lý; tổ chức khoa học quản lý; - Nắm vững và hiểu biết về các lĩnh vực chuyên môn hành chính và các ngành khác liên quan đến hành chính. - Sử dụng thành thạo tin học văn phòng; có khả năng áp dụng ứng dụng công nghệ thông tin, sử dụng thành thạo ít nhất một ngoại ngữ. - Năng lực chung: 4 - Năng lực chuyên môn: 4 - Năng lực quản lý: 4 - Bảo đảm năng lực lãnh đạo, quản lý theo quy định pháp luật. | E28: "
A29: ='Phụ lục 07'!B28 -> LĐQL-4.12 | C29: ='Phụ lục 07'!D28 -> Trưởng phòng Tổ chức - Cán bộ | D29: 1. Yêu cầu về trình độ: - Có bằng thạc sĩ trở lên phù hợp với vị trí việc làm. - Chức danh nghề nghiệp tối thiểu: giảng viên. - Lý luận chính trị: trung cấp trở lên - Có chứng chỉ bồi dưỡng theo quy định pháp luật. 2. Yêu cầu về năng lực: - Nắm vững các quy định của pháp luật, chế độ chính sách của ngành, lĩnh vực và các kiến thức cơ bản về lĩnh vực chuyên môn nghiệp vụ được giao; - Hiểu rõ các mục tiêu và đối tượng quản lý, hệ thống các nguyên tắc và cơ chế quản lý của nghiệp vụ thuộc phạm vi được giao; hiểu được những vấn đề cơ bản về khoa học tâm lý, khoa học quản lý; tổ chức khoa học quản lý; - Nắm vững và hiểu biết về các lĩnh vực chuyên môn hành chính và các ngành khác liên quan đến hành chính. - Sử dụng thành thạo tin học văn phòng; có khả năng áp dụng ứng dụng công nghệ thông tin, sử dụng ngoại ngữ trong công việc. - Năng lực chung: 4 - Năng lực chuyên môn: 4 - Năng lực quản lý: 4 - Bảo đảm năng lực lãnh đạo, quản lý theo quy định pháp luật. | E29: "
... A56: ='Phụ lục 07'!B55 -> LĐQL-4.39 | C56: ='Phụ lục 07'!D55 -> Giám đốc trung tâm Nghiên cứu Trắc địa công trình | D56: 1. Yêu cầu về trình độ: - Có bằng đại học trở lên phù hợp với vị trí việc làm. - Chức danh nghề nghiệp tối thiểu: giảng viên hoặc tương đương. - Lý luận chính trị: trung cấp - Có chứng chỉ bồi dưỡng theo quy định pháp luật. 2. Yêu cầu về năng lực: - Nắm vững các quy định của pháp luật, chế độ chính sách của ngành, lĩnh vực và các kiến thức cơ bản về lĩnh vực chuyên môn nghiệp vụ được giao; - Hiểu rõ các mục tiêu và đối tượng quản lý, hệ thống các nguyên tắc và cơ chế quản lý của nghiệp vụ thuộc phạm vi được giao; hiểu được những vấn đề cơ bản về khoa học tâm lý, khoa học quản lý; tổ chức khoa học quản lý; - Nắm vững và hiểu biết về các lĩnh vực chuyên môn hành chính và các ngành khác liên quan đến hành chính. - Sử dụng thành thạo tin học văn phòng; có khả năng áp dụng ứng dụng công nghệ thông tin, sử dụng thành thạo ít nhất một ngoại ngữ. - Năng lực chung: 4 - Năng lực chuyên môn: 4 - Năng lực quản lý: 4 - Bảo đảm năng lực lãnh đạo, quản lý theo quy định pháp luật. | E56: "
A57: ='Phụ lục 07'!A56 -> LĐQL-5 | B57: ='Phụ lục 07'!D56 -> Phó Trưởng khoa, Phó Trưởng phòng, Phó Giám đốc trung tâm và tương đương | D57: 1. Yêu cầu về trình độ: - Có trình độ đào tạo phù hợp với quy chế tổ chức hoạt động cùa Nhả trường và các quy định khác có liên quan. - Chức danh nghề nghiệp tối thiểu: giảng viên hoặc tương đương. - Lý luận chính trị: trung cấp - Có chứng chỉ bồi dưỡng theo quy định pháp luật. 2. Yêu cầu về năng lực: - Nắm vững các quy định của pháp luật, chế độ chính sách của ngành, lĩnh vực và các kiến thức cơ bản về lĩnh vực chuyên môn nghiệp vụ được giao; - Hiểu rõ các mục tiêu và đối tượng quản lý, hệ thống các nguyên tắc và cơ chế quản lý của nghiệp vụ thuộc phạm vi được giao; hiểu được những vấn đề cơ bản về khoa học tâm lý, khoa học quản lý; tổ chức khoa học quản lý; - Nắm vững và hiểu biết về các lĩnh vực chuyên môn hành chính và các ngành khác liên quan đến hành chính. - Sử dụng thành thạo tin học văn phòng; có khả năng áp dụng ứng dụng công nghệ thông tin, sử dụng thành thạo ít nhất một ngoại ngữ. - Năng lực chung: 3 - Năng lực chuyên môn: 3 - Năng lực quản lý: 3 - Bảo đảm năng lực lãnh đạo, quản lý theo quy định pháp luật.
A58: ='Phụ lục 07'!B57 -> LĐQL-5.1 | C58: ='Phụ lục 07'!D57 -> Phó trưởng phòng Công tác chính trị - Sinh viên | D58: 1. Yêu cầu về trình độ: - Có bằng đại học trở lên phù hợp với vị trí việc làm. - Chức danh nghề nghiệp tối thiểu: giảng viên hoặc tương đương. - Lý luận chính trị: trung cấp - Có chứng chỉ bồi dưỡng theo quy định pháp luật. 2. Yêu cầu về năng lực: - Nắm vững các quy định của pháp luật, chế độ chính sách của ngành, lĩnh vực và các kiến thức cơ bản về lĩnh vực chuyên môn nghiệp vụ được giao; - Hiểu rõ các mục tiêu và đối tượng quản lý, hệ thống các nguyên tắc và cơ chế quản lý của nghiệp vụ thuộc phạm vi được giao; hiểu được những vấn đề cơ bản về khoa học tâm lý, khoa học quản lý; tổ chức khoa học quản lý; - Nắm vững và hiểu biết về các lĩnh vực chuyên môn hành chính và các ngành khác liên quan đến hành chính. - Sử dụng thành thạo tin học văn phòng; có khả năng áp dụng ứng dụng công nghệ thông tin, sử dụng thành thạo ít nhất một ngoại ngữ. - Năng lực chung: 3 - Năng lực chuyên môn: 3 - Năng lực quản lý: 3 - Bảo đảm năng lực lãnh đạo, quản lý theo quy định pháp luật. | E58: "
A59: ='Phụ lục 07'!B58 -> LĐQL-5.2 | C59: ='Phụ lục 07'!D58 -> Phó trưởng phòng Cơ sở vật chất | D59: 1. Yêu cầu về trình độ: - Có bằng đại học trở lên phù hợp với vị trí việc làm. - Chức danh nghề nghiệp tối thiểu: giảng viên hoặc tương đương. - Lý luận chính trị: trung cấp - Có chứng chỉ bồi dưỡng theo quy định pháp luật. 2. Yêu cầu về năng lực: - Nắm vững các quy định của pháp luật, chế độ chính sách của ngành, lĩnh vực và các kiến thức cơ bản về lĩnh vực chuyên môn nghiệp vụ được giao; - Hiểu rõ các mục tiêu và đối tượng quản lý, hệ thống các nguyên tắc và cơ chế quản lý của nghiệp vụ thuộc phạm vi được giao; hiểu được những vấn đề cơ bản về khoa học tâm lý, khoa học quản lý; tổ chức khoa học quản lý; - Nắm vững và hiểu biết về các lĩnh vực chuyên môn hành chính và các ngành khác liên quan đến hành chính. - Sử dụng thành thạo tin học văn phòng; có khả năng áp dụng ứng dụng công nghệ thông tin, sử dụng thành thạo ít nhất một ngoại ngữ. - Năng lực chung: 3 - Năng lực chuyên môn: 3 - Năng lực quản lý: 3 - Bảo đảm năng lực lãnh đạo, quản lý theo quy định pháp luật. | E59: "
A60: ='Phụ lục 07'!B59 -> LĐQL-5.3 | C60: ='Phụ lục 07'!D59 -> Phó Trưởng phòng Đảm bảo chất lượng giáo dục | D60: 1. Yêu cầu về trình độ: - Có bằng đại học trở lên phù hợp với vị trí việc làm. - Chức danh nghề nghiệp tối thiểu: giảng viên hoặc tương đương. - Lý luận chính trị: trung cấp - Có chứng chỉ bồi dưỡng theo quy định pháp luật. 2. Yêu cầu về năng lực: - Nắm vững các quy định của pháp luật, chế độ chính sách của ngành, lĩnh vực và các kiến thức cơ bản về lĩnh vực chuyên môn nghiệp vụ được giao; - Hiểu rõ các mục tiêu và đối tượng quản lý, hệ thống các nguyên tắc và cơ chế quản lý của nghiệp vụ thuộc phạm vi được giao; hiểu được những vấn đề cơ bản về khoa học tâm lý, khoa học quản lý; tổ chức khoa học quản lý; - Nắm vững và hiểu biết về các lĩnh vực chuyên môn hành chính và các ngành khác liên quan đến hành chính. - Sử dụng thành thạo tin học văn phòng; có khả năng áp dụng ứng dụng công nghệ thông tin, sử dụng thành thạo ít nhất một ngoại ngữ. - Năng lực chung: 3 - Năng lực chuyên môn: 3 - Năng lực quản lý: 3 - Bảo đảm năng lực lãnh đạo, quản lý theo quy định pháp luật. | E60: "
A61: ='Phụ lục 07'!B60 -> LĐQL-5.4 | C61: ='Phụ lục 07'!D60 -> Phó trưởng phòng Phòng Đào tạo Đại học | D61: 1. Yêu cầu về trình độ: - Có bằng đại học trở lên phù hợp với vị trí việc làm. - Chức danh nghề nghiệp tối thiểu: giảng viên hoặc tương đương. - Lý luận chính trị: trung cấp - Có chứng chỉ bồi dưỡng theo quy định pháp luật. 2. Yêu cầu về năng lực: - Nắm vững các quy định của pháp luật, chế độ chính sách của ngành, lĩnh vực và các kiến thức cơ bản về lĩnh vực chuyên môn nghiệp vụ được giao; - Hiểu rõ các mục tiêu và đối tượng quản lý, hệ thống các nguyên tắc và cơ chế quản lý của nghiệp vụ thuộc phạm vi được giao; hiểu được những vấn đề cơ bản về khoa học tâm lý, khoa học quản lý; tổ chức khoa học quản lý; - Nắm vững và hiểu biết về các lĩnh vực chuyên môn hành chính và các ngành khác liên quan đến hành chính. - Sử dụng thành thạo tin học văn phòng; có khả năng áp dụng ứng dụng công nghệ thông tin, sử dụng thành thạo ít nhất một ngoại ngữ. - Năng lực chung: 3 - Năng lực chuyên môn: 3 - Năng lực quản lý: 3 - Bảo đảm năng lực lãnh đạo, quản lý theo quy định pháp luật. | E61: "
A62: ='Phụ lục 07'!B61 -> LĐQL-5.5 | C62: ='Phụ lục 07'!D61 -> Phó trưởng phòng Đào tạo Sau đại học | D62: 1. Yêu cầu về trình độ: - Có bằng đại học trở lên phù hợp với vị trí việc làm. - Chức danh nghề nghiệp tối thiểu: giảng viên hoặc tương đương. - Lý luận chính trị: trung cấp - Có chứng chỉ bồi dưỡng theo quy định pháp luật. 2. Yêu cầu về năng lực: - Nắm vững các quy định của pháp luật, chế độ chính sách của ngành, lĩnh vực và các kiến thức cơ bản về lĩnh vực chuyên môn nghiệp vụ được giao; - Hiểu rõ các mục tiêu và đối tượng quản lý, hệ thống các nguyên tắc và cơ chế quản lý của nghiệp vụ thuộc phạm vi được giao; hiểu được những vấn đề cơ bản về khoa học tâm lý, khoa học quản lý; tổ chức khoa học quản lý; - Nắm vững và hiểu biết về các lĩnh vực chuyên môn hành chính và các ngành khác liên quan đến hành chính. - Sử dụng thành thạo tin học văn phòng; có khả năng áp dụng ứng dụng công nghệ thông tin, sử dụng thành thạo ít nhất một ngoại ngữ. - Năng lực chung: 3 - Năng lực chuyên môn: 3 - Năng lực quản lý: 3 - Bảo đảm năng lực lãnh đạo, quản lý theo quy định pháp luật. | E62: "
A63: ='Phụ lục 07'!B62 -> LĐQL-5.6 | C63: ='Phụ lục 07'!D62 -> Phó Trưởng phòng Hành chính - Tổng hợp | D63: 1. Yêu cầu về trình độ: - Có bằng đại học trở lên phù hợp với vị trí việc làm. - Chức danh nghề nghiệp tối thiểu: giảng viên hoặc tương đương. - Lý luận chính trị: trung cấp - Có chứng chỉ bồi dưỡng theo quy định pháp luật. 2. Yêu cầu về năng lực: - Nắm vững các quy định của pháp luật, chế độ chính sách của ngành, lĩnh vực và các kiến thức cơ bản về lĩnh vực chuyên môn nghiệp vụ được giao; - Hiểu rõ các mục tiêu và đối tượng quản lý, hệ thống các nguyên tắc và cơ chế quản lý của nghiệp vụ thuộc phạm vi được giao; hiểu được những vấn đề cơ bản về khoa học tâm lý, khoa học quản lý; tổ chức khoa học quản lý; - Nắm vững và hiểu biết về các lĩnh vực chuyên môn hành chính và các ngành khác liên quan đến hành chính. - Sử dụng thành thạo tin học văn phòng; có khả năng áp dụng ứng dụng công nghệ thông tin, sử dụng thành thạo ít nhất một ngoại ngữ. - Năng lực chung: 3 - Năng lực chuyên môn: 3 - Năng lực quản lý: 3 - Bảo đảm năng lực lãnh đạo, quản lý theo quy định pháp luật. | E63: "
A64: ='Phụ lục 07'!B63 -> LĐQL-5.7 | C64: ='Phụ lục 07'!D63 -> Phó Trưởng phòng Hợp tác Quốc tế | D64: 1. Yêu cầu về trình độ: - Có bằng đại học trở lên phù hợp với vị trí việc làm. - Chức danh nghề nghiệp tối thiểu: giảng viên và tương đương. - Lý luận chính trị: trung cấp trở lên - Có chứng chỉ bồi dưỡng theo quy định pháp luật. 2. Yêu cầu về năng lực: - Nắm vững các quy định của pháp luật, chế độ chính sách của ngành, lĩnh vực và các kiến thức cơ bản về lĩnh vực chuyên môn nghiệp vụ được giao; - Hiểu rõ các mục tiêu và đối tượng quản lý, hệ thống các nguyên tắc và cơ chế quản lý của nghiệp vụ thuộc phạm vi được giao; hiểu được những vấn đề cơ bản về khoa học tâm lý, khoa học quản lý; tổ chức khoa học quản lý; - Nắm vững và hiểu biết về các lĩnh vực chuyên môn hành chính và các ngành khác liên quan đến hành chính. - Sử dụng thành thạo tin học văn phòng; có khả năng áp dụng ứng dụng công nghệ thông tin, sử dụng ngoại ngữ trong công việc. - Năng lực chung (cấp 3): Có năng lực về ngoại ngữ (sử dụng tốt 2 ngoại ngữ trở lên là lợi thế), năng lực kết nối, làm việc dưới cường độ cao, có kỹ năng tin học văn phòng thành thạo, có tư duy đổi mới năng động sáng tạo, phát huy sáng kiến - Năng lực chuyên môn (cấp 3): nắm bắt chức năng nghiệp vụ, có khả năng xây dựng và triển khai các hoạt động HTQT như chương trình đào tạo, tổ chức hội nghị - hội thảo, xây dựng các mối quan hệ với các đối tác uy tín trên thế giới, phát triển và triển khai các dự án hợp tác quốc tế - Năng lực quản lý (cấp 3): có năng lực tổ chức điều hành, phối hợp xử lý thông tin trong triển khai thực hiện nhiệm vụ; có năng lực tham mưu, quản lý, năng lực tổng hợp, phân tích, đánh giá kết quả công việc, đề xuất, phối hợp với cấp có thẩm quyền hoàn thiện các vấn đề chuyên môn nghiệp vụ được giao, có khả năng đoàn kết, tập hợp quần chúng, được viên chức người lao động trong đơn vị tín nhiệm | E64: "
A65: ='Phụ lục 07'!B64 -> LĐQL-5.8 | C65: ='Phụ lục 07'!D64 -> Phó trưởng Phòng KHTC phụ trách Kế hoạch tài chính | D65: 1. Yêu cầu về trình độ: - Có bằng đại học trở lên phù hợp với vị trí việc làm. - Chức danh nghề nghiệp tối thiểu: giảng viên và tương đương. - Lý luận chính trị: trung cấp trở lên - Có chứng chỉ bồi dưỡng theo quy định pháp luật. 2. Yêu cầu về năng lực: - Nắm vững các quy định của pháp luật, chế độ chính sách của ngành, lĩnh vực và các kiến thức cơ bản về lĩnh vực chuyên môn nghiệp vụ được giao; - Hiểu rõ các mục tiêu và đối tượng quản lý, hệ thống các nguyên tắc và cơ chế quản lý của nghiệp vụ thuộc phạm vi được giao; hiểu được những vấn đề cơ bản về khoa học tâm lý, khoa học quản lý; tổ chức khoa học quản lý; - Nắm vững và hiểu biết về các lĩnh vực chuyên môn hành chính và các ngành khác liên quan đến hành chính. - Sử dụng thành thạo tin học văn phòng; có khả năng áp dụng ứng dụng công nghệ thông tin, sử dụng ngoại ngữ trong công việc. - Năng lực chung (cấp 3): Có phẩm chất đạo đức tốt, trung thực, thẳng thắn, có uy tín trong Nhà trường; Sử dụng máy vi tính thành thạo; - Năng lực chuyên môn (cấp 3): Nắm vững các văn bản quy phạm pháp luật chung và các văn bản liên quan đến công tác kế toán tài chính, công tác chung của Nhà trường, đặc biệt là các văn bản, chính sách mới được ban hành - Năng lực quản lý (cấp 3): Có uy tín, khả năng kết nối với các đơn vị trong và ngoài trường trong giải quyết công việc của Trường. Có năng lực tổ chức và triển khai hiệu quả công tác của phòng Kế hoạch Tài chính và của Nhà trường trong phạm vi công việc được giao; - Bảo đảm tiêu chuẩn năng lực theo quy định pháp luật. | E65: "
A66: ='Phụ lục 07'!B65 -> LĐQL-5.9 | C66: ='Phụ lục 07'!D65 -> Phó trưởng Phòng KHTC phụ trách Kế toán, thủ quỹ | D66: 1. Yêu cầu về trình độ: - Có bằng đại học trở lên phù hợp với vị trí việc làm. - Chức danh nghề nghiệp tối thiểu: giảng viên và tương đương. - Lý luận chính trị: trung cấp trở lên - Có chứng chỉ bồi dưỡng theo quy định pháp luật. 2. Yêu cầu về năng lực: - Nắm vững các quy định của pháp luật, chế độ chính sách của ngành, lĩnh vực và các kiến thức cơ bản về lĩnh vực chuyên môn nghiệp vụ được giao; - Hiểu rõ các mục tiêu và đối tượng quản lý, hệ thống các nguyên tắc và cơ chế quản lý của nghiệp vụ thuộc phạm vi được giao; hiểu được những vấn đề cơ bản về khoa học tâm lý, khoa học quản lý; tổ chức khoa học quản lý; - Nắm vững và hiểu biết về các lĩnh vực chuyên môn hành chính và các ngành khác liên quan đến hành chính. - Sử dụng thành thạo tin học văn phòng; có khả năng áp dụng ứng dụng công nghệ thông tin, sử dụng ngoại ngữ trong công việc. - Năng lực chung (cấp 3): Có phẩm chất đạo đức tốt, trung thực, thẳng thắn, có uy tín trong Nhà trường; Sử dụng máy vi tính thành thạo; - Năng lực chuyên môn (cấp 3): Nắm vững các văn bản quy phạm pháp luật chung và các văn bản liên quan đến công tác kế toán tài chính, công tác chung của Nhà trường, đặc biệt là các văn bản, chính sách mới được ban hành - Năng lực quản lý (cấp 3): Có uy tín, khả năng kết nối với các đơn vị trong và ngoài trường trong giải quyết công việc của Trường. Có năng lực tổ chức và triển khai hiệu quả công tác của phòng Kế hoạch Tài chính và của Nhà trường trong phạm vi công việc được giao; - Bảo đảm tiêu chuẩn năng lực theo quy định pháp luật. | E66: "
A67: ='Phụ lục 07'!B66 -> LĐQL-5.10 | C67: ='Phụ lục 07'!D66 -> Phó Trưởng phòng Khoa học Công nghệ | D67: 1. Yêu cầu về trình độ: - Có bằng đại học trở lên phù hợp với vị trí việc làm. - Chức danh nghề nghiệp tối thiểu: giảng viên hoặc tương đương. - Lý luận chính trị: trung cấp - Có chứng chỉ bồi dưỡng theo quy định pháp luật. 2. Yêu cầu về năng lực: - Nắm vững các quy định của pháp luật, chế độ chính sách của ngành, lĩnh vực và các kiến thức cơ bản về lĩnh vực chuyên môn nghiệp vụ được giao; - Hiểu rõ các mục tiêu và đối tượng quản lý, hệ thống các nguyên tắc và cơ chế quản lý của nghiệp vụ thuộc phạm vi được giao; hiểu được những vấn đề cơ bản về khoa học tâm lý, khoa học quản lý; tổ chức khoa học quản lý; - Nắm vững và hiểu biết về các lĩnh vực chuyên môn hành chính và các ngành khác liên quan đến hành chính. - Sử dụng thành thạo tin học văn phòng; có khả năng áp dụng ứng dụng công nghệ thông tin, sử dụng thành thạo ít nhất một ngoại ngữ. - Năng lực chung: 3 - Năng lực chuyên môn: 3 - Năng lực quản lý: 3 - Bảo đảm năng lực lãnh đạo, quản lý theo quy định pháp luật. | E67: "
...
