Workbook

Sheet Phụ lục 04
A1: BỘ GIÁO DỤC VÀ ĐÀO TẠO | F1: CỘNG HÒA XÃ HỘI CHỦ NGHĨA VIỆT NAM
A2: TRƯỜNG ĐẠI HỌC MỎ - ĐỊA CHẤT | F2: Độc lập - Tự do - Hạnh phúc
A4: PHỤ LỤC 04
A5: DANH MỤC VỊ TRÍ VIỆC LÀM VÀ SỐ LƯỢNG NGƯỜI LÀM VIỆC TRONG TRƯỜNG ĐẠI HỌC MỎ - ĐỊA CHẤT ĐẾN NĂM 2025
A6: Số hiệu vị trí việc làm | C6: TT | D6: TT cấp 2 | E6: Danh mục vị trí việc làm | F6: Chức danh nghề nghiệp tối thiểu | G6: Hạng tối thiểu của chức danh nghề nghiệp | H6: Số lượng người làm việc
A7: Cấp 1 | B7: Cấp 2 | H7: 2023 | I7: 2024 | J7: 2025
A8: I. VỊ TRÍ VIỆC LÀM GẤN VỚI CHỨC DANH LÃNH ĐẠO, QUẢN LÝ | H8: =H9+H13+H16+H125 -> 296.58 | I8: =I9+I13+I16+I125 -> 297.58 | J8: =J9+J13+J16+J125 -> 298.58
A9: I.1. Vị trí việc làm Hội đồng trường | H9: =SUM(H10:H12) -> 1 | I9: =SUM(I10:I12) -> 1 | J9: =SUM(J10:J12) -> 1
A10: =IF(ISBLANK(C10),"",_xlfn.CONCAT("LĐQL","-",C10)) -> LĐQL-1 | C10: 1 | E10: Chủ tịch Hội đồng trường | F10: GV | G10: Hạng III | H10: 1 | I10: 1 | J10: 1
A11: =IF(ISBLANK(C11),"",_xlfn.CONCAT("LĐQL","-",C11)) | B11: =IF(ISBLANK(D11),"",_xlfn.CONCAT($A$10,".",D11)) -> LĐQL-1.1 | D11: 1 | E11: Phó chủ tịch Hội đồng trường | F11: GV | G11: Hạng III | H11: Kiêm nhiệm | I11: Kiêm nhiệm | J11: Kiêm nhiệm
A12: =IF(ISBLANK(C12),"",_xlfn.CONCAT("LĐQL","-",C12)) | B12: =IF(ISBLANK(D12),"",_xlfn.CONCAT($A$10,".",D12)) -> LĐQL-1.2 | D12: 2 | E12: Thư ký Hội đồng trường | F12: GV hoặc tương đương | G12: Hạng III | H12: Kiêm nhiệm | I12: Kiêm nhiệm | J12: Kiêm nhiệm
A13: I.2. Vị trí việc làm lãnh đạo, quản lý Nhà trường | H13: =SUM(H14:H15) -> 4 | I13: =SUM(I14:I15) -> 4 | J13: =SUM(J14:J15) -> 4
A14: =IF(ISBLANK(C14),"",_xlfn.CONCAT("LĐQL","-",C14)) -> LĐQL-2 | C14: 2 | E14: Hiệu trưởng | F14: GV | G14: Hạng III | H14: 1 | I14: 1 | J14: 1
A15: =IF(ISBLANK(C15),"",_xlfn.CONCAT("LĐQL","-",C15)) -> LĐQL-3 | C15: =C14+1 -> 3 | E15: Phó Hiệu trưởng | F15: GV | G15: Hạng III | H15: 3 | I15: 3 | J15: 3
A16: I.3. Vị trí việc làm lãnh đạo, quản lý các tổ chức, đơn vị thuộc, trực thuộc Nhà trường | H16: =H17+H57+H96+H99+H103+H107+H111+H120+H121+H122+H123+H124 -> 131.58 | I16: =I17+I57+I96+I99+I103+I107+I111+I120+I121+I122+I123+I124 -> 132.58 | J16: =J17+J57+J96+J99+J103+J107+J111+J120+J121+J122+J123+J124 -> 132.58
A17: =IF(ISBLANK(C17),"",_xlfn.CONCAT("LĐQL","-",C17)) -> LĐQL-4 | C17: =C15+1 -> 4 | E17: Trưởng khoa, Trưởng phòng, Giám đốc trung tâm và tương đương | F17: GV hoặc tương đương | G17: Hạng III | H17: =SUM(H18:H56) -> 39 | I17: =SUM(I18:I56) -> 39 | J17: =SUM(J18:J56) -> 39
B18: =IF(ISBLANK(D18),"",_xlfn.CONCAT($A$17,".",D18)) -> LĐQL-4.1 | D18: 1 | E18: Chánh văn phòng Hội đồng trường | F18: GV hoặc tương đương | G18: Hạng III | H18: 1 | I18: 1 | J18: 1
B19: =IF(ISBLANK(D19),"",_xlfn.CONCAT($A$17,".",D19)) -> LĐQL-4.2 | D19: =D18+1 -> 2 | E19: Trưởng phòng Công tác chính trị - Sinh viên | F19: GV hoặc tương đương | G19: Hạng III | H19: 1 | I19: 1 | J19: 1
B20: =IF(ISBLANK(D20),"",_xlfn.CONCAT($A$17,".",D20)) -> LĐQL-4.3 | D20: =D19+1 -> 3 | E20: Trưởng phòng Cơ sở vật chất | F20: GV hoặc tương đương | G20: Hạng III | H20: 1 | I20: 1 | J20: 1
B21: =IF(ISBLANK(D21),"",_xlfn.CONCAT($A$17,".",D21)) -> LĐQL-4.4 | D21: =D20+1 -> 4 | E21: Trưởng phòng Đảm bảo chất lượng giáo dục | F21: GV hoặc tương đương | G21: Hạng III | H21: 1 | I21: 1 | J21: 1
B22: =IF(ISBLANK(D22),"",_xlfn.CONCAT($A$17,".",D22)) -> LĐQL-4.5 | D22: =D21+1 -> 5 | E22: Trưởng phòng Đào tạo Đại học | F22: GV | G22: Hạng III | H22: 1 | I22: 1 | J22: 1
B23: =IF(ISBLANK(D23),"",_xlfn.CONCAT($A$17,".",D23)) -> LĐQL-4.6 | D23: =D22+1 -> 6 | E23: Trưởng phòng Đào tạo Sau đại học | F23: GV | G23: Hạng III | H23: 1 | I23: 1 | J23: 1
B24: =IF(ISBLANK(D24),"",_xlfn.CONCAT($A$17,".",D24)) -> LĐQL-4.7 | D24: =D23+1 -> 7 | E24: Trưởng phòng Hành chính - Tổng hợp | F24: GV hoặc tương đương | G24: Hạng III | H24: 1 | I24: 1 | J24: 1
B25: =IF(ISBLANK(D25),"",_xlfn.CONCAT($A$17,".",D25)) -> LĐQL-4.8 | D25: =D24+1 -> 8 | E25: Trưởng phòng Hợp tác Quốc tế | F25: GV | G25: Hạng III | H25: 1 | I25: 1 | J25: 1
B26: =IF(ISBLANK(D26),"",_xlfn.CONCAT($A$17,".",D26)) -> LĐQL-4.9 | D26: =D25+1 -> 9 | E26: Trưởng phòng Kế hoạch Tài chính | F26: GV hoặc tương đương | G26: Hạng III | H26: 1 | I26: 1 | J26: 1
B27: =IF(ISBLANK(D27),"",_xlfn.CONCAT($A$17,".",D27)) -> LĐQL-4.10 | D27: =D26+1 -> 10 | E27: Trưởng phòng Khoa học Công nghệ | F27: GV | G27: Hạng III | H27: 1 | I27: 1 | J27: 1
B28: =IF(ISBLANK(D28),"",_xlfn.CONCAT($A$17,".",D28)) -> LĐQL-4.11 | D28: =D27+1 -> 11 | E28: Trưởng phòng Quan hệ công chúng và Doanh nghiệp | F28: GV hoặc tương đương | G28: Hạng III | H28: 1 | I28: 1 | J28: 1
B29: =IF(ISBLANK(D29),"",_xlfn.CONCAT($A$17,".",D29)) -> LĐQL-4.12 | D29: =D28+1 -> 12 | E29: Trưởng phòng Tổ chức - Cán bộ | F29: GV | G29: Hạng III | H29: 1 | I29: 1 | J29: 1
B30: =IF(ISBLANK(D30),"",_xlfn.CONCAT($A$17,".",D30)) -> LĐQL-4.13 | D30: =D29+1 -> 13 | E30: Trưởng phòng Xuất bản | F30: GV hoặc tương đương | G30: Hạng III | H30: 1 | I30: 1 | J30: 1
... B56: =IF(ISBLANK(D56),"",_xlfn.CONCAT($A$17,".",D56)) -> LĐQL-4.39 | D56: =D55+1 -> 39 | E56: Giám đốc trung tâm Nghiên cứu Trắc địa công trình | F56: GV hoặc tương đương | G56: Hạng III | H56: 1 | I56: 1 | J56: 1
A57: =IF(ISBLANK(C57),"",_xlfn.CONCAT("LĐQL","-",C57)) -> LĐQL-5 | C57: =C17+1 -> 5 | E57: Phó Trưởng khoa, Phó Trưởng phòng, Phó Giám đốc trung tâm và tương đương | F57: GV hoặc tương đương | G57: Hạng III | H57: =SUM(H58:H95) -> 59 | I57: =SUM(I58:I95) -> 60 | J57: =SUM(J58:J95) -> 60
B58: =IF(ISBLANK(D58),"",_xlfn.CONCAT($A$57,".",D58)) -> LĐQL-5.1 | D58: 1 | E58: Phó trưởng phòng Công tác chính trị - Sinh viên | F58: GV hoặc tương đương | G58: Hạng III | H58: 1 | I58: 1 | J58: 1
B59: =IF(ISBLANK(D59),"",_xlfn.CONCAT($A$57,".",D59)) -> LĐQL-5.2 | D59: =D58+1 -> 2 | E59: Phó trưởng phòng Cơ sở vật chất | F59: GV hoặc tương đương | G59: Hạng III | H59: 1 | I59: 1 | J59: 1
B60: =IF(ISBLANK(D60),"",_xlfn.CONCAT($A$57,".",D60)) -> LĐQL-5.3 | D60: =D59+1 -> 3 | E60: Phó Trưởng phòng Đảm bảo chất lượng giáo dục | F60: GV hoặc tương đương | G60: Hạng III | H60: 1 | I60: 1 | J60: 1
B61: =IF(ISBLANK(D61),"",_xlfn.CONCAT($A$57,".",D61)) -> LĐQL-5.4 | D61: =D60+1 -> 4 | E61: Phó trưởng phòng Phòng Đào tạo Đại học | F61: GV hoặc tương đương | G61: Hạng III | H61: 2 | I61: 2 | J61: 2
B62: =IF(ISBLANK(D62),"",_xlfn.CONCAT($A$57,".",D62)) -> LĐQL-5.5 | D62: =D61+1 -> 5 | E62: Phó trưởng phòng Đào tạo Sau đại học | F62: GV hoặc tương đương | G62: Hạng III | H62: 1 | I62: 1 | J62: 1
B63: =IF(ISBLANK(D63),"",_xlfn.CONCAT($A$57,".",D63)) -> LĐQL-5.6 | D63: =D62+1 -> 6 | E63: Phó phòng Hành chính - Tổng hợp | F63: GV hoặc tương đương | G63: Hạng III | H63: 2 | I63: 2 | J63: 2
B64: =IF(ISBLANK(D64),"",_xlfn.CONCAT($A$57,".",D64)) -> LĐQL-5.7 | D64: =D63+1 -> 7 | E64: Phó Trưởng phòng Hợp tác Quốc tế | F64: GV hoặc tương đương | G64: Hạng III | H64: 1 | I64: 1 | J64: 1
B65: =IF(ISBLANK(D65),"",_xlfn.CONCAT($A$57,".",D65)) -> LĐQL-5.8 | D65: =D64+1 -> 8 | E65: Phó trưởng Phòng KHTC phụ trách Kế hoạch tài chính | F65: GV hoặc tương đương | G65: Hạng III | H65: 1 | I65: 1 | J65: 1
B66: =IF(ISBLANK(D66),"",_xlfn.CONCAT($A$57,".",D66)) -> LĐQL-5.9 | D66: =D65+1 -> 9 | E66: Phó trưởng Phòng KHTC phụ trách Kế toán, thủ quỹ | F66: GV hoặc tương đương | G66: Hạng III | H66: 1 | I66: 1 | J66: 1
B67: =IF(ISBLANK(D67),"",_xlfn.CONCAT($A$57,".",D67)) -> LĐQL-5.10 | D67: =D66+1 -> 10 | E67: Phó phòng Khoa học Công nghệ | F67: GV hoặc tương đương | G67: Hạng III | H67: 1 | I67: 1 | J67: 1
B68: =IF(ISBLANK(D68),"",_xlfn.CONCAT($A$57,".",D68)) -> LĐQL-5.11 | D68: =D67+1 -> 11 | E68: Phó phòng Quan hệ công chúng và Doanh nghiệp | F68: GV hoặc tương đương | G68: Hạng III | H68: 2 | I68: 2 | J68: 2
B69: =IF(ISBLANK(D69),"",_xlfn.CONCAT($A$57,".",D69)) -> LĐQL-5.12 | D69: =D68+1 -> 12 | E69: Phó phòng Tổ chức - Cán bộ | F69: GV hoặc tương đương | G69: Hạng III | H69: 1 | I69: 1 | J69: 1
B70: =IF(ISBLANK(D70),"",_xlfn.CONCAT($A$57,".",D70)) -> LĐQL-5.13 | D70: =D69+1 -> 13 | E70: Phó giám đốc Trung tâm Dịch vụ | F70: GV hoặc tương đương | G70: Hạng III | H70: 0 | I70: 1 | J70: 1
... B95: =IF(ISBLANK(D95),"",_xlfn.CONCAT($A$57,".",D95)) -> LĐQL-5.38 | D95: =D94+1 -> 38 | E95: Phó giám đốc trung tâm Nghiên cứu Trắc địa công trình | F95: GV hoặc tương đương | G95: Hạng III | H95: 2 | I95: 2 | J95: 2
A96: =IF(ISBLANK(C96),"",_xlfn.CONCAT("LĐQL","-",C96)) -> LĐQL-6 | C96: =C57+1 -> 6 | E96: Giám đốc ban quản lý, Giám đốc thư viện, Giám đốc xưởng và tương đương | F96: GV hoặc tương đương | G96: Hạng III | H96: =SUM(H97:H98) -> 2 | I96: =SUM(I97:I98) -> 2 | J96: =SUM(J97:J98) -> 2
B97: =IF(ISBLANK(D97),"",_xlfn.CONCAT($A$96,".",D97)) -> LĐQL-6.1 | D97: 1 | E97: Giám đốc Ban Quản lý các Dự án | F97: GV hoặc tương đương | G97: Hạng III | H97: 1 | I97: 1 | J97: 1
B98: =IF(ISBLANK(D98),"",_xlfn.CONCAT($A$96,".",D98)) -> LĐQL-6.2 | D98: 2 | E98: Giám đốc Trung tâm Thông tin - Thư viện | F98: GV hoặc tương đương | G98: Hạng III | H98: 1 | I98: 1 | J98: 1
A99: =IF(ISBLANK(C99),"",_xlfn.CONCAT("LĐQL","-",C99)) -> LĐQL-7 | C99: =C96+1 -> 7 | E99: Phó Giám đốc ban quản lý, Phó Giám đốc thư viện, Phó Giám đốc xưởng và tương đương | F99: GV hoặc tương đương | G99: Hạng III | H99: =SUM(H100:H102) -> 3 | I99: =SUM(I100:I102) -> 3 | J99: =SUM(J100:J102) -> 3
B100: =IF(ISBLANK(D100),"",_xlfn.CONCAT($A$99,".",D100)) -> LĐQL-7.1 | D100: 1 | E100: Phó Giám đốc Ban Quản lý các Dự án | F100: GV hoặc tương đương | G100: Hạng III | H100: 1 | I100: 1 | J100: 1
B101: =IF(ISBLANK(D101),"",_xlfn.CONCAT($A$99,".",D101)) -> LĐQL-7.2 | D101: 2 | E101: Phó Giám đốc Trung tâm Trung tâm Thông tin - Thư viện phụ trách công nghệ thông tin | F101: GV hoặc tương đương | G101: Hạng III | H101: 1 | I101: 1 | J101: 1
B102: =IF(ISBLANK(D102),"",_xlfn.CONCAT($A$99,".",D102)) -> LĐQL-7.3 | D102: 3 | E102: Phó Giám đốc Trung tâm Trung tâm Thông tin - Thư viện phụ trách thư viện | F102: GV hoặc tương đương | G102: Hạng III | H102: 1 | I102: 1 | J102: 1
A103: =IF(ISBLANK(C103),"",_xlfn.CONCAT("LĐQL","-",C103)) -> LĐQL-8 | C103: =C99+1 -> 8 | E103: Hiệu trưởng trường thuộc Trường | F103: GV hoặc tương đương | G103: Hạng III | H103: =SUM(H104:H106) -> 3 | I103: =SUM(I104:I106) -> 3 | J103: =SUM(J104:J106) -> 3
B104: =IF(ISBLANK(D104),"",_xlfn.CONCAT($A$103,".",D104)) -> LĐQL-8.1 | D104: 1 | E104: Hiệu trưởng trường các Khoa học Trái đất và Môi trường | F104: GV | G104: Hạng III | H104: 1 | I104: 1 | J104: 1
B105: =IF(ISBLANK(D105),"",_xlfn.CONCAT($A$103,".",D105)) -> LĐQL-8.2 | D105: 2 | E105: Hiệu trưởng trường Kỹ thuật và Công nghệ | F105: GV | G105: Hạng III | H105: 1 | I105: 1 | J105: 1
B106: =IF(ISBLANK(D106),"",_xlfn.CONCAT($A$103,".",D106)) -> LĐQL-8.3 | D106: 3 | E106: Hiệu trưởng trường Công nghệ thông tin và truyền thông | F106: GV | G106: Hạng III | H106: 1 | I106: 1 | J106: 1
A107: =IF(ISBLANK(C107),"",_xlfn.CONCAT("LĐQL","-",C107)) -> LĐQL-9 | C107: =C103+1 -> 9 | E107: Phó Hiệu trưởng trường thuộc Trường | F107: GV hoặc tương đương | G107: Hạng III | H107: =SUM(H108:H110) -> 9 | I107: =SUM(I108:I110) -> 9 | J107: =SUM(J108:J110) -> 9
B108: =IF(ISBLANK(D108),"",_xlfn.CONCAT($A$107,".",D108)) -> LĐQL-9.1 | D108: 1 | E108: Phó Hiệu trưởng trường các Khoa học Trái đất và Môi trường | F108: GV | G108: Hạng III | H108: 3 | I108: 3 | J108: 3
B109: =IF(ISBLANK(D109),"",_xlfn.CONCAT($A$107,".",D109)) -> LĐQL-9.2 | D109: 2 | E109: Phó Hiệu trưởng trường Kỹ thuật và Công nghệ | F109: GV | G109: Hạng III | H109: 3 | I109: 3 | J109: 3
B110: =IF(ISBLANK(D110),"",_xlfn.CONCAT($A$107,".",D110)) -> LĐQL-9.3 | D110: 3 | E110: Phó Hiệu trưởng trường Công nghệ thông tin và truyền thông | F110: GV | G110: Hạng III | H110: 3 | I110: 3 | J110: 3
A111: =IF(ISBLANK(C111),"",_xlfn.CONCAT("LĐQL","-",C111)) -> LĐQL-10 | C111: =C107+1 -> 10 | E111: Kế toán trưởng của Trường và các đơn vị trực thuộc Trường | F111: Kế toán viên hoặc tương đương | G111: Hạng III | H111: =SUM(H112:H119) -> 8.58 | I111: =SUM(I112:I119) -> 8.58 | J111: =SUM(J112:J119) -> 8.58
B112: =IF(ISBLANK(D112),"",_xlfn.CONCAT($A$111,".",D112)) -> LĐQL-10.1 | D112: 1 | E112: Kế toán trưởng của Trường | F112: Kế toán viên hoặc tương đương | G112: Hạng III | H112: 1 | I112: 1 | J112: 1
B113: =IF(ISBLANK(D113),"",_xlfn.CONCAT($A$111,".",D113)) -> LĐQL-10.2 | D113: 2 | E113: Kế toán trưởng Trường các Khoa học Trái đất và Môi trường | F113: Kế toán viên hoặc tương đương | G113: Hạng III | H113: 1 | I113: 1 | J113: 1
B114: =IF(ISBLANK(D114),"",_xlfn.CONCAT($A$111,".",D114)) -> LĐQL-10.3 | D114: 3 | E114: Kế toán trưởng Trường Kỹ thuật và Công nghệ | F114: Kế toán viên hoặc tương đương | G114: Hạng III | H114: 1 | I114: 1 | J114: 1
B115: =IF(ISBLANK(D115),"",_xlfn.CONCAT($A$111,".",D115)) -> LĐQL-10.4 | D115: 4 | E115: Kế toán trưởng Trường Công nghệ thông tin và truyền thông | F115: Kế toán viên hoặc tương đương | G115: Hạng III | H115: 1 | I115: 1 | J115: 1
B116: =IF(ISBLANK(D116),"",_xlfn.CONCAT($A$111,".",D116)) -> LĐQL-10.5 | D116: 5 | E116: Kế toán trưởng Trung tâm dịch vụ | F116: Kế toán viên hoặc tương đương | G116: Hạng III | H116: 1.29 | I116: 1.29 | J116: 1.29
B117: =IF(ISBLANK(D117),"",_xlfn.CONCAT($A$111,".",D117)) -> LĐQL-10.6 | D117: 6 | E117: Kế toán trưởng Trung tâm Ngoại ngữ - Tin học | F117: Kế toán viên hoặc tương đương | G117: Hạng III | H117: 1.29 | I117: 1.29 | J117: 1.29
B118: =IF(ISBLANK(D118),"",_xlfn.CONCAT($A$111,".",D118)) -> LĐQL-10.7 | D118: 7 | E118: Kế toán trưởng Trung tâm Phân tích, Thí nghiệm Công nghệ cao | F118: Kế toán viên hoặc tương đương | G118: Hạng III | H118: 1 | I118: 1 | J118: 1
B119: =IF(ISBLANK(D119),"",_xlfn.CONCAT($A$111,".",D119)) -> LĐQL-10.8 | D119: 8 | E119: Kế toán trưởng Viện Khoa học công nghệ cao | F119: Kế toán viên hoặc tương đương | G119: Hạng III | H119: 1 | I119: 1 | J119: 1
A120: =IF(ISBLANK(C120),"",_xlfn.CONCAT("LĐQL","-",C120)) -> LĐQL-11 | C120: =C111+1 -> 11 | E120: Viện trưởng Viện Khoa học công nghệ cao | F120: GV | G120: Hạng III | H120: 1 | I120: 1 | J120: 1
A121: =IF(ISBLANK(C121),"",_xlfn.CONCAT("LĐQL","-",C121)) -> LĐQL-12 | C121: =C120+1 -> 12 | E121: Phó viện trưởng Viện Khoa học công nghệ cao | F121: GV hoặc tương đương | G121: Hạng III | H121: 3 | I121: 3 | J121: 3
A122: =IF(ISBLANK(C122),"",_xlfn.CONCAT("LĐQL","-",C122)) -> LĐQL-13 | C122: =C121+1 -> 13 | E122: Tổng biên tập Tạp chí Khoa học kỹ thuật Mỏ - Địa chất | F122: GV | G122: Hạng III | H122: 1 | I122: 1 | J122: 1
A123: =IF(ISBLANK(C123),"",_xlfn.CONCAT("LĐQL","-",C123)) -> LĐQL-14 | C123: =C122+1 -> 14 | E123: Phó Tổng biên tập Tạp chí Khoa học kỹ thuật Mỏ - Địa chất | F123: GV hoặc tương đương | G123: Hạng III | H123: 2 | I123: 2 | J123: 2
A124: =IF(ISBLANK(C124),"",_xlfn.CONCAT("LĐQL","-",C124)) -> LĐQL-15 | C124: =C123+1 -> 15 | E124: Trưởng Trạm Y tế | F124: Bác sĩ | G124: Hạng III | H124: 1 | I124: 1 | J124: 1
A125: I.4. Vị trí việc làm lãnh đạo, quản lý các tổ chức, đơn vị cấu thành các tổ chức, đơn vị của Trường (trong thời gian Chính phủ chưa ban hành chế độ tiền lương theo Nghị quyết số 27-NQ/TW ngày 21 tháng 5 năm 2018 của Hội nghị lần thứ bảy Ban Chấp hành Trung ương khóa XII) | H125: =H126+H215 -> 160 | I125: =I126+I215 -> 160 | J125: =J126+J215 -> 161
A126: =IF(ISBLANK(C126),"",_xlfn.CONCAT("LĐQL","-",C126)) -> LĐQL-16 | C126: =C124+1 -> 16 | E126: Trưởng khoa thuộc Phân hiệu, Trưởng phòng thí nghiệm và tương đương | F126: GV hoặc tương đương | G126: Hạng III | H126: =H127+H136+H143+H154+H157+H165+H172+H183+H179+H188+H192+H204 -> 69 | I126: =I127+I136+I143+I154+I157+I165+I172+I183+I179+I188+I192+I204 -> 69 | J126: =J127+J136+J143+J154+J157+J165+J172+J183+J179+J188+J192+J204 -> 69
E127: Khoa Công nghệ thông tin | H127: =SUM(H128:H135) -> 8 | I127: =SUM(I128:I135) -> 8 | J127: =SUM(J128:J135) -> 8
B128: =IF(ISBLANK(D128),"",_xlfn.CONCAT($A$126,".",D128)) -> LĐQL-16.1 | D128: 1 | E128: Trưởng Bộ môn Hệ thống thông tin tri thức | F128: GV | G128: Hạng III | H128: 1 | I128: 1 | J128: 1
B129: =IF(ISBLANK(D129),"",_xlfn.CONCAT($A$126,".",D129)) -> LĐQL-16.2 | D129: 2 | E129: Trưởng Bộ môn Khoa học máy tính | F129: GV | G129: Hạng III | H129: 1 | I129: 1 | J129: 1
B130: =IF(ISBLANK(D130),"",_xlfn.CONCAT($A$126,".",D130)) -> LĐQL-16.3 | D130: =D129+1 -> 3 | E130: Trưởng Bộ môn Mạng Máy tính | F130: GV | G130: Hạng III | H130: 1 | I130: 1 | J130: 1
B131: =IF(ISBLANK(D131),"",_xlfn.CONCAT($A$126,".",D131)) -> LĐQL-16.4 | D131: =D130+1 -> 4 | E131: Trưởng Bộ môn Tin học Kinh tế | F131: GV | G131: Hạng III | H131: 1 | I131: 1 | J131: 1
B132: =IF(ISBLANK(D132),"",_xlfn.CONCAT($A$126,".",D132)) -> LĐQL-16.5 | D132: =D131+1 -> 5 | E132: Trưởng Bộ môn Tin học Trắc địa | F132: GV | G132: Hạng III | H132: 1 | I132: 1 | J132: 1
B133: =IF(ISBLANK(D133),"",_xlfn.CONCAT($A$126,".",D133)) -> LĐQL-16.6 | D133: =D132+1 -> 6 | E133: Trưởng Bộ môn Tin học Địa chất | F133: GV | G133: Hạng III | H133: 1 | I133: 1 | J133: 1
B134: =IF(ISBLANK(D134),"",_xlfn.CONCAT($A$126,".",D134)) -> LĐQL-16.7 | D134: =D133+1 -> 7 | E134: Trưởng Bộ môn Công nghệ phần mềm | F134: GV | G134: Hạng III | H134: 1 | I134: 1 | J134: 1
B135: =IF(ISBLANK(D135),"",_xlfn.CONCAT($A$126,".",D135)) -> LĐQL-16.8 | D135: =D134+1 -> 8 | E135: Trưởng Phòng thí nghiệm Địa tin học | F135: GV hoặc tương đương | G135: Hạng III | H135: 1 | I135: 1 | J135: 1
B136: =IF(ISBLANK(D136),"",_xlfn.CONCAT($A$126,".",D136)) | E136: Khoa Cơ điện | H136: =SUM(H137:H142) -> 6 | I136: =SUM(I137:I142) -> 6 | J136: =SUM(J137:J142) -> 6
B137: =IF(ISBLANK(D137),"",_xlfn.CONCAT($A$126,".",D137)) -> LĐQL-16.9 | D137: =D135+1 -> 9 | E137: Trưởng Bộ môn Kỹ thuật điện - Điện tử | F137: GV | G137: Hạng III | H137: 1 | I137: 1 | J137: 1
B138: =IF(ISBLANK(D138),"",_xlfn.CONCAT($A$126,".",D138)) -> LĐQL-16.10 | D138: =D137+1 -> 10 | E138: Trưởng Bộ môn Kỹ thuật cơ khí | F138: GV | G138: Hạng III | H138: 1 | I138: 1 | J138: 1
B139: =IF(ISBLANK(D139),"",_xlfn.CONCAT($A$126,".",D139)) -> LĐQL-16.11 | D139: =D138+1 -> 11 | E139: Trưởng Bộ môn Máy và thiết bị công nghiệp | F139: GV | G139: Hạng III | H139: 1 | I139: 1 | J139: 1
B140: =IF(ISBLANK(D140),"",_xlfn.CONCAT($A$126,".",D140)) -> LĐQL-16.12 | D140: =D139+1 -> 12 | E140: Trưởng Bộ môn Điện khí hóa | F140: GV | G140: Hạng III | H140: 1 | I140: 1 | J140: 1
B141: =IF(ISBLANK(D141),"",_xlfn.CONCAT($A$126,".",D141)) -> LĐQL-16.13 | D141: =D140+1 -> 13 | E141: Trưởng Bộ môn Tự động hóa xí nghiệp Mỏ và Dầu khí | F141: GV | G141: Hạng III | H141: 1 | I141: 1 | J141: 1
B142: =IF(ISBLANK(D142),"",_xlfn.CONCAT($A$126,".",D142)) -> LĐQL-16.14 | D142: =D141+1 -> 14 | E142: Xưởng Trưởng Xưởng Cơ-Điện | F142: GV hoặc tương đương | G142: Hạng III | H142: 1 | I142: 1 | J142: 1
B143: =IF(ISBLANK(D143),"",_xlfn.CONCAT($A$126,".",D143)) | E143: Khoa Dầu khí và Năng lượng | H143: =SUM(H144:H153) -> 10 | I143: =SUM(I144:I153) -> 10 | J143: =SUM(J144:J153) -> 10
B144: =IF(ISBLANK(D144),"",_xlfn.CONCAT($A$126,".",D144)) -> LĐQL-16.15 | D144: =D142+1 -> 15 | E144: Trưởng bộ môn Địa vật lý | F144: GV | G144: Hạng III | H144: 1 | I144: 1 | J144: 1
B145: =IF(ISBLANK(D145),"",_xlfn.CONCAT($A$126,".",D145)) -> LĐQL-16.16 | D145: =D144+1 -> 16 | E145: Trưởng bộ môn Lọc - Hóa dầu | F145: GV | G145: Hạng III | H145: 1 | I145: 1 | J145: 1
B146: =IF(ISBLANK(D146),"",_xlfn.CONCAT($A$126,".",D146)) -> LĐQL-16.17 | D146: =D145+1 -> 17 | E146: Trưởng bộ môn Khoan - Khai thác | F146: GV | G146: Hạng III | H146: 1 | I146: 1 | J146: 1
B147: =IF(ISBLANK(D147),"",_xlfn.CONCAT($A$126,".",D147)) -> LĐQL-16.18 | D147: =D146+1 -> 18 | E147: Trưởng Bộ môn Thiết bị Dầu khí và Công trình | F147: GV | G147: Hạng III | H147: 1 | I147: 1 | J147: 1
B148: =IF(ISBLANK(D148),"",_xlfn.CONCAT($A$126,".",D148)) -> LĐQL-16.19 | D148: =D147+1 -> 19 | E148: Trưởng Bộ môn Địa chất Dầu khí | F148: GV | G148: Hạng III | H148: 1 | I148: 1 | J148: 1
B149: =IF(ISBLANK(D149),"",_xlfn.CONCAT($A$126,".",D149)) -> LĐQL-16.20 | D149: =D148+1 -> 20 | E149: Trưởng Phòng Xử lý số liệu Workstation Khoa Dầu khí | F149: GV hoặc tương đương | G149: Hạng III | H149: 1 | I149: 1 | J149: 1
B150: =IF(ISBLANK(D150),"",_xlfn.CONCAT($A$126,".",D150)) -> LĐQL-16.21 | D150: =D149+1 -> 21 | E150: Trưởng Phòng thí nghiệm Khoan - Khai thác | F150: GV hoặc tương đương | G150: Hạng III | H150: 1 | I150: 1 | J150: 1
...

Sheet Phụ lục 06
A1: BỘ GIÁO DỤC VÀ ĐÀO TẠO | E1: CỘNG HÒA XÃ HỘI CHỦ NGHĨA VIỆT NAM
A2: TRƯỜNG ĐẠI HỌC MỎ - ĐỊA CHẤT | E2: Độc lập - Tự do - Hạnh phúc
A4: PHỤ LỤC 06 NỘI DUNG VÀ CẤP ĐỘ XÁC ĐỊNH CỦA NHÓM NĂNG LỰC CHUNG, NĂNG LỰC CHUYÊN MÔN, NĂNG LỰC QUẢN LÝ ĐỐI VỚI VỊ TRÍ VIỆC LÀM TRONG TRƯỜNG ĐẠI HỌC MỎ - ĐỊA CHẤT ĐẾN NĂM 2025
A5: 1. Đối với vị trí việc làm lãnh đạo, quản lý và chức danh nghề nghiệp chuyên ngành
A6: Cấp độ | C6: Nhóm năng lực chung
B7: Đạo đức và bản lĩnh | C7: Tổ chức thực hiện công việc | D7: Soạn thảo và ban hành văn bản | E7: Giao tiếp ứng xử | F7: Quan hệ phối hợp
A8: 5 | B8: Tạo dựng văn hóa dẫn dắt việc thực hiện đạo đức và bản lĩnh. | C8: Đưa ra các định hướng chiến lược. | D8: Phân tích, đánh giá, phản biện, hoạch định chính sách. | E8: Giao tiếp tốt về vấn đề mang tính chiến lược | F8: Thiết lập các định hướng quan hệ đối tác chiến lược.
A9: 4 | B9: Chủ động, trách nhiệm cao với công việc; hướng dẫn, kiểm tra việc thực hiện. | C9: Nhận biết trước và thích ứng với yêu cầu mới của công việc; phát huy nguồn lực bên trong và bên ngoài để có giải pháp đảm bảo chất lượng công việc. | D9: Hiểu biết về vai trò, tác động xã hội của chính sách; xây dựng khung pháp lý hỗ trợ việc thực thi chính sách. | E9: Giao tiếp tốt trong và ngoài cơ quan, đơn vị | F9: Thiết lập mạng lưới quan hệ ở nhiều cấp độ.
A10: 3 | B10: Trách nhiệm cao với công việc được giao, gương mẫu trong thực hiện. | C10: Đề xuất điều chỉnh thủ tục, quy trình làm việc, … kịp thời để đáp ứng tốt hơn nhu cầu của đơn vị, xã hội | D10: Phân tích, đánh giá, đề xuất chính sách phù hợp với chiến lược, định hướng dài hạn của cơ quan, đơn vị, địa phương. | E10: Giao tiếp tốt với tổ chức trong nội bộ cơ quan, đơn vị | F10: Tìm kiếm cơ hội xây dựng và mở rộng mạng lưới quan hệ.
A11: 2 | B11: Tự nhận trách nhiệm với công việc được giao, chuẩn mực trong thực hiện. | C11: Linh hoạt trong tổ chức thực hiện công việc nhằm đảm bảo các tiêu chuẩn chất lượng đã thống nhất. | D11: Nắm vững các quy định và vai trò, tác động của hệ thống văn bản của Đảng, văn bản pháp quy và văn bản hành chính của cơ quan có thẩm quyền | E11: Thúc đẩy giao tiếp hai chiều | F11: Thiết lập được mạng lưới quan hệ tốt trong nội bộ.
A12: 1 | B12: Trách nhiệm với công việc được giao, chuẩn mực trong thực hiện. | C12: Tổ chức thực hiện công việc theo tiêu chuẩn chất lượng, quy trình có sẵn. | D12: Nắm được các quy định về văn bản của Đảng, văn bản pháp quy và văn bản hành chính để áp dụng vào công việc chuyên môn. | E12: Nghe và trình bày thông tin một cách rõ ràng | F12: Tạo mối quan hệ tốt, chủ động phối hợp với đồng nghiệp trong công việc.
A14: Cấp độ | B14: Nhóm năng lực quản lý
B15: Tư duy chiến lược | C15: Quản lý sự thay đổi | D15: Ra quyết định | E15: Quản lý nguồn lực | F15: Phát triển nhân sự
A16: 5 | B16: Định hướng xây dựng mục tiêu, chiến lược phát triển dài hạn cho đơn vị. | C16: Dự báo và chủ động chuẩn bị và tiến hành những thay đổi, cải tổ cơ bản trong đơn vị. | D16: Ra quyết định quan trọng có ảnh hưởng lớn đến uy tín, hoạt động của đơn vị. | E16: Huy động và quản lý, sử dụng có hiệu quả nguồn lực trong và ngoài đơn vị. | F16: Tạo môi trường phát triển, hoàn thiện kiến thức, kỹ năng, kinh nghiệm.
A17: 4 | B17: Xây dựng định hướng mục tiêu của phòng/ tổ/ nhóm, lĩnh vực phụ trách, góp phần xây dựng chiến lược tổng thể. | C17: Chủ động chuẩn bị và thực hiện tiến trình thay đổi trong các lĩnh vực phụ trách. | D17: Ra quyết định phức tạp, không theo chuẩn tắc thuộc quyền hạn, chức năng của lĩnh vực phụ trách | E17: Quản lý, phát huy được nguồn lực của lĩnh vực phụ trách. | F17: Tạo cơ hội cho cấp dưới phát triển bản thân.
A18: 3 | B18: Xây dựng được mục tiêu, định hướng dịch vụ cho mảng lĩnh vực phụ trách. | C18: Chủ động chuẩn bị và thực hiện tiến trình thay đổi trong mảng lĩnh vực phụ trách. | D18: Ra quyết định phức tạp thuộc quyền hạn, chức năng của phòng/lĩnh vực phụ trách | E18: Quản lý, phát huy được nguồn lực của tổ chức cấp phòng. | F18: Thúc đẩy học tập liên tục và phát triển.
A19: 2 | B19: Xây dựng được mục tiêu, kế hoạch công việc cho nhóm/ bộ phận. | C19: Chủ động chuẩn bị và thực hiện tiến trình thay đổi cho nhóm/ bộ phận. | D19: Ra quyết định thể hiện được các nguyên tắc, yêu cầu của cơ quan, đơn vị | E19: Phát huy được nguồn lực trong nhóm/ bộ phận. | F19: Hỗ trợ việc phát triển, hoàn thiện bản thân.
A20: 1 | B20: Xác định được mục tiêu, kế hoạch công việc cho bản thân. | C20: Chủ động chuẩn bị và thực hiện tiến trình thay đổi trong công việc. | D20: Ra quyết định dựa theo nguyên tắc, quy trình có sẵn . | E20: Tổ chức thực hiện công việc tiết kiệm, hiệu quả. | F20: Chia sẻ kiến thức, chuyên môn với người khác.
A22: 2. Đối với vị trí việc làm chức danh nghề nghiệp chuyên môn dùng chung; hỗ trợ, phục vụ
A23: Cấp độ | B23: Nhóm năng lực chung
B24: Đạo đức và bản lĩnh | C24: Tổ chức thực hiện công việc | D24: Soạn thảo và ban hành văn bản | E24: Giao tiếp ứng xử | F24: Quan hệ phối hợp
A25: 5 | B25: Tạo dựng văn hóa dẫn dắt việc thực hiện đạo đức và bản lĩnh. | C25: Đưa ra các định hướng chiến lược. | D25: Phân tích, đánh giá, phản biện, hoạch định chính sách. | E25: Giao tiếp tốt về vấn đề mang tính chiến lược | F25: Thiết lập các định hướng quan hệ đối tác chiến lược.
A26: 4 | B26: Chủ động, trách nhiệm cao với công việc; hướng dẫn, kiểm tra việc thực hiện. | C26: Nhận biết trước và thích ứng với yêu cầu mới của công việc; phát huy nguồn lực bên trong và bên ngoài để có giải pháp đảm bảo chất lượng công việc. | D26: Hiểu biết về vai trò, tác động xã hội của chính sách; xây dựng khung pháp lý hỗ trợ việc thực thi chính sách. | E26: Giao tiếp tốt trong và ngoài cơ quan, đơn vị | F26: Thiết lập mạng lưới quan hệ ở nhiều cấp độ.
A27: 3 | B27: Trách nhiệm cao với công việc được giao, gương mẫu trong thực hiện. | C27: Đề xuất điều chỉnh thủ tục, quy trình làm việc, … kịp thời để đáp ứng tốt hơn nhu cầu của đơn vị, xã hội | D27: Phân tích, đánh giá, đề xuất chính sách phù hợp với chiến lược, định hướng dài hạn của cơ quan, đơn vị, địa phương. | E27: Giao tiếp tốt với tổ chức trong nội bộ cơ quan, đơn vị | F27: Tìm kiếm cơ hội xây dựng và mở rộng mạng lưới quan hệ.
A28: 2 | B28: Tự nhận trách nhiệm với công việc được giao, chuẩn mực trong thực hiện. | C28: Linh hoạt trong tổ chức thực hiện công việc nhằm đảm bảo các tiêu chuẩn chất lượng đã thống nhất. | D28: Nắm vững các quy định và vai trò, tác động của hệ thống văn bản của Đảng, văn bản pháp quy và văn bản hành chính của cơ quan có thẩm quyền | E28: Thúc đẩy giao tiếp hai chiều | F28: Thiết lập được mạng lưới quan hệ tốt trong nội bộ.
A29: 1 | B29: Trách nhiệm với công việc được giao, chuẩn mực trong thực hiện. | C29: Tổ chức thực hiện công việc theo tiêu chuẩn chất lượng, quy trình có sẵn. | D29: Nắm được các quy định về văn bản của Đảng, văn bản pháp quy và văn bản hành chính để áp dụng vào công việc chuyên môn. | E29: Nghe và trình bày thông tin một cách rõ ràng | F29: Tạo mối quan hệ tốt, chủ động phối hợp với đồng nghiệp trong công việc.
A31: Cấp độ | B31: Nhóm năng lực chuyên môn
B32: Tham mưu xây dựng văn bản, quy trình, phương pháp, công cụ, định hướng nghiên cứu ... | C32: Hướng dẫn thực hiện văn bản, quy trình, phương pháp, công cụ, định hướng nghiên cứu … | D32: Kiểm tra thực hiện văn bản, quy trình, phương pháp, công cụ, định hướng nghiên cứu … | E32: Thẩm định văn bản, quy trình, phương pháp, công cụ, định hướng nghiên cứu … | F32: Tổ chức thực hiện văn bản, quy trình, phương pháp, công cụ, định hướng nghiên cứu …
A33: 5 | B33: - Chủ trì nghiên cứu xây dựng văn bản, quy trình, phương pháp, công cụ, định hướng nghiên cứu ... thuộc phạm vi quản lý, trình cấp có thẩm quyền ban hành. | C33: - Chủ trì xây dựng hướng dẫn thực hiện các văn bản, quy trình, phương pháp, công cụ, định hướng nghiên cứu ... thuộc phạm vi quản lý. | D33: Chủ trì kiểm tra thực hiện các văn bản, quy trình, phương pháp, công cụ, định hướng nghiên cứu ... thuộc phạm vi quản lý. | E33: Chủ trì tổ chức thẩm định các văn bản, quy trình, phương pháp, công cụ, định hướng nghiên cứu ... thuộc lĩnh vực công tác được phân công. | F33: Chủ trì tổ chức thực hiện các văn bản, quy trình, phương pháp, công cụ, định hướng nghiên cứu ... thuộc phạm vi quản lý.
B34: - Chủ trì nghiên cứu đề xuất xây dựng các đề án, kế hoạch ... của lĩnh vực công tác được phân công. | C34: - Chủ trì xây dựng giáo trình; tham gia giảng dạy các lớp đào tạo, bồi dưỡng chuyên môn, nghiệp vụ.
A35: 4 | B35: - Chủ trì nghiên cứu xây dựng các văn bản thuộc phạm vi quản lý, trình cấp có thẩm quyền ban hành. | C35: - Chủ trì xây dựng hướng dẫn triển khai thực hiện các văn bản thuộc phạm vi quản lý. | D35: Chủ trì tổ chức kiểm tra, phân tích đánh giá, báo cáo tổng kết việc thực hiện các văn bản, quy trình, phương pháp, công cụ, định hướng nghiên cứu ... thuộc phạm vi quản lý theo nhiệm vụ được phân công; đề xuất chủ trương, biện pháp uốn nắn, điều chỉnh. | E35: Tổ chức thẩm định các văn bản, quy trình, phương pháp, công cụ, định hướng nghiên cứu ... thuộc lĩnh vực công tác được phân công. | F35: Tổ chức thực hiện các văn bản, quy trình, phương pháp, công cụ, định hướng nghiên cứu ... thuộc phạm vi quản lý.
B36: - Chủ trì xây dựng kế hoạch triển khai thực hiện các văn bản thuộc phạm vi quản lý. | C36: - Chủ trì xây dựng giáo trình; tham gia giảng dạy các lớp đào tạo, bồi dưỡng chuyên môn, nghiệp vụ.
B37: - Tham gia xây dựng đề án trình cấp có thẩm quyền theo lĩnh vực công tác được phân công.
B38: - Chủ trì xây dựng các văn bản quản lý của ngành, địa phương.
A39: 3 | B39: - Tham gia xây dựng các văn bản, quy trình, phương pháp, công cụ, định hướng nghiên cứu ... thuộc phạm vi quản lý. | C39: - Tham gia xây dựng hướng dẫn thực hiện các văn bản thuộc phạm vi quản lý. | D39: Chủ trì tổ chức kiểm tra, phân tích đánh giá, báo cáo tổng kết việc thực hiện các văn bản thuộc phạm vi quản lý theo nhiệm vụ được phân công; đề xuất chủ trương, biện pháp uốn nắn, điều chỉnh. | E39: Tham gia thẩm định các văn bản thuộc lĩnh vực công tác được phân công. | F39: Chủ trì hoặc tham gia tổ chức triển khai thực hiện các hoạt động thuộc chuyên môn nghiệp vụ.
B40: - Tham gia xây dựng kế hoạch triển khai thực hiện các văn bản thuộc phạm vi quản lý. | C40: - Tham gia hướng dẫn nghiệp vụ cho cấp dưới.
B41: - Tham gia xây dựng đề án trình cấp có thẩm quyền theo lĩnh vực công tác được phân công.
B42: - Chủ trì xây dựng các văn bản quản lý của ngành, địa phương.
A43: 2 | B43: - Tham gia xây dựng các văn bản thuộc thẩm quyền ban hành của cơ quan. | C43: - Khả năng hướng dẫn thực hiện nghiệp vụ cho cấp dưới. | D43: Tổ chức theo dõi, kiểm tra và báo cáo tình hình về kết quả thực hiện các văn bản thuộc phạm vi quản lý; đề xuất biện pháp uốn nắn, điều chỉnh. | E43: - | F43: Chủ động phối hợp với các đơn vị liên quan và phối hợp với các viên chức khác triển khai công việc, làm đúng thẩm quyền và trách nhiệm được giao.
B44: - Soạn thảo các quy định cụ thể, các văn bản khác thuộc phần việc được phân công.
A45: 1 | B45: - Tham gia xây dựng các văn bản thuộc thẩm quyền ban hành của cơ quan. | C45: - | D45: Báo cáo tình hình về kết quả thực hiện các văn bản thuộc phạm vi quản lý | E45: - | F45: Phối hợp với các đơn vị liên quan và phối hợp với các viên chức khác triển khai công việc, làm đúng thẩm quyền và trách nhiệm được giao.
B46: - Tham gia soạn thảo các quy định cụ thể, các văn bản khác thuộc phần việc được phân công.
A48: Cấp độ | B48: Nhóm năng lực quản lý
B49: Tư duy chiến lược | C49: Quản lý sự thay đổi | D49: Ra quyết định | E49: Quản lý nguồn lực | F49: Phát triển nhân sự
A50: 5 | B50: Định hướng xây dựng mục tiêu, chiến lược phát triển dài hạn cho đơn vị. | C50: Dự báo và chủ động chuẩn bị và tiến hành những thay đổi, cải tổ cơ bản trong đơn vị. | D50: Ra quyết định quan trọng có ảnh hưởng lớn đến uy tín, hoạt động của đơn vị. | E50: Huy động và quản lý, sử dụng có hiệu quả nguồn lực trong và ngoài đơn vị. | F50: Tạo môi trường phát triển, hoàn thiện kiến thức, kỹ năng, kinh nghiệm.
A51: 4 | B51: Xây dựng định hướng mục tiêu của phòng/ tổ/ nhóm, lĩnh vực phụ trách, góp phần xây dựng chiến lược tổng thể. | C51: Chủ động chuẩn bị và thực hiện tiến trình thay đổi trong các lĩnh vực phụ trách. | D51: Ra quyết định phức tạp, không theo chuẩn tắc thuộc quyền hạn, chức năng của lĩnh vực phụ trách | E51: Quản lý, phát huy được nguồn lực của lĩnh vực phụ trách. | F51: Tạo cơ hội cho cấp dưới phát triển bản thân.
A52: 3 | B52: Xây dựng được mục tiêu, định hướng dịch vụ cho mảng lĩnh vực phụ trách. | C52: Chủ động chuẩn bị và thực hiện tiến trình thay đổi trong mảng lĩnh vực phụ trách. | D52: Ra quyết định phức tạp thuộc quyền hạn, chức năng của phòng/lĩnh vực phụ trách | E52: Quản lý, phát huy được nguồn lực của tổ chức cấp phòng. | F52: Thúc đẩy học tập liên tục và phát triển.
A53: 2 | B53: Xây dựng được mục tiêu, kế hoạch công việc cho nhóm/ bộ phận. | C53: Chủ động chuẩn bị và thực hiện tiến trình thay đổi cho nhóm/ bộ phận. | D53: Ra quyết định thể hiện được các nguyên tắc, yêu cầu của cơ quan, đơn vị | E53: Phát huy được nguồn lực trong nhóm/ bộ phận. | F53: Hỗ trợ việc phát triển, hoàn thiện bản thân.
A54: 1 | B54: Xác định được mục tiêu, kế hoạch công việc cho bản thân. | C54: Chủ động chuẩn bị và thực hiện tiến trình thay đổi trong công việc. | D54: Ra quyết định dựa theo nguyên tắc, quy trình có sẵn . | E54: Tổ chức thực hiện công việc tiết kiệm, hiệu quả. | F54: Chia sẻ kiến thức, chuyên môn với người khác.
A55: Ghi chú: Cấp độ được xác định từ cao xuống thấp, tương ứng từ 5 đến 1.

Sheet Phụ lục 07
A1: BỘ GIÁO DỤC VÀ ĐÀO TẠO
A2: TRƯỜNG ĐẠI HỌC MỎ - ĐỊA CHẤT
A3: PHỤ LỤC 07
A4: BẢN MÔ TẢ VỊ TRÍ VIỆC LÀM TRONG TRƯỜNG ĐẠI HỌC MỎ - ĐỊA CHẤT ĐẾN NĂM 2025
A5: Số hiệu vị trí việc làm | C5: TT | D5: Vị trí việc làm | E5: Hạng chức danh nghề nghiệp tối thiểu | F5: Bản mô tả vị trí việc làm
A6: Cấp 1 | B6: Cấp 2
A7: I. VỊ TRÍ VIỆC LÀM GẮN VỚI CÔNG VIỆC LÃNH ĐẠO, QUẢN LÝ
A8: I.1. Vị trí việc làm Hội đồng trường
A9: ='Phụ lục 04'!A10 -> LĐQL-1 | D9: =VLOOKUP(A9,'Phụ lục 04'!A6:J286,5,FALSE) -> Chủ tịch Hội đồng trường | E9: Hạng III
A10: ='Phụ lục 04'!A11 | B10: ='Phụ lục 04'!B11 -> LĐQL-1.1 | C10: 1 | D10: ='Phụ lục 04'!E11 -> Phó chủ tịch Hội đồng trường | E10: Hạng III
A11: ='Phụ lục 04'!A12 | B11: ='Phụ lục 04'!B12 -> LĐQL-1.2 | C11: 2 | D11: ='Phụ lục 04'!E12 -> Thư ký Hội đồng trường | E11: Hạng III
A12: I.2. Vị trí việc làm lãnh đạo, quản lý Nhà trường
A13: ='Phụ lục 04'!A14 -> LĐQL-2 | D13: Hiệu trưởng | E13: Hạng III
A14: ='Phụ lục 04'!A15 -> LĐQL-3 | D14: =VLOOKUP(A14,'Phụ lục 04'!A11:J291,5,FALSE) -> Phó Hiệu trưởng | E14: Hạng III
A15: I.3. Vị trí việc làm lãnh đạo, quản lý các tổ chức, đơn vị thuộc, trực thuộc Nhà trường
A16: ='Phụ lục 04'!A17 -> LĐQL-4 | D16: Trưởng khoa, Trưởng phòng, Giám đốc trung tâm và tương đương
B17: ='Phụ lục 04'!B18 -> LĐQL-4.1 | D17: Chánh văn phòng Hội đồng trường | E17: Hạng III
B18: ='Phụ lục 04'!B19 -> LĐQL-4.2 | D18: Trưởng phòng Công tác chính trị - Sinh viên | E18: Hạng III
B19: ='Phụ lục 04'!B20 -> LĐQL-4.3 | D19: Trưởng phòng Cơ sở vật chất | E19: Hạng III
B20: ='Phụ lục 04'!B21 -> LĐQL-4.4 | D20: Trưởng phòng Đảm bảo chất lượng giáo dục | E20: Hạng III
B21: ='Phụ lục 04'!B22 -> LĐQL-4.5 | D21: Trưởng phòng Đào tạo Đại học | E21: Hạng III
B22: ='Phụ lục 04'!B23 -> LĐQL-4.6 | D22: Trưởng phòng Đào tạo Sau đại học | E22: Hạng III
B23: ='Phụ lục 04'!B24 -> LĐQL-4.7 | D23: Trưởng phòng Hành chính - Tổng hợp | E23: Hạng III
B24: ='Phụ lục 04'!B25 -> LĐQL-4.8 | D24: Trưởng phòng Hợp tác Quốc tế | E24: Hạng III
B25: ='Phụ lục 04'!B26 -> LĐQL-4.9 | D25: Trưởng phòng Kế hoạch Tài chính | E25: Hạng III
B26: ='Phụ lục 04'!B27 -> LĐQL-4.10 | D26: Trưởng phòng Khoa học Công nghệ | E26: Hạng III
B27: ='Phụ lục 04'!B28 -> LĐQL-4.11 | D27: Trưởng phòng Quan hệ công chúng và Doanh nghiệp | E27: Hạng III
B28: ='Phụ lục 04'!B29 -> LĐQL-4.12 | D28: Trưởng phòng Tổ chức - Cán bộ | E28: Hạng III
... B55: ='Phụ lục 04'!B56 -> LĐQL-4.39 | D55: Giám đốc trung tâm Nghiên cứu Trắc địa công trình | E55: Hạng III
A56: ='Phụ lục 04'!A57 -> LĐQL-5 | D56: Phó Trưởng khoa, Phó Trưởng phòng, Phó Giám đốc trung tâm và tương đương
B57: ='Phụ lục 04'!B58 -> LĐQL-5.1 | D57: Phó trưởng phòng Công tác chính trị - Sinh viên | E57: Hạng III
B58: ='Phụ lục 04'!B59 -> LĐQL-5.2 | D58: Phó trưởng phòng Cơ sở vật chất | E58: Hạng III
B59: ='Phụ lục 04'!B60 -> LĐQL-5.3 | D59: Phó Trưởng phòng Đảm bảo chất lượng giáo dục | E59: Hạng III
B60: ='Phụ lục 04'!B61 -> LĐQL-5.4 | D60: Phó trưởng phòng Phòng Đào tạo Đại học | E60: Hạng III
B61: ='Phụ lục 04'!B62 -> LĐQL-5.5 | D61: Phó trưởng phòng Đào tạo Sau đại học | E61: Hạng III
B62: ='Phụ lục 04'!B63 -> LĐQL-5.6 | D62: Phó Trưởng phòng Hành chính - Tổng hợp | E62: Hạng III
B63: ='Phụ lục 04'!B64 -> LĐQL-5.7 | D63: Phó Trưởng phòng Hợp tác Quốc tế | E63: Hạng III
B64: ='Phụ lục 04'!B65 -> LĐQL-5.8 | D64: Phó trưởng Phòng KHTC phụ trách Kế hoạch tài chính | E64: Hạng III
B65: ='Phụ lục 04'!B66 -> LĐQL-5.9 | D65: Phó trưởng Phòng KHTC phụ trách Kế toán, thủ quỹ | E65: Hạng III
B66: ='Phụ lục 04'!B67 -> LĐQL-5.10 | D66: Phó Trưởng phòng Khoa học Công nghệ | E66: Hạng III
B67: ='Phụ lục 04'!B68 -> LĐQL-5.11 | D67: Phó Trưởng phòng Quan hệ công chúng và Doanh nghiệp | E67: Hạng III
B68: ='Phụ lục 04'!B69 -> LĐQL-5.12 | D68: Phó Trưởng phòng Tổ chức - Cán bộ | E68: Hạng III
... B94: ='Phụ lục 04'!B95 -> LĐQL-5.38 | D94: Phó giám đốc trung tâm Nghiên cứu Trắc địa công trình | E94: Hạng III
A95: ='Phụ lục 04'!A96 -> LĐQL-6 | D95: Giám đốc ban quản lý, Giám đốc thư viện, Giám đốc xưởng và tương đương
B96: ='Phụ lục 04'!B97 -> LĐQL-6.1 | D96: Giám đốc Ban Quản lý các Dự án | E96: Hạng III
B97: ='Phụ lục 04'!B98 -> LĐQL-6.2 | D97: Giám đốc Trung tâm Thông tin - Thư viện | E97: Hạng III
A98: ='Phụ lục 04'!A99 -> LĐQL-7 | D98: Phó Giám đốc ban quản lý, Phó Giám đốc thư viện, Phó Giám đốc xưởng và tương đương
B99: ='Phụ lục 04'!B100 -> LĐQL-7.1 | D99: Phó Giám đốc Ban Quản lý các Dự án | E99: Hạng III
B100: ='Phụ lục 04'!B101 -> LĐQL-7.2 | D100: Phó Giám đốc Trung tâm Trung tâm Thông tin - Thư viện phụ trách công nghệ thông tin | E100: Hạng III
B101: ='Phụ lục 04'!B102 -> LĐQL-7.3 | D101: Phó Giám đốc Trung tâm Trung tâm Thông tin - Thư viện phụ trách thư viện | E101: Hạng III
A102: ='Phụ lục 04'!A103 -> LĐQL-8 | D102: Hiệu trưởng trường thuộc Trường
B103: ='Phụ lục 04'!B104 -> LĐQL-8.1 | D103: Hiệu trưởng trường các Khoa học Trái đất và Môi trường | E103: Hạng III
B104: ='Phụ lục 04'!B105 -> LĐQL-8.2 | D104: Hiệu trưởng trường Kỹ thuật và Công nghệ | E104: Hạng III
B105: ='Phụ lục 04'!B106 -> LĐQL-8.3 | D105: Hiệu trưởng trường Công nghệ thông tin và truyền thông | E105: Hạng III
A106: ='Phụ lục 04'!A107 -> LĐQL-9 | D106: Phó Hiệu trưởng trường thuộc Trường
B107: ='Phụ lục 04'!B108 -> LĐQL-9.1 | D107: Phó Hiệu trưởng trường các Khoa học Trái đất và Môi trường | E107: Hạng III
B108: ='Phụ lục 04'!B109 -> LĐQL-9.2 | D108: Phó Hiệu trưởng trường Kỹ thuật và Công nghệ | E108: Hạng III
B109: ='Phụ lục 04'!B110 -> LĐQL-9.3 | D109: Phó Hiệu trưởng trường Công nghệ thông tin và truyền thông | E109: Hạng III
A110: ='Phụ lục 04'!A111 -> LĐQL-10 | D110: Kế toán trưởng của Trường và các đơn vị trực thuộc Trường
B111: ='Phụ lục 04'!B112 -> LĐQL-10.1 | D111: Kế toán trưởng của Trường | E111: Hạng III
B112: ='Phụ lục 04'!B113 -> LĐQL-10.2 | D112: Kế toán trưởng trường các Khoa học Trái đất và Môi trường | E112: Hạng III
B113: ='Phụ lục 04'!B114 -> LĐQL-10.3 | D113: Kế toán trưởng trường Kỹ thuật và Công nghệ | E113: Hạng III
B114: ='Phụ lục 04'!B115 -> LĐQL-10.4 | D114: Kế toán trưởng trường Công nghệ thông tin và truyền thông | E114: Hạng III
B115: ='Phụ lục 04'!B116 -> LĐQL-10.5 | D115: Kế toán trưởng Trung tâm dịch vụ | E115: Hạng III
B116: ='Phụ lục 04'!B117 -> LĐQL-10.6 | D116: Kế toán trưởng Trung tâm Ngoại ngữ - Tin học | E116: Hạng III
B117: ='Phụ lục 04'!B118 -> LĐQL-10.7 | D117: Kế toán trưởng Trung tâm Phân tích, Thí nghiệm Công nghệ cao | E117: Hạng III
B118: ='Phụ lục 04'!B119 -> LĐQL-10.8 | D118: Kế toán trưởng viện Khoa học công nghệ cao | E118: Hạng III
A119: ='Phụ lục 04'!A120 -> LĐQL-11 | D119: Viện trưởng viện Khoa học công nghệ cao | E119: Hạng III
A120: ='Phụ lục 04'!A121 -> LĐQL-12 | D120: Phó viện trưởng viện Khoa học công nghệ cao | E120: Hạng III
A121: ='Phụ lục 04'!A122 -> LĐQL-13 | D121: Tổng biên tập Tạp chí Khoa học kỹ thuật Mỏ - Địa chất | E121: Hạng III
A122: ='Phụ lục 04'!A123 -> LĐQL-14 | D122: Phó Tổng biên tập Tạp chí Khoa học kỹ thuật Mỏ - Địa chất | E122: Hạng III
A123: ='Phụ lục 04'!A124 -> LĐQL-15 | D123: Trưởng Trạm Y tế | E123: Hạng III
A124: I.4. Vị trí việc làm lãnh đạo, quản lý các tổ chức, đơn vị cấu thành các tổ chức, đơn vị của Trường (trong thời gian Chính phủ chưa ban hành chế độ tiền lương theo Nghị quyết số 27-NQ/TW ngày 21 tháng 5 năm 2018 của Hội nghị lần thứ bảy Ban Chấp hành Trung ương khóa XII)
A125: ='Phụ lục 04'!A126 -> LĐQL-16 | D125: Trưởng khoa thuộc Phân hiệu, Trưởng phòng thí nghiệm và tương đương
D126: Khoa Công nghệ thông tin
B127: ='Phụ lục 04'!B128 -> LĐQL-16.1 | D127: Trưởng Bộ môn Hệ thống thông tin tri thức | E127: Hạng III
B128: ='Phụ lục 04'!B129 -> LĐQL-16.2 | D128: Trưởng Bộ môn Khoa học máy tính | E128: Hạng III
B129: ='Phụ lục 04'!B130 -> LĐQL-16.3 | D129: Trưởng Bộ môn Mạng Máy tính | E129: Hạng III
B130: ='Phụ lục 04'!B131 -> LĐQL-16.4 | D130: Trưởng Bộ môn Tin học Kinh tế | E130: Hạng III
B131: ='Phụ lục 04'!B132 -> LĐQL-16.5 | D131: Trưởng Bộ môn Tin học Trắc địa | E131: Hạng III
B132: ='Phụ lục 04'!B133 -> LĐQL-16.6 | D132: Trưởng Bộ môn Tin học Địa chất | E132: Hạng III
B133: ='Phụ lục 04'!B134 -> LĐQL-16.7 | D133: Trưởng Bộ môn Công nghệ phần mềm | E133: Hạng III
B134: ='Phụ lục 04'!B135 -> LĐQL-16.8 | D134: Trưởng Phòng thí nghiệm Địa tin học | E134: Hạng III
B135: ='Phụ lục 04'!B136 | D135: Khoa Cơ điện
B136: ='Phụ lục 04'!B137 -> LĐQL-16.9 | D136: Trưởng Bộ môn Kỹ thuật điện - Điện tử | E136: Hạng III
B137: ='Phụ lục 04'!B138 -> LĐQL-16.10 | D137: Trưởng Bộ môn Kỹ thuật cơ khí | E137: Hạng III
B138: ='Phụ lục 04'!B139 -> LĐQL-16.11 | D138: Trưởng Bộ môn Máy và thiết bị công nghiệp | E138: Hạng III
B139: ='Phụ lục 04'!B140 -> LĐQL-16.12 | D139: Trưởng Bộ môn Điện khí hóa | E139: Hạng III
B140: ='Phụ lục 04'!B141 -> LĐQL-16.13 | D140: Trưởng Bộ môn Tự động hóa xí nghiệp Mỏ và Dầu khí | E140: Hạng III
B141: ='Phụ lục 04'!B142 -> LĐQL-16.14 | D141: Xưởng Trưởng Xưởng Cơ-Điện | E141: Hạng III
B142: ='Phụ lục 04'!B143 | D142: Khoa Dầu khí và Năng lượng
B143: ='Phụ lục 04'!B144 -> LĐQL-16.15 | D143: Trưởng bộ môn Địa vật lý | E143: Hạng III
B144: ='Phụ lục 04'!B145 -> LĐQL-16.16 | D144: Trưởng bộ môn Lọc - Hóa dầu | E144: Hạng III
B145: ='Phụ lục 04'!B146 -> LĐQL-16.17 | D145: Trưởng bộ môn Khoan - Khai thác | E145: Hạng III
B146: ='Phụ lục 04'!B147 -> LĐQL-16.18 | D146: Trưởng Bộ môn Thiết bị Dầu khí và Công trình | E146: Hạng III
B147: ='Phụ lục 04'!B148 -> LĐQL-16.19 | D147: Trưởng Bộ môn Địa chất Dầu khí | E147: Hạng III
B148: ='Phụ lục 04'!B149 -> LĐQL-16.20 | D148: Trưởng Phòng Xử lý số liệu Workstation Khoa Dầu khí | E148: Hạng III
B149: ='Phụ lục 04'!B150 -> LĐQL-16.21 | D149: Trưởng Phòng thí nghiệm Khoan - Khai thác | E149: Hạng III
B150: ='Phụ lục 04'!B151 -> LĐQL-16.22 | D150: Trưởng Phòng thí nghiệm Kỹ thuật hóa học và LNG | E150: Hạng III
B151: ='Phụ lục 04'!B152 -> LĐQL-16.23 | D151: Trưởng phòng Thí nghiệm Kỹ thuật địa vật lý | E151: Hạng III
...

Sheet Phụ lục 08
A1: BỘ GIÁO DỤC VÀ ĐÀO TẠO | D1: CỘNG HÒA XÃ HỘI CHỦ NGHĨA VIỆT NAM
A2: TRƯỜNG ĐẠI HỌC MỎ - ĐỊA CHẤT | D2: Độc lập - Tự do - Hạnh phúc
A3: PHỤ LỤC 08
A4: KHUNG NĂNG LỰC VỊ TRÍ VIỆC LÀM TRONG TRƯỜNG ĐẠI HỌC MỎ - ĐỊA CHẤT ĐẾN NĂM 2025
A6: Mã | B6: Vị trí việc làm | D6: Khung năng lực tối thiểu của vị trí việc làm | E6: Ghi chú
B7: Cấp 1 | C7: Cấp 2
A8: I | B8: Vị trí việc làm gắn với công việc lãnh đạo, quản lý
A9: I.1 | B9: Vị trí việc làm Hội đồng trường
A10: LĐQL-1 | B10: Chủ tịch Hội đồng Trường | D10: 1. Yêu cầu về trình độ: - Có bằng Tiến sĩ trở lên phù hợp với vị trí việc làm. - Chức danh nghề nghiệp tối thiểu: giảng viên. - Lý luận chính trị: Có trình độ lý luận chính trị cao cấp hoặc cử nhân chính trị - Có chứng chỉ bồi dưỡng theo quy định pháp luật. 2. Yêu cầu về năng lực: - Nắm vững các quy định của pháp luật, chế độ chính sách của ngành, lĩnh vực và các kiến thức cơ bản về lĩnh vực chuyên môn nghiệp vụ được giao; - Hiểu rõ các mục tiêu và đối tượng quản lý, hệ thống các nguyên tắc và cơ chế quản lý của nghiệp vụ thuộc phạm vi được giao; hiểu được những vấn đề cơ bản về khoa học tâm lý, khoa học quản lý; tổ chức khoa học quản lý; - Nắm vững và hiểu biết về các lĩnh vực chuyên môn hành chính và các ngành khác liên quan đến hành chính. - Sử dụng thành thạo tin học văn phòng; có khả năng áp dụng ứng dụng công nghệ thông tin, sử dụng thành thạo ít nhất một ngoại ngữ. - Năng lực chung: 5 - Năng lực chuyên môn: 5 - Năng lực quản lý: 5 - Bảo đảm năng lực lãnh đạo, quản lý theo quy định pháp luật. | E10: Quy định chi tiết trong Bản mô tả vị trí việc làm
A11: LĐQL-1.1 | C11: ='Phụ lục 07'!D10 -> Phó chủ tịch Hội đồng trường | D11: 1. Yêu cầu về trình độ: - Có bằng Tiến sĩ trở lên phù hợp với vị trí việc làm. - Chức danh nghề nghiệp tối thiểu: giảng viên. - Lý luận chính trị: Có trình độ lý luận chính trị cao cấp hoặc cử nhân chính trị - Có chứng chỉ bồi dưỡng theo quy định pháp luật. 2. Yêu cầu về năng lực: - Nắm vững các quy định của pháp luật, chế độ chính sách của ngành, lĩnh vực và các kiến thức cơ bản về lĩnh vực chuyên môn nghiệp vụ được giao; - Hiểu rõ các mục tiêu và đối tượng quản lý, hệ thống các nguyên tắc và cơ chế quản lý của nghiệp vụ thuộc phạm vi được giao; hiểu được những vấn đề cơ bản về khoa học tâm lý, khoa học quản lý; tổ chức khoa học quản lý; - Nắm vững và hiểu biết về các lĩnh vực chuyên môn hành chính và các ngành khác liên quan đến hành chính. - Sử dụng thành thạo tin học văn phòng; có khả năng áp dụng ứng dụng công nghệ thông tin, sử dụng thành thạo ít nhất một ngoại ngữ. - Năng lực chung: 5 - Năng lực chuyên môn: 5 - Năng lực quản lý: 5 - Bảo đảm năng lực lãnh đạo, quản lý theo quy định pháp luật. | E11: "
A12: LĐQL-1.2 | C12: ='Phụ lục 07'!D11 -> Thư ký Hội đồng trường | D12: 1. Yêu cầu về trình độ: - Có bằng đại học trở lên phù hợp với vị trí việc làm. - Chức danh nghề nghiệp tối thiểu: giảng viên hoặc tương đương. - Lý luận chính trị: trung cấp - Có chứng chỉ bồi dưỡng theo quy định pháp luật. 2. Yêu cầu về năng lực: - Nắm vững các quy định của pháp luật, chế độ chính sách của ngành, lĩnh vực và các kiến thức cơ bản về lĩnh vực chuyên môn nghiệp vụ được giao; - Hiểu rõ các mục tiêu và đối tượng quản lý, hệ thống các nguyên tắc và cơ chế quản lý của nghiệp vụ thuộc phạm vi được giao; hiểu được những vấn đề cơ bản về khoa học tâm lý, khoa học quản lý; tổ chức khoa học quản lý; - Nắm vững và hiểu biết về các lĩnh vực chuyên môn hành chính và các ngành khác liên quan đến hành chính. - Sử dụng thành thạo tin học văn phòng; có khả năng áp dụng ứng dụng công nghệ thông tin, sử dụng thành thạo ít nhất một ngoại ngữ. - Năng lực chung: 4 - Năng lực chuyên môn: 4 - Năng lực quản lý: 4 - Bảo đảm năng lực lãnh đạo, quản lý theo quy định pháp luật.
A13: I.2 | B13: Vị trí việc làm lãnh đạo, quản lý Nhà trường
A14: LĐQL-2 | B14: Hiệu trưởng | D14: 1. Yêu cầu về trình độ: - Có bằng Tiến sĩ trở lên phù hợp với vị trí việc làm. - Chức danh nghề nghiệp tối thiểu: giảng viên. - Lý luận chính trị: Có trình độ lý luận chính trị cao cấp hoặc cử nhân chính trị - Có chứng chỉ bồi dưỡng theo quy định pháp luật. 2. Yêu cầu về năng lực: - Nắm vững các quy định của pháp luật, chế độ chính sách của ngành, lĩnh vực và các kiến thức cơ bản về lĩnh vực chuyên môn nghiệp vụ được giao; - Hiểu rõ các mục tiêu và đối tượng quản lý, hệ thống các nguyên tắc và cơ chế quản lý của nghiệp vụ thuộc phạm vi được giao; hiểu được những vấn đề cơ bản về khoa học tâm lý, khoa học quản lý; tổ chức khoa học quản lý; - Nắm vững và hiểu biết về các lĩnh vực chuyên môn hành chính và các ngành khác liên quan đến hành chính. - Sử dụng thành thạo tin học văn phòng; có khả năng áp dụng ứng dụng công nghệ thông tin, sử dụng thành thạo ít nhất một ngoại ngữ. - Năng lực chung: 5 - Năng lực chuyên môn: 5 - Năng lực quản lý: 5 - Bảo đảm năng lực lãnh đạo, quản lý theo quy định pháp luật. | E14: "
A15: LĐQL-3 | B15: Phó Hiệu trưởng | D15: 1. Yêu cầu về trình độ: - Có bằng Tiến sĩ trở lên phù hợp với vị trí việc làm. - Chức danh nghề nghiệp tối thiểu: giảng viên. - Lý luận chính trị: Có trình độ lý luận chính trị cao cấp hoặc cử nhân chính trị - Có chứng chỉ bồi dưỡng theo quy định pháp luật. 2. Yêu cầu về năng lực: - Nắm vững các quy định của pháp luật, chế độ chính sách của ngành, lĩnh vực và các kiến thức cơ bản về lĩnh vực chuyên môn nghiệp vụ được giao; - Hiểu rõ các mục tiêu và đối tượng quản lý, hệ thống các nguyên tắc và cơ chế quản lý của nghiệp vụ thuộc phạm vi được giao; hiểu được những vấn đề cơ bản về khoa học tâm lý, khoa học quản lý; tổ chức khoa học quản lý; - Nắm vững và hiểu biết về các lĩnh vực chuyên môn hành chính và các ngành khác liên quan đến hành chính. - Sử dụng thành thạo tin học văn phòng; có khả năng áp dụng ứng dụng công nghệ thông tin, sử dụng thành thạo ít nhất một ngoại ngữ. - Năng lực chung: 5 - Năng lực chuyên môn: 5 - Năng lực quản lý: 5 - Bảo đảm năng lực lãnh đạo, quản lý theo quy định pháp luật.
A16: I.3 | B16: Vị trí việc làm lãnh đạo, quản lý các tổ chức, đơn vị thuộc, trực thuộc Nhà trường
A17: ='Phụ lục 07'!A16 -> LĐQL-4 | B17: ='Phụ lục 07'!D16 -> Trưởng khoa, Trưởng phòng, Giám đốc trung tâm và tương đương | D17: 1. Yêu cầu về trình độ: - Có trình độ đào tạo phù hợp với quy chế tổ chức hoạt động cùa Nhả trường và các quy định khác có liên quan. - Chức danh nghề nghiệp tối thiểu: giảng viên hoặc tương đương. - Lý luận chính trị: trung cấp - Có chứng chỉ bồi dưỡng theo quy định pháp luật. 2. Yêu cầu về năng lực: - Nắm vững các quy định của pháp luật, chế độ chính sách của ngành, lĩnh vực và các kiến thức cơ bản về lĩnh vực chuyên môn nghiệp vụ được giao; - Hiểu rõ các mục tiêu và đối tượng quản lý, hệ thống các nguyên tắc và cơ chế quản lý của nghiệp vụ thuộc phạm vi được giao; hiểu được những vấn đề cơ bản về khoa học tâm lý, khoa học quản lý; tổ chức khoa học quản lý; - Nắm vững và hiểu biết về các lĩnh vực chuyên môn hành chính và các ngành khác liên quan đến hành chính. - Sử dụng thành thạo tin học văn phòng; có khả năng áp dụng ứng dụng công nghệ thông tin, sử dụng thành thạo ít nhất một ngoại ngữ. - Năng lực chung: 4 - Năng lực chuyên môn: 4 - Năng lực quản lý: 4 - Bảo đảm năng lực lãnh đạo, quản lý theo quy định pháp luật.
A18: ='Phụ lục 07'!B17 -> LĐQL-4.1 | C18: ='Phụ lục 07'!D17 -> Chánh văn phòng Hội đồng trường | D18: 1. Yêu cầu về trình độ: - Có bằng đại học trở lên phù hợp với vị trí việc làm. - Chức danh nghề nghiệp tối thiểu: giảng viên hoặc tương đương. - Lý luận chính trị: trung cấp - Có chứng chỉ bồi dưỡng theo quy định pháp luật. 2. Yêu cầu về năng lực: - Nắm vững các quy định của pháp luật, chế độ chính sách của ngành, lĩnh vực và các kiến thức cơ bản về lĩnh vực chuyên môn nghiệp vụ được giao; - Hiểu rõ các mục tiêu và đối tượng quản lý, hệ thống các nguyên tắc và cơ chế quản lý của nghiệp vụ thuộc phạm vi được giao; hiểu được những vấn đề cơ bản về khoa học tâm lý, khoa học quản lý; tổ chức khoa học quản lý; - Nắm vững và hiểu biết về các lĩnh vực chuyên môn hành chính và các ngành khác liên quan đến hành chính. - Sử dụng thành thạo tin học văn phòng; có khả năng áp dụng ứng dụng công nghệ thông tin, sử dụng thành thạo ít nhất một ngoại ngữ. - Năng lực chung: 4 - Năng lực chuyên môn: 4 - Năng lực quản lý: 4 - Bảo đảm năng lực lãnh đạo, quản lý theo quy định pháp luật. | E18: "
A19: ='Phụ lục 07'!B18 -> LĐQL-4.2 | C19: ='Phụ lục 07'!D18 -> Trưởng phòng Công tác chính trị - Sinh viên | D19: 1. Yêu cầu về trình độ: - Có bằng đại học trở lên phù hợp với vị trí việc làm. - Chức danh nghề nghiệp tối thiểu: giảng viên hoặc tương đương. - Lý luận chính trị: trung cấp - Có chứng chỉ bồi dưỡng theo quy định pháp luật. 2. Yêu cầu về năng lực: - Nắm vững các quy định của pháp luật, chế độ chính sách của ngành, lĩnh vực và các kiến thức cơ bản về lĩnh vực chuyên môn nghiệp vụ được giao; - Hiểu rõ các mục tiêu và đối tượng quản lý, hệ thống các nguyên tắc và cơ chế quản lý của nghiệp vụ thuộc phạm vi được giao; hiểu được những vấn đề cơ bản về khoa học tâm lý, khoa học quản lý; tổ chức khoa học quản lý; - Nắm vững và hiểu biết về các lĩnh vực chuyên môn hành chính và các ngành khác liên quan đến hành chính. - Sử dụng thành thạo tin học văn phòng; có khả năng áp dụng ứng dụng công nghệ thông tin, sử dụng thành thạo ít nhất một ngoại ngữ. - Năng lực chung: 4 - Năng lực chuyên môn: 4 - Năng lực quản lý: 4 - Bảo đảm năng lực lãnh đạo, quản lý theo quy định pháp luật. | E19: "
A20: ='Phụ lục 07'!B19 -> LĐQL-4.3 | C20: ='Phụ lục 07'!D19 -> Trưởng phòng Cơ sở vật chất | D20: 1. Yêu cầu về trình độ: - Có bằng đại học trở lên phù hợp với vị trí việc làm. - Chức danh nghề nghiệp tối thiểu: giảng viên hoặc tương đương. - Lý luận chính trị: trung cấp - Có chứng chỉ bồi dưỡng theo quy định pháp luật. 2. Yêu cầu về năng lực: - Nắm vững các quy định của pháp luật, chế độ chính sách của ngành, lĩnh vực và các kiến thức cơ bản về lĩnh vực chuyên môn nghiệp vụ được giao; - Hiểu rõ các mục tiêu và đối tượng quản lý, hệ thống các nguyên tắc và cơ chế quản lý của nghiệp vụ thuộc phạm vi được giao; hiểu được những vấn đề cơ bản về khoa học tâm lý, khoa học quản lý; tổ chức khoa học quản lý; - Nắm vững và hiểu biết về các lĩnh vực chuyên môn hành chính và các ngành khác liên quan đến hành chính. - Sử dụng thành thạo tin học văn phòng; có khả năng áp dụng ứng dụng công nghệ thông tin, sử dụng thành thạo ít nhất một ngoại ngữ. - Năng lực chung: 4 - Năng lực chuyên môn: 4 - Năng lực quản lý: 4 - Bảo đảm năng lực lãnh đạo, quản lý theo quy định pháp luật. | E20: "
A21: ='Phụ lục 07'!B20 -> LĐQL-4.4 | C21: ='Phụ lục 07'!D20 -> Trưởng phòng Đảm bảo chất lượng giáo dục | D21: 1. Yêu cầu về trình độ: - Có bằng đại học trở lên phù hợp với vị trí việc làm. - Chức danh nghề nghiệp tối thiểu: giảng viên hoặc tương đương. - Lý luận chính trị: trung cấp - Có chứng chỉ bồi dưỡng theo quy định pháp luật. 2. Yêu cầu về năng lực: - Nắm vững các quy định của pháp luật, chế độ chính sách của ngành, lĩnh vực và các kiến thức cơ bản về lĩnh vực chuyên môn nghiệp vụ được giao; - Hiểu rõ các mục tiêu và đối tượng quản lý, hệ thống các nguyên tắc và cơ chế quản lý của nghiệp vụ thuộc phạm vi được giao; hiểu được những vấn đề cơ bản về khoa học tâm lý, khoa học quản lý; tổ chức khoa học quản lý; - Nắm vững và hiểu biết về các lĩnh vực chuyên môn hành chính và các ngành khác liên quan đến hành chính. - Sử dụng thành thạo tin học văn phòng; có khả năng áp dụng ứng dụng công nghệ thông tin, sử dụng thành thạo ít nhất một ngoại ngữ. - Năng lực chung: 4 - Năng lực chuyên môn: 4 - Năng lực quản lý: 4 - Bảo đảm năng lực lãnh đạo, quản lý theo quy định pháp luật. | E21: "
A22: ='Phụ lục 07'!B21 -> LĐQL-4.5 | C22: ='Phụ lục 07'!D21 -> Trưởng phòng Đào tạo Đại học | D22: 1. Yêu cầu về trình độ: - Có bằng Tiến sĩ trở lên phù hợp với vị trí việc làm. - Chức danh nghề nghiệp tối thiểu: giảng viên. - Lý luận chính trị: trung cấp trở lên - Có chứng chỉ bồi dưỡng theo quy định pháp luật. 2. Yêu cầu về năng lực: - Nắm vững các quy định của pháp luật, chế độ chính sách của ngành, lĩnh vực và các kiến thức cơ bản về lĩnh vực chuyên môn nghiệp vụ được giao; - Hiểu rõ các mục tiêu và đối tượng quản lý, hệ thống các nguyên tắc và cơ chế quản lý của nghiệp vụ thuộc phạm vi được giao; hiểu được những vấn đề cơ bản về khoa học tâm lý, khoa học quản lý; tổ chức khoa học quản lý; - Nắm vững và hiểu biết về các lĩnh vực chuyên môn hành chính và các ngành khác liên quan đến hành chính. - Sử dụng thành thạo tin học văn phòng; có khả năng áp dụng ứng dụng công nghệ thông tin, sử dụng ngoại ngữ trong công việc. - Năng lực chung: 4 - Năng lực chuyên môn: 4 - Năng lực quản lý: 4 - Bảo đảm năng lực lãnh đạo, quản lý theo quy định pháp luật. | E22: "
A23: ='Phụ lục 07'!B22 -> LĐQL-4.6 | C23: ='Phụ lục 07'!D22 -> Trưởng phòng Đào tạo Sau đại học | D23: 1. Yêu cầu về trình độ: - Có bằng Tiến sĩ trở lên phù hợp với vị trí việc làm. - Chức danh nghề nghiệp tối thiểu: giảng viên. - Lý luận chính trị: trung cấp trở lên - Có chứng chỉ bồi dưỡng theo quy định pháp luật. 2. Yêu cầu về năng lực: - Nắm vững các quy định của pháp luật, chế độ chính sách của ngành, lĩnh vực và các kiến thức cơ bản về lĩnh vực chuyên môn nghiệp vụ được giao; - Hiểu rõ các mục tiêu và đối tượng quản lý, hệ thống các nguyên tắc và cơ chế quản lý của nghiệp vụ thuộc phạm vi được giao; hiểu được những vấn đề cơ bản về khoa học tâm lý, khoa học quản lý; tổ chức khoa học quản lý; - Nắm vững và hiểu biết về các lĩnh vực chuyên môn hành chính và các ngành khác liên quan đến hành chính. - Sử dụng thành thạo tin học văn phòng; có khả năng áp dụng ứng dụng công nghệ thông tin, sử dụng ngoại ngữ trong công việc. - Năng lực chung: 4 - Năng lực chuyên môn: 4 - Năng lực quản lý: 4 - Bảo đảm năng lực lãnh đạo, quản lý theo quy định pháp luật. | E23: "
A24: ='Phụ lục 07'!B23 -> LĐQL-4.7 | C24: ='Phụ lục 07'!D23 -> Trưởng phòng Hành chính - Tổng hợp | D24: 1. Yêu cầu về trình độ: - Có bằng đại học trở lên phù hợp với vị trí việc làm. - Chức danh nghề nghiệp tối thiểu: giảng viên hoặc tương đương. - Lý luận chính trị: trung cấp - Có chứng chỉ bồi dưỡng theo quy định pháp luật. 2. Yêu cầu về năng lực: - Nắm vững các quy định của pháp luật, chế độ chính sách của ngành, lĩnh vực và các kiến thức cơ bản về lĩnh vực chuyên môn nghiệp vụ được giao; - Hiểu rõ các mục tiêu và đối tượng quản lý, hệ thống các nguyên tắc và cơ chế quản lý của nghiệp vụ thuộc phạm vi được giao; hiểu được những vấn đề cơ bản về khoa học tâm lý, khoa học quản lý; tổ chức khoa học quản lý; - Nắm vững và hiểu biết về các lĩnh vực chuyên môn hành chính và các ngành khác liên quan đến hành chính. - Sử dụng thành thạo tin học văn phòng; có khả năng áp dụng ứng dụng công nghệ thông tin, sử dụng thành thạo ít nhất một ngoại ngữ. - Năng lực chung: 4 - Năng lực chuyên môn: 4 - Năng lực quản lý: 4 - Bảo đảm năng lực lãnh đạo, quản lý theo quy định pháp luật. | E24: "
A25: ='Phụ lục 07'!B24 -> LĐQL-4.8 | C25: ='Phụ lục 07'!D24 -> Trưởng phòng Hợp tác Quốc tế | D25: 1. Yêu cầu về trình độ: - Có bằng đại học trở lên phù hợp với vị trí việc làm. - Chức danh nghề nghiệp tối thiểu: giảng viên - Lý luận chính trị: trung cấp trở lên - Có chứng chỉ bồi dưỡng theo quy định pháp luật. 2. Yêu cầu về năng lực: - Nắm vững các quy định của pháp luật, chế độ chính sách của ngành, lĩnh vực và các kiến thức cơ bản về lĩnh vực chuyên môn nghiệp vụ được giao; - Hiểu rõ các mục tiêu và đối tượng quản lý, hệ thống các nguyên tắc và cơ chế quản lý của nghiệp vụ thuộc phạm vi được giao; hiểu được những vấn đề cơ bản về khoa học tâm lý, khoa học quản lý; tổ chức khoa học quản lý; - Nắm vững và hiểu biết về các lĩnh vực chuyên môn hành chính và các ngành khác liên quan đến hành chính. - Sử dụng thành thạo tin học văn phòng; có khả năng áp dụng ứng dụng công nghệ thông tin, sử dụng ngoại ngữ trong công việc. - Năng lực chung (cấp 4): Có năng lực về ngoại ngữ (sử dụng tốt 2 ngoại ngữ trở lên là lợi thế), năng lực kết nối, làm việc dưới cường độ cao, có kỹ năng tin học văn phòng thành thạo, có tư duy đổi mới năng động sáng tạo, phát huy sáng kiến - Năng lực chuyên môn (cấp 4): nắm bắt chức năng nghiệp vụ, có khả năng xây dựng và triển khai các hoạt động HTQT như chương trình đào tạo, tổ chức hội nghị - hội thảo, xây dựng các mối quan hệ với các đối tác uy tín trên thế giới, phát triển và triển khai các dự án hợp tác quốc tế - Năng lực quản lý (cấp 4): có năng lực tổ chức điều hành, phối hợp xử lý thông tin trong triển khai thực hiện nhiệm vụ; có năng lực tham mưu, quản lý, năng lực tổng hợp, phân tích, đánh giá kết quả công việc, đề xuất, phối hợp với cấp có thẩm quyền hoàn thiện các vấn đề chuyên môn nghiệp vụ được giao, có khả năng đoàn kết, tập hợp quần chúng, được viên chức người lao động trong đơn vị tín nhiệm | E25: "
A26: ='Phụ lục 07'!B25 -> LĐQL-4.9 | C26: ='Phụ lục 07'!D25 -> Trưởng phòng Kế hoạch Tài chính | D26: 1. Yêu cầu về trình độ: - Có bằng đại học trở lên phù hợp với vị trí việc làm. - Chức danh nghề nghiệp tối thiểu: giảng viên và tương đương. - Lý luận chính trị: trung cấp trở lên - Có chứng chỉ bồi dưỡng theo quy định pháp luật. 2. Yêu cầu về năng lực: - Nắm vững các quy định của pháp luật, chế độ chính sách của ngành, lĩnh vực và các kiến thức cơ bản về lĩnh vực chuyên môn nghiệp vụ được giao; - Hiểu rõ các mục tiêu và đối tượng quản lý, hệ thống các nguyên tắc và cơ chế quản lý của nghiệp vụ thuộc phạm vi được giao; hiểu được những vấn đề cơ bản về khoa học tâm lý, khoa học quản lý; tổ chức khoa học quản lý; - Nắm vững và hiểu biết về các lĩnh vực chuyên môn hành chính và các ngành khác liên quan đến hành chính. - Sử dụng thành thạo tin học văn phòng; có khả năng áp dụng ứng dụng công nghệ thông tin, sử dụng ngoại ngữ trong công việc. - Năng lực chung (cấp 4): Có phẩm chất đạo đức tốt, trung thực, thẳng thắn, có uy tín trong Nhà trường; Sử dụng máy vi tính thành thạo; - Năng lực chuyên môn (cấp 4): Nắm vững các văn bản quy phạm pháp luật chung và các văn bản liên quan đến công tác kế toán tài chính, công tác chung của Nhà trường, đặc biệt là các văn bản, chính sách mới được ban hành - Năng lực quản lý (cấp 4): Có uy tín, khả năng kết nối với các đơn vị trong và ngoài trường trong giải quyết công việc của Trường. Có năng lực tổ chức và triển khai hiệu quả công tác của phòng Kế hoạch Tài chính và của Nhà trường trong phạm vi công việc được giao; - Bảo đảm tiêu chuẩn năng lực theo quy định pháp luật. | E26: "
A27: ='Phụ lục 07'!B26 -> LĐQL-4.10 | C27: ='Phụ lục 07'!D26 -> Trưởng phòng Khoa học Công nghệ | D27: 1. Yêu cầu về trình độ: - Có bằng Tiến sĩ trở lên phù hợp với vị trí việc làm. - Chức danh nghề nghiệp tối thiểu: giảng viên. - Lý luận chính trị: trung cấp trở lên - Có chứng chỉ bồi dưỡng theo quy định pháp luật. 2. Yêu cầu về năng lực: - Nắm vững các quy định của pháp luật, chế độ chính sách của ngành, lĩnh vực và các kiến thức cơ bản về lĩnh vực chuyên môn nghiệp vụ được giao; - Hiểu rõ các mục tiêu và đối tượng quản lý, hệ thống các nguyên tắc và cơ chế quản lý của nghiệp vụ thuộc phạm vi được giao; hiểu được những vấn đề cơ bản về khoa học tâm lý, khoa học quản lý; tổ chức khoa học quản lý; - Nắm vững và hiểu biết về các lĩnh vực chuyên môn hành chính và các ngành khác liên quan đến hành chính. - Sử dụng thành thạo tin học văn phòng; có khả năng áp dụng ứng dụng công nghệ thông tin, sử dụng ngoại ngữ trong công việc. - Năng lực chung: 4 - Năng lực chuyên môn: 4 - Năng lực quản lý: 4 - Bảo đảm năng lực lãnh đạo, quản lý theo quy định pháp luật. | E27: "
A28: ='Phụ lục 07'!B27 -> LĐQL-4.11 | C28: ='Phụ lục 07'!D27 -> Trưởng phòng Quan hệ công chúng và Doanh nghiệp | D28: 1. Yêu cầu về trình độ: - Có bằng đại học trở lên phù hợp với vị trí việc làm. - Chức danh nghề nghiệp tối thiểu: giảng viên hoặc tương đương. - Lý luận chính trị: trung cấp - Có chứng chỉ bồi dưỡng theo quy định pháp luật. 2. Yêu cầu về năng lực: - Nắm vững các quy định của pháp luật, chế độ chính sách của ngành, lĩnh vực và các kiến thức cơ bản về lĩnh vực chuyên môn nghiệp vụ được giao; - Hiểu rõ các mục tiêu và đối tượng quản lý, hệ thống các nguyên tắc và cơ chế quản lý của nghiệp vụ thuộc phạm vi được giao; hiểu được những vấn đề cơ bản về khoa học tâm lý, khoa học quản lý; tổ chức khoa học quản lý; - Nắm vững và hiểu biết về các lĩnh vực chuyên môn hành chính và các ngành khác liên quan đến hành chính. - Sử dụng thành thạo tin học văn phòng; có khả năng áp dụng ứng dụng công nghệ thông tin, sử dụng thành thạo ít nhất một ngoại ngữ. - Năng lực chung: 4 - Năng lực chuyên môn: 4 - Năng lực quản lý: 4 - Bảo đảm năng lực lãnh đạo, quản lý theo quy định pháp luật. | E28: "
A29: ='Phụ lục 07'!B28 -> LĐQL-4.12 | C29: ='Phụ lục 07'!D28 -> Trưởng phòng Tổ chức - Cán bộ | D29: 1. Yêu cầu về trình độ: - Có bằng thạc sĩ trở lên phù hợp với vị trí việc làm. - Chức danh nghề nghiệp tối thiểu: giảng viên. - Lý luận chính trị: trung cấp trở lên - Có chứng chỉ bồi dưỡng theo quy định pháp luật. 2. Yêu cầu về năng lực: - Nắm vững các quy định của pháp luật, chế độ chính sách của ngành, lĩnh vực và các kiến thức cơ bản về lĩnh vực chuyên môn nghiệp vụ được giao; - Hiểu rõ các mục tiêu và đối tượng quản lý, hệ thống các nguyên tắc và cơ chế quản lý của nghiệp vụ thuộc phạm vi được giao; hiểu được những vấn đề cơ bản về khoa học tâm lý, khoa học quản lý; tổ chức khoa học quản lý; - Nắm vững và hiểu biết về các lĩnh vực chuyên môn hành chính và các ngành khác liên quan đến hành chính. - Sử dụng thành thạo tin học văn phòng; có khả năng áp dụng ứng dụng công nghệ thông tin, sử dụng ngoại ngữ trong công việc. - Năng lực chung: 4 - Năng lực chuyên môn: 4 - Năng lực quản lý: 4 - Bảo đảm năng lực lãnh đạo, quản lý theo quy định pháp luật. | E29: "
... A56: ='Phụ lục 07'!B55 -> LĐQL-4.39 | C56: ='Phụ lục 07'!D55 -> Giám đốc trung tâm Nghiên cứu Trắc địa công trình | D56: 1. Yêu cầu về trình độ: - Có bằng đại học trở lên phù hợp với vị trí việc làm. - Chức danh nghề nghiệp tối thiểu: giảng viên hoặc tương đương. - Lý luận chính trị: trung cấp - Có chứng chỉ bồi dưỡng theo quy định pháp luật. 2. Yêu cầu về năng lực: - Nắm vững các quy định của pháp luật, chế độ chính sách của ngành, lĩnh vực và các kiến thức cơ bản về lĩnh vực chuyên môn nghiệp vụ được giao; - Hiểu rõ các mục tiêu và đối tượng quản lý, hệ thống các nguyên tắc và cơ chế quản lý của nghiệp vụ thuộc phạm vi được giao; hiểu được những vấn đề cơ bản về khoa học tâm lý, khoa học quản lý; tổ chức khoa học quản lý; - Nắm vững và hiểu biết về các lĩnh vực chuyên môn hành chính và các ngành khác liên quan đến hành chính. - Sử dụng thành thạo tin học văn phòng; có khả năng áp dụng ứng dụng công nghệ thông tin, sử dụng thành thạo ít nhất một ngoại ngữ. - Năng lực chung: 4 - Năng lực chuyên môn: 4 - Năng lực quản lý: 4 - Bảo đảm năng lực lãnh đạo, quản lý theo quy định pháp luật. | E56: "
A57: ='Phụ lục 07'!A56 -> LĐQL-5 | B57: ='Phụ lục 07'!D56 -> Phó Trưởng khoa, Phó Trưởng phòng, Phó Giám đốc trung tâm và tương đương | D57: 1. Yêu cầu về trình độ: - Có trình độ đào tạo phù hợp với quy chế tổ chức hoạt động cùa Nhả trường và các quy định khác có liên quan. - Chức danh nghề nghiệp tối thiểu: giảng viên hoặc tương đương. - Lý luận chính trị: trung cấp - Có chứng chỉ bồi dưỡng theo quy định pháp luật. 2. Yêu cầu về năng lực: - Nắm vững các quy định của pháp luật, chế độ chính sách của ngành, lĩnh vực và các kiến thức cơ bản về lĩnh vực chuyên môn nghiệp vụ được giao; - Hiểu rõ các mục tiêu và đối tượng quản lý, hệ thống các nguyên tắc và cơ chế quản lý của nghiệp vụ thuộc phạm vi được giao; hiểu được những vấn đề cơ bản về khoa học tâm lý, khoa học quản lý; tổ chức khoa học quản lý; - Nắm vững và hiểu biết về các lĩnh vực chuyên môn hành chính và các ngành khác liên quan đến hành chính. - Sử dụng thành thạo tin học văn phòng; có khả năng áp dụng ứng dụng công nghệ thông tin, sử dụng thành thạo ít nhất một ngoại ngữ. - Năng lực chung: 3 - Năng lực chuyên môn: 3 - Năng lực quản lý: 3 - Bảo đảm năng lực lãnh đạo, quản lý theo quy định pháp luật.
A58: ='Phụ lục 07'!B57 -> LĐQL-5.1 | C58: ='Phụ lục 07'!D57 -> Phó trưởng phòng Công tác chính trị - Sinh viên | D58: 1. Yêu cầu về trình độ: - Có bằng đại học trở lên phù hợp với vị trí việc làm. - Chức danh nghề nghiệp tối thiểu: giảng viên hoặc tương đương. - Lý luận chính trị: trung cấp - Có chứng chỉ bồi dưỡng theo quy định pháp luật. 2. Yêu cầu về năng lực: - Nắm vững các quy định của pháp luật, chế độ chính sách của ngành, lĩnh vực và các kiến thức cơ bản về lĩnh vực chuyên môn nghiệp vụ được giao; - Hiểu rõ các mục tiêu và đối tượng quản lý, hệ thống các nguyên tắc và cơ chế quản lý của nghiệp vụ thuộc phạm vi được giao; hiểu được những vấn đề cơ bản về khoa học tâm lý, khoa học quản lý; tổ chức khoa học quản lý; - Nắm vững và hiểu biết về các lĩnh vực chuyên môn hành chính và các ngành khác liên quan đến hành chính. - Sử dụng thành thạo tin học văn phòng; có khả năng áp dụng ứng dụng công nghệ thông tin, sử dụng thành thạo ít nhất một ngoại ngữ. - Năng lực chung: 3 - Năng lực chuyên môn: 3 - Năng lực quản lý: 3 - Bảo đảm năng lực lãnh đạo, quản lý theo quy định pháp luật. | E58: "
A59: ='Phụ lục 07'!B58 -> LĐQL-5.2 | C59: ='Phụ lục 07'!D58 -> Phó trưởng phòng Cơ sở vật chất | D59: 1. Yêu cầu về trình độ: - Có bằng đại học trở lên phù hợp với vị trí việc làm. - Chức danh nghề nghiệp tối thiểu: giảng viên hoặc tương đương. - Lý luận chính trị: trung cấp - Có chứng chỉ bồi dưỡng theo quy định pháp luật. 2. Yêu cầu về năng lực: - Nắm vững các quy định của pháp luật, chế độ chính sách của ngành, lĩnh vực và các kiến thức cơ bản về lĩnh vực chuyên môn nghiệp vụ được giao; - Hiểu rõ các mục tiêu và đối tượng quản lý, hệ thống các nguyên tắc và cơ chế quản lý của nghiệp vụ thuộc phạm vi được giao; hiểu được những vấn đề cơ bản về khoa học tâm lý, khoa học quản lý; tổ chức khoa học quản lý; - Nắm vững và hiểu biết về các lĩnh vực chuyên môn hành chính và các ngành khác liên quan đến hành chính. - Sử dụng thành thạo tin học văn phòng; có khả năng áp dụng ứng dụng công nghệ thông tin, sử dụng thành thạo ít nhất một ngoại ngữ. - Năng lực chung: 3 - Năng lực chuyên môn: 3 - Năng lực quản lý: 3 - Bảo đảm năng lực lãnh đạo, quản lý theo quy định pháp luật. | E59: "
A60: ='Phụ lục 07'!B59 -> LĐQL-5.3 | C60: ='Phụ lục 07'!D59 -> Phó Trưởng phòng Đảm bảo chất lượng giáo dục | D60: 1. Yêu cầu về trình độ: - Có bằng đại học trở lên phù hợp với vị trí việc làm. - Chức danh nghề nghiệp tối thiểu: giảng viên hoặc tương đương. - Lý luận chính trị: trung cấp - Có chứng chỉ bồi dưỡng theo quy định pháp luật. 2. Yêu cầu về năng lực: - Nắm vững các quy định của pháp luật, chế độ chính sách của ngành, lĩnh vực và các kiến thức cơ bản về lĩnh vực chuyên môn nghiệp vụ được giao; - Hiểu rõ các mục tiêu và đối tượng quản lý, hệ thống các nguyên tắc và cơ chế quản lý của nghiệp vụ thuộc phạm vi được giao; hiểu được những vấn đề cơ bản về khoa học tâm lý, khoa học quản lý; tổ chức khoa học quản lý; - Nắm vững và hiểu biết về các lĩnh vực chuyên môn hành chính và các ngành khác liên quan đến hành chính. - Sử dụng thành thạo tin học văn phòng; có khả năng áp dụng ứng dụng công nghệ thông tin, sử dụng thành thạo ít nhất một ngoại ngữ. - Năng lực chung: 3 - Năng lực chuyên môn: 3 - Năng lực quản lý: 3 - Bảo đảm năng lực lãnh đạo, quản lý theo quy định pháp luật. | E60: "
A61: ='Phụ lục 07'!B60 -> LĐQL-5.4 | C61: ='Phụ lục 07'!D60 -> Phó trưởng phòng Phòng Đào tạo Đại học | D61: 1. Yêu cầu về trình độ: - Có bằng đại học trở lên phù hợp với vị trí việc làm. - Chức danh nghề nghiệp tối thiểu: giảng viên hoặc tương đương. - Lý luận chính trị: trung cấp - Có chứng chỉ bồi dưỡng theo quy định pháp luật. 2. Yêu cầu về năng lực: - Nắm vững các quy định của pháp luật, chế độ chính sách của ngành, lĩnh vực và các kiến thức cơ bản về lĩnh vực chuyên môn nghiệp vụ được giao; - Hiểu rõ các mục tiêu và đối tượng quản lý, hệ thống các nguyên tắc và cơ chế quản lý của nghiệp vụ thuộc phạm vi được giao; hiểu được những vấn đề cơ bản về khoa học tâm lý, khoa học quản lý; tổ chức khoa học quản lý; - Nắm vững và hiểu biết về các lĩnh vực chuyên môn hành chính và các ngành khác liên quan đến hành chính. - Sử dụng thành thạo tin học văn phòng; có khả năng áp dụng ứng dụng công nghệ thông tin, sử dụng thành thạo ít nhất một ngoại ngữ. - Năng lực chung: 3 - Năng lực chuyên môn: 3 - Năng lực quản lý: 3 - Bảo đảm năng lực lãnh đạo, quản lý theo quy định pháp luật. | E61: "
A62: ='Phụ lục 07'!B61 -> LĐQL-5.5 | C62: ='Phụ lục 07'!D61 -> Phó trưởng phòng Đào tạo Sau đại học | D62: 1. Yêu cầu về trình độ: - Có bằng đại học trở lên phù hợp với vị trí việc làm. - Chức danh nghề nghiệp tối thiểu: giảng viên hoặc tương đương. - Lý luận chính trị: trung cấp - Có chứng chỉ bồi dưỡng theo quy định pháp luật. 2. Yêu cầu về năng lực: - Nắm vững các quy định của pháp luật, chế độ chính sách của ngành, lĩnh vực và các kiến thức cơ bản về lĩnh vực chuyên môn nghiệp vụ được giao; - Hiểu rõ các mục tiêu và đối tượng quản lý, hệ thống các nguyên tắc và cơ chế quản lý của nghiệp vụ thuộc phạm vi được giao; hiểu được những vấn đề cơ bản về khoa học tâm lý, khoa học quản lý; tổ chức khoa học quản lý; - Nắm vững và hiểu biết về các lĩnh vực chuyên môn hành chính và các ngành khác liên quan đến hành chính. - Sử dụng thành thạo tin học văn phòng; có khả năng áp dụng ứng dụng công nghệ thông tin, sử dụng thành thạo ít nhất một ngoại ngữ. - Năng lực chung: 3 - Năng lực chuyên môn: 3 - Năng lực quản lý: 3 - Bảo đảm năng lực lãnh đạo, quản lý theo quy định pháp luật. | E62: "
A63: ='Phụ lục 07'!B62 -> LĐQL-5.6 | C63: ='Phụ lục 07'!D62 -> Phó Trưởng phòng Hành chính - Tổng hợp | D63: 1. Yêu cầu về trình độ: - Có bằng đại học trở lên phù hợp với vị trí việc làm. - Chức danh nghề nghiệp tối thiểu: giảng viên hoặc tương đương. - Lý luận chính trị: trung cấp - Có chứng chỉ bồi dưỡng theo quy định pháp luật. 2. Yêu cầu về năng lực: - Nắm vững các quy định của pháp luật, chế độ chính sách của ngành, lĩnh vực và các kiến thức cơ bản về lĩnh vực chuyên môn nghiệp vụ được giao; - Hiểu rõ các mục tiêu và đối tượng quản lý, hệ thống các nguyên tắc và cơ chế quản lý của nghiệp vụ thuộc phạm vi được giao; hiểu được những vấn đề cơ bản về khoa học tâm lý, khoa học quản lý; tổ chức khoa học quản lý; - Nắm vững và hiểu biết về các lĩnh vực chuyên môn hành chính và các ngành khác liên quan đến hành chính. - Sử dụng thành thạo tin học văn phòng; có khả năng áp dụng ứng dụng công nghệ thông tin, sử dụng thành thạo ít nhất một ngoại ngữ. - Năng lực chung: 3 - Năng lực chuyên môn: 3 - Năng lực quản lý: 3 - Bảo đảm năng lực lãnh đạo, quản lý theo quy định pháp luật. | E63: "
A64: ='Phụ lục 07'!B63 -> LĐQL-5.7 | C64: ='Phụ lục 07'!D63 -> Phó Trưởng phòng Hợp tác Quốc tế | D64: 1. Yêu cầu về trình độ: - Có bằng đại học trở lên phù hợp với vị trí việc làm. - Chức danh nghề nghiệp tối thiểu: giảng viên và tương đương. - Lý luận chính trị: trung cấp trở lên - Có chứng chỉ bồi dưỡng theo quy định pháp luật. 2. Yêu cầu về năng lực: - Nắm vững các quy định của pháp luật, chế độ chính sách của ngành, lĩnh vực và các kiến thức cơ bản về lĩnh vực chuyên môn nghiệp vụ được giao; - Hiểu rõ các mục tiêu và đối tượng quản lý, hệ thống các nguyên tắc và cơ chế quản lý của nghiệp vụ thuộc phạm vi được giao; hiểu được những vấn đề cơ bản về khoa học tâm lý, khoa học quản lý; tổ chức khoa học quản lý; - Nắm vững và hiểu biết về các lĩnh vực chuyên môn hành chính và các ngành khác liên quan đến hành chính. - Sử dụng thành thạo tin học văn phòng; có khả năng áp dụng ứng dụng công nghệ thông tin, sử dụng ngoại ngữ trong công việc. - Năng lực chung (cấp 3): Có năng lực về ngoại ngữ (sử dụng tốt 2 ngoại ngữ trở lên là lợi thế), năng lực kết nối, làm việc dưới cường độ cao, có kỹ năng tin học văn phòng thành thạo, có tư duy đổi mới năng động sáng tạo, phát huy sáng kiến - Năng lực chuyên môn (cấp 3): nắm bắt chức năng nghiệp vụ, có khả năng xây dựng và triển khai các hoạt động HTQT như chương trình đào tạo, tổ chức hội nghị - hội thảo, xây dựng các mối quan hệ với các đối tác uy tín trên thế giới, phát triển và triển khai các dự án hợp tác quốc tế - Năng lực quản lý (cấp 3): có năng lực tổ chức điều hành, phối hợp xử lý thông tin trong triển khai thực hiện nhiệm vụ; có năng lực tham mưu, quản lý, năng lực tổng hợp, phân tích, đánh giá kết quả công việc, đề xuất, phối hợp với cấp có thẩm quyền hoàn thiện các vấn đề chuyên môn nghiệp vụ được giao, có khả năng đoàn kết, tập hợp quần chúng, được viên chức người lao động trong đơn vị tín nhiệm | E64: "
A65: ='Phụ lục 07'!B64 -> LĐQL-5.8 | C65: ='Phụ lục 07'!D64 -> Phó trưởng Phòng KHTC phụ trách Kế hoạch tài chính | D65: 1. Yêu cầu về trình độ: - Có bằng đại học trở lên phù hợp với vị trí việc làm. - Chức danh nghề nghiệp tối thiểu: giảng viên và tương đương. - Lý luận chính trị: trung cấp trở lên - Có chứng chỉ bồi dưỡng theo quy định pháp luật. 2. Yêu cầu về năng lực: - Nắm vững các quy định của pháp luật, chế độ chính sách của ngành, lĩnh vực và các kiến thức cơ bản về lĩnh vực chuyên môn nghiệp vụ được giao; - Hiểu rõ các mục tiêu và đối tượng quản lý, hệ thống các nguyên tắc và cơ chế quản lý của nghiệp vụ thuộc phạm vi được giao; hiểu được những vấn đề cơ bản về khoa học tâm lý, khoa học quản lý; tổ chức khoa học quản lý; - Nắm vững và hiểu biết về các lĩnh vực chuyên môn hành chính và các ngành khác liên quan đến hành chính. - Sử dụng thành thạo tin học văn phòng; có khả năng áp dụng ứng dụng công nghệ thông tin, sử dụng ngoại ngữ trong công việc. - Năng lực chung (cấp 3): Có phẩm chất đạo đức tốt, trung thực, thẳng thắn, có uy tín trong Nhà trường; Sử dụng máy vi tính thành thạo; - Năng lực chuyên môn (cấp 3): Nắm vững các văn bản quy phạm pháp luật chung và các văn bản liên quan đến công tác kế toán tài chính, công tác chung của Nhà trường, đặc biệt là các văn bản, chính sách mới được ban hành - Năng lực quản lý (cấp 3): Có uy tín, khả năng kết nối với các đơn vị trong và ngoài trường trong giải quyết công việc của Trường. Có năng lực tổ chức và triển khai hiệu quả công tác của phòng Kế hoạch Tài chính và của Nhà trường trong phạm vi công việc được giao; - Bảo đảm tiêu chuẩn năng lực theo quy định pháp luật. | E65: "
A66: ='Phụ lục 07'!B65 -> LĐQL-5.9 | C66: ='Phụ lục 07'!D65 -> Phó trưởng Phòng KHTC phụ trách Kế toán, thủ quỹ | D66: 1. Yêu cầu về trình độ: - Có bằng đại học trở lên phù hợp với vị trí việc làm. - Chức danh nghề nghiệp tối thiểu: giảng viên và tương đương. - Lý luận chính trị: trung cấp trở lên - Có chứng chỉ bồi dưỡng theo quy định pháp luật. 2. Yêu cầu về năng lực: - Nắm vững các quy định của pháp luật, chế độ chính sách của ngành, lĩnh vực và các kiến thức cơ bản về lĩnh vực chuyên môn nghiệp vụ được giao; - Hiểu rõ các mục tiêu và đối tượng quản lý, hệ thống các nguyên tắc và cơ chế quản lý của nghiệp vụ thuộc phạm vi được giao; hiểu được những vấn đề cơ bản về khoa học tâm lý, khoa học quản lý; tổ chức khoa học quản lý; - Nắm vững và hiểu biết về các lĩnh vực chuyên môn hành chính và các ngành khác liên quan đến hành chính. - Sử dụng thành thạo tin học văn phòng; có khả năng áp dụng ứng dụng công nghệ thông tin, sử dụng ngoại ngữ trong công việc. - Năng lực chung (cấp 3): Có phẩm chất đạo đức tốt, trung thực, thẳng thắn, có uy tín trong Nhà trường; Sử dụng máy vi tính thành thạo; - Năng lực chuyên môn (cấp 3): Nắm vững các văn bản quy phạm pháp luật chung và các văn bản liên quan đến công tác kế toán tài chính, công tác chung của Nhà trường, đặc biệt là các văn bản, chính sách mới được ban hành - Năng lực quản lý (cấp 3): Có uy tín, khả năng kết nối với các đơn vị trong và ngoài trường trong giải quyết công việc của Trường. Có năng lực tổ chức và triển khai hiệu quả công tác của phòng Kế hoạch Tài chính và của Nhà trường trong phạm vi công việc được giao; - Bảo đảm tiêu chuẩn năng lực theo quy định pháp luật. | E66: "
A67: ='Phụ lục 07'!B66 -> LĐQL-5.10 | C67: ='Phụ lục 07'!D66 -> Phó Trưởng phòng Khoa học Công nghệ | D67: 1. Yêu cầu về trình độ: - Có bằng đại học trở lên phù hợp với vị trí việc làm. - Chức danh nghề nghiệp tối thiểu: giảng viên hoặc tương đương. - Lý luận chính trị: trung cấp - Có chứng chỉ bồi dưỡng theo quy định pháp luật. 2. Yêu cầu về năng lực: - Nắm vững các quy định của pháp luật, chế độ chính sách của ngành, lĩnh vực và các kiến thức cơ bản về lĩnh vực chuyên môn nghiệp vụ được giao; - Hiểu rõ các mục tiêu và đối tượng quản lý, hệ thống các nguyên tắc và cơ chế quản lý của nghiệp vụ thuộc phạm vi được giao; hiểu được những vấn đề cơ bản về khoa học tâm lý, khoa học quản lý; tổ chức khoa học quản lý; - Nắm vững và hiểu biết về các lĩnh vực chuyên môn hành chính và các ngành khác liên quan đến hành chính. - Sử dụng thành thạo tin học văn phòng; có khả năng áp dụng ứng dụng công nghệ thông tin, sử dụng thành thạo ít nhất một ngoại ngữ. - Năng lực chung: 3 - Năng lực chuyên môn: 3 - Năng lực quản lý: 3 - Bảo đảm năng lực lãnh đạo, quản lý theo quy định pháp luật. | E67: "
A68: ='Phụ lục 07'!B67 -> LĐQL-5.11 | C68: ='Phụ lục 07'!D67 -> Phó Trưởng phòng Quan hệ công chúng và Doanh nghiệp | D68: 1. Yêu cầu về trình độ: - Có bằng đại học trở lên phù hợp với vị trí việc làm. - Chức danh nghề nghiệp tối thiểu: giảng viên hoặc tương đương. - Lý luận chính trị: trung cấp - Có chứng chỉ bồi dưỡng theo quy định pháp luật. 2. Yêu cầu về năng lực: - Nắm vững các quy định của pháp luật, chế độ chính sách của ngành, lĩnh vực và các kiến thức cơ bản về lĩnh vực chuyên môn nghiệp vụ được giao; - Hiểu rõ các mục tiêu và đối tượng quản lý, hệ thống các nguyên tắc và cơ chế quản lý của nghiệp vụ thuộc phạm vi được giao; hiểu được những vấn đề cơ bản về khoa học tâm lý, khoa học quản lý; tổ chức khoa học quản lý; - Nắm vững và hiểu biết về các lĩnh vực chuyên môn hành chính và các ngành khác liên quan đến hành chính. - Sử dụng thành thạo tin học văn phòng; có khả năng áp dụng ứng dụng công nghệ thông tin, sử dụng thành thạo ít nhất một ngoại ngữ. - Năng lực chung: 3 - Năng lực chuyên môn: 3 - Năng lực quản lý: 3 - Bảo đảm năng lực lãnh đạo, quản lý theo quy định pháp luật. | E68: "
A69: ='Phụ lục 07'!B68 -> LĐQL-5.12 | C69: ='Phụ lục 07'!D68 -> Phó Trưởng phòng Tổ chức - Cán bộ | D69: 1. Yêu cầu về trình độ: - Có bằng đại học trở lên phù hợp với vị trí việc làm. - Chức danh nghề nghiệp tối thiểu: giảng viên hoặc tương đương. - Lý luận chính trị: trung cấp - Có chứng chỉ bồi dưỡng theo quy định pháp luật. 2. Yêu cầu về năng lực: - Nắm vững các quy định của pháp luật, chế độ chính sách của ngành, lĩnh vực và các kiến thức cơ bản về lĩnh vực chuyên môn nghiệp vụ được giao; - Hiểu rõ các mục tiêu và đối tượng quản lý, hệ thống các nguyên tắc và cơ chế quản lý của nghiệp vụ thuộc phạm vi được giao; hiểu được những vấn đề cơ bản về khoa học tâm lý, khoa học quản lý; tổ chức khoa học quản lý; - Nắm vững và hiểu biết về các lĩnh vực chuyên môn hành chính và các ngành khác liên quan đến hành chính. - Sử dụng thành thạo tin học văn phòng; có khả năng áp dụng ứng dụng công nghệ thông tin, sử dụng thành thạo ít nhất một ngoại ngữ. - Năng lực chung: 3 - Năng lực chuyên môn: 3 - Năng lực quản lý: 3 - Bảo đảm năng lực lãnh đạo, quản lý theo quy định pháp luật. | E69: "
... A95: ='Phụ lục 07'!B94 -> LĐQL-5.38 | C95: ='Phụ lục 07'!D94 -> Phó giám đốc trung tâm Nghiên cứu Trắc địa công trình | D95: 1. Yêu cầu về trình độ: - Có bằng đại học trở lên phù hợp với vị trí việc làm. - Chức danh nghề nghiệp tối thiểu: giảng viên hoặc tương đương. - Lý luận chính trị: trung cấp - Có chứng chỉ bồi dưỡng theo quy định pháp luật. 2. Yêu cầu về năng lực: - Nắm vững các quy định của pháp luật, chế độ chính sách của ngành, lĩnh vực và các kiến thức cơ bản về lĩnh vực chuyên môn nghiệp vụ được giao; - Hiểu rõ các mục tiêu và đối tượng quản lý, hệ thống các nguyên tắc và cơ chế quản lý của nghiệp vụ thuộc phạm vi được giao; hiểu được những vấn đề cơ bản về khoa học tâm lý, khoa học quản lý; tổ chức khoa học quản lý; - Nắm vững và hiểu biết về các lĩnh vực chuyên môn hành chính và các ngành khác liên quan đến hành chính. - Sử dụng thành thạo tin học văn phòng; có khả năng áp dụng ứng dụng công nghệ thông tin, sử dụng thành thạo ít nhất một ngoại ngữ. - Năng lực chung: 3 - Năng lực chuyên môn: 3 - Năng lực quản lý: 3 - Bảo đảm năng lực lãnh đạo, quản lý theo quy định pháp luật. | E95: "
A96: ='Phụ lục 07'!A95 -> LĐQL-6 | B96: ='Phụ lục 07'!D95 -> Giám đốc ban quản lý, Giám đốc thư viện, Giám đốc xưởng và tương đương | D96: 1. Yêu cầu về trình độ: - Có bằng đại học trở lên phù hợp với vị trí việc làm. - Chức danh nghề nghiệp tối thiểu: giảng viên hoặc tương đương. - Lý luận chính trị: trung cấp - Có chứng chỉ bồi dưỡng theo quy định pháp luật. 2. Yêu cầu về năng lực: - Nắm vững các quy định của pháp luật, chế độ chính sách của ngành, lĩnh vực và các kiến thức cơ bản về lĩnh vực chuyên môn nghiệp vụ được giao; - Hiểu rõ các mục tiêu và đối tượng quản lý, hệ thống các nguyên tắc và cơ chế quản lý của nghiệp vụ thuộc phạm vi được giao; hiểu được những vấn đề cơ bản về khoa học tâm lý, khoa học quản lý; tổ chức khoa học quản lý; - Nắm vững và hiểu biết về các lĩnh vực chuyên môn hành chính và các ngành khác liên quan đến hành chính. - Sử dụng thành thạo tin học văn phòng; có khả năng áp dụng ứng dụng công nghệ thông tin, sử dụng thành thạo ít nhất một ngoại ngữ. - Năng lực chung: 4 - Năng lực chuyên môn: 4 - Năng lực quản lý: 4 - Bảo đảm năng lực lãnh đạo, quản lý theo quy định pháp luật.
A97: ='Phụ lục 07'!B96 -> LĐQL-6.1 | C97: ='Phụ lục 07'!D96 -> Giám đốc Ban Quản lý các Dự án | D97: 1. Yêu cầu về trình độ: - Có bằng đại học trở lên phù hợp với vị trí việc làm. - Chức danh nghề nghiệp tối thiểu: giảng viên hoặc tương đương. - Lý luận chính trị: trung cấp - Có chứng chỉ bồi dưỡng theo quy định pháp luật. 2. Yêu cầu về năng lực: - Nắm vững các quy định của pháp luật, chế độ chính sách của ngành, lĩnh vực và các kiến thức cơ bản về lĩnh vực chuyên môn nghiệp vụ được giao; - Hiểu rõ các mục tiêu và đối tượng quản lý, hệ thống các nguyên tắc và cơ chế quản lý của nghiệp vụ thuộc phạm vi được giao; hiểu được những vấn đề cơ bản về khoa học tâm lý, khoa học quản lý; tổ chức khoa học quản lý; - Nắm vững và hiểu biết về các lĩnh vực chuyên môn hành chính và các ngành khác liên quan đến hành chính. - Sử dụng thành thạo tin học văn phòng; có khả năng áp dụng ứng dụng công nghệ thông tin, sử dụng thành thạo ít nhất một ngoại ngữ. - Năng lực chung: 4 - Năng lực chuyên môn: 4 - Năng lực quản lý: 4 - Bảo đảm năng lực lãnh đạo, quản lý theo quy định pháp luật. | E97: "
A98: ='Phụ lục 07'!B97 -> LĐQL-6.2 | C98: ='Phụ lục 07'!D97 -> Giám đốc Trung tâm Thông tin - Thư viện | D98: 1. Yêu cầu về trình độ: - Có bằng đại học trở lên phù hợp với vị trí việc làm. - Chức danh nghề nghiệp tối thiểu: giảng viên hoặc tương đương. - Lý luận chính trị: trung cấp - Có chứng chỉ bồi dưỡng theo quy định pháp luật. 2. Yêu cầu về năng lực: - Nắm vững các quy định của pháp luật, chế độ chính sách của ngành, lĩnh vực và các kiến thức cơ bản về lĩnh vực chuyên môn nghiệp vụ được giao; - Hiểu rõ các mục tiêu và đối tượng quản lý, hệ thống các nguyên tắc và cơ chế quản lý của nghiệp vụ thuộc phạm vi được giao; hiểu được những vấn đề cơ bản về khoa học tâm lý, khoa học quản lý; tổ chức khoa học quản lý; - Nắm vững và hiểu biết về các lĩnh vực chuyên môn hành chính và các ngành khác liên quan đến hành chính. - Sử dụng thành thạo tin học văn phòng; có khả năng áp dụng ứng dụng công nghệ thông tin, sử dụng thành thạo ít nhất một ngoại ngữ. - Năng lực chung: 4 - Năng lực chuyên môn: 4 - Năng lực quản lý: 4 - Bảo đảm năng lực lãnh đạo, quản lý theo quy định pháp luật. | E98: "
A99: ='Phụ lục 07'!A98 -> LĐQL-7 | B99: ='Phụ lục 07'!D98 -> Phó Giám đốc ban quản lý, Phó Giám đốc thư viện, Phó Giám đốc xưởng và tương đương | D99: 1. Yêu cầu về trình độ: - Có bằng đại học trở lên phù hợp với vị trí việc làm. - Chức danh nghề nghiệp tối thiểu: giảng viên hoặc tương đương. - Lý luận chính trị: trung cấp - Có chứng chỉ bồi dưỡng theo quy định pháp luật. 2. Yêu cầu về năng lực: - Nắm vững các quy định của pháp luật, chế độ chính sách của ngành, lĩnh vực và các kiến thức cơ bản về lĩnh vực chuyên môn nghiệp vụ được giao; - Hiểu rõ các mục tiêu và đối tượng quản lý, hệ thống các nguyên tắc và cơ chế quản lý của nghiệp vụ thuộc phạm vi được giao; hiểu được những vấn đề cơ bản về khoa học tâm lý, khoa học quản lý; tổ chức khoa học quản lý; - Nắm vững và hiểu biết về các lĩnh vực chuyên môn hành chính và các ngành khác liên quan đến hành chính. - Sử dụng thành thạo tin học văn phòng; có khả năng áp dụng ứng dụng công nghệ thông tin, sử dụng thành thạo ít nhất một ngoại ngữ. - Năng lực chung: 3 - Năng lực chuyên môn: 3 - Năng lực quản lý: 3 - Bảo đảm năng lực lãnh đạo, quản lý theo quy định pháp luật.
A100: ='Phụ lục 07'!B99 -> LĐQL-7.1 | C100: ='Phụ lục 07'!D99 -> Phó Giám đốc Ban Quản lý các Dự án | D100: 1. Yêu cầu về trình độ: - Có bằng đại học trở lên phù hợp với vị trí việc làm. - Chức danh nghề nghiệp tối thiểu: giảng viên hoặc tương đương. - Lý luận chính trị: trung cấp - Có chứng chỉ bồi dưỡng theo quy định pháp luật. 2. Yêu cầu về năng lực: - Nắm vững các quy định của pháp luật, chế độ chính sách của ngành, lĩnh vực và các kiến thức cơ bản về lĩnh vực chuyên môn nghiệp vụ được giao; - Hiểu rõ các mục tiêu và đối tượng quản lý, hệ thống các nguyên tắc và cơ chế quản lý của nghiệp vụ thuộc phạm vi được giao; hiểu được những vấn đề cơ bản về khoa học tâm lý, khoa học quản lý; tổ chức khoa học quản lý; - Nắm vững và hiểu biết về các lĩnh vực chuyên môn hành chính và các ngành khác liên quan đến hành chính. - Sử dụng thành thạo tin học văn phòng; có khả năng áp dụng ứng dụng công nghệ thông tin, sử dụng thành thạo ít nhất một ngoại ngữ. - Năng lực chung: 3 - Năng lực chuyên môn: 3 - Năng lực quản lý: 3 - Bảo đảm năng lực lãnh đạo, quản lý theo quy định pháp luật. | E100: "
A101: ='Phụ lục 07'!B100 -> LĐQL-7.2 | C101: ='Phụ lục 07'!D100 -> Phó Giám đốc Trung tâm Trung tâm Thông tin - Thư viện phụ trách công nghệ thông tin | D101: 1. Yêu cầu về trình độ: - Có bằng đại học trở lên phù hợp với vị trí việc làm. - Chức danh nghề nghiệp tối thiểu: giảng viên hoặc tương đương. - Lý luận chính trị: trung cấp - Có chứng chỉ bồi dưỡng theo quy định pháp luật. 2. Yêu cầu về năng lực: - Nắm vững các quy định của pháp luật, chế độ chính sách của ngành, lĩnh vực và các kiến thức cơ bản về lĩnh vực chuyên môn nghiệp vụ được giao; - Hiểu rõ các mục tiêu và đối tượng quản lý, hệ thống các nguyên tắc và cơ chế quản lý của nghiệp vụ thuộc phạm vi được giao; hiểu được những vấn đề cơ bản về khoa học tâm lý, khoa học quản lý; tổ chức khoa học quản lý; - Nắm vững và hiểu biết về các lĩnh vực chuyên môn hành chính và các ngành khác liên quan đến hành chính. - Sử dụng thành thạo tin học văn phòng; có khả năng áp dụng ứng dụng công nghệ thông tin, sử dụng thành thạo ít nhất một ngoại ngữ. - Năng lực chung: 3 - Năng lực chuyên môn: 3 - Năng lực quản lý: 3 - Bảo đảm năng lực lãnh đạo, quản lý theo quy định pháp luật. | E101: "
A102: ='Phụ lục 07'!B101 -> LĐQL-7.3 | C102: ='Phụ lục 07'!D101 -> Phó Giám đốc Trung tâm Trung tâm Thông tin - Thư viện phụ trách thư viện | D102: 1. Yêu cầu về trình độ: - Có bằng đại học trở lên phù hợp với vị trí việc làm. - Chức danh nghề nghiệp tối thiểu: giảng viên hoặc tương đương. - Lý luận chính trị: trung cấp - Có chứng chỉ bồi dưỡng theo quy định pháp luật. 2. Yêu cầu về năng lực: - Nắm vững các quy định của pháp luật, chế độ chính sách của ngành, lĩnh vực và các kiến thức cơ bản về lĩnh vực chuyên môn nghiệp vụ được giao; - Hiểu rõ các mục tiêu và đối tượng quản lý, hệ thống các nguyên tắc và cơ chế quản lý của nghiệp vụ thuộc phạm vi được giao; hiểu được những vấn đề cơ bản về khoa học tâm lý, khoa học quản lý; tổ chức khoa học quản lý; - Nắm vững và hiểu biết về các lĩnh vực chuyên môn hành chính và các ngành khác liên quan đến hành chính. - Sử dụng thành thạo tin học văn phòng; có khả năng áp dụng ứng dụng công nghệ thông tin, sử dụng thành thạo ít nhất một ngoại ngữ. - Năng lực chung: 3 - Năng lực chuyên môn: 3 - Năng lực quản lý: 3 - Bảo đảm năng lực lãnh đạo, quản lý theo quy định pháp luật. | E102: "
A103: ='Phụ lục 07'!A102 -> LĐQL-8 | B103: ='Phụ lục 07'!D102 -> Hiệu trưởng trường thuộc Trường | D103: 1. Yêu cầu về trình độ: - Có bằng Tiến sĩ trở lên phù hợp với vị trí việc làm. - Chức danh nghề nghiệp tối thiểu: giảng viên. - Lý luận chính trị: Có trình độ lý luận chính trị cao cấp hoặc cử nhân chính trị - Có chứng chỉ bồi dưỡng theo quy định pháp luật. 2. Yêu cầu về năng lực: - Nắm vững các quy định của pháp luật, chế độ chính sách của ngành, lĩnh vực và các kiến thức cơ bản về lĩnh vực chuyên môn nghiệp vụ được giao; - Hiểu rõ các mục tiêu và đối tượng quản lý, hệ thống các nguyên tắc và cơ chế quản lý của nghiệp vụ thuộc phạm vi được giao; hiểu được những vấn đề cơ bản về khoa học tâm lý, khoa học quản lý; tổ chức khoa học quản lý; - Nắm vững và hiểu biết về các lĩnh vực chuyên môn hành chính và các ngành khác liên quan đến hành chính. - Sử dụng thành thạo tin học văn phòng; có khả năng áp dụng ứng dụng công nghệ thông tin, sử dụng thành thạo ít nhất một ngoại ngữ. - Năng lực chung: 5 - Năng lực chuyên môn: 5 - Năng lực quản lý: 5 - Bảo đảm năng lực lãnh đạo, quản lý theo quy định pháp luật.
A104: ='Phụ lục 07'!B103 -> LĐQL-8.1 | C104: ='Phụ lục 07'!D103 -> Hiệu trưởng trường các Khoa học Trái đất và Môi trường | D104: 1. Yêu cầu về trình độ: - Có bằng Tiến sĩ trở lên phù hợp với vị trí việc làm. - Chức danh nghề nghiệp tối thiểu: giảng viên. - Lý luận chính trị: Có trình độ lý luận chính trị cao cấp hoặc cử nhân chính trị - Có chứng chỉ bồi dưỡng theo quy định pháp luật. 2. Yêu cầu về năng lực: - Nắm vững các quy định của pháp luật, chế độ chính sách của ngành, lĩnh vực và các kiến thức cơ bản về lĩnh vực chuyên môn nghiệp vụ được giao; - Hiểu rõ các mục tiêu và đối tượng quản lý, hệ thống các nguyên tắc và cơ chế quản lý của nghiệp vụ thuộc phạm vi được giao; hiểu được những vấn đề cơ bản về khoa học tâm lý, khoa học quản lý; tổ chức khoa học quản lý; - Nắm vững và hiểu biết về các lĩnh vực chuyên môn hành chính và các ngành khác liên quan đến hành chính. - Sử dụng thành thạo tin học văn phòng; có khả năng áp dụng ứng dụng công nghệ thông tin, sử dụng thành thạo ít nhất một ngoại ngữ. - Năng lực chung: 5 - Năng lực chuyên môn: 5 - Năng lực quản lý: 5 - Bảo đảm năng lực lãnh đạo, quản lý theo quy định pháp luật. | E104: "
A105: ='Phụ lục 07'!B104 -> LĐQL-8.2 | C105: ='Phụ lục 07'!D104 -> Hiệu trưởng trường Kỹ thuật và Công nghệ | D105: 1. Yêu cầu về trình độ: - Có bằng Tiến sĩ trở lên phù hợp với vị trí việc làm. - Chức danh nghề nghiệp tối thiểu: giảng viên. - Lý luận chính trị: Có trình độ lý luận chính trị cao cấp hoặc cử nhân chính trị - Có chứng chỉ bồi dưỡng theo quy định pháp luật. 2. Yêu cầu về năng lực: - Nắm vững các quy định của pháp luật, chế độ chính sách của ngành, lĩnh vực và các kiến thức cơ bản về lĩnh vực chuyên môn nghiệp vụ được giao; - Hiểu rõ các mục tiêu và đối tượng quản lý, hệ thống các nguyên tắc và cơ chế quản lý của nghiệp vụ thuộc phạm vi được giao; hiểu được những vấn đề cơ bản về khoa học tâm lý, khoa học quản lý; tổ chức khoa học quản lý; - Nắm vững và hiểu biết về các lĩnh vực chuyên môn hành chính và các ngành khác liên quan đến hành chính. - Sử dụng thành thạo tin học văn phòng; có khả năng áp dụng ứng dụng công nghệ thông tin, sử dụng thành thạo ít nhất một ngoại ngữ. - Năng lực chung: 5 - Năng lực chuyên môn: 5 - Năng lực quản lý: 5 - Bảo đảm năng lực lãnh đạo, quản lý theo quy định pháp luật. | E105: "
A106: ='Phụ lục 07'!B105 -> LĐQL-8.3 | C106: ='Phụ lục 07'!D105 -> Hiệu trưởng trường Công nghệ thông tin và truyền thông | D106: 1. Yêu cầu về trình độ: - Có bằng Tiến sĩ trở lên phù hợp với vị trí việc làm. - Chức danh nghề nghiệp tối thiểu: giảng viên. - Lý luận chính trị: Có trình độ lý luận chính trị cao cấp hoặc cử nhân chính trị - Có chứng chỉ bồi dưỡng theo quy định pháp luật. 2. Yêu cầu về năng lực: - Nắm vững các quy định của pháp luật, chế độ chính sách của ngành, lĩnh vực và các kiến thức cơ bản về lĩnh vực chuyên môn nghiệp vụ được giao; - Hiểu rõ các mục tiêu và đối tượng quản lý, hệ thống các nguyên tắc và cơ chế quản lý của nghiệp vụ thuộc phạm vi được giao; hiểu được những vấn đề cơ bản về khoa học tâm lý, khoa học quản lý; tổ chức khoa học quản lý; - Nắm vững và hiểu biết về các lĩnh vực chuyên môn hành chính và các ngành khác liên quan đến hành chính. - Sử dụng thành thạo tin học văn phòng; có khả năng áp dụng ứng dụng công nghệ thông tin, sử dụng thành thạo ít nhất một ngoại ngữ. - Năng lực chung: 5 - Năng lực chuyên môn: 5 - Năng lực quản lý: 5 - Bảo đảm năng lực lãnh đạo, quản lý theo quy định pháp luật. | E106: "
A107: ='Phụ lục 07'!A106 -> LĐQL-9 | B107: ='Phụ lục 07'!D106 -> Phó Hiệu trưởng trường thuộc Trường | D107: 1. Yêu cầu về trình độ: - Có bằng Tiến sĩ trở lên phù hợp với vị trí việc làm. - Chức danh nghề nghiệp tối thiểu: giảng viên. - Lý luận chính trị: Có trình độ lý luận chính trị cao cấp hoặc cử nhân chính trị - Có chứng chỉ bồi dưỡng theo quy định pháp luật. 2. Yêu cầu về năng lực: - Nắm vững các quy định của pháp luật, chế độ chính sách của ngành, lĩnh vực và các kiến thức cơ bản về lĩnh vực chuyên môn nghiệp vụ được giao; - Hiểu rõ các mục tiêu và đối tượng quản lý, hệ thống các nguyên tắc và cơ chế quản lý của nghiệp vụ thuộc phạm vi được giao; hiểu được những vấn đề cơ bản về khoa học tâm lý, khoa học quản lý; tổ chức khoa học quản lý; - Nắm vững và hiểu biết về các lĩnh vực chuyên môn hành chính và các ngành khác liên quan đến hành chính. - Sử dụng thành thạo tin học văn phòng; có khả năng áp dụng ứng dụng công nghệ thông tin, sử dụng thành thạo ít nhất một ngoại ngữ. - Năng lực chung: 5 - Năng lực chuyên môn: 5 - Năng lực quản lý: 5 - Bảo đảm năng lực lãnh đạo, quản lý theo quy định pháp luật.
A108: ='Phụ lục 07'!B107 -> LĐQL-9.1 | C108: ='Phụ lục 07'!D107 -> Phó Hiệu trưởng trường các Khoa học Trái đất và Môi trường | D108: 1. Yêu cầu về trình độ: - Có bằng Tiến sĩ trở lên phù hợp với vị trí việc làm. - Chức danh nghề nghiệp tối thiểu: giảng viên. - Lý luận chính trị: Có trình độ lý luận chính trị cao cấp hoặc cử nhân chính trị - Có chứng chỉ bồi dưỡng theo quy định pháp luật. 2. Yêu cầu về năng lực: - Nắm vững các quy định của pháp luật, chế độ chính sách của ngành, lĩnh vực và các kiến thức cơ bản về lĩnh vực chuyên môn nghiệp vụ được giao; - Hiểu rõ các mục tiêu và đối tượng quản lý, hệ thống các nguyên tắc và cơ chế quản lý của nghiệp vụ thuộc phạm vi được giao; hiểu được những vấn đề cơ bản về khoa học tâm lý, khoa học quản lý; tổ chức khoa học quản lý; - Nắm vững và hiểu biết về các lĩnh vực chuyên môn hành chính và các ngành khác liên quan đến hành chính. - Sử dụng thành thạo tin học văn phòng; có khả năng áp dụng ứng dụng công nghệ thông tin, sử dụng thành thạo ít nhất một ngoại ngữ. - Năng lực chung: 5 - Năng lực chuyên môn: 5 - Năng lực quản lý: 5 - Bảo đảm năng lực lãnh đạo, quản lý theo quy định pháp luật. | E108: "
A109: ='Phụ lục 07'!B108 -> LĐQL-9.2 | C109: ='Phụ lục 07'!D108 -> Phó Hiệu trưởng trường Kỹ thuật và Công nghệ | D109: 1. Yêu cầu về trình độ: - Có bằng Tiến sĩ trở lên phù hợp với vị trí việc làm. - Chức danh nghề nghiệp tối thiểu: giảng viên. - Lý luận chính trị: Có trình độ lý luận chính trị cao cấp hoặc cử nhân chính trị - Có chứng chỉ bồi dưỡng theo quy định pháp luật. 2. Yêu cầu về năng lực: - Nắm vững các quy định của pháp luật, chế độ chính sách của ngành, lĩnh vực và các kiến thức cơ bản về lĩnh vực chuyên môn nghiệp vụ được giao; - Hiểu rõ các mục tiêu và đối tượng quản lý, hệ thống các nguyên tắc và cơ chế quản lý của nghiệp vụ thuộc phạm vi được giao; hiểu được những vấn đề cơ bản về khoa học tâm lý, khoa học quản lý; tổ chức khoa học quản lý; - Nắm vững và hiểu biết về các lĩnh vực chuyên môn hành chính và các ngành khác liên quan đến hành chính. - Sử dụng thành thạo tin học văn phòng; có khả năng áp dụng ứng dụng công nghệ thông tin, sử dụng thành thạo ít nhất một ngoại ngữ. - Năng lực chung: 5 - Năng lực chuyên môn: 5 - Năng lực quản lý: 5 - Bảo đảm năng lực lãnh đạo, quản lý theo quy định pháp luật. | E109: "
A110: ='Phụ lục 07'!B109 -> LĐQL-9.3 | C110: ='Phụ lục 07'!D109 -> Phó Hiệu trưởng trường Công nghệ thông tin và truyền thông | D110: 1. Yêu cầu về trình độ: - Có bằng Tiến sĩ trở lên phù hợp với vị trí việc làm. - Chức danh nghề nghiệp tối thiểu: giảng viên. - Lý luận chính trị: Có trình độ lý luận chính trị cao cấp hoặc cử nhân chính trị - Có chứng chỉ bồi dưỡng theo quy định pháp luật. 2. Yêu cầu về năng lực: - Nắm vững các quy định của pháp luật, chế độ chính sách của ngành, lĩnh vực và các kiến thức cơ bản về lĩnh vực chuyên môn nghiệp vụ được giao; - Hiểu rõ các mục tiêu và đối tượng quản lý, hệ thống các nguyên tắc và cơ chế quản lý của nghiệp vụ thuộc phạm vi được giao; hiểu được những vấn đề cơ bản về khoa học tâm lý, khoa học quản lý; tổ chức khoa học quản lý; - Nắm vững và hiểu biết về các lĩnh vực chuyên môn hành chính và các ngành khác liên quan đến hành chính. - Sử dụng thành thạo tin học văn phòng; có khả năng áp dụng ứng dụng công nghệ thông tin, sử dụng thành thạo ít nhất một ngoại ngữ. - Năng lực chung: 5 - Năng lực chuyên môn: 5 - Năng lực quản lý: 5 - Bảo đảm năng lực lãnh đạo, quản lý theo quy định pháp luật. | E110: "
A111: ='Phụ lục 07'!A110 -> LĐQL-10 | B111: ='Phụ lục 07'!D110 -> Kế toán trưởng của Trường và các đơn vị trực thuộc Trường | D111: 1. Yêu cầu về trình độ: - Có trình độ chuyên môn nghiệp vụ về kế toán từ trình độ đại học trở lên. - Chức danh nghề nghiệp tối thiểu: giảng viên và tương đương. - Lý luận chính trị: trung cấp trở lên - Có chứng chỉ bồi dưỡng theo quy định pháp luật. 2. Yêu cầu về năng lực: - Nắm vững các quy định của pháp luật, chế độ chính sách của ngành, lĩnh vực và các kiến thức cơ bản về lĩnh vực chuyên môn nghiệp vụ được giao; - Hiểu rõ các mục tiêu và đối tượng quản lý, hệ thống các nguyên tắc và cơ chế quản lý của nghiệp vụ thuộc phạm vi được giao; hiểu được những vấn đề cơ bản về khoa học tâm lý, khoa học quản lý; tổ chức khoa học quản lý; - Nắm vững và hiểu biết về các lĩnh vực chuyên môn hành chính và các ngành khác liên quan đến hành chính. - Sử dụng thành thạo tin học văn phòng; có khả năng áp dụng ứng dụng công nghệ thông tin, sử dụng ngoại ngữ trong công việc. - Năng lực chung (cấp 4): Có phẩm chất đạo đức tốt, trung thực, thẳng thắn, có uy tín trong Nhà trường; Sử dụng máy vi tính thành thạo; - Năng lực chuyên môn (cấp 4): Nắm vững các văn bản quy phạm pháp luật chung và các văn bản liên quan đến công tác kế toán tài chính, công tác chung của Nhà trường, đặc biệt là các văn bản, chính sách mới được ban hành - Năng lực quản lý (cấp 4): Có uy tín, khả năng kết nối với các đơn vị trong và ngoài trường trong giải quyết công việc của Trường. Có năng lực tổ chức và triển khai hiệu quả công tác của phòng Kế hoạch Tài chính và của Nhà trường trong phạm vi công việc được giao; - Bảo đảm tiêu chuẩn năng lực theo quy định pháp luật.
A112: ='Phụ lục 07'!B111 -> LĐQL-10.1 | C112: ='Phụ lục 07'!D111 -> Kế toán trưởng của Trường | D112: 1. Yêu cầu về trình độ: - Có trình độ chuyên môn nghiệp vụ về kế toán từ trình độ đại học trở lên. - Chức danh nghề nghiệp tối thiểu: giảng viên và tương đương. - Lý luận chính trị: trung cấp trở lên - Có chứng chỉ bồi dưỡng theo quy định pháp luật. 2. Yêu cầu về năng lực: - Nắm vững các quy định của pháp luật, chế độ chính sách của ngành, lĩnh vực và các kiến thức cơ bản về lĩnh vực chuyên môn nghiệp vụ được giao; - Hiểu rõ các mục tiêu và đối tượng quản lý, hệ thống các nguyên tắc và cơ chế quản lý của nghiệp vụ thuộc phạm vi được giao; hiểu được những vấn đề cơ bản về khoa học tâm lý, khoa học quản lý; tổ chức khoa học quản lý; - Nắm vững và hiểu biết về các lĩnh vực chuyên môn hành chính và các ngành khác liên quan đến hành chính. - Sử dụng thành thạo tin học văn phòng; có khả năng áp dụng ứng dụng công nghệ thông tin, sử dụng ngoại ngữ trong công việc. - Năng lực chung (cấp 4): Có phẩm chất đạo đức tốt, trung thực, thẳng thắn, có uy tín trong Nhà trường; Sử dụng máy vi tính thành thạo; - Năng lực chuyên môn (cấp 4): Nắm vững các văn bản quy phạm pháp luật chung và các văn bản liên quan đến công tác kế toán tài chính, công tác chung của Nhà trường, đặc biệt là các văn bản, chính sách mới được ban hành - Năng lực quản lý (cấp 4): Có uy tín, khả năng kết nối với các đơn vị trong và ngoài trường trong giải quyết công việc của Trường. Có năng lực tổ chức và triển khai hiệu quả công tác của phòng Kế hoạch Tài chính và của Nhà trường trong phạm vi công việc được giao; - Bảo đảm tiêu chuẩn năng lực theo quy định pháp luật. | E112: "
A113: ='Phụ lục 07'!B112 -> LĐQL-10.2 | C113: ='Phụ lục 07'!D112 -> Kế toán trưởng trường các Khoa học Trái đất và Môi trường | D113: 1. Yêu cầu về trình độ: - Có trình độ chuyên môn, nghiệp vụ về kế toán từ trình độ đại học trở lên. - Chức danh nghề nghiệp tối thiểu: giảng viên và tương đương. - Lý luận chính trị: trung cấp trở lên - Có chứng chỉ bồi dưỡng theo quy định pháp luật. 2. Yêu cầu về năng lực: - Nắm vững các quy định của pháp luật, chế độ chính sách của ngành, lĩnh vực và các kiến thức cơ bản về lĩnh vực chuyên môn nghiệp vụ được giao; - Hiểu rõ các mục tiêu và đối tượng quản lý, hệ thống các nguyên tắc và cơ chế quản lý của nghiệp vụ thuộc phạm vi được giao; hiểu được những vấn đề cơ bản về khoa học tâm lý, khoa học quản lý; tổ chức khoa học quản lý; - Nắm vững và hiểu biết về các lĩnh vực chuyên môn hành chính và các ngành khác liên quan đến hành chính. - Sử dụng thành thạo tin học văn phòng; có khả năng áp dụng ứng dụng công nghệ thông tin, sử dụng ngoại ngữ trong công việc. - Năng lực chung (cấp 4): Có phẩm chất đạo đức tốt, trung thực, thẳng thắn, có uy tín trong Nhà trường; Sử dụng máy vi tính thành thạo; - Năng lực chuyên môn (cấp 4): Nắm vững các văn bản quy phạm pháp luật chung và các văn bản liên quan đến công tác kế toán tài chính, công tác chung của Nhà trường, đặc biệt là các văn bản, chính sách mới được ban hành - Năng lực quản lý (cấp 4): Có uy tín, khả năng kết nối với các đơn vị trong và ngoài trường trong giải quyết công việc của Trường. Có năng lực tổ chức và triển khai hiệu quả công tác của phòng Kế hoạch Tài chính và của Nhà trường trong phạm vi công việc được giao; - Bảo đảm tiêu chuẩn năng lực theo quy định pháp luật. | E113: "
A114: ='Phụ lục 07'!B113 -> LĐQL-10.3 | C114: ='Phụ lục 07'!D113 -> Kế toán trưởng trường Kỹ thuật và Công nghệ | D114: 1. Yêu cầu về trình độ: - Có trình độ chuyên môn, nghiệp vụ về kế toán từ trình độ đại học trở lên. - Chức danh nghề nghiệp tối thiểu: giảng viên và tương đương. - Lý luận chính trị: trung cấp trở lên - Có chứng chỉ bồi dưỡng theo quy định pháp luật. 2. Yêu cầu về năng lực: - Nắm vững các quy định của pháp luật, chế độ chính sách của ngành, lĩnh vực và các kiến thức cơ bản về lĩnh vực chuyên môn nghiệp vụ được giao; - Hiểu rõ các mục tiêu và đối tượng quản lý, hệ thống các nguyên tắc và cơ chế quản lý của nghiệp vụ thuộc phạm vi được giao; hiểu được những vấn đề cơ bản về khoa học tâm lý, khoa học quản lý; tổ chức khoa học quản lý; - Nắm vững và hiểu biết về các lĩnh vực chuyên môn hành chính và các ngành khác liên quan đến hành chính. - Sử dụng thành thạo tin học văn phòng; có khả năng áp dụng ứng dụng công nghệ thông tin, sử dụng ngoại ngữ trong công việc. - Năng lực chung (cấp 4): Có phẩm chất đạo đức tốt, trung thực, thẳng thắn, có uy tín trong Nhà trường; Sử dụng máy vi tính thành thạo; - Năng lực chuyên môn (cấp 4): Nắm vững các văn bản quy phạm pháp luật chung và các văn bản liên quan đến công tác kế toán tài chính, công tác chung của Nhà trường, đặc biệt là các văn bản, chính sách mới được ban hành - Năng lực quản lý (cấp 4): Có uy tín, khả năng kết nối với các đơn vị trong và ngoài trường trong giải quyết công việc của Trường. Có năng lực tổ chức và triển khai hiệu quả công tác của phòng Kế hoạch Tài chính và của Nhà trường trong phạm vi công việc được giao; - Bảo đảm tiêu chuẩn năng lực theo quy định pháp luật. | E114: "
A115: ='Phụ lục 07'!B114 -> LĐQL-10.4 | C115: ='Phụ lục 07'!D114 -> Kế toán trưởng trường Công nghệ thông tin và truyền thông | D115: 1. Yêu cầu về trình độ: - Có trình độ chuyên môn, nghiệp vụ về kế toán từ trình độ đại học trở lên. - Chức danh nghề nghiệp tối thiểu: giảng viên và tương đương. - Lý luận chính trị: trung cấp trở lên - Có chứng chỉ bồi dưỡng theo quy định pháp luật. 2. Yêu cầu về năng lực: - Nắm vững các quy định của pháp luật, chế độ chính sách của ngành, lĩnh vực và các kiến thức cơ bản về lĩnh vực chuyên môn nghiệp vụ được giao; - Hiểu rõ các mục tiêu và đối tượng quản lý, hệ thống các nguyên tắc và cơ chế quản lý của nghiệp vụ thuộc phạm vi được giao; hiểu được những vấn đề cơ bản về khoa học tâm lý, khoa học quản lý; tổ chức khoa học quản lý; - Nắm vững và hiểu biết về các lĩnh vực chuyên môn hành chính và các ngành khác liên quan đến hành chính. - Sử dụng thành thạo tin học văn phòng; có khả năng áp dụng ứng dụng công nghệ thông tin, sử dụng ngoại ngữ trong công việc. - Năng lực chung (cấp 4): Có phẩm chất đạo đức tốt, trung thực, thẳng thắn, có uy tín trong Nhà trường; Sử dụng máy vi tính thành thạo; - Năng lực chuyên môn (cấp 4): Nắm vững các văn bản quy phạm pháp luật chung và các văn bản liên quan đến công tác kế toán tài chính, công tác chung của Nhà trường, đặc biệt là các văn bản, chính sách mới được ban hành - Năng lực quản lý (cấp 4): Có uy tín, khả năng kết nối với các đơn vị trong và ngoài trường trong giải quyết công việc của Trường. Có năng lực tổ chức và triển khai hiệu quả công tác của phòng Kế hoạch Tài chính và của Nhà trường trong phạm vi công việc được giao; - Bảo đảm tiêu chuẩn năng lực theo quy định pháp luật. | E115: "
A116: ='Phụ lục 07'!B115 -> LĐQL-10.5 | C116: ='Phụ lục 07'!D115 -> Kế toán trưởng Trung tâm dịch vụ | D116: 1. Yêu cầu về trình độ: - Có trình độ chuyên môn, nghiệp vụ về kế toán từ trình độ đại học trở lên. - Chức danh nghề nghiệp: giảng viên và tương đương. - Lý luận chính trị: trung cấp trở lên - Có chứng chỉ bồi dưỡng theo quy định pháp luật. 2. Yêu cầu về năng lực: - Nắm vững các quy định của pháp luật, chế độ chính sách của ngành, lĩnh vực và các kiến thức cơ bản về lĩnh vực chuyên môn nghiệp vụ được giao; - Hiểu rõ các mục tiêu và đối tượng quản lý, hệ thống các nguyên tắc và cơ chế quản lý của nghiệp vụ thuộc phạm vi được giao; hiểu được những vấn đề cơ bản về khoa học tâm lý, khoa học quản lý; tổ chức khoa học quản lý; - Nắm vững và hiểu biết về các lĩnh vực chuyên môn hành chính và các ngành khác liên quan đến hành chính. - Sử dụng thành thạo tin học văn phòng; có khả năng áp dụng ứng dụng công nghệ thông tin, sử dụng ngoại ngữ trong công việc. - Năng lực chung (cấp 4): Có phẩm chất đạo đức tốt, trung thực, thẳng thắn, có uy tín trong Nhà trường; Sử dụng máy vi tính thành thạo; - Năng lực chuyên môn (cấp 4): Nắm vững các văn bản quy phạm pháp luật chung và các văn bản liên quan đến công tác kế toán tài chính, công tác chung của Nhà trường, đặc biệt là các văn bản, chính sách mới được ban hành - Năng lực quản lý (cấp 4): Có uy tín, khả năng kết nối với các đơn vị trong và ngoài trường trong giải quyết công việc của Trường. Có năng lực tổ chức và triển khai hiệu quả công tác của phòng Kế hoạch Tài chính và của Nhà trường trong phạm vi công việc được giao; - Bảo đảm tiêu chuẩn năng lực theo quy định pháp luật. | E116: "
A117: ='Phụ lục 07'!B116 -> LĐQL-10.6 | C117: ='Phụ lục 07'!D116 -> Kế toán trưởng Trung tâm Ngoại ngữ - Tin học | D117: 1. Yêu cầu về trình độ: - Có trình độ chuyên môn, nghiệp vụ về kế toán từ trình độ đại học trở lên. - Chức danh nghề nghiệp tối thiểu: giảng viên và tương đương. - Lý luận chính trị: trung cấp trở lên - Có chứng chỉ bồi dưỡng theo quy định pháp luật. 2. Yêu cầu về năng lực: - Nắm vững các quy định của pháp luật, chế độ chính sách của ngành, lĩnh vực và các kiến thức cơ bản về lĩnh vực chuyên môn nghiệp vụ được giao; - Hiểu rõ các mục tiêu và đối tượng quản lý, hệ thống các nguyên tắc và cơ chế quản lý của nghiệp vụ thuộc phạm vi được giao; hiểu được những vấn đề cơ bản về khoa học tâm lý, khoa học quản lý; tổ chức khoa học quản lý; - Nắm vững và hiểu biết về các lĩnh vực chuyên môn hành chính và các ngành khác liên quan đến hành chính. - Sử dụng thành thạo tin học văn phòng; có khả năng áp dụng ứng dụng công nghệ thông tin, sử dụng ngoại ngữ trong công việc. - Năng lực chung (cấp 4): Có phẩm chất đạo đức tốt, trung thực, thẳng thắn, có uy tín trong Nhà trường; Sử dụng máy vi tính thành thạo; - Năng lực chuyên môn (cấp 4): Nắm vững các văn bản quy phạm pháp luật chung và các văn bản liên quan đến công tác kế toán tài chính, công tác chung của Nhà trường, đặc biệt là các văn bản, chính sách mới được ban hành - Năng lực quản lý (cấp 4): Có uy tín, khả năng kết nối với các đơn vị trong và ngoài trường trong giải quyết công việc của Trường. Có năng lực tổ chức và triển khai hiệu quả công tác của phòng Kế hoạch Tài chính và của Nhà trường trong phạm vi công việc được giao; - Bảo đảm tiêu chuẩn năng lực theo quy định pháp luật. | E117: "
A118: ='Phụ lục 07'!B117 -> LĐQL-10.7 | C118: ='Phụ lục 07'!D117 -> Kế toán trưởng Trung tâm Phân tích, Thí nghiệm Công nghệ cao | D118: 1. Yêu cầu về trình độ: - Có trình độ chuyên môn, nghiệp vụ về kế toán từ trình độ đại học trở lên. - Chức danh nghề nghiệp: giảng viên và tương đương. - Lý luận chính trị: trung cấp trở lên - Có chứng chỉ bồi dưỡng theo quy định pháp luật. 2. Yêu cầu về năng lực: - Nắm vững các quy định của pháp luật, chế độ chính sách của ngành, lĩnh vực và các kiến thức cơ bản về lĩnh vực chuyên môn nghiệp vụ được giao; - Hiểu rõ các mục tiêu và đối tượng quản lý, hệ thống các nguyên tắc và cơ chế quản lý của nghiệp vụ thuộc phạm vi được giao; hiểu được những vấn đề cơ bản về khoa học tâm lý, khoa học quản lý; tổ chức khoa học quản lý; - Nắm vững và hiểu biết về các lĩnh vực chuyên môn hành chính và các ngành khác liên quan đến hành chính. - Sử dụng thành thạo tin học văn phòng; có khả năng áp dụng ứng dụng công nghệ thông tin, sử dụng ngoại ngữ trong công việc. - Năng lực chung (cấp 4): Có phẩm chất đạo đức tốt, trung thực, thẳng thắn, có uy tín trong Nhà trường; Sử dụng máy vi tính thành thạo; - Năng lực chuyên môn (cấp 4): Nắm vững các văn bản quy phạm pháp luật chung và các văn bản liên quan đến công tác kế toán tài chính, công tác chung của Nhà trường, đặc biệt là các văn bản, chính sách mới được ban hành - Năng lực quản lý (cấp 4): Có uy tín, khả năng kết nối với các đơn vị trong và ngoài trường trong giải quyết công việc của Trường. Có năng lực tổ chức và triển khai hiệu quả công tác của phòng Kế hoạch Tài chính và của Nhà trường trong phạm vi công việc được giao; - Bảo đảm tiêu chuẩn năng lực theo quy định pháp luật. | E118: "
A119: ='Phụ lục 07'!B118 -> LĐQL-10.8 | C119: ='Phụ lục 07'!D118 -> Kế toán trưởng viện Khoa học công nghệ cao | D119: 1. Yêu cầu về trình độ: - Có trình độ chuyên môn, nghiệp vụ về kế toán từ trình độ đại học trở lên. - Chức danh nghề nghiệp tối thiểu: giảng viên và tương đương. - Lý luận chính trị: trung cấp trở lên - Có chứng chỉ bồi dưỡng theo quy định pháp luật. 2. Yêu cầu về năng lực: - Nắm vững các quy định của pháp luật, chế độ chính sách của ngành, lĩnh vực và các kiến thức cơ bản về lĩnh vực chuyên môn nghiệp vụ được giao; - Hiểu rõ các mục tiêu và đối tượng quản lý, hệ thống các nguyên tắc và cơ chế quản lý của nghiệp vụ thuộc phạm vi được giao; hiểu được những vấn đề cơ bản về khoa học tâm lý, khoa học quản lý; tổ chức khoa học quản lý; - Nắm vững và hiểu biết về các lĩnh vực chuyên môn hành chính và các ngành khác liên quan đến hành chính. - Sử dụng thành thạo tin học văn phòng; có khả năng áp dụng ứng dụng công nghệ thông tin, sử dụng ngoại ngữ trong công việc. - Năng lực chung (cấp 3): Có phẩm chất đạo đức tốt, trung thực, thẳng thắn, có uy tín trong Nhà trường; Sử dụng máy vi tính thành thạo; - Năng lực chuyên môn (cấp 3): Nắm vững các văn bản quy phạm pháp luật chung và các văn bản liên quan đến công tác kế toán tài chính, công tác chung của Nhà trường, đặc biệt là các văn bản, chính sách mới được ban hành - Năng lực quản lý (cấp 3): Có uy tín, khả năng kết nối với các đơn vị trong và ngoài trường trong giải quyết công việc của Trường. Có năng lực tổ chức và triển khai hiệu quả công tác của phòng Kế hoạch Tài chính và của Nhà trường trong phạm vi công việc được giao; - Bảo đảm tiêu chuẩn năng lực theo quy định pháp luật. | E119: "
A120: ='Phụ lục 07'!A119 -> LĐQL-11 | B120: ='Phụ lục 07'!D119 -> Viện trưởng viện Khoa học công nghệ cao | D120: 1. Yêu cầu về trình độ: - Có bằng Tiến sĩ trở lên phù hợp với vị trí việc làm. - Chức danh nghề nghiệp tối thiểu: giảng viên. - Lý luận chính trị: trung cấp trở lên - Có chứng chỉ bồi dưỡng theo quy định pháp luật. 2. Yêu cầu về năng lực: - Nắm vững các quy định của pháp luật, chế độ chính sách của ngành, lĩnh vực và các kiến thức cơ bản về lĩnh vực chuyên môn nghiệp vụ được giao; - Hiểu rõ các mục tiêu và đối tượng quản lý, hệ thống các nguyên tắc và cơ chế quản lý của nghiệp vụ thuộc phạm vi được giao; hiểu được những vấn đề cơ bản về khoa học tâm lý, khoa học quản lý; tổ chức khoa học quản lý; - Nắm vững và hiểu biết về các lĩnh vực chuyên môn hành chính và các ngành khác liên quan đến hành chính. - Sử dụng thành thạo tin học văn phòng; có khả năng áp dụng ứng dụng công nghệ thông tin, sử dụng ngoại ngữ trong công việc. - Năng lực chung: 4 - Năng lực chuyên môn: 4 - Năng lực quản lý: 4 - Bảo đảm năng lực lãnh đạo, quản lý theo quy định pháp luật. | E120: "
A121: ='Phụ lục 07'!A120 -> LĐQL-12 | B121: ='Phụ lục 07'!D120 -> Phó viện trưởng viện Khoa học công nghệ cao | D121: 1. Yêu cầu về trình độ: - Có bằng Thạc sĩ trở lên phù hợp với vị trí việc làm, riêng đối với vị trí việc làm phụ trách đào tạo, khoa học công nghệ thì có bằng Tiến sĩ trở lên. - Chức danh nghề nghiệp tối thiểu: giảng viên và tương đương. - Lý luận chính trị: trung cấp trở lên - Có chứng chỉ bồi dưỡng theo quy định pháp luật. 2. Yêu cầu về năng lực: - Nắm vững các quy định của pháp luật, chế độ chính sách của ngành, lĩnh vực và các kiến thức cơ bản về lĩnh vực chuyên môn nghiệp vụ được giao; - Hiểu rõ các mục tiêu và đối tượng quản lý, hệ thống các nguyên tắc và cơ chế quản lý của nghiệp vụ thuộc phạm vi được giao; hiểu được những vấn đề cơ bản về khoa học tâm lý, khoa học quản lý; tổ chức khoa học quản lý; - Nắm vững và hiểu biết về các lĩnh vực chuyên môn hành chính và các ngành khác liên quan đến hành chính. - Sử dụng thành thạo tin học văn phòng; có khả năng áp dụng ứng dụng công nghệ thông tin, sử dụng ngoại ngữ trong công việc. - Năng lực chung: 3 - 4 - Năng lực chuyên môn: 3 - 4 - Năng lực quản lý: 3 - 4 - Bảo đảm năng lực lãnh đạo, quản lý theo quy định pháp luật. | E121: "
A122: ='Phụ lục 07'!A121 -> LĐQL-13 | B122: ='Phụ lục 07'!D121 -> Tổng biên tập Tạp chí Khoa học kỹ thuật Mỏ - Địa chất | D122: 1. Yêu cầu về trình độ: - Có bằng Tiến sĩ trở lên phù hợp với vị trí việc làm. - Chức danh nghề nghiệp tối thiểu: giảng viên - Lý luận chính trị: Có trình độ lý luận chính trị cao cấp hoặc cử nhân chính trị - Có chứng chỉ bồi dưỡng theo quy định pháp luật. 2. Yêu cầu về năng lực: - Nắm vững các quy định của pháp luật, chế độ chính sách của ngành, lĩnh vực và các kiến thức cơ bản về lĩnh vực chuyên môn nghiệp vụ được giao; - Hiểu rõ các mục tiêu và đối tượng quản lý, hệ thống các nguyên tắc và cơ chế quản lý của nghiệp vụ thuộc phạm vi được giao; hiểu được những vấn đề cơ bản về khoa học tâm lý, khoa học quản lý; tổ chức khoa học quản lý; - Nắm vững và hiểu biết về các lĩnh vực chuyên môn hành chính và các ngành khác liên quan đến hành chính. - Sử dụng thành thạo tin học văn phòng; có khả năng áp dụng ứng dụng công nghệ thông tin, sử dụng thành thạo ít nhất một ngoại ngữ. - Năng lực chung: 4 - Năng lực chuyên môn: 4 - Năng lực quản lý: 4 - Bảo đảm năng lực lãnh đạo, quản lý theo quy định pháp luật. | E122: "
A123: ='Phụ lục 07'!A122 -> LĐQL-14 | B123: ='Phụ lục 07'!D122 -> Phó Tổng biên tập Tạp chí Khoa học kỹ thuật Mỏ - Địa chất | D123: 1. Yêu cầu về trình độ: - Có bằng đại học trở lên phù hợp với vị trí việc làm. - Chức danh nghề nghiệp tối thiểu: giảng viên và tương đương. - Lý luận chính trị: Có trình độ lý luận chính trị cao cấp hoặc cử nhân chính trị - Có chứng chỉ bồi dưỡng theo quy định pháp luật. 2. Yêu cầu về năng lực: - Nắm vững các quy định của pháp luật, chế độ chính sách của ngành, lĩnh vực và các kiến thức cơ bản về lĩnh vực chuyên môn nghiệp vụ được giao; - Hiểu rõ các mục tiêu và đối tượng quản lý, hệ thống các nguyên tắc và cơ chế quản lý của nghiệp vụ thuộc phạm vi được giao; hiểu được những vấn đề cơ bản về khoa học tâm lý, khoa học quản lý; tổ chức khoa học quản lý; - Nắm vững và hiểu biết về các lĩnh vực chuyên môn hành chính và các ngành khác liên quan đến hành chính. - Sử dụng thành thạo tin học văn phòng; có khả năng áp dụng ứng dụng công nghệ thông tin, sử dụng thành thạo ít nhất một ngoại ngữ. - Năng lực chung: 3 - Năng lực chuyên môn: 3 - Năng lực quản lý: 3 - Bảo đảm năng lực lãnh đạo, quản lý theo quy định pháp luật. | E123: "
A124: ='Phụ lục 07'!A123 -> LĐQL-15 | B124: ='Phụ lục 07'!D123 -> Trưởng Trạm Y tế | D124: 1. Yêu cầu về trình độ: - Có trình độ đại học trở lên (Bác Sỹ) phù hợp với vị trí việc làm. - Chức danh nghề nghiệp: giảng viên và tương đương. - Lý luận chính trị: trung cấp trở lên - Có chứng chỉ hành nghề chuyên môn; chứng chỉ bồi dưỡng theo quy định pháp luật. 2. Yêu cầu về năng lực: - Nắm vững các quy định của pháp luật, chế độ chính sách của ngành y tế, và các kiến thức cơ bản về chuyên môn nghiệp vụ - Nắm rõ quy trình xây dựng các phương án, kế hoạch, các quyết định cụ thể và có kiến thức am hiểu về ngành y tế, lĩnh vực được giao; có kỹ năng, hiểu các vấn đề được giao nghiên cứu, để tham mưu cho Ban Giám hiệu - Có phương pháp nghiên cứu, tổng kết và đề xuất, cải tiến nghiệp vụ quản lý; có năng lực làm việc độc lập hoặc phối hợp các đơn vị; có năng lực triển khai công việc, chỉ đạo tổ chức, bảo đảm tiến độ, chất lượng và hiệu quả Am hiểu thực tiễn, kinh tế - xã hội về công tác quản lý đối với lĩnh vực ngành y tế- Sử dụng thành thạo tin học văn phòng; có khả năng áp dụng ứng dụng công nghệ thông tin, sử dụng ngoại ngữ trong công việc. - Năng lực chung: 4 - Năng lực chuyên môn: 4 - Năng lực quản lý: 4 - Bảo đảm năng lực lãnh đạo, quản lý theo quy định pháp luật. | E124: "
A125: I.4 | B125: Vị trí việc làm lãnh đạo, quản lý các tổ chức, đơn vị cấu thành các tổ chức, đơn vị của Trường (trong thời gian Chính phủ chưa ban hành chế độ tiền lương theo Nghị quyết số 27-NQ/TW ngày 21 tháng 5 năm 2018 của Hội nghị lần thứ bảy Ban Chấp hành Trung ương khóa XII)
A126: ='Phụ lục 07'!A125 -> LĐQL-16 | B126: ='Phụ lục 07'!D125 -> Trưởng khoa thuộc Phân hiệu, Trưởng phòng thí nghiệm và tương đương
C127: ='Phụ lục 07'!D126 -> Khoa Công nghệ thông tin
A128: ='Phụ lục 07'!B127 -> LĐQL-16.1 | C128: ='Phụ lục 07'!D127 -> Trưởng Bộ môn Hệ thống thông tin tri thức | D128: 1. Yêu cầu về trình độ: - Có bằng Tiến sĩ trở lên phù hợp với vị trí việc làm. - Chức danh nghề nghiệp tối thiểu: giảng viên. - Lý luận chính trị: trung cấp trở lên - Có chứng chỉ bồi dưỡng theo quy định pháp luật. 2. Yêu cầu về năng lực: - Nắm vững các quy định của pháp luật, chế độ chính sách của ngành, lĩnh vực và các kiến thức cơ bản về lĩnh vực chuyên môn nghiệp vụ được giao; - Hiểu rõ các mục tiêu và đối tượng quản lý, hệ thống các nguyên tắc và cơ chế quản lý của nghiệp vụ thuộc phạm vi được giao; hiểu được những vấn đề cơ bản về khoa học tâm lý, khoa học quản lý; tổ chức khoa học quản lý; - Nắm vững và hiểu biết về các lĩnh vực chuyên môn hành chính và các ngành khác liên quan đến hành chính. - Sử dụng thành thạo tin học văn phòng; có khả năng áp dụng ứng dụng công nghệ thông tin, sử dụng ngoại ngữ trong công việc. - Năng lực chung: 3 - Năng lực chuyên môn: 3 - Năng lực quản lý: 3 - Bảo đảm năng lực lãnh đạo, quản lý theo quy định pháp luật. | E128: "
A129: ='Phụ lục 07'!B128 -> LĐQL-16.2 | C129: ='Phụ lục 07'!D128 -> Trưởng Bộ môn Khoa học máy tính | D129: 1. Yêu cầu về trình độ: - Có bằng Tiến sĩ trở lên phù hợp với vị trí việc làm. - Chức danh nghề nghiệp tối thiểu: giảng viên. - Lý luận chính trị: trung cấp trở lên - Có chứng chỉ bồi dưỡng theo quy định pháp luật. 2. Yêu cầu về năng lực: - Nắm vững các quy định của pháp luật, chế độ chính sách của ngành, lĩnh vực và các kiến thức cơ bản về lĩnh vực chuyên môn nghiệp vụ được giao; - Hiểu rõ các mục tiêu và đối tượng quản lý, hệ thống các nguyên tắc và cơ chế quản lý của nghiệp vụ thuộc phạm vi được giao; hiểu được những vấn đề cơ bản về khoa học tâm lý, khoa học quản lý; tổ chức khoa học quản lý; - Nắm vững và hiểu biết về các lĩnh vực chuyên môn hành chính và các ngành khác liên quan đến hành chính. - Sử dụng thành thạo tin học văn phòng; có khả năng áp dụng ứng dụng công nghệ thông tin, sử dụng ngoại ngữ trong công việc. - Năng lực chung: 3 - Năng lực chuyên môn: 3 - Năng lực quản lý: 3 - Bảo đảm năng lực lãnh đạo, quản lý theo quy định pháp luật. | E129: "
A130: ='Phụ lục 07'!B129 -> LĐQL-16.3 | C130: ='Phụ lục 07'!D129 -> Trưởng Bộ môn Mạng Máy tính | D130: 1. Yêu cầu về trình độ: - Có bằng Tiến sĩ trở lên phù hợp với vị trí việc làm. - Chức danh nghề nghiệp tối thiểu: giảng viên. - Lý luận chính trị: trung cấp trở lên - Có chứng chỉ bồi dưỡng theo quy định pháp luật. 2. Yêu cầu về năng lực: - Nắm vững các quy định của pháp luật, chế độ chính sách của ngành, lĩnh vực và các kiến thức cơ bản về lĩnh vực chuyên môn nghiệp vụ được giao; - Hiểu rõ các mục tiêu và đối tượng quản lý, hệ thống các nguyên tắc và cơ chế quản lý của nghiệp vụ thuộc phạm vi được giao; hiểu được những vấn đề cơ bản về khoa học tâm lý, khoa học quản lý; tổ chức khoa học quản lý; - Nắm vững và hiểu biết về các lĩnh vực chuyên môn hành chính và các ngành khác liên quan đến hành chính. - Sử dụng thành thạo tin học văn phòng; có khả năng áp dụng ứng dụng công nghệ thông tin, sử dụng ngoại ngữ trong công việc. - Năng lực chung: 3 - Năng lực chuyên môn: 3 - Năng lực quản lý: 3 - Bảo đảm năng lực lãnh đạo, quản lý theo quy định pháp luật. | E130: "
A131: ='Phụ lục 07'!B130 -> LĐQL-16.4 | C131: ='Phụ lục 07'!D130 -> Trưởng Bộ môn Tin học Kinh tế | D131: 1. Yêu cầu về trình độ: - Có bằng Tiến sĩ trở lên phù hợp với vị trí việc làm. - Chức danh nghề nghiệp tối thiểu: giảng viên. - Lý luận chính trị: trung cấp trở lên - Có chứng chỉ bồi dưỡng theo quy định pháp luật. 2. Yêu cầu về năng lực: - Nắm vững các quy định của pháp luật, chế độ chính sách của ngành, lĩnh vực và các kiến thức cơ bản về lĩnh vực chuyên môn nghiệp vụ được giao; - Hiểu rõ các mục tiêu và đối tượng quản lý, hệ thống các nguyên tắc và cơ chế quản lý của nghiệp vụ thuộc phạm vi được giao; hiểu được những vấn đề cơ bản về khoa học tâm lý, khoa học quản lý; tổ chức khoa học quản lý; - Nắm vững và hiểu biết về các lĩnh vực chuyên môn hành chính và các ngành khác liên quan đến hành chính. - Sử dụng thành thạo tin học văn phòng; có khả năng áp dụng ứng dụng công nghệ thông tin, sử dụng ngoại ngữ trong công việc. - Năng lực chung: 3 - Năng lực chuyên môn: 3 - Năng lực quản lý: 3 - Bảo đảm năng lực lãnh đạo, quản lý theo quy định pháp luật. | E131: "
A132: ='Phụ lục 07'!B131 -> LĐQL-16.5 | C132: ='Phụ lục 07'!D131 -> Trưởng Bộ môn Tin học Trắc địa | D132: 1. Yêu cầu về trình độ: - Có bằng Tiến sĩ trở lên phù hợp với vị trí việc làm. - Chức danh nghề nghiệp tối thiểu: giảng viên. - Lý luận chính trị: trung cấp trở lên - Có chứng chỉ bồi dưỡng theo quy định pháp luật. 2. Yêu cầu về năng lực: - Nắm vững các quy định của pháp luật, chế độ chính sách của ngành, lĩnh vực và các kiến thức cơ bản về lĩnh vực chuyên môn nghiệp vụ được giao; - Hiểu rõ các mục tiêu và đối tượng quản lý, hệ thống các nguyên tắc và cơ chế quản lý của nghiệp vụ thuộc phạm vi được giao; hiểu được những vấn đề cơ bản về khoa học tâm lý, khoa học quản lý; tổ chức khoa học quản lý; - Nắm vững và hiểu biết về các lĩnh vực chuyên môn hành chính và các ngành khác liên quan đến hành chính. - Sử dụng thành thạo tin học văn phòng; có khả năng áp dụng ứng dụng công nghệ thông tin, sử dụng ngoại ngữ trong công việc. - Năng lực chung: 3 - Năng lực chuyên môn: 3 - Năng lực quản lý: 3 - Bảo đảm năng lực lãnh đạo, quản lý theo quy định pháp luật. | E132: "
A133: ='Phụ lục 07'!B132 -> LĐQL-16.6 | C133: ='Phụ lục 07'!D132 -> Trưởng Bộ môn Tin học Địa chất | D133: 1. Yêu cầu về trình độ: - Có bằng Tiến sĩ trở lên phù hợp với vị trí việc làm. - Chức danh nghề nghiệp tối thiểu: giảng viên. - Lý luận chính trị: trung cấp trở lên - Có chứng chỉ bồi dưỡng theo quy định pháp luật. 2. Yêu cầu về năng lực: - Nắm vững các quy định của pháp luật, chế độ chính sách của ngành, lĩnh vực và các kiến thức cơ bản về lĩnh vực chuyên môn nghiệp vụ được giao; - Hiểu rõ các mục tiêu và đối tượng quản lý, hệ thống các nguyên tắc và cơ chế quản lý của nghiệp vụ thuộc phạm vi được giao; hiểu được những vấn đề cơ bản về khoa học tâm lý, khoa học quản lý; tổ chức khoa học quản lý; - Nắm vững và hiểu biết về các lĩnh vực chuyên môn hành chính và các ngành khác liên quan đến hành chính. - Sử dụng thành thạo tin học văn phòng; có khả năng áp dụng ứng dụng công nghệ thông tin, sử dụng ngoại ngữ trong công việc. - Năng lực chung: 3 - Năng lực chuyên môn: 3 - Năng lực quản lý: 3 - Bảo đảm năng lực lãnh đạo, quản lý theo quy định pháp luật. | E133: "
A134: ='Phụ lục 07'!B133 -> LĐQL-16.7 | C134: ='Phụ lục 07'!D133 -> Trưởng Bộ môn Công nghệ phần mềm | D134: 1. Yêu cầu về trình độ: - Có bằng Tiến sĩ trở lên phù hợp với vị trí việc làm. - Chức danh nghề nghiệp tối thiểu: giảng viên. - Lý luận chính trị: trung cấp trở lên - Có chứng chỉ bồi dưỡng theo quy định pháp luật. 2. Yêu cầu về năng lực: - Nắm vững các quy định của pháp luật, chế độ chính sách của ngành, lĩnh vực và các kiến thức cơ bản về lĩnh vực chuyên môn nghiệp vụ được giao; - Hiểu rõ các mục tiêu và đối tượng quản lý, hệ thống các nguyên tắc và cơ chế quản lý của nghiệp vụ thuộc phạm vi được giao; hiểu được những vấn đề cơ bản về khoa học tâm lý, khoa học quản lý; tổ chức khoa học quản lý; - Nắm vững và hiểu biết về các lĩnh vực chuyên môn hành chính và các ngành khác liên quan đến hành chính. - Sử dụng thành thạo tin học văn phòng; có khả năng áp dụng ứng dụng công nghệ thông tin, sử dụng ngoại ngữ trong công việc. - Năng lực chung: 3 - Năng lực chuyên môn: 3 - Năng lực quản lý: 3 - Bảo đảm năng lực lãnh đạo, quản lý theo quy định pháp luật. | E134: "
A135: ='Phụ lục 07'!B134 -> LĐQL-16.8 | C135: ='Phụ lục 07'!D134 -> Trưởng Phòng thí nghiệm Địa tin học | D135: 1. Yêu cầu về trình độ: - Có bằng đại học trở lên phù hợp với vị trí việc làm. - Chức danh nghề nghiệp tối thiểu: giảng viên và tương đương. - Lý luận chính trị: trung cấp trở lên - Có chứng chỉ bồi dưỡng theo quy định pháp luật. 2. Yêu cầu về năng lực: - Nắm vững các quy định của pháp luật, chế độ chính sách của ngành, lĩnh vực và các kiến thức cơ bản về lĩnh vực chuyên môn nghiệp vụ được giao; - Hiểu rõ các mục tiêu và đối tượng quản lý, hệ thống các nguyên tắc và cơ chế quản lý của nghiệp vụ thuộc phạm vi được giao; hiểu được những vấn đề cơ bản về khoa học tâm lý, khoa học quản lý; tổ chức khoa học quản lý; - Nắm vững và hiểu biết về các lĩnh vực chuyên môn hành chính và các ngành khác liên quan đến hành chính. - Sử dụng thành thạo tin học văn phòng; có khả năng áp dụng ứng dụng công nghệ thông tin, sử dụng ngoại ngữ trong công việc. - Năng lực chung: 3 - Năng lực chuyên môn: 3 - Năng lực quản lý: 3 - Bảo đảm năng lực lãnh đạo, quản lý theo quy định pháp luật. | E135: "
A136: ='Phụ lục 07'!B135 | C136: ='Phụ lục 07'!D135 -> Khoa Cơ điện
A137: ='Phụ lục 07'!B136 -> LĐQL-16.9 | C137: ='Phụ lục 07'!D136 -> Trưởng Bộ môn Kỹ thuật điện - Điện tử | D137: 1. Yêu cầu về trình độ: - Có bằng Tiến sĩ trở lên phù hợp với vị trí việc làm. - Chức danh nghề nghiệp tối thiểu: giảng viên. - Lý luận chính trị: trung cấp trở lên - Có chứng chỉ bồi dưỡng theo quy định pháp luật. 2. Yêu cầu về năng lực: - Nắm vững các quy định của pháp luật, chế độ chính sách của ngành, lĩnh vực và các kiến thức cơ bản về lĩnh vực chuyên môn nghiệp vụ được giao; - Hiểu rõ các mục tiêu và đối tượng quản lý, hệ thống các nguyên tắc và cơ chế quản lý của nghiệp vụ thuộc phạm vi được giao; hiểu được những vấn đề cơ bản về khoa học tâm lý, khoa học quản lý; tổ chức khoa học quản lý; - Nắm vững và hiểu biết về các lĩnh vực chuyên môn hành chính và các ngành khác liên quan đến hành chính. - Sử dụng thành thạo tin học văn phòng; có khả năng áp dụng ứng dụng công nghệ thông tin, sử dụng ngoại ngữ trong công việc. - Năng lực chung: 3 - Năng lực chuyên môn: 3 - Năng lực quản lý: 3 - Bảo đảm năng lực lãnh đạo, quản lý theo quy định pháp luật. | E137: Quy định chi tiết trong Bản mô tả vị trí việc làm
A138: ='Phụ lục 07'!B137 -> LĐQL-16.10 | C138: ='Phụ lục 07'!D137 -> Trưởng Bộ môn Kỹ thuật cơ khí | D138: 1. Yêu cầu về trình độ: - Có bằng Tiến sĩ trở lên phù hợp với vị trí việc làm. - Chức danh nghề nghiệp tối thiểu: giảng viên. - Lý luận chính trị: trung cấp trở lên - Có chứng chỉ bồi dưỡng theo quy định pháp luật. 2. Yêu cầu về năng lực: - Nắm vững các quy định của pháp luật, chế độ chính sách của ngành, lĩnh vực và các kiến thức cơ bản về lĩnh vực chuyên môn nghiệp vụ được giao; - Hiểu rõ các mục tiêu và đối tượng quản lý, hệ thống các nguyên tắc và cơ chế quản lý của nghiệp vụ thuộc phạm vi được giao; hiểu được những vấn đề cơ bản về khoa học tâm lý, khoa học quản lý; tổ chức khoa học quản lý; - Nắm vững và hiểu biết về các lĩnh vực chuyên môn hành chính và các ngành khác liên quan đến hành chính. - Sử dụng thành thạo tin học văn phòng; có khả năng áp dụng ứng dụng công nghệ thông tin, sử dụng ngoại ngữ trong công việc. - Năng lực chung: 3 - Năng lực chuyên môn: 3 - Năng lực quản lý: 3 - Bảo đảm năng lực lãnh đạo, quản lý theo quy định pháp luật. | E138: "
A139: ='Phụ lục 07'!B138 -> LĐQL-16.11 | C139: ='Phụ lục 07'!D138 -> Trưởng Bộ môn Máy và thiết bị công nghiệp | D139: 1. Yêu cầu về trình độ: - Có bằng Tiến sĩ trở lên phù hợp với vị trí việc làm. - Chức danh nghề nghiệp tối thiểu: giảng viên. - Lý luận chính trị: trung cấp trở lên - Có chứng chỉ bồi dưỡng theo quy định pháp luật. 2. Yêu cầu về năng lực: - Nắm vững các quy định của pháp luật, chế độ chính sách của ngành, lĩnh vực và các kiến thức cơ bản về lĩnh vực chuyên môn nghiệp vụ được giao; - Hiểu rõ các mục tiêu và đối tượng quản lý, hệ thống các nguyên tắc và cơ chế quản lý của nghiệp vụ thuộc phạm vi được giao; hiểu được những vấn đề cơ bản về khoa học tâm lý, khoa học quản lý; tổ chức khoa học quản lý; - Nắm vững và hiểu biết về các lĩnh vực chuyên môn hành chính và các ngành khác liên quan đến hành chính. - Sử dụng thành thạo tin học văn phòng; có khả năng áp dụng ứng dụng công nghệ thông tin, sử dụng ngoại ngữ trong công việc. - Năng lực chung: 3 - Năng lực chuyên môn: 3 - Năng lực quản lý: 3 - Bảo đảm năng lực lãnh đạo, quản lý theo quy định pháp luật. | E139: "
A140: ='Phụ lục 07'!B139 -> LĐQL-16.12 | C140: ='Phụ lục 07'!D139 -> Trưởng Bộ môn Điện khí hóa | D140: 1. Yêu cầu về trình độ: - Có bằng Tiến sĩ trở lên phù hợp với vị trí việc làm. - Chức danh nghề nghiệp tối thiểu: giảng viên. - Lý luận chính trị: trung cấp trở lên - Có chứng chỉ bồi dưỡng theo quy định pháp luật. 2. Yêu cầu về năng lực: - Nắm vững các quy định của pháp luật, chế độ chính sách của ngành, lĩnh vực và các kiến thức cơ bản về lĩnh vực chuyên môn nghiệp vụ được giao; - Hiểu rõ các mục tiêu và đối tượng quản lý, hệ thống các nguyên tắc và cơ chế quản lý của nghiệp vụ thuộc phạm vi được giao; hiểu được những vấn đề cơ bản về khoa học tâm lý, khoa học quản lý; tổ chức khoa học quản lý; - Nắm vững và hiểu biết về các lĩnh vực chuyên môn hành chính và các ngành khác liên quan đến hành chính. - Sử dụng thành thạo tin học văn phòng; có khả năng áp dụng ứng dụng công nghệ thông tin, sử dụng ngoại ngữ trong công việc. - Năng lực chung: 3 - Năng lực chuyên môn: 3 - Năng lực quản lý: 3 - Bảo đảm năng lực lãnh đạo, quản lý theo quy định pháp luật. | E140: "
A141: ='Phụ lục 07'!B140 -> LĐQL-16.13 | C141: ='Phụ lục 07'!D140 -> Trưởng Bộ môn Tự động hóa xí nghiệp Mỏ và Dầu khí | D141: 1. Yêu cầu về trình độ: - Có bằng Tiến sĩ trở lên phù hợp với vị trí việc làm. - Chức danh nghề nghiệp tối thiểu: giảng viên. - Lý luận chính trị: trung cấp trở lên - Có chứng chỉ bồi dưỡng theo quy định pháp luật. 2. Yêu cầu về năng lực: - Nắm vững các quy định của pháp luật, chế độ chính sách của ngành, lĩnh vực và các kiến thức cơ bản về lĩnh vực chuyên môn nghiệp vụ được giao; - Hiểu rõ các mục tiêu và đối tượng quản lý, hệ thống các nguyên tắc và cơ chế quản lý của nghiệp vụ thuộc phạm vi được giao; hiểu được những vấn đề cơ bản về khoa học tâm lý, khoa học quản lý; tổ chức khoa học quản lý; - Nắm vững và hiểu biết về các lĩnh vực chuyên môn hành chính và các ngành khác liên quan đến hành chính. - Sử dụng thành thạo tin học văn phòng; có khả năng áp dụng ứng dụng công nghệ thông tin, sử dụng ngoại ngữ trong công việc. - Năng lực chung: 3 - Năng lực chuyên môn: 3 - Năng lực quản lý: 3 - Bảo đảm năng lực lãnh đạo, quản lý theo quy định pháp luật. | E141: "
A142: ='Phụ lục 07'!B141 -> LĐQL-16.14 | C142: ='Phụ lục 07'!D141 -> Xưởng Trưởng Xưởng Cơ-Điện | D142: 1. Yêu cầu về trình độ: - Có bằng đại học trở lên phù hợp với vị trí việc làm. - Chức danh nghề nghiệp tối thiểu: giảng viên và tương đương. - Lý luận chính trị: trung cấp trở lên - Có chứng chỉ bồi dưỡng theo quy định pháp luật. 2. Yêu cầu về năng lực: - Nắm vững các quy định của pháp luật, chế độ chính sách của ngành, lĩnh vực và các kiến thức cơ bản về lĩnh vực chuyên môn nghiệp vụ được giao; - Hiểu rõ các mục tiêu và đối tượng quản lý, hệ thống các nguyên tắc và cơ chế quản lý của nghiệp vụ thuộc phạm vi được giao; hiểu được những vấn đề cơ bản về khoa học tâm lý, khoa học quản lý; tổ chức khoa học quản lý; - Nắm vững và hiểu biết về các lĩnh vực chuyên môn hành chính và các ngành khác liên quan đến hành chính. - Sử dụng thành thạo tin học văn phòng; có khả năng áp dụng ứng dụng công nghệ thông tin, sử dụng ngoại ngữ trong công việc. - Năng lực chung: 3 - Năng lực chuyên môn: 3 - Năng lực quản lý: 3 - Bảo đảm năng lực lãnh đạo, quản lý theo quy định pháp luật. | E142: "
A143: ='Phụ lục 07'!B142 | C143: ='Phụ lục 07'!D142 -> Khoa Dầu khí và Năng lượng
A144: ='Phụ lục 07'!B143 -> LĐQL-16.15 | C144: ='Phụ lục 07'!D143 -> Trưởng bộ môn Địa vật lý | D144: 1. Yêu cầu về trình độ: - Có bằng Tiến sĩ trở lên phù hợp với vị trí việc làm. - Chức danh nghề nghiệp tối thiểu: giảng viên. - Lý luận chính trị: trung cấp trở lên - Có chứng chỉ bồi dưỡng theo quy định pháp luật. 2. Yêu cầu về năng lực: - Nắm vững các quy định của pháp luật, chế độ chính sách của ngành, lĩnh vực và các kiến thức cơ bản về lĩnh vực chuyên môn nghiệp vụ được giao; - Hiểu rõ các mục tiêu và đối tượng quản lý, hệ thống các nguyên tắc và cơ chế quản lý của nghiệp vụ thuộc phạm vi được giao; hiểu được những vấn đề cơ bản về khoa học tâm lý, khoa học quản lý; tổ chức khoa học quản lý; - Nắm vững và hiểu biết về các lĩnh vực chuyên môn hành chính và các ngành khác liên quan đến hành chính. - Sử dụng thành thạo tin học văn phòng; có khả năng áp dụng ứng dụng công nghệ thông tin, sử dụng ngoại ngữ trong công việc. - Năng lực chung: 3 - Năng lực chuyên môn: 3 - Năng lực quản lý: 3 - Bảo đảm năng lực lãnh đạo, quản lý theo quy định pháp luật. | E144: "
A145: ='Phụ lục 07'!B144 -> LĐQL-16.16 | C145: ='Phụ lục 07'!D144 -> Trưởng bộ môn Lọc - Hóa dầu | D145: 1. Yêu cầu về trình độ: - Có bằng Tiến sĩ trở lên phù hợp với vị trí việc làm. - Chức danh nghề nghiệp tối thiểu: giảng viên. - Lý luận chính trị: trung cấp trở lên - Có chứng chỉ bồi dưỡng theo quy định pháp luật. 2. Yêu cầu về năng lực: - Nắm vững các quy định của pháp luật, chế độ chính sách của ngành, lĩnh vực và các kiến thức cơ bản về lĩnh vực chuyên môn nghiệp vụ được giao; - Hiểu rõ các mục tiêu và đối tượng quản lý, hệ thống các nguyên tắc và cơ chế quản lý của nghiệp vụ thuộc phạm vi được giao; hiểu được những vấn đề cơ bản về khoa học tâm lý, khoa học quản lý; tổ chức khoa học quản lý; - Nắm vững và hiểu biết về các lĩnh vực chuyên môn hành chính và các ngành khác liên quan đến hành chính. - Sử dụng thành thạo tin học văn phòng; có khả năng áp dụng ứng dụng công nghệ thông tin, sử dụng ngoại ngữ trong công việc. - Năng lực chung: 3 - Năng lực chuyên môn: 3 - Năng lực quản lý: 3 - Bảo đảm năng lực lãnh đạo, quản lý theo quy định pháp luật. | E145: "
A146: ='Phụ lục 07'!B145 -> LĐQL-16.17 | C146: ='Phụ lục 07'!D145 -> Trưởng bộ môn Khoan - Khai thác | D146: 1. Yêu cầu về trình độ: - Có bằng Tiến sĩ trở lên phù hợp với vị trí việc làm. - Chức danh nghề nghiệp tối thiểu: giảng viên. - Lý luận chính trị: trung cấp trở lên - Có chứng chỉ bồi dưỡng theo quy định pháp luật. 2. Yêu cầu về năng lực: - Nắm vững các quy định của pháp luật, chế độ chính sách của ngành, lĩnh vực và các kiến thức cơ bản về lĩnh vực chuyên môn nghiệp vụ được giao; - Hiểu rõ các mục tiêu và đối tượng quản lý, hệ thống các nguyên tắc và cơ chế quản lý của nghiệp vụ thuộc phạm vi được giao; hiểu được những vấn đề cơ bản về khoa học tâm lý, khoa học quản lý; tổ chức khoa học quản lý; - Nắm vững và hiểu biết về các lĩnh vực chuyên môn hành chính và các ngành khác liên quan đến hành chính. - Sử dụng thành thạo tin học văn phòng; có khả năng áp dụng ứng dụng công nghệ thông tin, sử dụng ngoại ngữ trong công việc. - Năng lực chung: 3 - Năng lực chuyên môn: 3 - Năng lực quản lý: 3 - Bảo đảm năng lực lãnh đạo, quản lý theo quy định pháp luật. | E146: "
A147: ='Phụ lục 07'!B146 -> LĐQL-16.18 | C147: ='Phụ lục 07'!D146 -> Trưởng Bộ môn Thiết bị Dầu khí và Công trình | D147: 1. Yêu cầu về trình độ: - Có bằng Tiến sĩ trở lên phù hợp với vị trí việc làm. - Chức danh nghề nghiệp tối thiểu: giảng viên. - Lý luận chính trị: trung cấp trở lên - Có chứng chỉ bồi dưỡng theo quy định pháp luật. 2. Yêu cầu về năng lực: - Nắm vững các quy định của pháp luật, chế độ chính sách của ngành, lĩnh vực và các kiến thức cơ bản về lĩnh vực chuyên môn nghiệp vụ được giao; - Hiểu rõ các mục tiêu và đối tượng quản lý, hệ thống các nguyên tắc và cơ chế quản lý của nghiệp vụ thuộc phạm vi được giao; hiểu được những vấn đề cơ bản về khoa học tâm lý, khoa học quản lý; tổ chức khoa học quản lý; - Nắm vững và hiểu biết về các lĩnh vực chuyên môn hành chính và các ngành khác liên quan đến hành chính. - Sử dụng thành thạo tin học văn phòng; có khả năng áp dụng ứng dụng công nghệ thông tin, sử dụng ngoại ngữ trong công việc. - Năng lực chung: 3 - Năng lực chuyên môn: 3 - Năng lực quản lý: 3 - Bảo đảm năng lực lãnh đạo, quản lý theo quy định pháp luật. | E147: "
A148: ='Phụ lục 07'!B147 -> LĐQL-16.19 | C148: ='Phụ lục 07'!D147 -> Trưởng Bộ môn Địa chất Dầu khí | D148: 1. Yêu cầu về trình độ: - Có bằng Tiến sĩ trở lên phù hợp với vị trí việc làm. - Chức danh nghề nghiệp tối thiểu: giảng viên. - Lý luận chính trị: trung cấp trở lên - Có chứng chỉ bồi dưỡng theo quy định pháp luật. 2. Yêu cầu về năng lực: - Nắm vững các quy định của pháp luật, chế độ chính sách của ngành, lĩnh vực và các kiến thức cơ bản về lĩnh vực chuyên môn nghiệp vụ được giao; - Hiểu rõ các mục tiêu và đối tượng quản lý, hệ thống các nguyên tắc và cơ chế quản lý của nghiệp vụ thuộc phạm vi được giao; hiểu được những vấn đề cơ bản về khoa học tâm lý, khoa học quản lý; tổ chức khoa học quản lý; - Nắm vững và hiểu biết về các lĩnh vực chuyên môn hành chính và các ngành khác liên quan đến hành chính. - Sử dụng thành thạo tin học văn phòng; có khả năng áp dụng ứng dụng công nghệ thông tin, sử dụng ngoại ngữ trong công việc. - Năng lực chung: 3 - Năng lực chuyên môn: 3 - Năng lực quản lý: 3 - Bảo đảm năng lực lãnh đạo, quản lý theo quy định pháp luật. | E148: "
A149: ='Phụ lục 07'!B148 -> LĐQL-16.20 | C149: ='Phụ lục 07'!D148 -> Trưởng Phòng Xử lý số liệu Workstation Khoa Dầu khí | D149: 1. Yêu cầu về trình độ: - Có bằng đại học trở lên phù hợp với vị trí việc làm. - Chức danh nghề nghiệp tối thiểu: giảng viên và tương đương. - Lý luận chính trị: trung cấp trở lên - Có chứng chỉ bồi dưỡng theo quy định pháp luật. 2. Yêu cầu về năng lực: - Nắm vững các quy định của pháp luật, chế độ chính sách của ngành, lĩnh vực và các kiến thức cơ bản về lĩnh vực chuyên môn nghiệp vụ được giao; - Hiểu rõ các mục tiêu và đối tượng quản lý, hệ thống các nguyên tắc và cơ chế quản lý của nghiệp vụ thuộc phạm vi được giao; hiểu được những vấn đề cơ bản về khoa học tâm lý, khoa học quản lý; tổ chức khoa học quản lý; - Nắm vững và hiểu biết về các lĩnh vực chuyên môn hành chính và các ngành khác liên quan đến hành chính. - Sử dụng thành thạo tin học văn phòng; có khả năng áp dụng ứng dụng công nghệ thông tin, sử dụng ngoại ngữ trong công việc. - Năng lực chung: 3 - Năng lực chuyên môn: 3 - Năng lực quản lý: 3 - Bảo đảm năng lực lãnh đạo, quản lý theo quy định pháp luật. | E149: "
A150: ='Phụ lục 07'!B149 -> LĐQL-16.21 | C150: ='Phụ lục 07'!D149 -> Trưởng Phòng thí nghiệm Khoan - Khai thác | D150: 1. Yêu cầu về trình độ: - Có bằng đại học trở lên phù hợp với vị trí việc làm. - Chức danh nghề nghiệp tối thiểu: giảng viên và tương đương. - Lý luận chính trị: trung cấp trở lên - Có chứng chỉ bồi dưỡng theo quy định pháp luật. 2. Yêu cầu về năng lực: - Nắm vững các quy định của pháp luật, chế độ chính sách của ngành, lĩnh vực và các kiến thức cơ bản về lĩnh vực chuyên môn nghiệp vụ được giao; - Hiểu rõ các mục tiêu và đối tượng quản lý, hệ thống các nguyên tắc và cơ chế quản lý của nghiệp vụ thuộc phạm vi được giao; hiểu được những vấn đề cơ bản về khoa học tâm lý, khoa học quản lý; tổ chức khoa học quản lý; - Nắm vững và hiểu biết về các lĩnh vực chuyên môn hành chính và các ngành khác liên quan đến hành chính. - Sử dụng thành thạo tin học văn phòng; có khả năng áp dụng ứng dụng công nghệ thông tin, sử dụng ngoại ngữ trong công việc. - Năng lực chung: 3 - Năng lực chuyên môn: 3 - Năng lực quản lý: 3 - Bảo đảm năng lực lãnh đạo, quản lý theo quy định pháp luật. | E150: "
A151: ='Phụ lục 07'!B150 -> LĐQL-16.22 | C151: ='Phụ lục 07'!D150 -> Trưởng Phòng thí nghiệm Kỹ thuật hóa học và LNG | D151: 1. Yêu cầu về trình độ: - Có bằng đại học trở lên phù hợp với vị trí việc làm. - Chức danh nghề nghiệp tối thiểu: giảng viên và tương đương. - Lý luận chính trị: trung cấp trở lên - Có chứng chỉ bồi dưỡng theo quy định pháp luật. 2. Yêu cầu về năng lực: - Nắm vững các quy định của pháp luật, chế độ chính sách của ngành, lĩnh vực và các kiến thức cơ bản về lĩnh vực chuyên môn nghiệp vụ được giao; - Hiểu rõ các mục tiêu và đối tượng quản lý, hệ thống các nguyên tắc và cơ chế quản lý của nghiệp vụ thuộc phạm vi được giao; hiểu được những vấn đề cơ bản về khoa học tâm lý, khoa học quản lý; tổ chức khoa học quản lý; - Nắm vững và hiểu biết về các lĩnh vực chuyên môn hành chính và các ngành khác liên quan đến hành chính. - Sử dụng thành thạo tin học văn phòng; có khả năng áp dụng ứng dụng công nghệ thông tin, sử dụng ngoại ngữ trong công việc. - Năng lực chung: 3 - Năng lực chuyên môn: 3 - Năng lực quản lý: 3 - Bảo đảm năng lực lãnh đạo, quản lý theo quy định pháp luật. | E151: "
A152: ='Phụ lục 07'!B151 -> LĐQL-16.23 | C152: ='Phụ lục 07'!D151 -> Trưởng phòng Thí nghiệm Kỹ thuật địa vật lý | D152: 1. Yêu cầu về trình độ: - Có bằng đại học trở lên phù hợp với vị trí việc làm. - Chức danh nghề nghiệp tối thiểu: giảng viên và tương đương. - Lý luận chính trị: trung cấp trở lên - Có chứng chỉ bồi dưỡng theo quy định pháp luật. 2. Yêu cầu về năng lực: - Nắm vững các quy định của pháp luật, chế độ chính sách của ngành, lĩnh vực và các kiến thức cơ bản về lĩnh vực chuyên môn nghiệp vụ được giao; - Hiểu rõ các mục tiêu và đối tượng quản lý, hệ thống các nguyên tắc và cơ chế quản lý của nghiệp vụ thuộc phạm vi được giao; hiểu được những vấn đề cơ bản về khoa học tâm lý, khoa học quản lý; tổ chức khoa học quản lý; - Nắm vững và hiểu biết về các lĩnh vực chuyên môn hành chính và các ngành khác liên quan đến hành chính. - Sử dụng thành thạo tin học văn phòng; có khả năng áp dụng ứng dụng công nghệ thông tin, sử dụng ngoại ngữ trong công việc. - Năng lực chung: 3 - Năng lực chuyên môn: 3 - Năng lực quản lý: 3 - Bảo đảm năng lực lãnh đạo, quản lý theo quy định pháp luật. | E152: "
...
